Workbook

Sheet pozyczki I kw 2026
B2: Związek Polskiego Leasingu, Warszawa 12-10-2026
B4: Wartość środków oddanych w leasing w | D4: I kwartale 2026
B6: Lp. | C6: Spółka | D6: POJAZDY | E6: Osobowe | F6: osobowe - zeroemisyjne | G6: osobowe - hybryda plug-in | H6: Cięzarowe: | I6: o masie do 3,5 tony | J6: o masie do 3,5 tony - zeroemisyjne | K6: o masie do 3,5 tony - hybryda plug-in | L6: o masie powyzej 3,5 tony | M6: o masie powyżej 3,5 tony - zeroemisyjne | N6: o masie powyżej 3,5 tony - hybryda plug-in | O6: ciagniki siodlowe | P6: ciągniki siodłowe - zeroemisyjne | Q6: ciągniki siodłowe - hybryda plug-in | R6: naczepy / przyczepy | S6: autobusy | T6: autobusy - zeroemisyjne | U6: autobusy - hybryda plug-in | V6: inne | W6: inne - zeroemisyjne | X6: inne - hybryda plug-in | Y6: MiU | Z6: Sprzęt Budowlany | AA6: Maszyny Rolnicze | AB6: Maszyny Poligraf. | AC6: maszyny do produkcji tworzyw sztucznych | AD6: maszyny i urządzenia do obróbki metali | AE6: maszyny dla przemysłu spożywczego | AF6: Sprzęt Medyczny | AG6: Sprzęt Gastronom. | AH6: Wózki Widłowe | AI6: Magazyny energii | AJ6: Pompy ciepła | AK6: fotowoltaika | AL6: wiatraki i turbiny wiatrowe | AM6: stacje ładowania pojazdów elektrycznych (na użytek własny i komercyjny) | AN6: inne MiU | AO6: IT | AP6: Sprzęt | AQ6: Oprogram. | AR6: inne IT | AS6: POZOSTAŁE ŚRODKI TRANSPORTU | AT6: Powietrzne | AU6: Wodne | AV6: Kolejowe | AW6: Inne ruchomości | AX6: RUCHOMOŚCI | AY6: Nieruchomości | AZ6: budynki przemysłowe | BA6: obiekty handlowe i usługowe | BB6: obiekty biurowe | BC6: hotele i obiekty rekreacyjne | BD6: inne | BE6: OGÓŁEM
B7: 1 | C7: Alior Leasing Sp. z o. o. | D7: 69816.191 | E7: 41296.092 | H7: 8675.0786 | I7: 5619.4639 | L7: 3055.6147 | O7: 12921.327 | R7: 5456.0275 | S7: 707 | V7: 760.66667 | Y7: 41579.178 | Z7: 4599.641 | AA7: 5064.2561 | AB7: 10827.67 | AC7: 94.19575 | AD7: 1513.8109 | AE7: 385.99313 | AF7: 10367.926 | AH7: 820.75 | AK7: 2034.6032 | AN7: 5870.3314 | AO7: 0 | AS7: 1483.4801 | AU7: 1483.4801 | AX7: 112878.85 | AY7: 0 | BE7: 112878.85
B8: 2 | C8: BMW Financial Services Polska Sp z o. o. | D8: 1003.76 | E8: 1003.76 | H8: 0 | Y8: 0 | AO8: 0 | AS8: 0 | AX8: 1003.76 | AY8: 0 | BE8: 1003.76
B9: 3 | C9: BNP Paribas Lease Group Sp. z o. o. | D9: 27607.165 | E9: 2966.1557 | F9: 100 | G9: 0 | H9: 19037.845 | I9: 7168.3647 | J9: 0 | K9: 0 | L9: 11869.48 | M9: 0 | N9: 0 | O9: 2026.7531 | P9: 0 | Q9: 0 | R9: 3576.4112 | S9: 0 | T9: 0 | U9: 0 | V9: 0 | W9: 0 | X9: 0 | Y9: 377992.53 | Z9: 8330.5694 | AA9: 312085.47 | AB9: 0 | AC9: 0 | AD9: 1903.4706 | AE9: 2899.1 | AF9: 29060.711 | AG9: 0 | AH9: 407.78599 | AI9: 0 | AJ9: 0 | AK9: 3751 | AL9: 0 | AM9: 0 | AN9: 19554.424 | AO9: 5367.6875 | AP9: 923.39405 | AQ9: 4444.2934 | AR9: 0 | AS9: 0 | AT9: 0 | AU9: 0 | AV9: 0 | AW9: 0 | AX9: 410967.38 | AY9: 0 | AZ9: 0 | BA9: 0 | BB9: 0 | BC9: 0 | BD9: 0 | BE9: 410967.38
B10: 4 | C10: BOŚ LEASING S.A. | D10: 3565.9982 | E10: 3219.8319 | H10: 346.16628 | I10: 346.16628 | Y10: 183.83296 | AF10: 183.83296 | AO10: 1306.3941 | AP10: 1306.3941 | AS10: 0 | AX10: 5056.2252 | AY10: 0 | BE10: 5056.2252
B11: 5 | C11: BPCE Equipment Solutions Polska Sp. z o.o. | D11: 4742.7875 | H11: 886.3504 | I11: 886.3504 | O11: 2476.8993 | R11: 1379.5378 | Y11: 33313.123 | Z11: 3043.3432 | AA11: 18545.256 | AH11: 4092.5315 | AN11: 7631.9921 | AO11: 37901.01 | AP11: 33676.876 | AQ11: 4224.134 | AS11: 22206.286 | AV11: 22206.286 | AX11: 98163.207 | AY11: 0 | BE11: 98163.207
B12: 6 | C12: BPS Leasing S.A. | D12: 1682.2128 | E12: 155.52 | H12: 0 | O12: 1526.6928 | Y12: 1000.8712 | AA12: 867.98418 | AN12: 132.88703 | AO12: 0 | AS12: 0 | AW12: 180.61006 | AX12: 2863.694 | AY12: 0 | BE12: 2863.694
B13: 7 | C13: Caterpillar Financial Services Poland Sp. z o. o. | D13: 0 | H13: 0 | Y13: 26419.535 | Z13: 26419.535 | AO13: 0 | AS13: 0 | AX13: 26419.535 | AY13: 0 | BE13: 26419.535
B14: 8 | C14: DE LAGE Landen Leasing Polska S.A. | D14: 2934.1425 | H14: 0 | R14: 2934.1425 | Y14: 203928.57 | Z14: 3318.8271 | AA14: 171513.14 | AF14: 29096.608 | AH14: 0 | AK14: 0 | AN14: 0 | AO14: 13994.373 | AP14: 5146.0571 | AQ14: 8848.3161 | AR14: 0 | AS14: 0 | AX14: 220857.09 | AY14: 0 | BE14: 220857.09
B15: 9 | C15: Deutsche Leasing Polska S.A. | D15: 10245 | H15: 0 | O15: 320 | R15: 9925 | Y15: 31333 | AA15: 17939 | AD15: 12721 | AN15: 673 | AO15: 0 | AS15: 0 | AX15: 41578 | AY15: 0 | BE15: 41578
B16: 10 | C16: Europejski Fundusz Leasingowy S.A. | D16: 59750.508 | E16: 27593.468 | F16: 249.42683 | H16: 9052.0829 | I16: 6233.6746 | L16: 2818.4082 | O16: 14655.971 | R16: 6915.5864 | S16: 1533.4 | Y16: 189222.5 | Z16: 9488.3439 | AA16: 154339.69 | AD16: 279.87724 | AE16: 5319.5598 | AF16: 4913.5256 | AG16: 1115.5915 | AH16: 277.7835 | AJ16: 22.97 | AK16: 148.815 | AN16: 13316.345 | AO16: 1928.8645 | AP16: 81.69164 | AQ16: 1741.6189 | AR16: 105.554 | AS16: 911.61994 | AT16: 20.3561 | AU16: 891.26384 | AX16: 251813.49 | AY16: 0 | BE16: 251813.49
B17: 11 | C17: Impuls-Leasing Polska Sp. z o. o. | D17: 61706.8 | E17: 30790.39 | F17: 2956.47 | G17: 14029.54 | H17: 5069.47 | I17: 2032.49 | J17: 44.5 | L17: 3036.98 | O17: 14502.32 | R17: 8233.23 | S17: 1500.6 | V17: 1610.79 | Y17: 15980.92 | Z17: 1477.7 | AA17: 1356.86 | AD17: 516 | AF17: 1272.8 | AK17: 453.01 | AN17: 10904.55 | AO17: 0 | AS17: 1768.32 | AU17: 1768.32 | AX17: 79456.04 | AY17: 0 | BE17: 79456.04
B18: 12 | C18: ING Lease (Polska) Sp. z o. o. | D18: 23354 | E18: 6881 | H18: 5312 | I18: 5312 | L18: 0 | O18: 6954 | R18: 4207 | S18: 0 | V18: 0 | Y18: 131933 | Z18: 6084 | AA18: 0 | AB18: 2562 | AC18: 0 | AD18: 11432 | AE18: 101245 | AF18: 0 | AG18: 0 | AH18: 540 | AI18: 0 | AJ18: 0 | AK18: 0 | AN18: 10070 | AO18: 200 | AP18: 200 | AQ18: 0 | AR18: 0 | AS18: 9231 | AT18: 0 | AU18: 0 | AV18: 9231 | AW18: 0 | AX18: 164718 | AY18: 0 | AZ18: 0 | BA18: 0 | BB18: 0 | BC18: 0 | BD18: 0 | BE18: 164718
B19: 13 | C19: Leasing Polski Sp. z o. o. | D19: 0 | H19: 0 | Y19: 0 | AO19: 0 | AS19: 0 | AX19: 0 | AY19: 0 | BE19: 0
B20: 14 | C20: Mercedes-Benz Leasing Polska Sp. z o.o. | D20: 73574.263 | E20: 69166.99 | G20: 1782.0297 | H20: 4407.273 | I20: 4123.389 | L20: 283.884 | Y20: 0 | AO20: 0 | AS20: 0 | AX20: 73574.263 | AY20: 0 | BE20: 73574.263
B21: 15 | C21: Millennium Leasing Sp. z o. o. | D21: 0 | H21: 0 | Y21: 0 | AO21: 0 | AS21: 0 | AX21: 0 | AY21: 0 | BE21: 0
B22: 16 | C22: mLeasing Sp. z o. o. | D22: 56861.008 | E22: 14947.824 | F22: 132.5 | G22: 873.7 | H22: 1146.14 | I22: 54.11 | J22: 0 | K22: 0 | L22: 1092.03 | M22: 0 | N22: 0 | O22: 28555.84 | P22: 0 | Q22: 0 | R22: 10734.745 | S22: 0 | T22: 0 | U22: 0 | V22: 1476.459 | W22: 1039.242 | X22: 0 | Y22: 162314.6 | Z22: 4985.771 | AA22: 5466.05 | AB22: 1557.17 | AC22: 5425.18 | AD22: 11098.201 | AE22: 16036.98 | AF22: 59604.594 | AG22: 3815.683 | AH22: 3052.352 | AI22: 167.28 | AJ22: 65.666 | AK22: 18573.466 | AL22: 0 | AM22: 9.691 | AN22: 32456.511 | AO22: 20285.715 | AP22: 18004.308 | AQ22: 1237.406 | AR22: 1044.001 | AS22: 1345.951 | AT22: 0 | AU22: 1345.951 | AV22: 0 | AW22: 14673.56 | AX22: 255480.83 | AY22: 0 | BE22: 255480.83
B23: 17 | C23: NEST LEASE SPÓŁKA AKCYJNA | D23: 48370.991 | E23: 17359.878 | H23: 4793.0227 | I23: 2696.4916 | L23: 2096.5311 | O23: 13039.684 | R23: 11213.122 | S23: 1506.59 | V23: 458.6942 | Y23: 51437.382 | Z23: 3800.0429 | AA23: 38488.184 | AB23: 0 | AC23: 0 | AD23: 1456.002 | AE23: 233.33661 | AF23: 5096.2973 | AG23: 92.49718 | AH23: 161.83034 | AI23: 0 | AJ23: 0 | AK23: 0 | AL23: 0 | AM23: 0 | AN23: 2109.1915 | AO23: 0 | AP23: 0 | AQ23: 0 | AR23: 0 | AS23: 1642.6014 | AT23: 0 | AU23: 1642.6014 | AV23: 0 | AX23: 101450.97 | AY23: 0 | BE23: 101450.97
B24: 18 | C24: PEAC (Poland) Sp. z o. o. | D24: 1827 | E24: 104 | H24: 0 | R24: 1723 | Y24: 4060 | Z24: 1128 | AA24: 1518 | AN24: 1414 | AO24: 0 | AS24: 0 | AW24: 298 | AX24: 6185 | AY24: 0 | BE24: 6185
B25: 19 | C25: PEKAO Leasing Sp. z o.o. | D25: 79874.807 | E25: 21898.172 | F25: 0 | G25: 0 | H25: 3545.4023 | I25: 1800.0311 | J25: 0 | K25: 0 | L25: 1745.3713 | M25: 0 | N25: 0 | O25: 40265.879 | P25: 0 | Q25: 0 | R25: 5635.8369 | S25: 5789.0529 | T25: 0 | U25: 0 | V25: 2740.4635 | W25: 0 | X25: 0 | Y25: 184864.15 | Z25: 22354.791 | AA25: 39487.635 | AB25: 1328.0422 | AC25: 14301.354 | AD25: 23579.827 | AE25: 4634.0127 | AF25: 11765.903 | AG25: 76.68007 | AH25: 755.02207 | AI25: 0 | AJ25: 0 | AK25: 12266.452 | AL25: 0 | AM25: 0 | AN25: 54314.435 | AO25: 0 | AP25: 0 | AQ25: 0 | AR25: 0 | AS25: 4201.0838 | AT25: 0 | AU25: 601.08378 | AV25: 3600 | AW25: 1117.7242 | AX25: 270057.77 | AY25: 855.994 | AZ25: 0 | BA25: 855.994 | BB25: 0 | BC25: 0 | BD25: 0 | BE25: 270913.76
B26: 20 | C26: PKO Leasing S.A. | D26: 186569.91 | E26: 66751.738 | F26: 1948.7144 | G26: 318.00001 | H26: 22794.081 | I26: 8974.0537 | L26: 13820.027 | O26: 65853.903 | R26: 24976.714 | S26: 5744.9057 | V26: 448.57376 | Y26: 644776.05 | Z26: 160420.9 | AA26: 91245.979 | AB26: 2662.6833 | AC26: 1375.0231 | AD26: 26327.739 | AE26: 12976.106 | AF26: 21968.716 | AH26: 262562.56 | AJ26: 942.91483 | AK26: 7369.4571 | AM26: 188.3508 | AN26: 56735.633 | AO26: 1992.7949 | AP26: 1992.7949 | AS26: 27447.973 | AU26: 3313.6761 | AV26: 24134.297 | AW26: 282.00073 | AX26: 861068.74 | AY26: 0 | BE26: 861068.74
B27: 21 | C27: Santander Consumer Multirent Sp. z o.o. | D27: 469153.27 | E27: 464613.3 | H27: 1872.9697 | I27: 1872.9697 | V27: 2667 | Y27: 0 | AO27: 0 | AS27: 0 | AX27: 469153.27 | AY27: 0 | BE27: 469153.27
B28: 22 | C28: Santander Leasing S.A. | D28: 246277.43 | E28: 178566.5 | F28: 1645.185 | G28: 1379.292 | H28: 18521.471 | I28: 12570.307 | J28: 276.135 | K28: 0 | L28: 5951.164 | M28: 0 | N28: 0 | O28: 38204.876 | P28: 0 | Q28: 0 | R28: 9024.157 | S28: 578.1 | T28: 0 | U28: 0 | V28: 1382.326 | W28: 0 | X28: 0 | Y28: 321815.13 | Z28: 3222.088 | AA28: 231245.74 | AB28: 1785.382 | AC28: 911.56 | AD28: 15802.115 | AE28: 159.9 | AF28: 25197.005 | AG28: 231.74 | AH28: 487.755 | AI28: 198.214 | AJ28: 0 | AK28: 18293.422 | AL28: 0 | AM28: 0 | AN28: 24280.204 | AO28: 2597.546 | AP28: 2597.546 | AQ28: 0 | AR28: 0 | AS28: 831.988 | AT28: 0 | AU28: 831.988 | AV28: 0 | AW28: 0 | AX28: 571522.09 | AY28: 0 | AZ28: 0 | BA28: 0 | BB28: 0 | BC28: 0 | BD28: 0 | BE28: 571522.09
B29: 23 | C29: Scania Finance Polska Sp. z o. o. | D29: 34445 | H29: 0 | O29: 33648 | R29: 797 | Y29: 0 | AO29: 0 | AS29: 0 | AX29: 34445 | AY29: 0 | BE29: 34445
B30: 24 | C30: SGB Leasing Sp. z o. o. | D30: 3684 | E30: 524 | H30: 2275 | I30: 1855 | L30: 420 | O30: 80 | R30: 805 | Y30: 14581 | Z30: 342 | AA30: 12365 | AF30: 1092 | AN30: 782 | AO30: 0 | AS30: 0 | AX30: 18265 | AY30: 1216 | BC30: 365 | BD30: 851 | BE30: 19481
B31: 25 | C31: Siemens Finance Sp. z o. o. | D31: 1891 | E31: 0 | F31: 0 | G31: 0 | H31: 1891 | I31: 0 | J31: 0 | K31: 0 | L31: 1891 | M31: 0 | N31: 0 | O31: 0 | P31: 0 | Q31: 0 | R31: 0 | S31: 0 | T31: 0 | U31: 0 | V31: 0 | Y31: 121977 | Z31: 9324 | AA31: 0 | AB31: 0 | AC31: 0 | AD31: 6147 | AE31: 0 | AF31: 74751 | AG31: 0 | AH31: 2878 | AI31: 0 | AJ31: 0 | AK31: 0 | AL31: 0 | AM31: 0 | AN31: 28877 | AO31: 21343 | AP31: 13912 | AQ31: 7431 | AR31: 0 | AS31: 0 | AT31: 0 | AU31: 0 | AV31: 0 | AX31: 145211 | AY31: 0 | BE31: 145211
B32: 26 | C32: VEHIS FINANSE Sp. z o.o. | D32: 0 | H32: 0 | Y32: 0 | AO32: 0 | AS32: 0 | AX32: 0 | AY32: 0 | BE32: 0
B33: 27 | C33: VELOLEASING SPÓŁKA AKCYJNA | D33: 21031 | E33: 20905 | H33: 0 | V33: 126 | Y33: 0 | AO33: 0 | AS33: 0 | AX33: 21031 | AY33: 0 | BE33: 21031
B34: 28 | C34: Razem | D34: 1489968.2 | E34: 968743.62 | F34: 7032.2962 | G34: 18382.562 | H34: 109625.35 | I34: 61544.862 | J34: 320.635 | K34: 0 | L34: 48080.49 | M34: 0 | N34: 0 | O34: 275032.15 | P34: 0 | Q34: 0 | R34: 107536.51 | S34: 17359.649 | T34: 0 | U34: 0 | V34: 11670.973 | W34: 1039.242 | X34: 0 | Y34: 2558712.4 | Z34: 268339.55 | AA34: 1101528.2 | AB34: 20722.948 | AC34: 22107.313 | AD34: 112777.04 | AE34: 143889.99 | AF34: 274370.92 | AG34: 5332.1918 | AH34: 276036.37 | AI34: 365.494 | AJ34: 1031.5508 | AK34: 62890.225 | AL34: 0 | AM34: 198.0418 | AN34: 269122.5 | AO34: 106917.38 | AP34: 77841.061 | AQ34: 27926.768 | AR34: 1149.555 | AS34: 71070.304 | AT34: 20.3561 | AU34: 11878.364 | AV34: 59171.583 | AW34: 16551.895 | AX34: 4243220.2 | AY34: 2071.994 | AZ34: 0 | BA34: 855.994 | BB34: 0 | BC34: 365 | BD34: 851 | BE34: 4245292.2
B36: Ilość środków oddanych w leasing w | D36: I kwartale 2026
B39: Lp. | C39: Spółka | D39: POJAZDY | E39: Osobowe | F39: osobowe - zeroemisyjne | G39: osobowe - hybryda plug-in | H39: Cięzarowe: | I39: o masie do 3,5 tony | J39: o masie do 3,5 tony - zeroemisyjne | K39: o masie do 3,5 tony - hybryda plug-in | L39: o masie powyzej 3,5 tony | M39: o masie powyżej 3,5 tony - zeroemisyjne | N39: o masie powyżej 3,5 tony - hybryda plug-in | O39: ciagniki siodlowe | P39: ciągniki siodłowe - zeroemisyjne | Q39: ciągniki siodłowe - hybryda plug-in | R39: naczepy / przyczepy | S39: autobusy | T39: autobusy - zeroemisyjne | U39: autobusy - hybryda plug-in | V39: inne | W39: inne - zeroemisyjne | X39: inne - hybryda plug-in | Y39: MiU | Z39: Sprzęt Budowlany | AA39: Maszyny Rolnicze | AB39: Maszyny Poligraf. | AC39: maszyny do produkcji tworzyw sztucznych | AD39: maszyny i urządzenia do obróbki metali | AE39: maszyny dla przemysłu spożywczego | AF39: Sprzęt Medyczny | AG39: Sprzęt Gastronom. | AH39: Wózki Widłowe | AI39: Magazyny energii | AJ39: Pompy ciepła | AK39: fotowoltaika | AL39: wiatraki i turbiny wiatrowe | AM39: stacje ładowania pojazdów elektrycznych (na użytek własny i komercyjny) | AN39: inne MiU | AO39: IT | AP39: Sprzęt | AQ39: Oprogram. | AR39: inne IT | AS39: POZOSTAŁE ŚRODKI TRANSPORTU | AT39: Powietrzne | AU39: Wodne | AV39: Kolejowe | AW39: Inne ruchomości | AX39: RUCHOMOŚCI | AY39: Nieruchomości | AZ39: budynki przemysłowe | BA39: obiekty handlowe i usługowe | BB39: obiekty biurowe | BC39: hotele i obiekty rekreacyjne | BD39: inne | BE39: OGÓŁEM
B40: 1 | C40: Alior Leasing Sp. z o. o. | D40: 611 | E40: 357 | H40: 95 | I40: 77 | L40: 18 | O40: 80 | R40: 68 | S40: 2 | V40: 9 | Y40: 189 | Z40: 37 | AA40: 27 | AB40: 6 | AC40: 1 | AD40: 14 | AE40: 5 | AF40: 71 | AH40: 2 | AK40: 3 | AN40: 23 | AO40: 0 | AS40: 13 | AU40: 13 | AX40: 813 | AY40: 0 | BE40: 813
B41: 2 | C41: BMW Financial Services Polska Sp z o. o. | D41: 3 | E41: 3 | H41: 0 | Y41: 0 | AO41: 0 | AS41: 0 | AX41: 3 | AY41: 0 | BE41: 3
B42: 3 | C42: BNP Paribas Lease Group Sp. z o. o. | D42: 110 | E42: 13 | F42: 1 | G42: 0 | H42: 77 | I42: 42 | J42: 0 | K42: 0 | L42: 35 | M42: 0 | N42: 0 | O42: 7 | P42: 0 | Q42: 0 | R42: 13 | S42: 0 | T42: 0 | U42: 0 | V42: 0 | W42: 0 | X42: 0 | Y42: 1259 | Z42: 22 | AA42: 808 | AB42: 0 | AC42: 0 | AD42: 4 | AE42: 6 | AF42: 391 | AG42: 0 | AH42: 4 | AI42: 0 | AJ42: 0 | AK42: 4 | AL42: 0 | AM42: 0 | AN42: 20 | AO42: 136 | AP42: 6 | AQ42: 130 | AR42: 0 | AS42: 0 | AT42: 0 | AU42: 0 | AV42: 0 | AW42: 0 | AX42: 1505 | AY42: 0 | AZ42: 0 | BA42: 0 | BB42: 0 | BC42: 0 | BD42: 0 | BE42: 1505
B43: 4 | C43: BOŚ LEASING S.A. | D43: 31 | E43: 29 | H43: 2 | I43: 2 | Y43: 1 | AF43: 1 | AO43: 1 | AP43: 1 | AS43: 0 | AX43: 33 | AY43: 0 | BE43: 33
B44: 5 | C44: BPCE Equipment Solutions Polska Sp. z o.o. | D44: 18 | H44: 1 | I44: 1 | O44: 9 | R44: 8 | Y44: 88 | Z44: 9 | AA44: 68 | AH44: 3 | AN44: 8 | AO44: 51 | AP44: 47 | AQ44: 4 | AS44: 2 | AV44: 2 | AX44: 159 | AY44: 0 | BE44: 159
B45: 6 | C45: BPS Leasing S.A. | D45: 5 | E45: 2 | H45: 0 | O45: 3 | Y45: 5 | AA45: 3 | AN45: 2 | AO45: 0 | AS45: 0 | AW45: 1 | AX45: 11 | AY45: 0 | BE45: 11
B46: 7 | C46: Caterpillar Financial Services Poland Sp. z o. o. | D46: 0 | H46: 0 | Y46: 37 | Z46: 37 | AO46: 0 | AS46: 0 | AX46: 37 | AY46: 0 | BE46: 37
B47: 8 | C47: DE LAGE Landen Leasing Polska S.A. | D47: 6 | H47: 0 | R47: 6 | Y47: 408 | Z47: 2 | AA47: 393 | AF47: 13 | AH47: 0 | AK47: 0 | AN47: 0 | AO47: 15 | AP47: 8 | AQ47: 7 | AR47: 0 | AS47: 0 | AX47: 429 | AY47: 0 | BE47: 429
B48: 9 | C48: Deutsche Leasing Polska S.A. | D48: 80 | H48: 0 | O48: 1 | R48: 79 | Y48: 53 | AA48: 45 | AD48: 1 | AN48: 7 | AO48: 0 | AS48: 0 | AX48: 133 | AY48: 0 | BE48: 133
B49: 10 | C49: Europejski Fundusz Leasingowy S.A. | D49: 368 | E49: 165 | F49: 2 | H49: 54 | I49: 40 | L49: 14 | O49: 75 | R49: 67 | S49: 7 | Y49: 616 | Z49: 53 | AA49: 370 | AD49: 6 | AE49: 10 | AF49: 43 | AG49: 19 | AH49: 5 | AJ49: 1 | AK49: 2 | AN49: 107 | AO49: 17 | AP49: 5 | AQ49: 10 | AR49: 2 | AS49: 9 | AT49: 1 | AU49: 8 | AX49: 1010 | AY49: 0 | BE49: 1010
B50: 11 | C50: Impuls-Leasing Polska Sp. z o. o. | D50: 408 | E50: 278 | F50: 80 | G50: 90 | H50: 25 | I50: 17 | J50: 1 | L50: 8 | O50: 39 | R50: 59 | S50: 2 | V50: 5 | Y50: 61 | Z50: 5 | AA50: 9 | AD50: 1 | AF50: 14 | AK50: 5 | AN50: 27 | AO50: 0 | AS50: 2 | AU50: 2 | AX50: 471 | AY50: 0 | BE50: 471
B51: 12 | C51: ING Lease (Polska) Sp. z o. o. | D51: 119 | E51: 65 | H51: 24 | I51: 24 | L51: 0 | O51: 16 | R51: 14 | S51: 0 | V51: 0 | Y51: 36 | Z51: 5 | AA51: 0 | AB51: 2 | AC51: 1 | AD51: 5 | AE51: 10 | AF51: 0 | AG51: 0 | AH51: 4 | AI51: 0 | AJ51: 0 | AK51: 0 | AN51: 9 | AO51: 2 | AP51: 2 | AQ51: 0 | AR51: 0 | AS51: 1 | AT51: 0 | AU51: 0 | AV51: 1 | AW51: 0 | AX51: 158 | AY51: 0 | AZ51: 0 | BA51: 0 | BB51: 0 | BC51: 0 | BD51: 0 | BE51: 158
B52: 13 | C52: Leasing Polski Sp. z o. o. | D52: 0 | H52: 0 | Y52: 0 | AO52: 0 | AS52: 0 | AX52: 0 | AY52: 0 | BE52: 0
B53: 14 | C53: Mercedes-Benz Leasing Polska Sp. z o.o. | D53: 350 | E53: 321 | G53: 8 | H53: 29 | I53: 28 | L53: 1 | Y53: 0 | AO53: 0 | AS53: 0 | AX53: 350 | AY53: 0 | BE53: 350
B54: 15 | C54: Millennium Leasing Sp. z o. o. | D54: 0 | H54: 0 | Y54: 0 | AO54: 0 | AS54: 0 | AX54: 0 | AY54: 0 | BE54: 0
B55: 16 | C55: mLeasing Sp. z o. o. | D55: 483 | E55: 133 | F55: 1 | G55: 2 | H55: 8 | I55: 2 | J55: 0 | K55: 0 | L55: 6 | M55: 0 | N55: 0 | O55: 61 | P55: 0 | Q55: 0 | R55: 84 | S55: 0 | T55: 0 | U55: 0 | V55: 197 | W55: 173 | X55: 0 | Y55: 5054 | Z55: 262 | AA55: 16 | AB55: 1 | AC55: 3 | AD55: 198 | AE55: 9 | AF55: 662 | AG55: 2179 | AH55: 78 | AI55: 1 | AJ55: 5 | AK55: 13 | AL55: 0 | AM55: 11 | AN55: 1616 | AO55: 8483 | AP55: 5593 | AQ55: 443 | AR55: 2447 | AS55: 3 | AT55: 0 | AU55: 3 | AV55: 0 | AW55: 7983 | AX55: 22006 | AY55: 0 | BE55: 22006
B56: 17 | C56: NEST LEASE SPÓŁKA AKCYJNA | D56: 323 | E56: 141 | H56: 35 | I56: 27 | L56: 8 | O56: 59 | R56: 72 | S56: 4 | V56: 12 | Y56: 251 | Z56: 13 | AA56: 159 | AB56: 0 | AC56: 0 | AD56: 2 | AE56: 2 | AF56: 55 | AG56: 2 | AH56: 1 | AI56: 0 | AJ56: 0 | AK56: 0 | AL56: 0 | AM56: 0 | AN56: 17 | AO56: 0 | AP56: 0 | AQ56: 0 | AR56: 0 | AS56: 7 | AT56: 0 | AU56: 7 | AV56: 0 | AX56: 581 | AY56: 0 | BE56: 581
B57: 18 | C57: PEAC (Poland) Sp. z o. o. | D57: 13 | E57: 1 | H57: 0 | R57: 12 | Y57: 24 | Z57: 3 | AA57: 13 | AN57: 8 | AO57: 0 | AS57: 0 | AW57: 1 | AX57: 38 | AY57: 0 | BE57: 38
B58: 19 | C58: PEKAO Leasing Sp. z o.o. | D58: 295 | E58: 130 | F58: 0 | G58: 0 | H58: 16 | I58: 13 | J58: 0 | K58: 0 | L58: 3 | M58: 0 | N58: 0 | O58: 102 | P58: 0 | Q58: 0 | R58: 34 | S58: 7 | T58: 0 | U58: 0 | V58: 6 | W58: 0 | X58: 0 | Y58: 249 | Z58: 19 | AA58: 75 | AB58: 1 | AC58: 7 | AD58: 15 | AE58: 8 | AF58: 57 | AG58: 8 | AH58: 6 | AI58: 0 | AJ58: 0 | AK58: 5 | AL58: 0 | AM58: 0 | AN58: 48 | AO58: 0 | AP58: 0 | AQ58: 0 | AR58: 0 | AS58: 2 | AT58: 0 | AU58: 1 | AV58: 1 | AW58: 3 | AX58: 549 | AY58: 1 | AZ58: 0 | BA58: 1 | BB58: 0 | BC58: 0 | BD58: 0 | BE58: 550
B59: 20 | C59: PKO Leasing S.A. | D59: 910 | E59: 428 | F59: 8 | G59: 3 | H59: 100 | I59: 63 | L59: 37 | O59: 173 | R59: 186 | S59: 13 | V59: 10 | Y59: 894 | Z59: 38 | AA59: 352 | AB59: 4 | AC59: 2 | AD59: 26 | AE59: 38 | AF59: 237 | AH59: 28 | AJ59: 1 | AK59: 26 | AM59: 1 | AN59: 141 | AO59: 18 | AP59: 18 | AS59: 8 | AU59: 5 | AV59: 3 | AW59: 2 | AX59: 1832 | AY59: 0 | BE59: 1832
B60: 21 | C60: Santander Consumer Multirent Sp. z o.o. | D60: 3710 | E60: 3647 | H60: 13 | I60: 13 | V60: 50 | Y60: 0 | AO60: 0 | AS60: 0 | AX60: 3710 | AY60: 0 | BE60: 3710
B61: 22 | C61: Santander Leasing S.A. | D61: 2131 | E61: 1785 | F61: 13 | G61: 6 | H61: 126 | I61: 106 | J61: 2 | K61: 0 | L61: 20 | M61: 0 | N61: 0 | O61: 100 | P61: 0 | Q61: 0 | R61: 56 | S61: 2 | T61: 0 | U61: 0 | V61: 62 | W61: 0 | X61: 0 | Y61: 1587 | Z61: 14 | AA61: 1086 | AB61: 6 | AC61: 2 | AD61: 13 | AE61: 1 | AF61: 297 | AG61: 1 | AH61: 7 | AI61: 4 | AJ61: 0 | AK61: 25 | AL61: 0 | AM61: 0 | AN61: 131 | AO61: 3 | AP61: 3 | AQ61: 0 | AR61: 0 | AS61: 3 | AT61: 0 | AU61: 3 | AV61: 0 | AW61: 0 | AX61: 3724 | AY61: 0 | AZ61: 0 | BA61: 0 | BB61: 0 | BC61: 0 | BD61: 0 | BE61: 3724
B62: 23 | C62: Scania Finance Polska Sp. z o. o. | D62: 72 | H62: 0 | O62: 68 | R62: 4 | Y62: 0 | AO62: 0 | AS62: 0 | AX62: 72 | AY62: 0 | BE62: 72
B63: 24 | C63: SGB Leasing Sp. z o. o. | D63: 14 | E63: 3 | H63: 7 | I63: 6 | L63: 1 | O63: 1 | R63: 3 | Y63: 44 | Z63: 2 | AA63: 31 | AF63: 9 | AN63: 2 | AO63: 0 | AS63: 0 | AX63: 58 | AY63: 5 | BC63: 1 | BD63: 4 | BE63: 63
B64: 25 | C64: Siemens Finance Sp. z o. o. | D64: 1 | E64: 0 | F64: 0 | G64: 0 | H64: 1 | I64: 0 | J64: 0 | K64: 0 | L64: 1 | M64: 0 | N64: 0 | O64: 0 | P64: 0 | Q64: 0 | R64: 0 | S64: 0 | T64: 0 | U64: 0 | V64: 0 | Y64: 571 | Z64: 19 | AA64: 0 | AB64: 0 | AC64: 0 | AD64: 7 | AE64: 0 | AF64: 436 | AG64: 0 | AH64: 10 | AI64: 0 | AJ64: 0 | AK64: 0 | AL64: 0 | AM64: 0 | AN64: 99 | AO64: 237 | AP64: 223 | AQ64: 14 | AR64: 0 | AS64: 0 | AT64: 0 | AU64: 0 | AV64: 0 | AX64: 809 | AY64: 0 | BE64: 809
B65: 26 | C65: VEHIS FINANSE Sp. z o.o. | D65: 0 | H65: 0 | Y65: 0 | AO65: 0 | AS65: 0 | AX65: 0 | AY65: 0 | BE65: 0
B66: 27 | C66: VELOLEASING SPÓŁKA AKCYJNA | D66: 200 | E66: 198 | H66: 0 | V66: 2 | Y66: 0 | AO66: 0 | AS66: 0 | AX66: 200 | AY66: 0 | BE66: 200
B67: 28 | C67: Razem | D67: 10261 | E67: 7699 | F67: 105 | G67: 109 | H67: 613 | I67: 461 | J67: 3 | K67: 0 | L67: 152 | M67: 0 | N67: 0 | O67: 794 | P67: 0 | Q67: 0 | R67: 765 | S67: 37 | T67: 0 | U67: 0 | V67: 353 | W67: 173 | X67: 0 | Y67: 11427 | Z67: 540 | AA67: 3455 | AB67: 20 | AC67: 16 | AD67: 292 | AE67: 89 | AF67: 2286 | AG67: 2209 | AH67: 148 | AI67: 5 | AJ67: 7 | AK67: 83 | AL67: 0 | AM67: 12 | AN67: 2265 | AO67: 8963 | AP67: 5906 | AQ67: 608 | AR67: 2449 | AS67: 50 | AT67: 1 | AU67: 42 | AV67: 7 | AW67: 7990 | AX67: 38691 | AY67: 6 | AZ67: 0 | BA67: 1 | BB67: 0 | BC67: 1 | BD67: 4 | BE67: 38697
B69: Średnia wartość środków oddanych w leasing (tys. PLN) | E69: I kwartale 2026
B72: Lp. | C72: Spółka | D72: POJAZDY | E72: Osobowe | F72: osobowe - zeroemisyjne | G72: osobowe - hybryda plug-in | H72: Cięzarowe: | I72: o masie do 3,5 tony | J72: o masie do 3,5 tony - zeroemisyjne | K72: o masie do 3,5 tony - hybryda plug-in | L72: o masie powyzej 3,5 tony | M72: o masie powyżej 3,5 tony - zeroemisyjne | N72: o masie powyżej 3,5 tony - hybryda plug-in | O72: ciagniki siodlowe | P72: ciągniki siodłowe - zeroemisyjne | Q72: ciągniki siodłowe - hybryda plug-in | R72: naczepy / przyczepy | S72: autobusy | T72: autobusy - zeroemisyjne | U72: autobusy - hybryda plug-in | V72: inne | W72: inne - zeroemisyjne | X72: inne - hybryda plug-in | Y72: MiU | Z72: Sprzęt Budowlany | AA72: Maszyny Rolnicze | AB72: Maszyny Poligraf. | AC72: maszyny do produkcji tworzyw sztucznych | AD72: maszyny i urządzenia do obróbki metali | AE72: maszyny dla przemysłu spożywczego | AF72: Sprzęt Medyczny | AG72: Sprzęt Gastronom. | AH72: Wózki Widłowe | AI72: Magazyny energii | AJ72: Pompy ciepła | AK72: fotowoltaika | AL72: wiatraki i turbiny wiatrowe | AM72: stacje ładowania pojazdów elektrycznych (na użytek własny i komercyjny) | AN72: inne MiU | AO72: IT | AP72: Sprzęt | AQ72: Oprogram. | AR72: inne IT | AS72: POZOSTAŁE ŚRODKI TRANSPORTU | AT72: Powietrzne | AU72: Wodne | AV72: Kolejowe | AW72: Inne ruchomości | AX72: RUCHOMOŚCI | AY72: Nieruchomości | AZ72: budynki przemysłowe | BA72: obiekty handlowe i usługowe | BB72: obiekty biurowe | BC72: hotele i obiekty rekreacyjne | BD72: inne | BE72: OGÓŁEM
B73: 1 | C73: Alior Leasing Sp. z o. o. | D73: 114.26545 | E73: 115.67533 | H73: 91.316617 | I73: 72.98005 | L73: 169.75637 | O73: 161.51659 | R73: 80.235698 | S73: 353.5 | V73: 84.518519 | Y73: 219.99565 | Z73: 124.31462 | AA73: 187.56504 | AB73: 1804.6117 | AC73: 94.19575 | AD73: 108.12935 | AE73: 77.198626 | AF73: 146.02713 | AH73: 410.375 | AK73: 678.20107 | AN73: 255.2318 | AS73: 114.11386 | AU73: 114.11386 | AX73: 138.84237 | BE73: 138.84237
B74: 2 | C74: BMW Financial Services Polska Sp z o. o. | D74: 334.58667 | E74: 334.58667 | AX74: 334.58667 | BE74: 334.58667
B75: 3 | C75: BNP Paribas Lease Group Sp. z o. o. | D75: 250.97423 | E75: 228.16583 | F75: 100 | H75: 247.24474 | I75: 170.67535 | L75: 339.128 | O75: 289.53616 | R75: 275.10856 | Y75: 300.23235 | Z75: 378.66224 | AA75: 386.24439 | AD75: 475.86766 | AE75: 483.18333 | AF75: 74.324069 | AH75: 101.9465 | AK75: 937.75 | AN75: 977.72118 | AO75: 39.46829 | AP75: 153.89901 | AQ75: 34.186873 | AX75: 273.06803 | BE75: 273.06803
B76: 4 | C76: BOŚ LEASING S.A. | D76: 115.0322 | E76: 111.02869 | H76: 173.08314 | I76: 173.08314 | Y76: 183.83296 | AF76: 183.83296 | AO76: 1306.3941 | AP76: 1306.3941 | AX76: 153.21895 | BE76: 153.21895
B77: 5 | C77: BPCE Equipment Solutions Polska Sp. z o.o. | D77: 263.4882 | H77: 886.3504 | I77: 886.3504 | O77: 275.21104 | R77: 172.44223 | Y77: 378.55822 | Z77: 338.14924 | AA77: 272.72436 | AH77: 1364.1772 | AN77: 953.99901 | AO77: 743.15705 | AP77: 716.52927 | AQ77: 1056.0335 | AS77: 11103.143 | AV77: 11103.143 | AX77: 617.37866 | BE77: 617.37866
B78: 6 | C78: BPS Leasing S.A. | D78: 336.44255 | E78: 77.76 | O78: 508.89759 | Y78: 200.17424 | AA78: 289.32806 | AN78: 66.443515 | AW78: 180.61006 | AX78: 260.33582 | BE78: 260.33582
B79: 7 | C79: Caterpillar Financial Services Poland Sp. z o. o. | Y79: 714.04149 | Z79: 714.04149 | AX79: 714.04149 | BE79: 714.04149
B80: 8 | C80: DE LAGE Landen Leasing Polska S.A. | D80: 489.02375 | R80: 489.02375 | Y80: 499.82493 | Z80: 1659.4136 | AA80: 436.4202 | AF80: 2238.2006 | AO80: 932.95821 | AP80: 643.25713 | AQ80: 1264.0452 | AX80: 514.81839 | BE80: 514.81839
B81: 9 | C81: Deutsche Leasing Polska S.A. | D81: 128.0625 | O81: 320 | R81: 125.63291 | Y81: 591.18868 | AA81: 398.64444 | AD81: 12721 | AN81: 96.142857 | AX81: 312.61654 | BE81: 312.61654
B82: 10 | C82: Europejski Fundusz Leasingowy S.A. | D82: 162.36551 | E82: 167.23314 | F82: 124.71341 | H82: 167.63116 | I82: 155.84187 | L82: 201.31488 | O82: 195.41294 | R82: 103.21771 | S82: 219.05714 | Y82: 307.17938 | Z82: 179.02536 | AA82: 417.13429 | AD82: 46.646207 | AE82: 531.95597 | AF82: 114.26804 | AG82: 58.715344 | AH82: 55.5567 | AJ82: 22.97 | AK82: 74.4075 | AN82: 124.45182 | AO82: 113.46262 | AP82: 16.338328 | AQ82: 174.16189 | AR82: 52.777 | AS82: 101.2911 | AT82: 20.3561 | AU82: 111.40798 | AX82: 249.32029 | BE82: 249.32029
B83: 11 | C83: Impuls-Leasing Polska Sp. z o. o. | D83: 151.24216 | E83: 110.7568 | F83: 36.955875 | G83: 155.88378 | H83: 202.7788 | I83: 119.55824 | J83: 44.5 | L83: 379.6225 | O83: 371.85436 | R83: 139.54627 | S83: 750.3 | V83: 322.158 | Y83: 261.9823 | Z83: 295.54 | AA83: 150.76222 | AD83: 516 | AF83: 90.914286 | AK83: 90.602 | AN83: 403.87222 | AS83: 884.16 | AU83: 884.16 | AX83: 168.69648 | BE83: 168.69648
B84: 12 | C84: ING Lease (Polska) Sp. z o. o. | D84: 196.2521 | E84: 105.86154 | H84: 221.33333 | I84: 221.33333 | O84: 434.625 | R84: 300.5 | Y84: 3664.8056 | Z84: 1216.8 | AB84: 1281 | AC84: 0 | AD84: 2286.4 | AE84: 10124.5 | AH84: 135 | AN84: 1118.8889 | AO84: 100 | AP84: 100 | AS84: 9231 | AV84: 9231 | AX84: 1042.519 | BE84: 1042.519
B85: 13 | C85: Leasing Polski Sp. z o. o.
B86: 14 | C86: Mercedes-Benz Leasing Polska Sp. z o.o. | D86: 210.21218 | E86: 215.47349 | G86: 222.75371 | H86: 151.97493 | I86: 147.26389 | L86: 283.884 | AX86: 210.21218 | BE86: 210.21218
B87: 15 | C87: Millennium Leasing Sp. z o. o.
B88: 16 | C88: mLeasing Sp. z o. o. | D88: 117.72465 | E88: 112.38965 | F88: 132.5 | G88: 436.85 | H88: 143.2675 | I88: 27.055 | L88: 182.005 | O88: 468.12852 | R88: 127.79458 | V88: 7.4947157 | W88: 6.0071792 | Y88: 32.116065 | Z88: 19.02966 | AA88: 341.62813 | AB88: 1557.17 | AC88: 1808.3933 | AD88: 56.05152 | AE88: 1781.8867 | AF88: 90.037151 | AG88: 1.7511166 | AH88: 39.132718 | AI88: 167.28 | AJ88: 13.1332 | AK88: 1428.7282 | AM88: 0.881 | AN88: 20.084475 | AO88: 2.3913374 | AP88: 3.2190788 | AQ88: 2.7932415 | AR88: 0.42664528 | AS88: 448.65033 | AU88: 448.65033 | AW88: 1.838101 | AX88: 11.609599 | BE88: 11.609599
B89: 17 | C89: NEST LEASE SPÓŁKA AKCYJNA | D89: 149.75539 | E89: 123.1197 | H89: 136.94351 | I89: 99.87006 | L89: 262.06639 | O89: 221.0116 | R89: 155.73781 | S89: 376.6475 | V89: 38.224517 | Y89: 204.92981 | Z89: 292.31099 | AA89: 242.06405 | AD89: 728.00099 | AE89: 116.66831 | AF89: 92.659951 | AG89: 46.24859 | AH89: 161.83034 | AN89: 124.07009 | AS89: 234.65735 | AU89: 234.65735 | AX89: 174.61441 | BE89: 174.61441
B90: 18 | C90: PEAC (Poland) Sp. z o. o. | D90: 140.53846 | E90: 104 | R90: 143.58333 | Y90: 169.16667 | Z90: 376 | AA90: 116.76923 | AN90: 176.75 | AW90: 298 | AX90: 162.76316 | BE90: 162.76316
B91: 19 | C91: PEKAO Leasing Sp. z o.o. | D91: 270.76206 | E91: 168.44747 | H91: 221.58765 | I91: 138.46393 | L91: 581.79043 | O91: 394.76352 | R91: 165.75991 | S91: 827.00755 | V91: 456.74392 | Y91: 742.42632 | Z91: 1176.568 | AA91: 526.5018 | AB91: 1328.0422 | AC91: 2043.0505 | AD91: 1571.9885 | AE91: 579.25159 | AF91: 206.41935 | AG91: 9.5850088 | AH91: 125.83701 | AK91: 2453.2904 | AN91: 1131.5507 | AS91: 2100.5419 | AU91: 601.08378 | AV91: 3600 | AW91: 372.57473 | AX91: 491.90851 | AY91: 855.994 | BA91: 855.994 | BE91: 492.57048
B92: 20 | C92: PKO Leasing S.A. | D92: 205.02188 | E92: 155.962 | F92: 243.5893 | G92: 106 | H92: 227.94081 | I92: 142.4453 | L92: 373.51424 | O92: 380.6584 | R92: 134.28341 | S92: 441.91582 | V92: 44.857376 | Y92: 721.22601 | Z92: 4221.6026 | AA92: 259.22153 | AB92: 665.67083 | AC92: 687.51154 | AD92: 1012.6054 | AE92: 341.47646 | AF92: 92.695003 | AH92: 9377.2341 | AJ92: 942.91483 | AK92: 283.44066 | AM92: 188.3508 | AN92: 402.38038 | AO92: 110.71083 | AP92: 110.71083 | AS92: 3430.9967 | AU92: 662.73521 | AV92: 8044.7657 | AW92: 141.00036 | AX92: 470.01569 | BE92: 470.01569
B93: 21 | C93: Santander Consumer Multirent Sp. z o.o. | D93: 126.45641 | E93: 127.39602 | H93: 144.07459 | I93: 144.07459 | V93: 53.34 | AX93: 126.45641 | BE93: 126.45641
B94: 22 | C94: Santander Leasing S.A. | D94: 115.56895 | E94: 100.03725 | F94: 126.55269 | G94: 229.882 | H94: 146.9958 | I94: 118.5878 | J94: 138.0675 | L94: 297.5582 | O94: 382.04876 | R94: 161.14566 | S94: 289.05 | V94: 22.295581 | Y94: 202.78206 | Z94: 230.14914 | AA94: 212.93346 | AB94: 297.56367 | AC94: 455.78 | AD94: 1215.5473 | AE94: 159.9 | AF94: 84.838401 | AG94: 231.74 | AH94: 69.679286 | AI94: 49.5535 | AK94: 731.73688 | AN94: 185.34507 | AO94: 865.84867 | AP94: 865.84867 | AS94: 277.32933 | AU94: 277.32933 | AX94: 153.46995 | BE94: 153.46995
B95: 23 | C95: Scania Finance Polska Sp. z o. o. | D95: 478.40278 | O95: 494.82353 | R95: 199.25 | AX95: 478.40278 | BE95: 478.40278
B96: 24 | C96: SGB Leasing Sp. z o. o. | D96: 263.14286 | E96: 174.66667 | H96: 325 | I96: 309.16667 | L96: 420 | O96: 80 | R96: 268.33333 | Y96: 331.38636 | Z96: 171 | AA96: 398.87097 | AF96: 121.33333 | AN96: 391 | AX96: 314.91379 | AY96: 243.2 | BC96: 365 | BD96: 212.75 | BE96: 309.22222
B97: 25 | C97: Siemens Finance Sp. z o. o. | D97: 1891 | H97: 1891 | L97: 1891 | Y97: 213.61996 | Z97: 490.73684 | AD97: 878.14286 | AF97: 171.44725 | AH97: 287.8 | AN97: 291.68687 | AO97: 90.054852 | AP97: 62.38565 | AQ97: 530.78571 | AX97: 179.49444 | BE97: 179.49444
B98: 26 | C98: VEHIS FINANSE Sp. z o.o.
B99: 27 | C99: VELOLEASING SPÓŁKA AKCYJNA | D99: 105.155 | E99: 105.58081 | V99: 63 | AX99: 105.155 | BE99: 105.155
B100: 28 | C100: Razem | D100: 145.20692 | E100: 125.8272 | F100: 66.97425 | G100: 168.64736 | H100: 178.83418 | I100: 133.50295 | J100: 106.87833 | L100: 316.31902 | O100: 346.38809 | R100: 140.5706 | S100: 469.17969 | V100: 33.062247 | W100: 6.0071792 | Y100: 223.91812 | Z100: 496.92509 | AA100: 318.82149 | AB100: 1036.1474 | AC100: 1381.707 | AD100: 386.22275 | AE100: 1616.7414 | AF100: 120.02227 | AG100: 2.4138487 | AH100: 1865.1106 | AI100: 73.0988 | AJ100: 147.3644 | AK100: 757.71356 | AM100: 16.503483 | AN100: 118.81788 | AO100: 11.92875 | AP100: 13.179997 | AQ100: 45.932185 | AR100: 0.46939771 | AS100: 1421.4061 | AT100: 20.3561 | AU100: 282.8182 | AV100: 8453.0833 | AW100: 2.0715763 | AX100: 109.66944 | AY100: 345.33233 | BA100: 855.994 | BC100: 365 | BD100: 212.75 | BE100: 109.70598
B102: Struktura wartościowa umów (ruchomości) | D102: I kwartale 2026
B105: Lp. | C105: Spółka | D105: POJAZDY | E105: Osobowe | F105: osobowe - zeroemisyjne | G105: osobowe - hybryda plug-in | H105: Cięzarowe: | I105: o masie do 3,5 tony | J105: o masie do 3,5 tony - zeroemisyjne | K105: o masie do 3,5 tony - hybryda plug-in | L105: o masie powyzej 3,5 tony | M105: o masie powyżej 3,5 tony - zeroemisyjne | N105: o masie powyżej 3,5 tony - hybryda plug-in | O105: ciagniki siodlowe | P105: ciągniki siodłowe - zeroemisyjne | Q105: ciągniki siodłowe - hybryda plug-in | R105: naczepy / przyczepy | S105: autobusy | T105: autobusy - zeroemisyjne | U105: autobusy - hybryda plug-in | V105: inne | W105: inne - zeroemisyjne | X105: inne - hybryda plug-in | Y105: MiU | Z105: Sprzęt Budowlany | AA105: Maszyny Rolnicze | AB105: Maszyny Poligraf. | AC105: maszyny do produkcji tworzyw sztucznych | AD105: maszyny i urządzenia do obróbki metali | AE105: maszyny dla przemysłu spożywczego | AF105: Sprzęt Medyczny | AG105: Sprzęt Gastronom. | AH105: Wózki Widłowe | AI105: Magazyny energii | AJ105: Pompy ciepła | AK105: fotowoltaika | AL105: wiatraki i turbiny wiatrowe | AM105: stacje ładowania pojazdów elektrycznych (na użytek własny i komercyjny) | AN105: inne MiU | AO105: IT | AP105: Sprzęt | AQ105: Oprogram. | AR105: inne IT | AS105: POZOSTAŁE ŚRODKI TRANSPORTU | AT105: Powietrzne | AU105: Wodne | AV105: Kolejowe | AW105: Inne ruchomości | AX105: RUCHOMOŚCI | AY105: Nieruchomości | AZ105: budynki przemysłowe | BA105: obiekty handlowe i usługowe | BB105: obiekty biurowe | BC105: hotele i obiekty rekreacyjne | BD105: inne | BE105: OGÓŁEM
B106: 1 | C106: Alior Leasing Sp. z o. o. | D106: 0.61850552 | E106: 0.36584437 | H106: 0.076853003 | I106: 0.049783143 | L106: 0.027069861 | O106: 0.11447075 | R106: 0.048335251 | S106: 0.0062633523 | V106: 0.0067387883 | Y106: 0.36835225 | Z106: 0.040748476 | AA106: 0.044864527 | AB106: 0.095922932 | AC106: 0.00083448538 | AD106: 0.013410935 | AE106: 0.0034195346 | AF106: 0.091850034 | AH106: 0.0072710699 | AK106: 0.018024663 | AN106: 0.052005592 | AO106: 0 | AS106: 0.013142233 | AU106: 0.013142233 | AX106: 1 | AY106: 0 | BE106: 1
B107: 2 | C107: BMW Financial Services Polska Sp z o. o. | D107: 1 | E107: 1 | H107: 0 | Y107: 0 | AO107: 0 | AS107: 0 | AX107: 1 | AY107: 0 | BE107: 1
B108: 3 | C108: BNP Paribas Lease Group Sp. z o. o. | D108: 0.067176049 | E108: 0.0072174967 | F108: 0.00024332831 | G108: 0 | H108: 0.046324467 | I108: 0.017442661 | J108: 0 | K108: 0 | L108: 0.028881806 | M108: 0 | N108: 0 | O108: 0.0049316641 | P108: 0 | Q108: 0 | R108: 0.0087024212 | S108: 0 | T108: 0 | U108: 0 | V108: 0 | W108: 0 | X108: 0 | Y108: 0.91976285 | Z108: 0.020270634 | AA108: 0.75939231 | AB108: 0 | AC108: 0 | AD108: 0.004631683 | AE108: 0.0070543311 | AF108: 0.070712938 | AG108: 0 | AH108: 0.00099225877 | AI108: 0 | AJ108: 0 | AK108: 0.009127245 | AL108: 0 | AM108: 0 | AN108: 0.047581449 | AO108: 0.013061103 | AP108: 0.0022468792 | AQ108: 0.010814224 | AR108: 0 | AS108: 0 | AT108: 0 | AU108: 0 | AV108: 0 | AW108: 0 | AX108: 1 | AY108: 0 | AZ108: 0 | BA108: 0 | BB108: 0 | BC108: 0 | BD108: 0 | BE108: 1
B109: 4 | C109: BOŚ LEASING S.A. | D109: 0.70526885 | E109: 0.63680547 | H109: 0.068463382 | I109: 0.068463382 | Y109: 0.036357747 | AF109: 0.036357747 | AO109: 0.2583734 | AP109: 0.2583734 | AS109: 0 | AX109: 1 | AY109: 0 | BE109: 1
B110: 5 | C110: BPCE Equipment Solutions Polska Sp. z o.o. | D110: 0.048315328 | H110: 0.0090293546 | I110: 0.0090293546 | O110: 0.025232462 | R110: 0.014053512 | Y110: 0.33936466 | Z110: 0.031002891 | AA110: 0.18892268 | AH110: 0.041691094 | AN110: 0.077747991 | AO110: 0.38610199 | AP110: 0.34307025 | AQ110: 0.043031744 | AS110: 0.22621802 | AV110: 0.22621802 | AX110: 1 | AY110: 0 | BE110: 1
B111: 6 | C111: BPS Leasing S.A. | D111: 0.58742755 | E111: 0.054307478 | H111: 0 | O111: 0.53312007 | Y111: 0.34950354 | AA111: 0.30309948 | AN111: 0.04640406 | AO111: 0 | AS111: 0 | AW111: 0.063068909 | AX111: 1 | AY111: 0 | BE111: 1
B112: 7 | C112: Caterpillar Financial Services Poland Sp. z o. o. | D112: 0 | H112: 0 | Y112: 1 | Z112: 1 | AO112: 0 | AS112: 0 | AX112: 1 | AY112: 0 | BE112: 1
...

Sheet leasing I kw 2026
B2: Związek Polskiego Leasingu, Warszawa 12-10-2026
B4: Wartość środków oddanych w leasing w | D4: I kwartale 2026
B6: Lp. | C6: Spółka | D6: POJAZDY | E6: Osobowe | F6: osobowe - zeroemisyjne | G6: osobowe - hybryda plug-in | H6: Cięzarowe: | I6: o masie do 3,5 tony | J6: o masie do 3,5 tony - zeroemisyjne | K6: o masie do 3,5 tony - hybryda plug-in | L6: o masie powyzej 3,5 tony | M6: o masie powyżej 3,5 tony - zeroemisyjne | N6: o masie powyżej 3,5 tony - hybryda plug-in | O6: ciagniki siodlowe | P6: ciągniki siodłowe - zeroemisyjne | Q6: ciągniki siodłowe - hybryda plug-in | R6: naczepy / przyczepy | S6: autobusy | T6: autobusy - zeroemisyjne | U6: autobusy - hybryda plug-in | V6: inne | W6: inne - zeroemisyjne | X6: inne - hybryda plug-in | Y6: MiU | Z6: Sprzęt Budowlany | AA6: Maszyny Rolnicze | AB6: Maszyny Poligraf. | AC6: maszyny do produkcji tworzyw sztucznych | AD6: maszyny i urządzenia do obróbki metali | AE6: maszyny dla przemysłu spożywczego | AF6: Sprzęt Medyczny | AG6: Sprzęt Gastronom. | AH6: Wózki Widłowe | AI6: Magazyny energii | AJ6: Pompy ciepła | AK6: fotowoltaika | AL6: wiatraki i turbiny wiatrowe | AM6: stacje ładowania pojazdów elektrycznych (na użytek własny i komercyjny) | AN6: inne MiU | AO6: IT | AP6: Sprzęt | AQ6: Oprogram. | AR6: inne IT | AS6: POZOSTAŁE ŚRODKI TRANSPORTU | AT6: Powietrzne | AU6: Wodne | AV6: Kolejowe | AW6: Inne ruchomości | AX6: RUCHOMOŚCI | AY6: Nieruchomości | AZ6: budynki przemysłowe | BA6: obiekty handlowe i usługowe | BB6: obiekty biurowe | BC6: hotele i obiekty rekreacyjne | BD6: inne | BE6: OGÓŁEM
B7: 1 | C7: Alior Leasing Sp. z o. o. | D7: 738197.29 | E7: 271099.25 | H7: 159208.01 | I7: 99267.108 | L7: 59940.897 | O7: 173145.63 | R7: 72443.201 | S7: 49352.547 | V7: 12948.655 | Y7: 167586.89 | Z7: 65942.654 | AA7: 27769.768 | AB7: 4310.7097 | AC7: 2321.0402 | AD7: 11447.548 | AE7: 5291.2632 | AF7: 9093.517 | AH7: 5261.2353 | AK7: 272.14259 | AN7: 35877.012 | AO7: 628.0455 | AP7: 628.0455 | AS7: 1132.4117 | AT7: 61.37008 | AU7: 1071.0416 | AX7: 907544.64 | AY7: 0 | BE7: 907544.64
B8: 2 | C8: BMW Financial Services Polska Sp z o. o. | D8: 969447.58 | E8: 947549.21 | F8: 247428.52 | G8: 65230.082 | H8: 0 | V8: 21898.37 | Y8: 0 | AO8: 0 | AS8: 0 | AX8: 969447.58 | AY8: 0 | BE8: 969447.58
B9: 3 | C9: BNP Paribas Lease Group Sp. z o. o. | D9: 569202.78 | E9: 388695.02 | F9: 9879.4085 | G9: 4234.0322 | H9: 103929.04 | I9: 52400.221 | J9: 2674.5218 | K9: 0 | L9: 51528.818 | M9: 4233.3717 | N9: 0 | O9: 26732.484 | P9: 0 | Q9: 0 | R9: 46912.864 | S9: 0 | T9: 0 | U9: 0 | V9: 2933.3685 | W9: 0 | X9: 0 | Y9: 225521.67 | Z9: 47267.507 | AA9: 27246.211 | AB9: 999.5638 | AC9: 7370.1105 | AD9: 2397.3861 | AE9: 5513.0625 | AF9: 3211.56 | AG9: 0 | AH9: 38800.974 | AI9: 76.9 | AJ9: 0 | AK9: 866.35397 | AL9: 0 | AM9: 0 | AN9: 91772.036 | AO9: 33687.671 | AP9: 30759.545 | AQ9: 2928.1262 | AR9: 0 | AS9: 0 | AT9: 0 | AU9: 0 | AV9: 0 | AW9: 0 | AX9: 828412.11 | AY9: 51980.76 | AZ9: 0 | BA9: 51980.76 | BB9: 0 | BC9: 0 | BD9: 0 | BE9: 880392.87
B10: 4 | C10: BOŚ LEASING S.A. | D10: 8233.75 | E10: 4365.3475 | H10: 1501.519 | I10: 763.15448 | L10: 738.3645 | O10: 1045.6235 | R10: 486.31252 | V10: 834.94755 | Y10: 17134.157 | Z10: 3991.4479 | AB10: 4162.2937 | AD10: 1839.9335 | AN10: 7140.4818 | AO10: 3590.55 | AP10: 3590.55 | AS10: 1833.2096 | AV10: 1833.2096 | AX10: 30791.667 | AY10: 0 | BE10: 30791.667
B11: 5 | C11: BPCE Equipment Solutions Polska Sp. z o.o. | D11: 60057.851 | E11: 1020.127 | G11: 341.8374 | H11: 16211.18 | I11: 1632.7693 | J11: 126.9 | L11: 14578.411 | O11: 26434.179 | R11: 13857.275 | V11: 2535.09 | Y11: 59595.02 | Z11: 31784.801 | AA11: 2302.3479 | AB11: 4208.3708 | AD11: 1097.0352 | AE11: 13660.666 | AF11: 626.44444 | AH11: 127.8 | AI11: 285 | AN11: 5502.5547 | AO11: 398.58962 | AP11: 398.58962 | AS11: 21952.257 | AT11: 21952.257 | AX11: 142003.72 | AY11: 0 | BE11: 142003.72
B12: 6 | C12: BPS Leasing S.A. | D12: 58418.52 | E12: 16177.743 | F12: 573.38113 | H12: 8424.1985 | I12: 4466.7465 | J12: 145.99187 | L12: 3957.452 | O12: 13792.341 | R12: 7522.1741 | S12: 9406.0494 | V12: 3096.0138 | Y12: 12252.867 | Z12: 4622.8041 | AA12: 1443.6 | AC12: 194 | AD12: 1185.1553 | AE12: 342.134 | AF12: 1208.7576 | AH12: 131 | AN12: 3125.4157 | AO12: 118.936 | AP12: 118.936 | AS12: 1263.4918 | AT12: 1263.4918 | AW12: 231.623 | AX12: 72285.437 | AY12: 0 | BE12: 72285.437
B13: 7 | C13: Caterpillar Financial Services Poland Sp. z o. o. | D13: 0 | H13: 0 | Y13: 60732.405 | Z13: 60732.405 | AO13: 0 | AS13: 0 | AX13: 60732.405 | AY13: 0 | BE13: 60732.405
B14: 8 | C14: DE LAGE Landen Leasing Polska S.A. | D14: 12113.62 | E14: 0 | H14: 0 | O14: 12113.62 | R14: 0 | Y14: 17428.446 | Z14: 3378.4243 | AA14: 7645.0186 | AF14: 73.83916 | AH14: 6331.1636 | AK14: 0 | AN14: 0 | AO14: 2237.621 | AP14: 2237.621 | AQ14: 0 | AR14: 0 | AS14: 0 | AX14: 31779.687 | AY14: 0 | BE14: 31779.687
B15: 9 | C15: Deutsche Leasing Polska S.A. | D15: 14213 | E15: 764 | H15: 33 | I15: 33 | O15: 2338 | R15: 11078 | Y15: 206328 | Z15: 3938 | AA15: 5644 | AB15: 4112 | AD15: 7409 | AE15: 43034 | AF15: 240 | AH15: 19120 | AN15: 122831 | AO15: 0 | AS15: 0 | AX15: 220541 | AY15: 0 | BE15: 220541
B16: 10 | C16: Europejski Fundusz Leasingowy S.A. | D16: 1685483.6 | E16: 672664.08 | F16: 27854.459 | G16: 12375.582 | H16: 386522.82 | I16: 179314.29 | J16: 2720.7876 | K16: 191.9 | L16: 207208.53 | M16: 335 | O16: 389820.08 | R16: 167169.16 | S16: 55226.982 | V16: 14080.462 | W16: 23.57724 | Y16: 521560.96 | Z16: 201675.94 | AA16: 94194.011 | AB16: 6206.1587 | AC16: 7423.6125 | AD16: 22348.582 | AE16: 7217.8458 | AF16: 7734.2093 | AG16: 27343.473 | AH16: 14270.362 | AI16: 384.43787 | AJ16: 54.4 | AK16: 1512.1379 | AM16: 207 | AN16: 130988.79 | AO16: 18848.945 | AP16: 8932.1298 | AQ16: 6234.7348 | AR16: 3682.0808 | AS16: 10875.661 | AT16: 8296.313 | AU16: 2579.3478 | AX16: 2236769.1 | AY16: 0 | BE16: 2236769.1
B17: 11 | C17: Impuls-Leasing Polska Sp. z o. o. | D17: 238105.33 | E17: 116938.11 | F17: 4131.18 | G17: 49137.39 | H17: 33512.32 | I17: 20102.06 | J17: 622.52 | K17: 186.18 | L17: 13410.26 | M17: 395 | O17: 60053.94 | R17: 20536.09 | S17: 4176.14 | V17: 2888.73 | Y17: 45533.03 | Z17: 14134.88 | AA17: 5524.1 | AB17: 1222.52 | AD17: 5473.82 | AF17: 1016.67 | AG17: 2168.06 | AH17: 1650.93 | AK17: 25.93 | AN17: 14316.12 | AO17: 224.79 | AP17: 224.79 | AS17: 185.4 | AU17: 185.4 | AX17: 284048.55 | AY17: 0 | BE17: 284048.55
B18: 12 | C18: ING Lease (Polska) Sp. z o. o. | D18: 823179 | E18: 358422 | F18: 11977 | G18: 14896 | H18: 228480 | I18: 110209 | J18: 701 | K18: 620 | L18: 118271 | M18: 0 | N18: 0 | O18: 140570 | P18: 0 | Q18: 0 | R18: 66485 | S18: 16750 | T18: 0 | U18: 0 | V18: 12472 | W18: 223 | X18: 0 | Y18: 397345 | Z18: 47291 | AA18: 10167 | AB18: 7583 | AC18: 14905 | AD18: 66226 | AE18: 28010 | AF18: 15825 | AG18: 20638 | AH18: 28087 | AI18: 1573 | AJ18: 47 | AK18: 2039 | AL18: 0 | AM18: 121 | AN18: 154833 | AO18: 6981 | AP18: 6981 | AQ18: 0 | AR18: 0 | AS18: 46603 | AT18: 0 | AU18: 0 | AV18: 46603 | AW18: 22078 | AX18: 1296186 | AY18: 0 | AZ18: 0 | BA18: 0 | BB18: 0 | BC18: 0 | BD18: 0 | BE18: 1296186
B19: 13 | C19: Leasing Polski Sp. z o. o. | D19: 53367.268 | E19: 10758.533 | G19: 2327.9122 | H19: 12653.816 | I19: 5304.8641 | L19: 7348.952 | O19: 12525.723 | R19: 6316.1355 | S19: 1680.5996 | V19: 9432.4607 | Y19: 16684.857 | Z19: 9296.0825 | AA19: 5840.224 | AH19: 52.55 | AN19: 1496 | AO19: 0 | AS19: 0 | AX19: 70052.124 | AY19: 240 | BC19: 240 | BE19: 70292.124
B20: 14 | C20: Mercedes-Benz Leasing Polska Sp. z o.o. | D20: 722395.16 | E20: 651536.32 | F20: 96531.597 | G20: 55724.599 | H20: 67724.209 | I20: 66884.084 | J20: 1548.5909 | L20: 840.12482 | S20: 2532.601 | V20: 602.0289 | Y20: 0 | AO20: 0 | AS20: 0 | AX20: 722395.16 | AY20: 0 | BE20: 722395.16
B21: 15 | C21: Millennium Leasing Sp. z o. o. | D21: 658088.96 | E21: 235801.35 | F21: 13001.997 | G21: 1944.563 | H21: 130501.04 | I21: 64477.181 | J21: 594.75482 | K21: 183.44999 | L21: 66023.854 | M21: 794.78 | N21: 0 | O21: 192143.52 | P21: 0 | Q21: 0 | R21: 60455.183 | S21: 24469.725 | T21: 1142.1 | U21: 0 | V21: 14718.15 | W21: 0 | X21: 0 | Y21: 294523.92 | Z21: 69998.289 | AA21: 3610.1761 | AB21: 16417.98 | AC21: 41255.083 | AD21: 0 | AE21: 30119.649 | AF21: 5428.4482 | AG21: 3010.0557 | AH21: 22552.394 | AI21: 64 | AJ21: 395.76 | AK21: 15195.63 | AL21: 0 | AM21: 306.9 | AN21: 86169.557 | AO21: 8915.6929 | AP21: 8884.6929 | AQ21: 31 | AR21: 0 | AS21: 6722.5481 | AT21: 503.62853 | AU21: 2782.9196 | AV21: 3436 | AW21: 0 | AX21: 968251.13 | AY21: 7275 | AZ21: 0 | BA21: 0 | BB21: 0 | BC21: 0 | BD21: 7275 | BE21: 975526.13
B22: 16 | C22: mLeasing Sp. z o. o. | D22: 1489281.1 | E22: 1064608.2 | F22: 24256.374 | G22: 185726.1 | H22: 194436.36 | I22: 87340.73 | J22: 867.745 | K22: 372.65 | L22: 107095.63 | M22: 0 | N22: 0 | O22: 120309.1 | P22: 524.7257 | Q22: 0 | R22: 28211.38 | S22: 74131.1 | T22: 0 | U22: 0 | V22: 7585.044 | W22: 3045.7028 | X22: 0 | Y22: 307260.31 | Z22: 60249.573 | AA22: 8293.395 | AB22: 4980.37 | AC22: 12195.83 | AD22: 24912.263 | AE22: 21232.25 | AF22: 7632.996 | AG22: 15681.31 | AH22: 28804.613 | AI22: 3515.49 | AJ22: 0 | AK22: 3365.186 | AL22: 0 | AM22: 352.9 | AN22: 116044.14 | AO22: 24507.947 | AP22: 23368.448 | AQ22: 705.399 | AR22: 434.1 | AS22: 74137.13 | AT22: 30586.05 | AU22: 43551.08 | AV22: 0 | AW22: 13704.7 | AX22: 1908891.2 | AY22: 0 | BE22: 1908891.2
B23: 17 | C23: NEST LEASE SPÓŁKA AKCYJNA | D23: 204244.42 | E23: 58439.765 | H23: 39662.804 | I23: 14743.67 | L23: 24919.134 | O23: 54934.261 | R23: 21022.029 | S23: 18116.689 | V23: 12068.87 | Y23: 71310.197 | Z23: 33109.302 | AA23: 13737.366 | AB23: 260.2 | AC23: 447.12225 | AD23: 1682.4004 | AE23: 263.10387 | AF23: 2926.5007 | AG23: 0 | AH23: 1574.1973 | AI23: 0 | AJ23: 0 | AK23: 0 | AL23: 0 | AM23: 0 | AN23: 17310.004 | AO23: 0 | AP23: 0 | AQ23: 0 | AR23: 0 | AS23: 548.83751 | AT23: 0 | AU23: 548.83751 | AV23: 0 | AW23: 0 | AX23: 276103.45 | AY23: 0 | BE23: 276103.45
B24: 18 | C24: PEAC (Poland) Sp. z o. o. | D24: 4731 | E24: 348 | H24: 0 | R24: 4334 | V24: 49 | Y24: 11062 | Z24: 117 | AA24: 674 | AB24: 2 | AE24: 2205 | AF24: 1695 | AH24: 13 | AN24: 6356 | AO24: 0 | AS24: 0 | AX24: 15793 | AY24: 0 | BE24: 15793
B25: 19 | C25: PEKAO Leasing Sp. z o.o. | D25: 1124495 | E25: 452322.86 | F25: 7649.721 | G25: 14001.675 | H25: 135642.61 | I25: 66071.232 | J25: 891.80627 | K25: 676.8935 | L25: 69571.375 | M25: 1715 | N25: 0 | O25: 249861.17 | P25: 0 | Q25: 0 | R25: 91190.932 | S25: 175492.4 | T25: 0 | U25: 0 | V25: 19985.079 | W25: 16.26016 | X25: 0 | Y25: 354158.39 | Z25: 65219.134 | AA25: 12972.814 | AB25: 9452.7505 | AC25: 18612.948 | AD25: 50109.452 | AE25: 14721.339 | AF25: 5031.5447 | AG25: 4952.4422 | AH25: 21386.662 | AI25: 57 | AJ25: 0 | AK25: 3356.5796 | AL25: 0 | AM25: 0 | AN25: 148285.73 | AO25: 22673.62 | AP25: 10411.393 | AQ25: 369.0229 | AR25: 11893.204 | AS25: 14284.659 | AT25: 1550.9585 | AU25: 10983.701 | AV25: 1750 | AW25: 28571.599 | AX25: 1544183.3 | AY25: 0 | AZ25: 0 | BA25: 0 | BB25: 0 | BC25: 0 | BD25: 0 | BE25: 1544183.3
B26: 20 | C26: PKO Leasing S.A. | D26: 2530413.6 | E26: 1509565.9 | F26: 101838.63 | G26: 64282.357 | H26: 460716.08 | I26: 279498.8 | J26: 5392.9058 | K26: 2736.4924 | L26: 181217.28 | M26: 2578.9949 | O26: 313923.53 | P26: 760.878 | R26: 148619.57 | S26: 76345.046 | V26: 21243.578 | W26: 117.18429 | Y26: 512265.25 | Z26: 131831.96 | AA26: 66081.606 | AB26: 12194.758 | AC26: 12545.131 | AD26: 64587.242 | AE26: 21228.571 | AF26: 22077.498 | AG26: 4623.1739 | AH26: 26416.271 | AI26: 356.76527 | AJ26: 129.68712 | AK26: 1408.6512 | AM26: 520.68938 | AN26: 148263.24 | AO26: 20755.388 | AP26: 14012.61 | AQ26: 19.24 | AR26: 6723.5378 | AS26: 28319.639 | AT26: 14878.993 | AU26: 1720.1354 | AV26: 11720.511 | AX26: 3091753.9 | AY26: 0 | BE26: 3091753.9
B27: 21 | C27: Santander Consumer Multirent Sp. z o.o. | D27: 641437.84 | E27: 558868.44 | H27: 72696.622 | I27: 72696.622 | S27: 624.68049 | V27: 9248.0978 | Y27: 0 | AO27: 0 | AS27: 0 | AX27: 641437.84 | AY27: 0 | BE27: 641437.84
B28: 22 | C28: Santander Leasing S.A. | D28: 851210.66 | E28: 455049.6 | F28: 15644.734 | G28: 6589.25 | H28: 174575.05 | I28: 125696.52 | J28: 2047.922 | K28: 2185.802 | L28: 48878.528 | M28: 0 | N28: 0 | O28: 137252.15 | P28: 0 | Q28: 0 | R28: 58522.491 | S28: 20718.143 | T28: 0 | U28: 0 | V28: 5093.232 | W28: 19.35 | X28: 0 | Y28: 285010.14 | Z28: 53375.592 | AA28: 29091.022 | AB28: 18226.919 | AC28: 15753.006 | AD28: 17780.678 | AE28: 2537.279 | AF28: 7792.586 | AG28: 2815.464 | AH28: 9901.261 | AI28: 3622.423 | AJ28: 73.9 | AK28: 5163.797 | AL28: 0 | AM28: 0 | AN28: 118876.22 | AO28: 6881.318 | AP28: 6881.318 | AQ28: 0 | AR28: 0 | AS28: 321.06 | AT28: 82.684 | AU28: 165.294 | AV28: 73.082 | AW28: 0 | AX28: 1143423.2 | AY28: 0 | AZ28: 0 | BA28: 0 | BB28: 0 | BC28: 0 | BD28: 0 | BE28: 1143423.2
B29: 23 | C29: Scania Finance Polska Sp. z o. o. | D29: 210342 | E29: 322 | H29: 28700 | I29: 1020 | L29: 27680 | O29: 162194 | P29: 1573 | R29: 13943 | S29: 5183 | Y29: 0 | AO29: 0 | AS29: 0 | AX29: 210342 | AY29: 0 | BE29: 210342
B30: 24 | C30: SGB Leasing Sp. z o. o. | D30: 12924 | E30: 5411 | F30: 177 | G30: 1814 | H30: 1816 | I30: 1401 | L30: 415 | O30: 2151 | R30: 1004 | S30: 890 | U30: 640 | V30: 1652 | Y30: 8794 | Z30: 2438 | AA30: 3155 | AC30: 827 | AE30: 300 | AH30: 120 | AN30: 1954 | AO30: 0 | AS30: 0 | AX30: 21718 | AY30: 0 | BE30: 21718
B31: 25 | C31: Siemens Finance Sp. z o. o. | D31: 2456 | E31: 403 | F31: 290 | G31: 0 | H31: 1226 | I31: 0 | J31: 0 | K31: 0 | L31: 1226 | M31: 0 | N31: 0 | O31: 405 | P31: 0 | Q31: 0 | R31: 422 | S31: 0 | T31: 0 | U31: 0 | V31: 0 | Y31: 58462 | Z31: 10087 | AA31: 5639 | AB31: 3891 | AC31: 2273 | AD31: 9937 | AE31: 0 | AF31: 248 | AG31: 0 | AH31: 251 | AI31: 0 | AJ31: 0 | AK31: 0 | AL31: 0 | AM31: 0 | AN31: 26136 | AO31: 13332 | AP31: 13332 | AQ31: 0 | AR31: 0 | AS31: 0 | AT31: 0 | AU31: 0 | AV31: 0 | AX31: 74250 | AY31: 0 | BE31: 74250
B32: 26 | C32: VEHIS FINANSE Sp. z o.o. | D32: 662873.78 | E32: 562504.27 | F32: 17080.79 | G32: 71038.79 | H32: 100369.51 | I32: 100369.51 | J32: 1949.25 | K32: 541.62 | Y32: 0 | AO32: 0 | AS32: 0 | AX32: 662873.78 | AY32: 0 | BE32: 662873.78
B33: 27 | C33: VELOLEASING SPÓŁKA AKCYJNA | D33: 79026 | E33: 67801 | H33: 1189 | L33: 1189 | O33: 4241 | R33: 1667 | V33: 4128 | Y33: 0 | AO33: 0 | AS33: 0 | AX33: 79026 | AY33: 0 | BE33: 79026
B34: 28 | C34: Razem | D34: 14423939 | E34: 8411435 | F34: 578314.79 | G34: 549664.17 | H34: 2359731.2 | I34: 1353692.6 | J34: 20284.696 | K34: 7694.9879 | L34: 1006038.6 | M34: 10052.147 | N34: 0 | O34: 2095986.4 | P34: 2858.6037 | Q34: 0 | R34: 842197.79 | S34: 535095.7 | T34: 1142.1 | U34: 640 | V34: 179493.18 | W34: 3445.0745 | X34: 0 | Y34: 3650549.5 | Z34: 920481.8 | AA34: 331030.66 | AB34: 98230.593 | AC34: 136122.88 | AD34: 288433.5 | AE34: 195676.16 | AF34: 91862.572 | AG34: 81231.979 | AH34: 224852.41 | AI34: 9935.0161 | AJ34: 700.74712 | AK34: 33205.409 | AL34: 0 | AM34: 1508.4894 | AN34: 1237277.3 | AO34: 163782.11 | AP34: 130761.67 | AQ34: 10287.523 | AR34: 22732.922 | AS34: 208179.3 | AT34: 79175.746 | AU34: 63587.757 | AV34: 65415.803 | AW34: 64585.922 | AX34: 18511036 | AY34: 59495.76 | AZ34: 0 | BA34: 51980.76 | BB34: 0 | BC34: 240 | BD34: 7275 | BE34: 18570532
B36: Ilość środków oddanych w leasing w | D36: I kwartale 2026
B39: Lp. | C39: Spółka | D39: POJAZDY | E39: Osobowe | F39: osobowe - zeroemisyjne | G39: osobowe - hybryda plug-in | H39: Cięzarowe: | I39: o masie do 3,5 tony | J39: o masie do 3,5 tony - zeroemisyjne | K39: o masie do 3,5 tony - hybryda plug-in | L39: o masie powyzej 3,5 tony | M39: o masie powyżej 3,5 tony - zeroemisyjne | N39: o masie powyżej 3,5 tony - hybryda plug-in | O39: ciagniki siodlowe | P39: ciągniki siodłowe - zeroemisyjne | Q39: ciągniki siodłowe - hybryda plug-in | R39: naczepy / przyczepy | S39: autobusy | T39: autobusy - zeroemisyjne | U39: autobusy - hybryda plug-in | V39: inne | W39: inne - zeroemisyjne | X39: inne - hybryda plug-in | Y39: MiU | Z39: Sprzęt Budowlany | AA39: Maszyny Rolnicze | AB39: Maszyny Poligraf. | AC39: maszyny do produkcji tworzyw sztucznych | AD39: maszyny i urządzenia do obróbki metali | AE39: maszyny dla przemysłu spożywczego | AF39: Sprzęt Medyczny | AG39: Sprzęt Gastronom. | AH39: Wózki Widłowe | AI39: Magazyny energii | AJ39: Pompy ciepła | AK39: fotowoltaika | AL39: wiatraki i turbiny wiatrowe | AM39: stacje ładowania pojazdów elektrycznych (na użytek własny i komercyjny) | AN39: inne MiU | AO39: IT | AP39: Sprzęt | AQ39: Oprogram. | AR39: inne IT | AS39: POZOSTAŁE ŚRODKI TRANSPORTU | AT39: Powietrzne | AU39: Wodne | AV39: Kolejowe | AW39: Inne ruchomości | AX39: RUCHOMOŚCI | AY39: Nieruchomości | AZ39: budynki przemysłowe | BA39: obiekty handlowe i usługowe | BB39: obiekty biurowe | BC39: hotele i obiekty rekreacyjne | BD39: inne | BE39: OGÓŁEM
B40: 1 | C40: Alior Leasing Sp. z o. o. | D40: 5237 | E40: 2176 | H40: 1316 | I40: 1063 | L40: 253 | O40: 907 | R40: 638 | S40: 122 | V40: 78 | Y40: 1384 | Z40: 463 | AA40: 145 | AB40: 42 | AC40: 19 | AD40: 87 | AE40: 59 | AF40: 179 | AH40: 69 | AK40: 5 | AN40: 316 | AO40: 16 | AP40: 16 | AS40: 9 | AT40: 1 | AU40: 8 | AX40: 6646 | AY40: 0 | BE40: 6646
B41: 2 | C41: BMW Financial Services Polska Sp z o. o. | D41: 4707 | E41: 4445 | F41: 1415 | G41: 190 | H41: 0 | V41: 262 | Y41: 0 | AO41: 0 | AS41: 0 | AX41: 4707 | AY41: 0 | BE41: 4707
B42: 3 | C42: BNP Paribas Lease Group Sp. z o. o. | D42: 3960 | E42: 3223 | F42: 69 | G42: 30 | H42: 524 | I42: 369 | J42: 19 | K42: 0 | L42: 155 | M42: 7 | N42: 0 | O42: 77 | P42: 0 | Q42: 0 | R42: 90 | S42: 0 | T42: 0 | U42: 0 | V42: 46 | W42: 0 | X42: 0 | Y42: 883 | Z42: 168 | AA42: 78 | AB42: 5 | AC42: 8 | AD42: 12 | AE42: 81 | AF42: 72 | AG42: 0 | AH42: 367 | AI42: 1 | AJ42: 0 | AK42: 3 | AL42: 0 | AM42: 0 | AN42: 88 | AO42: 119 | AP42: 96 | AQ42: 23 | AR42: 0 | AS42: 0 | AT42: 0 | AU42: 0 | AV42: 0 | AW42: 0 | AX42: 4962 | AY42: 1 | AZ42: 0 | BA42: 1 | BB42: 0 | BC42: 0 | BD42: 0 | BE42: 4963
B43: 4 | C43: BOŚ LEASING S.A. | D43: 63 | E43: 43 | H43: 9 | I43: 7 | L43: 2 | O43: 5 | R43: 3 | V43: 3 | Y43: 58 | Z43: 6 | AB43: 8 | AD43: 2 | AN43: 42 | AO43: 4 | AP43: 4 | AS43: 10 | AV43: 10 | AX43: 135 | AY43: 0 | BE43: 135
B44: 5 | C44: BPCE Equipment Solutions Polska Sp. z o.o. | D44: 212 | E44: 6 | G44: 1 | H44: 40 | I44: 11 | J44: 1 | L44: 29 | O44: 80 | R44: 84 | V44: 2 | Y44: 146 | Z44: 98 | AA44: 10 | AB44: 2 | AD44: 1 | AE44: 1 | AF44: 3 | AH44: 2 | AI44: 3 | AN44: 26 | AO44: 2 | AP44: 2 | AS44: 6 | AT44: 6 | AX44: 366 | AY44: 0 | BE44: 366
B45: 6 | C45: BPS Leasing S.A. | D45: 325 | E45: 129 | F45: 8 | H45: 50 | I45: 40 | J45: 1 | L45: 10 | O45: 54 | R45: 66 | S45: 17 | V45: 9 | Y45: 55 | Z45: 18 | AA45: 7 | AC45: 1 | AD45: 3 | AE45: 6 | AF45: 3 | AH45: 1 | AN45: 16 | AO45: 2 | AP45: 2 | AS45: 1 | AT45: 1 | AW45: 2 | AX45: 385 | AY45: 0 | BE45: 385
B46: 7 | C46: Caterpillar Financial Services Poland Sp. z o. o. | D46: 0 | H46: 0 | Y46: 105 | Z46: 105 | AO46: 0 | AS46: 0 | AX46: 105 | AY46: 0 | BE46: 105
B47: 8 | C47: DE LAGE Landen Leasing Polska S.A. | D47: 22 | E47: 0 | H47: 0 | O47: 22 | R47: 0 | Y47: 53 | Z47: 14 | AA47: 25 | AF47: 2 | AH47: 12 | AK47: 0 | AN47: 0 | AO47: 25 | AP47: 25 | AQ47: 0 | AR47: 0 | AS47: 0 | AX47: 100 | AY47: 0 | BE47: 100
B48: 9 | C48: Deutsche Leasing Polska S.A. | D48: 84 | E48: 4 | H48: 1 | I48: 1 | O48: 7 | R48: 72 | Y48: 264 | Z48: 4 | AA48: 7 | AB48: 1 | AD48: 6 | AE48: 27 | AF48: 1 | AH48: 202 | AN48: 16 | AO48: 0 | AS48: 0 | AX48: 348 | AY48: 0 | BE48: 348
B49: 10 | C49: Europejski Fundusz Leasingowy S.A. | D49: 9695 | E49: 4532 | F49: 177 | G49: 58 | H49: 2133 | I49: 1500 | J49: 27 | K49: 1 | L49: 633 | M49: 1 | O49: 1326 | R49: 1295 | S49: 73 | V49: 336 | W49: 1 | Y49: 3403 | Z49: 1068 | AA49: 477 | AB49: 28 | AC49: 25 | AD49: 117 | AE49: 54 | AF49: 79 | AG49: 366 | AH49: 158 | AI49: 5 | AJ49: 2 | AK49: 15 | AM49: 1 | AN49: 1008 | AO49: 267 | AP49: 165 | AQ49: 49 | AR49: 53 | AS49: 12 | AT49: 9 | AU49: 3 | AX49: 13377 | AY49: 0 | BE49: 13377
B50: 11 | C50: Impuls-Leasing Polska Sp. z o. o. | D50: 1320 | E50: 742 | F50: 27 | G50: 281 | H50: 202 | I50: 159 | J50: 5 | K50: 1 | L50: 43 | M50: 1 | O50: 177 | R50: 160 | S50: 7 | V50: 32 | Y50: 319 | Z50: 52 | AA50: 34 | AB50: 32 | AD50: 15 | AF50: 15 | AG50: 31 | AH50: 20 | AK50: 1 | AN50: 119 | AO50: 4 | AP50: 4 | AS50: 1 | AU50: 1 | AX50: 1644 | AY50: 0 | BE50: 1644
B51: 12 | C51: ING Lease (Polska) Sp. z o. o. | D51: 4285 | E51: 2386 | F51: 72 | G51: 92 | H51: 1035 | I51: 809 | J51: 6 | K51: 4 | L51: 226 | M51: 0 | N51: 0 | O51: 408 | P51: 0 | Q51: 0 | R51: 379 | S51: 28 | T51: 0 | U51: 0 | V51: 49 | W51: 10 | X51: 0 | Y51: 1273 | Z51: 196 | AA51: 41 | AB51: 31 | AC51: 38 | AD51: 137 | AE51: 51 | AF51: 64 | AG51: 39 | AH51: 216 | AI51: 1 | AJ51: 1 | AK51: 6 | AL51: 0 | AM51: 2 | AN51: 450 | AO51: 49 | AP51: 49 | AQ51: 0 | AR51: 0 | AS51: 32 | AT51: 0 | AU51: 0 | AV51: 32 | AW51: 146 | AX51: 5785 | AY51: 0 | AZ51: 0 | BA51: 0 | BB51: 0 | BC51: 0 | BD51: 0 | BE51: 5785
B52: 13 | C52: Leasing Polski Sp. z o. o. | D52: 501 | E52: 101 | G52: 16 | H52: 119 | I52: 81 | L52: 38 | O52: 121 | R52: 93 | S52: 10 | V52: 57 | Y52: 61 | Z52: 48 | AA52: 10 | AH52: 1 | AN52: 2 | AO52: 0 | AS52: 0 | AX52: 562 | AY52: 3 | BC52: 3 | BE52: 565
B53: 14 | C53: Mercedes-Benz Leasing Polska Sp. z o.o. | D53: 3610 | E53: 3129 | F53: 609 | G53: 214 | H53: 470 | I53: 467 | J53: 15 | L53: 3 | S53: 8 | V53: 3 | Y53: 0 | AO53: 0 | AS53: 0 | AX53: 3610 | AY53: 0 | BE53: 3610
B54: 15 | C54: Millennium Leasing Sp. z o. o. | D54: 3333 | E54: 1461 | F54: 75 | G54: 9 | H54: 736 | I54: 553 | J54: 5 | K54: 2 | L54: 183 | M54: 1 | N54: 0 | O54: 607 | P54: 0 | Q54: 0 | R54: 409 | S54: 40 | T54: 2 | U54: 0 | V54: 80 | W54: 0 | X54: 0 | Y54: 1130 | Z54: 233 | AA54: 16 | AB54: 37 | AC54: 127 | AD54: 0 | AE54: 45 | AF54: 47 | AG54: 16 | AH54: 140 | AI54: 1 | AJ54: 4 | AK54: 36 | AL54: 0 | AM54: 2 | AN54: 426 | AO54: 19 | AP54: 18 | AQ54: 1 | AR54: 0 | AS54: 10 | AT54: 0 | AU54: 6 | AV54: 4 | AW54: 0 | AX54: 4492 | AY54: 1 | AZ54: 0 | BA54: 0 | BB54: 0 | BC54: 0 | BD54: 1 | BE54: 4493
B55: 16 | C55: mLeasing Sp. z o. o. | D55: 8208 | E55: 6253 | F55: 154 | G55: 766 | H55: 933 | I55: 720 | J55: 8 | K55: 2 | L55: 213 | M55: 0 | N55: 0 | O55: 303 | P55: 1 | Q55: 0 | R55: 198 | S55: 93 | T55: 0 | U55: 0 | V55: 428 | W55: 287 | X55: 0 | Y55: 3025 | Z55: 180 | AA55: 36 | AB55: 31 | AC55: 16 | AD55: 140 | AE55: 29 | AF55: 439 | AG55: 648 | AH55: 222 | AI55: 10 | AJ55: 0 | AK55: 39 | AL55: 0 | AM55: 9 | AN55: 1226 | AO55: 4688 | AP55: 4268 | AQ55: 109 | AR55: 311 | AS55: 48 | AT55: 6 | AU55: 42 | AV55: 0 | AW55: 2053 | AX55: 18022 | AY55: 0 | BE55: 18022
B56: 17 | C56: NEST LEASE SPÓŁKA AKCYJNA | D56: 1222 | E56: 334 | H56: 219 | I56: 129 | L56: 90 | O56: 202 | R56: 174 | S56: 46 | V56: 247 | Y56: 300 | Z56: 88 | AA56: 56 | AB56: 2 | AC56: 2 | AD56: 9 | AE56: 3 | AF56: 31 | AG56: 0 | AH56: 15 | AI56: 0 | AJ56: 0 | AK56: 0 | AL56: 0 | AM56: 0 | AN56: 94 | AO56: 0 | AP56: 0 | AQ56: 0 | AR56: 0 | AS56: 2 | AT56: 0 | AU56: 2 | AV56: 0 | AW56: 0 | AX56: 1524 | AY56: 0 | BE56: 1524
B57: 18 | C57: PEAC (Poland) Sp. z o. o. | D57: 30 | E57: 3 | H57: 0 | R57: 26 | V57: 1 | Y57: 128 | Z57: 1 | AA57: 11 | AB57: 2 | AE57: 1 | AF57: 29 | AH57: 2 | AN57: 82 | AO57: 0 | AS57: 0 | AX57: 158 | AY57: 0 | BE57: 158
B58: 19 | C58: PEKAO Leasing Sp. z o.o. | D58: 5108 | E58: 2886 | F58: 47 | G58: 63 | H58: 682 | I58: 516 | J58: 8 | K58: 4 | L58: 166 | M58: 1 | N58: 0 | O58: 765 | P58: 0 | Q58: 0 | R58: 540 | S58: 160 | T58: 0 | U58: 0 | V58: 75 | W58: 1 | X58: 0 | Y58: 1323 | Z58: 193 | AA58: 27 | AB58: 35 | AC58: 47 | AD58: 59 | AE58: 48 | AF58: 31 | AG58: 62 | AH58: 216 | AI58: 1 | AJ58: 0 | AK58: 19 | AL58: 0 | AM58: 0 | AN58: 585 | AO58: 315 | AP58: 141 | AQ58: 4 | AR58: 170 | AS58: 42 | AT58: 1 | AU58: 5 | AV58: 36 | AW58: 79 | AX58: 6867 | AY58: 0 | AZ58: 0 | BA58: 0 | BB58: 0 | BC58: 0 | BD58: 0 | BE58: 6867
B59: 20 | C59: PKO Leasing S.A. | D59: 16008 | E59: 10334 | F59: 735 | G59: 293 | H59: 2836 | I59: 2363 | J59: 44 | K59: 14 | L59: 473 | M59: 11 | O59: 955 | P59: 1 | R59: 1395 | S59: 122 | V59: 366 | W59: 6 | Y59: 3778 | Z59: 525 | AA59: 213 | AB59: 92 | AC59: 36 | AD59: 201 | AE59: 249 | AF59: 277 | AG59: 166 | AH59: 264 | AI59: 4 | AJ59: 11 | AK59: 20 | AM59: 2 | AN59: 1718 | AO59: 2554 | AP59: 1555 | AQ59: 1 | AR59: 998 | AS59: 48 | AT59: 7 | AU59: 11 | AV59: 30 | AX59: 22388 | AY59: 0 | BE59: 22388
B60: 21 | C60: Santander Consumer Multirent Sp. z o.o. | D60: 4953 | E60: 4106 | H60: 630 | I60: 630 | S60: 4 | V60: 213 | Y60: 0 | AO60: 0 | AS60: 0 | AX60: 4953 | AY60: 0 | BE60: 4953
B61: 22 | C61: Santander Leasing S.A. | D61: 4907 | E61: 2888 | F61: 97 | G61: 31 | H61: 1036 | I61: 879 | J61: 16 | K61: 15 | L61: 157 | M61: 0 | N61: 0 | O61: 383 | P61: 0 | Q61: 0 | R61: 465 | S61: 21 | T61: 0 | U61: 0 | V61: 114 | W61: 1 | X61: 0 | Y61: 1668 | Z61: 238 | AA61: 126 | AB61: 36 | AC61: 44 | AD61: 44 | AE61: 19 | AF61: 148 | AG61: 107 | AH61: 98 | AI61: 35 | AJ61: 1 | AK61: 11 | AL61: 0 | AM61: 0 | AN61: 761 | AO61: 92 | AP61: 92 | AQ61: 0 | AR61: 0 | AS61: 8 | AT61: 5 | AU61: 2 | AV61: 1 | AW61: 0 | AX61: 6675 | AY61: 0 | AZ61: 0 | BA61: 0 | BB61: 0 | BC61: 0 | BD61: 0 | BE61: 6675
B62: 23 | C62: Scania Finance Polska Sp. z o. o. | D62: 525 | E62: 1 | H62: 66 | I62: 2 | L62: 64 | O62: 360 | P62: 2 | R62: 92 | S62: 6 | Y62: 0 | AO62: 0 | AS62: 0 | AX62: 525 | AY62: 0 | BE62: 525
B63: 24 | C63: SGB Leasing Sp. z o. o. | D63: 78 | E63: 39 | F63: 1 | G63: 13 | H63: 14 | I63: 12 | L63: 2 | O63: 8 | R63: 7 | S63: 2 | U63: 1 | V63: 8 | Y63: 43 | Z63: 15 | AA63: 14 | AC63: 2 | AE63: 3 | AH63: 2 | AN63: 7 | AO63: 0 | AS63: 0 | AX63: 121 | AY63: 0 | BE63: 121
B64: 25 | C64: Siemens Finance Sp. z o. o. | D64: 14 | E64: 2 | F64: 1 | G64: 0 | H64: 10 | I64: 0 | J64: 0 | K64: 0 | L64: 10 | M64: 0 | N64: 0 | O64: 1 | P64: 0 | Q64: 0 | R64: 1 | S64: 0 | T64: 0 | U64: 0 | V64: 0 | Y64: 388 | Z64: 20 | AA64: 9 | AB64: 9 | AC64: 2 | AD64: 31 | AE64: 0 | AF64: 3 | AG64: 0 | AH64: 1 | AI64: 0 | AJ64: 0 | AK64: 0 | AL64: 0 | AM64: 0 | AN64: 313 | AO64: 1852 | AP64: 1852 | AQ64: 0 | AR64: 0 | AS64: 0 | AT64: 0 | AU64: 0 | AV64: 0 | AX64: 2254 | AY64: 0 | BE64: 2254
B65: 26 | C65: VEHIS FINANSE Sp. z o.o. | D65: 5273 | E65: 4378 | F65: 125 | G65: 464 | H65: 895 | I65: 895 | J65: 17 | K65: 4 | Y65: 0 | AO65: 0 | AS65: 0 | AX65: 5273 | AY65: 0 | BE65: 5273
B66: 27 | C66: VELOLEASING SPÓŁKA AKCYJNA | D66: 740 | E66: 631 | H66: 7 | L66: 7 | O66: 23 | R66: 14 | V66: 65 | Y66: 0 | AO66: 0 | AS66: 0 | AX66: 740 | AY66: 0 | BE66: 740
B67: 28 | C67: Razem | D67: 84420 | E67: 54232 | F67: 3612 | G67: 2521 | H67: 13963 | I67: 11206 | J67: 172 | K67: 47 | L67: 2757 | M67: 22 | N67: 0 | O67: 6791 | P67: 4 | Q67: 0 | R67: 6201 | S67: 759 | T67: 2 | U67: 1 | V67: 2474 | W67: 306 | X67: 0 | Y67: 19787 | Z67: 3733 | AA67: 1342 | AB67: 393 | AC67: 367 | AD67: 864 | AE67: 676 | AF67: 1423 | AG67: 1435 | AH67: 2008 | AI67: 61 | AJ67: 19 | AK67: 155 | AL67: 0 | AM67: 16 | AN67: 7295 | AO67: 10008 | AP67: 8289 | AQ67: 187 | AR67: 1532 | AS67: 229 | AT67: 36 | AU67: 80 | AV67: 113 | AW67: 2280 | AX67: 116724 | AY67: 5 | AZ67: 0 | BA67: 1 | BB67: 0 | BC67: 3 | BD67: 1 | BE67: 116729
B69: Średnia wartość środków oddanych w leasing (tys. PLN) | E69: I kwartale 2026
B72: Lp. | C72: Spółka | D72: POJAZDY | E72: Osobowe | F72: osobowe - zeroemisyjne | G72: osobowe - hybryda plug-in | H72: Cięzarowe: | I72: o masie do 3,5 tony | J72: o masie do 3,5 tony - zeroemisyjne | K72: o masie do 3,5 tony - hybryda plug-in | L72: o masie powyzej 3,5 tony | M72: o masie powyżej 3,5 tony - zeroemisyjne | N72: o masie powyżej 3,5 tony - hybryda plug-in | O72: ciagniki siodlowe | P72: ciągniki siodłowe - zeroemisyjne | Q72: ciągniki siodłowe - hybryda plug-in | R72: naczepy / przyczepy | S72: autobusy | T72: autobusy - zeroemisyjne | U72: autobusy - hybryda plug-in | V72: inne | W72: inne - zeroemisyjne | X72: inne - hybryda plug-in | Y72: MiU | Z72: Sprzęt Budowlany | AA72: Maszyny Rolnicze | AB72: Maszyny Poligraf. | AC72: maszyny do produkcji tworzyw sztucznych | AD72: maszyny i urządzenia do obróbki metali | AE72: maszyny dla przemysłu spożywczego | AF72: Sprzęt Medyczny | AG72: Sprzęt Gastronom. | AH72: Wózki Widłowe | AI72: Magazyny energii | AJ72: Pompy ciepła | AK72: fotowoltaika | AL72: wiatraki i turbiny wiatrowe | AM72: stacje ładowania pojazdów elektrycznych (na użytek własny i komercyjny) | AN72: inne MiU | AO72: IT | AP72: Sprzęt | AQ72: Oprogram. | AR72: inne IT | AS72: POZOSTAŁE ŚRODKI TRANSPORTU | AT72: Powietrzne | AU72: Wodne | AV72: Kolejowe | AW72: Inne ruchomości | AX72: RUCHOMOŚCI | AY72: Nieruchomości | AZ72: budynki przemysłowe | BA72: obiekty handlowe i usługowe | BB72: obiekty biurowe | BC72: hotele i obiekty rekreacyjne | BD72: inne | BE72: OGÓŁEM
B73: 1 | C73: Alior Leasing Sp. z o. o. | D73: 140.95805 | E73: 124.58605 | H73: 120.97873 | I73: 93.383921 | L73: 236.92054 | O73: 190.89926 | R73: 113.54734 | S73: 404.52907 | V73: 166.0084 | Y73: 121.08879 | Z73: 142.42474 | AA73: 191.51564 | AB73: 102.63594 | AC73: 122.16001 | AD73: 131.58101 | AE73: 89.682428 | AF73: 50.801771 | AH73: 76.249787 | AK73: 54.428518 | AN73: 113.53485 | AO73: 39.252844 | AP73: 39.252844 | AS73: 125.82353 | AT73: 61.37008 | AU73: 133.88021 | AX73: 136.55502 | BE73: 136.55502
B74: 2 | C74: BMW Financial Services Polska Sp z o. o. | D74: 205.95869 | E74: 213.17193 | F74: 174.86114 | G74: 343.31622 | V74: 83.581565 | AX74: 205.95869 | BE74: 205.95869
B75: 3 | C75: BNP Paribas Lease Group Sp. z o. o. | D75: 143.73807 | E75: 120.60038 | F75: 143.17983 | G75: 141.13441 | H75: 198.33786 | I75: 142.00602 | J75: 140.7643 | L75: 332.44399 | M75: 604.76738 | O75: 347.17512 | R75: 521.25405 | V75: 63.76888 | Y75: 255.40392 | Z75: 281.35421 | AA75: 349.3104 | AB75: 199.91276 | AC75: 921.26382 | AD75: 199.78217 | AE75: 68.0625 | AF75: 44.605001 | AH75: 105.72473 | AI75: 76.9 | AK75: 288.78466 | AN75: 1042.864 | AO75: 283.08967 | AP75: 320.41192 | AQ75: 127.30984 | AX75: 166.95125 | AY75: 51980.76 | BA75: 51980.76 | BE75: 177.39127
B76: 4 | C76: BOŚ LEASING S.A. | D76: 130.69444 | E76: 101.51971 | H76: 166.83544 | I76: 109.02207 | L76: 369.18225 | O76: 209.1247 | R76: 162.10417 | V76: 278.31585 | Y76: 295.4165 | Z76: 665.24131 | AB76: 520.28672 | AD76: 919.96677 | AN76: 170.01147 | AO76: 897.6375 | AP76: 897.6375 | AS76: 183.32096 | AV76: 183.32096 | AX76: 228.08642 | BE76: 228.08642
B77: 5 | C77: BPCE Equipment Solutions Polska Sp. z o.o. | D77: 283.29175 | E77: 170.02116 | G77: 341.8374 | H77: 405.2795 | I77: 148.43357 | J77: 126.9 | L77: 502.70381 | O77: 330.42724 | R77: 164.96756 | V77: 1267.545 | Y77: 408.18507 | Z77: 324.33471 | AA77: 230.23479 | AB77: 2104.1854 | AD77: 1097.0352 | AE77: 13660.666 | AF77: 208.81481 | AH77: 63.9 | AI77: 95 | AN77: 211.63672 | AO77: 199.29481 | AP77: 199.29481 | AS77: 3658.7095 | AT77: 3658.7095 | AX77: 387.9883 | BE77: 387.9883
B78: 6 | C78: BPS Leasing S.A. | D78: 179.74929 | E78: 125.40886 | F78: 71.672641 | H78: 168.48397 | I78: 111.66866 | J78: 145.99187 | L78: 395.7452 | O78: 255.41372 | R78: 113.97233 | S78: 553.29702 | V78: 344.00153 | Y78: 222.77939 | Z78: 256.82245 | AA78: 206.22857 | AC78: 194 | AD78: 395.05177 | AE78: 57.022333 | AF78: 402.9192 | AH78: 131 | AN78: 195.33848 | AO78: 59.468 | AP78: 59.468 | AS78: 1263.4918 | AT78: 1263.4918 | AW78: 115.8115 | AX78: 187.75438 | BE78: 187.75438
B79: 7 | C79: Caterpillar Financial Services Poland Sp. z o. o. | Y79: 578.40386 | Z79: 578.40386 | AX79: 578.40386 | BE79: 578.40386
B80: 8 | C80: DE LAGE Landen Leasing Polska S.A. | D80: 550.61908 | O80: 550.61908 | Y80: 328.8386 | Z80: 241.31602 | AA80: 305.80075 | AF80: 36.91958 | AH80: 527.59697 | AO80: 89.504841 | AP80: 89.504841 | AX80: 317.79687 | BE80: 317.79687
B81: 9 | C81: Deutsche Leasing Polska S.A. | D81: 169.20238 | E81: 191 | H81: 33 | I81: 33 | O81: 334 | R81: 153.86111 | Y81: 781.54545 | Z81: 984.5 | AA81: 806.28571 | AB81: 4112 | AD81: 1234.8333 | AE81: 1593.8519 | AF81: 240 | AH81: 94.653465 | AN81: 7676.9375 | AX81: 633.73851 | BE81: 633.73851
B82: 10 | C82: Europejski Fundusz Leasingowy S.A. | D82: 173.85081 | E82: 148.42544 | F82: 157.36983 | G82: 213.3721 | H82: 181.21089 | I82: 119.54286 | J82: 100.76991 | K82: 191.9 | L82: 327.34365 | M82: 335 | O82: 293.98196 | R82: 129.08815 | S82: 756.534 | V82: 41.906137 | W82: 23.57724 | Y82: 153.26505 | Z82: 188.83515 | AA82: 197.47172 | AB82: 221.64852 | AC82: 296.9445 | AD82: 191.01352 | AE82: 133.66381 | AF82: 97.901383 | AG82: 74.708942 | AH82: 90.318745 | AI82: 76.887574 | AJ82: 27.2 | AK82: 100.80919 | AM82: 207 | AN82: 129.94919 | AO82: 70.595301 | AP82: 54.13412 | AQ82: 127.23949 | AR82: 69.473222 | AS82: 906.30507 | AT82: 921.81256 | AU82: 859.78261 | AX82: 167.21007 | BE82: 167.21007
B83: 11 | C83: Impuls-Leasing Polska Sp. z o. o. | D83: 180.38283 | E83: 157.59853 | F83: 153.00667 | G83: 174.86616 | H83: 165.90257 | I83: 126.42805 | J83: 124.504 | K83: 186.18 | L83: 311.86651 | M83: 395 | O83: 339.2878 | R83: 128.35056 | S83: 596.59143 | V83: 90.272813 | Y83: 142.73677 | Z83: 271.82462 | AA83: 162.47353 | AB83: 38.20375 | AD83: 364.92133 | AF83: 67.778 | AG83: 69.937419 | AH83: 82.5465 | AK83: 25.93 | AN83: 120.30353 | AO83: 56.1975 | AP83: 56.1975 | AS83: 185.4 | AU83: 185.4 | AX83: 172.77892 | BE83: 172.77892
B84: 12 | C84: ING Lease (Polska) Sp. z o. o. | D84: 192.10712 | E84: 150.21878 | F84: 166.34722 | G84: 161.91304 | H84: 220.75362 | I84: 136.22868 | J84: 116.83333 | K84: 155 | L84: 523.32301 | O84: 344.53431 | R84: 175.42216 | S84: 598.21429 | V84: 254.53061 | W84: 22.3 | Y84: 312.13276 | Z84: 241.28061 | AA84: 247.97561 | AB84: 244.6129 | AC84: 392.23684 | AD84: 483.40146 | AE84: 549.21569 | AF84: 247.26562 | AG84: 529.17949 | AH84: 130.03241 | AI84: 1573 | AJ84: 47 | AK84: 339.83333 | AM84: 60.5 | AN84: 344.07333 | AO84: 142.46939 | AP84: 142.46939 | AS84: 1456.3438 | AV84: 1456.3438 | AW84: 151.21918 | AX84: 224.05981 | BE84: 224.05981
B85: 13 | C85: Leasing Polski Sp. z o. o. | D85: 106.52149 | E85: 106.52013 | G85: 145.49451 | H85: 106.33459 | I85: 65.492149 | L85: 193.39347 | O85: 103.51837 | R85: 67.915436 | S85: 168.05996 | V85: 165.48177 | Y85: 273.52224 | Z85: 193.66839 | AA85: 584.0224 | AH85: 52.55 | AN85: 748 | AX85: 124.64791 | AY85: 80 | BC85: 80 | BE85: 124.41084
B86: 14 | C86: Mercedes-Benz Leasing Polska Sp. z o.o. | D86: 200.10946 | E86: 208.22509 | F86: 158.50837 | G86: 260.39532 | H86: 144.09406 | I86: 143.22074 | J86: 103.2394 | L86: 280.04161 | S86: 316.57513 | V86: 200.6763 | AX86: 200.10946 | BE86: 200.10946
B87: 15 | C87: Millennium Leasing Sp. z o. o. | D87: 197.44643 | E87: 161.39723 | F87: 173.35996 | G87: 216.06255 | H87: 177.31119 | I87: 116.59526 | J87: 118.95096 | K87: 91.724995 | L87: 360.78609 | M87: 794.78 | O87: 316.54616 | R87: 147.81218 | S87: 611.74312 | T87: 571.05 | V87: 183.97687 | Y87: 260.64064 | Z87: 300.42184 | AA87: 225.636 | AB87: 443.72918 | AC87: 324.84317 | AE87: 669.32553 | AF87: 115.4989 | AG87: 188.12848 | AH87: 161.08853 | AI87: 64 | AJ87: 98.94 | AK87: 422.10084 | AM87: 153.45 | AN87: 202.27595 | AO87: 469.247 | AP87: 493.59405 | AQ87: 31 | AS87: 672.25481 | AU87: 463.81993 | AV87: 859 | AX87: 215.55012 | AY87: 7275 | BD87: 7275 | BE87: 217.12133
B88: 16 | C88: mLeasing Sp. z o. o. | D88: 181.44263 | E88: 170.25558 | F88: 157.50892 | G88: 242.46227 | H88: 208.3991 | I88: 121.30657 | J88: 108.46813 | K88: 186.325 | L88: 502.79638 | O88: 397.05974 | P88: 524.7257 | R88: 142.48172 | S88: 797.1086 | V88: 17.722065 | W88: 10.612205 | Y88: 101.57366 | Z88: 334.71985 | AA88: 230.37208 | AB88: 160.6571 | AC88: 762.23937 | AD88: 177.94474 | AE88: 732.14655 | AF88: 17.387235 | AG88: 24.199552 | AH88: 129.75051 | AI88: 351.549 | AK88: 86.286821 | AM88: 39.211111 | AN88: 94.652639 | AO88: 5.2278044 | AP88: 5.475269 | AQ88: 6.4715505 | AR88: 1.3958199 | AS88: 1544.5235 | AT88: 5097.675 | AU88: 1036.9305 | AW88: 6.6754506 | AX88: 105.92006 | BE88: 105.92006
B89: 17 | C89: NEST LEASE SPÓŁKA AKCYJNA | D89: 167.13946 | E89: 174.96936 | H89: 181.1087 | I89: 114.29202 | L89: 276.87927 | O89: 271.95179 | R89: 120.81626 | S89: 393.84106 | V89: 48.86182 | Y89: 237.70066 | Z89: 376.24207 | AA89: 245.31011 | AB89: 130.1 | AC89: 223.56113 | AD89: 186.93338 | AE89: 87.70129 | AF89: 94.403248 | AH89: 104.94649 | AN89: 184.14898 | AS89: 274.41875 | AU89: 274.41875 | AX89: 181.17024 | BE89: 181.17024
B90: 18 | C90: PEAC (Poland) Sp. z o. o. | D90: 157.7 | E90: 116 | R90: 166.69231 | V90: 49 | Y90: 86.421875 | Z90: 117 | AA90: 61.272727 | AB90: 1 | AE90: 2205 | AF90: 58.448276 | AH90: 6.5 | AN90: 77.512195 | AX90: 99.955696 | BE90: 99.955696
B91: 19 | C91: PEKAO Leasing Sp. z o.o. | D91: 220.1439 | E91: 156.73003 | F91: 162.76002 | G91: 222.24881 | H91: 198.88945 | I91: 128.04502 | J91: 111.47578 | K91: 169.22338 | L91: 419.10467 | M91: 1715 | O91: 326.61591 | R91: 168.8721 | S91: 1096.8275 | V91: 266.46772 | W91: 16.26016 | Y91: 267.69342 | Z91: 337.92298 | AA91: 480.4746 | AB91: 270.07859 | AC91: 396.02018 | AD91: 849.31274 | AE91: 306.69457 | AF91: 162.30789 | AG91: 79.8781 | AH91: 99.012322 | AI91: 57 | AK91: 176.66208 | AN91: 253.47987 | AO91: 71.979747 | AP91: 73.83967 | AQ91: 92.255725 | AR91: 69.960023 | AS91: 340.11093 | AT91: 1550.9585 | AU91: 2196.7401 | AV91: 48.61111 | AW91: 361.6658 | AX91: 224.87015 | BE91: 224.87015
B92: 20 | C92: PKO Leasing S.A. | D92: 158.07182 | E92: 146.07759 | F92: 138.55596 | G92: 219.39371 | H92: 162.45278 | I92: 118.28134 | J92: 122.56604 | K92: 195.46374 | L92: 383.12321 | M92: 234.45408 | O92: 328.71573 | P92: 760.878 | R92: 106.53732 | S92: 625.77906 | V92: 58.042562 | W92: 19.530715 | Y92: 135.59165 | Z92: 251.1085 | AA92: 310.24228 | AB92: 132.55171 | AC92: 348.47586 | AD92: 321.32956 | AE92: 85.255304 | AF92: 79.70216 | AG92: 27.850445 | AH92: 100.06163 | AI92: 89.191317 | AJ92: 11.789738 | AK92: 70.432562 | AM92: 260.34469 | AN92: 86.299907 | AO92: 8.1266202 | AP92: 9.0113248 | AQ92: 19.24 | AR92: 6.7370118 | AS92: 589.99248 | AT92: 2125.5704 | AU92: 156.37595 | AV92: 390.6837 | AX92: 138.09871 | BE92: 138.09871
B93: 21 | C93: Santander Consumer Multirent Sp. z o.o. | D93: 129.50491 | E93: 136.11019 | H93: 115.39146 | I93: 115.39146 | S93: 156.17012 | V93: 43.4183 | AX93: 129.50491 | BE93: 129.50491
B94: 22 | C94: Santander Leasing S.A. | D94: 173.46865 | E94: 157.56565 | F94: 161.28592 | G94: 212.55645 | H94: 168.50873 | I94: 142.99945 | J94: 127.99513 | K94: 145.72013 | L94: 311.3282 | O94: 358.36071 | R94: 125.85482 | S94: 986.57824 | V94: 44.677474 | W94: 19.35 | Y94: 170.86939 | Z94: 224.26719 | AA94: 230.88113 | AB94: 506.30331 | AC94: 358.02286 | AD94: 404.10632 | AE94: 133.541 | AF94: 52.652608 | AG94: 26.312748 | AH94: 101.03328 | AI94: 103.4978 | AJ94: 73.9 | AK94: 469.43609 | AN94: 156.21053 | AO94: 74.796935 | AP94: 74.796935 | AS94: 40.1325 | AT94: 16.5368 | AU94: 82.647 | AV94: 73.082 | AX94: 171.29935 | BE94: 171.29935
B95: 23 | C95: Scania Finance Polska Sp. z o. o. | D95: 400.65143 | E95: 322 | H95: 434.84848 | I95: 510 | L95: 432.5 | O95: 450.53889 | P95: 786.5 | R95: 151.55435 | S95: 863.83333 | AX95: 400.65143 | BE95: 400.65143
B96: 24 | C96: SGB Leasing Sp. z o. o. | D96: 165.69231 | E96: 138.74359 | F96: 177 | G96: 139.53846 | H96: 129.71429 | I96: 116.75 | L96: 207.5 | O96: 268.875 | R96: 143.42857 | S96: 445 | U96: 640 | V96: 206.5 | Y96: 204.51163 | Z96: 162.53333 | AA96: 225.35714 | AC96: 413.5 | AE96: 100 | AH96: 60 | AN96: 279.14286 | AX96: 179.4876 | BE96: 179.4876
B97: 25 | C97: Siemens Finance Sp. z o. o. | D97: 175.42857 | E97: 201.5 | F97: 290 | H97: 122.6 | L97: 122.6 | O97: 405 | R97: 422 | Y97: 150.67526 | Z97: 504.35 | AA97: 626.55556 | AB97: 432.33333 | AC97: 1136.5 | AD97: 320.54839 | AF97: 82.666667 | AH97: 251 | AN97: 83.501597 | AO97: 7.1987041 | AP97: 7.1987041 | AX97: 32.941437 | BE97: 32.941437
B98: 26 | C98: VEHIS FINANSE Sp. z o.o. | D98: 125.71094 | E98: 128.4843 | F98: 136.64632 | G98: 153.10084 | H98: 112.1447 | I98: 112.1447 | J98: 114.66176 | K98: 135.405 | AX98: 125.71094 | BE98: 125.71094
B99: 27 | C99: VELOLEASING SPÓŁKA AKCYJNA | D99: 106.79189 | E99: 107.45008 | H99: 169.85714 | L99: 169.85714 | O99: 184.3913 | R99: 119.07143 | V99: 63.507692 | AX99: 106.79189 | BE99: 106.79189
B100: 28 | C100: Razem | D100: 170.85927 | E100: 155.10096 | F100: 160.1093 | G100: 218.03418 | H100: 168.99887 | I100: 120.80069 | J100: 117.93428 | K100: 163.72315 | L100: 364.90338 | M100: 456.91575 | O100: 308.64178 | P100: 714.65093 | R100: 135.81645 | S100: 705.00092 | T100: 571.05 | U100: 640 | V100: 72.551809 | W100: 11.258413 | Y100: 184.49232 | Z100: 246.57964 | AA100: 246.66964 | AB100: 249.95062 | AC100: 370.90704 | AD100: 333.83507 | AE100: 289.46178 | AF100: 64.555567 | AG100: 56.607651 | AH100: 111.97829 | AI100: 162.86912 | AJ100: 36.881427 | AK100: 214.22844 | AM100: 94.280586 | AN100: 169.60621 | AO100: 16.365119 | AP100: 15.775325 | AQ100: 55.013492 | AR100: 14.838722 | AS100: 909.07993 | AT100: 2199.3263 | AU100: 794.84696 | AV100: 578.90091 | AW100: 28.327159 | AX100: 158.58809 | AY100: 11899.152 | BA100: 51980.76 | BC100: 80 | BD100: 7275 | BE100: 159.09099
B102: Struktura wartościowa umów (ruchomości) | D102: I kwartale 2026
B105: Lp. | C105: Spółka | D105: POJAZDY | E105: Osobowe | F105: osobowe - zeroemisyjne | G105: osobowe - hybryda plug-in | H105: Cięzarowe: | I105: o masie do 3,5 tony | J105: o masie do 3,5 tony - zeroemisyjne | K105: o masie do 3,5 tony - hybryda plug-in | L105: o masie powyzej 3,5 tony | M105: o masie powyżej 3,5 tony - zeroemisyjne | N105: o masie powyżej 3,5 tony - hybryda plug-in | O105: ciagniki siodlowe | P105: ciągniki siodłowe - zeroemisyjne | Q105: ciągniki siodłowe - hybryda plug-in | R105: naczepy / przyczepy | S105: autobusy | T105: autobusy - zeroemisyjne | U105: autobusy - hybryda plug-in | V105: inne | W105: inne - zeroemisyjne | X105: inne - hybryda plug-in | Y105: MiU | Z105: Sprzęt Budowlany | AA105: Maszyny Rolnicze | AB105: Maszyny Poligraf. | AC105: maszyny do produkcji tworzyw sztucznych | AD105: maszyny i urządzenia do obróbki metali | AE105: maszyny dla przemysłu spożywczego | AF105: Sprzęt Medyczny | AG105: Sprzęt Gastronom. | AH105: Wózki Widłowe | AI105: Magazyny energii | AJ105: Pompy ciepła | AK105: fotowoltaika | AL105: wiatraki i turbiny wiatrowe | AM105: stacje ładowania pojazdów elektrycznych (na użytek własny i komercyjny) | AN105: inne MiU | AO105: IT | AP105: Sprzęt | AQ105: Oprogram. | AR105: inne IT | AS105: POZOSTAŁE ŚRODKI TRANSPORTU | AT105: Powietrzne | AU105: Wodne | AV105: Kolejowe | AW105: Inne ruchomości | AX105: RUCHOMOŚCI | AY105: Nieruchomości | AZ105: budynki przemysłowe | BA105: obiekty handlowe i usługowe | BB105: obiekty biurowe | BC105: hotele i obiekty rekreacyjne | BD105: inne | BE105: OGÓŁEM
B106: 1 | C106: Alior Leasing Sp. z o. o. | D106: 0.81340053 | E106: 0.29871727 | H106: 0.17542719 | I106: 0.10937986 | L106: 0.066047327 | O106: 0.1907847 | R106: 0.079823292 | S106: 0.054380297 | V106: 0.014267789 | Y106: 0.18465967 | Z106: 0.072660507 | AA106: 0.03059879 | AB106: 0.0047498597 | AC106: 0.0025574943 | AD106: 0.012613758 | AE106: 0.0058303063 | AF106: 0.010019912 | AH106: 0.0057972193 | AK106: 0.00029986689 | AN106: 0.039531953 | AO106: 0.00069202712 | AP106: 0.00069202712 | AS106: 0.0012477752 | AT106: 6.7622106e-05 | AU106: 0.0011801531 | AX106: 1 | AY106: 0 | BE106: 1
B107: 2 | C107: BMW Financial Services Polska Sp z o. o. | D107: 1 | E107: 0.9774115 | F107: 0.2552263 | G107: 0.067285827 | H107: 0 | V107: 0.022588504 | Y107: 0 | AO107: 0 | AS107: 0 | AX107: 1 | AY107: 0 | BE107: 1
B108: 3 | C108: BNP Paribas Lease Group Sp. z o. o. | D108: 0.68710098 | E108: 0.4692049 | F108: 0.011925717 | G108: 0.0051110216 | H108: 0.12545572 | I108: 0.063253808 | J108: 0.0032284919 | K108: 0 | L108: 0.062201913 | M108: 0.0051102243 | N108: 0 | O108: 0.032269548 | P108: 0 | Q108: 0 | R108: 0.056629863 | S108: 0 | T108: 0 | U108: 0 | V108: 0.0035409531 | W108: 0 | X108: 0 | Y108: 0.27223367 | Z108: 0.057057962 | AA108: 0.032889683 | AB108: 0.0012066021 | AC108: 0.0088966716 | AD108: 0.0028939534 | AE108: 0.0066549757 | AF108: 0.0038767662 | AG108: 0 | AH108: 0.046837768 | AI108: 9.2828194e-05 | AJ108: 0 | AK108: 0.0010458007 | AL108: 0 | AM108: 0 | AN108: 0.11078065 | AO108: 0.040665353 | AP108: 0.037130728 | AQ108: 0.0035346251 | AR108: 0 | AS108: 0 | AT108: 0 | AU108: 0 | AV108: 0 | AW108: 0 | AX108: 1 | AY108: 0.062747465 | AZ108: 0 | BA108: 0.062747465 | BB108: 0 | BC108: 0 | BD108: 0 | BE108: 1.0627475
B109: 4 | C109: BOŚ LEASING S.A. | D109: 0.2674019 | E109: 0.14177042 | H109: 0.04876381 | I109: 0.024784449 | L109: 0.023979361 | O109: 0.033958003 | R109: 0.015793641 | V109: 0.027116023 | Y109: 0.55645435 | Z109: 0.12962754 | AB109: 0.13517598 | AD109: 0.05975427 | AN109: 0.23189657 | AO109: 0.11660785 | AP109: 0.11660785 | AS109: 0.059535901 | AV109: 0.059535901 | AX109: 1 | AY109: 0 | BE109: 1
B110: 5 | C110: BPCE Equipment Solutions Polska Sp. z o.o. | D110: 0.42293154 | E110: 0.0071838047 | G110: 0.0024072426 | H110: 0.11416025 | I110: 0.011498074 | J110: 0.00089363858 | L110: 0.10266218 | O110: 0.18615132 | R110: 0.097583886 | V110: 0.017852279 | Y110: 0.41967225 | Z110: 0.22383077 | AA110: 0.016213293 | AB110: 0.029635638 | AD110: 0.0077253977 | AE110: 0.096199352 | AF110: 0.0044114651 | AH110: 0.00089997644 | AI110: 0.0020069897 | AN110: 0.038749371 | AO110: 0.0028068957 | AP110: 0.0028068957 | AS110: 0.15458931 | AT110: 0.15458931 | AX110: 1 | AY110: 0 | BE110: 1
B111: 6 | C111: BPS Leasing S.A. | D111: 0.80816444 | E111: 0.22380363 | F111: 0.0079321804 | H111: 0.11654074 | I111: 0.061793172 | J111: 0.0020196581 | L111: 0.054747569 | O111: 0.19080386 | R111: 0.1040621 | S111: 0.13012371 | V111: 0.042830395 | Y111: 0.16950671 | Z111: 0.063952081 | AA111: 0.019970828 | AC111: 0.0026838048 | AD111: 0.016395492 | AE111: 0.0047330972 | AF111: 0.016722007 | AH111: 0.0018122599 | AN111: 0.043237141 | AO111: 0.001645366 | AP111: 0.001645366 | AS111: 0.017479203 | AT111: 0.017479203 | AW111: 0.003204283 | AX111: 1 | AY111: 0 | BE111: 1
B112: 7 | C112: Caterpillar Financial Services Poland Sp. z o. o. | D112: 0 | H112: 0 | Y112: 1 | Z112: 1 | AO112: 0 | AS112: 0 | AX112: 1 | AY112: 0 | BE112: 1
...

Sheet pożyczki&leasing I kw 2026
B2: Związek Polskiego Leasingu, Warszawa 12-10-2026
B4: Wartość środków oddanych w leasing w | D4: I kwartale 2026
B6: Lp. | C6: Spółka | D6: POJAZDY | E6: Osobowe | F6: osobowe - zeroemisyjne | G6: osobowe - hybryda plug-in | H6: Cięzarowe: | I6: o masie do 3,5 tony | J6: o masie do 3,5 tony - zeroemisyjne | K6: o masie do 3,5 tony - hybryda plug-in | L6: o masie powyzej 3,5 tony | M6: o masie powyżej 3,5 tony - zeroemisyjne | N6: o masie powyżej 3,5 tony - hybryda plug-in | O6: ciagniki siodlowe | P6: ciągniki siodłowe - zeroemisyjne | Q6: ciągniki siodłowe - hybryda plug-in | R6: naczepy / przyczepy | S6: autobusy | T6: autobusy - zeroemisyjne | U6: autobusy - hybryda plug-in | V6: inne | W6: inne - zeroemisyjne | X6: inne - hybryda plug-in | Y6: MiU | Z6: Sprzęt Budowlany | AA6: Maszyny Rolnicze | AB6: Maszyny Poligraf. | AC6: maszyny do produkcji tworzyw sztucznych | AD6: maszyny i urządzenia do obróbki metali | AE6: maszyny dla przemysłu spożywczego | AF6: Sprzęt Medyczny | AG6: Sprzęt Gastronom. | AH6: Wózki Widłowe | AI6: Magazyny energii | AJ6: Pompy ciepła | AK6: fotowoltaika | AL6: wiatraki i turbiny wiatrowe | AM6: stacje ładowania pojazdów elektrycznych (na użytek własny i komercyjny) | AN6: inne MiU | AO6: IT | AP6: Sprzęt | AQ6: Oprogram. | AR6: inne IT | AS6: POZOSTAŁE ŚRODKI TRANSPORTU | AT6: Powietrzne | AU6: Wodne | AV6: Kolejowe | AW6: Inne ruchomości | AX6: RUCHOMOŚCI | AY6: Nieruchomości | AZ6: budynki przemysłowe | BA6: obiekty handlowe i usługowe | BB6: obiekty biurowe | BC6: hotele i obiekty rekreacyjne | BD6: inne | BE6: OGÓŁEM
B7: 1 | C7: Alior Leasing Sp. z o. o. | D7: ='leasing I kw 2026'!D7+'pozyczki I kw 2026'!D7 -> 808013.48 | E7: ='pozyczki I kw 2026'!E7+'leasing I kw 2026'!E7 -> 312395.35 | F7: ='pozyczki I kw 2026'!F7+'leasing I kw 2026'!F7 -> 0 | G7: ='pozyczki I kw 2026'!G7+'leasing I kw 2026'!G7 -> 0 | H7: ='pozyczki I kw 2026'!H7+'leasing I kw 2026'!H7 -> 167883.08 | I7: ='pozyczki I kw 2026'!I7+'leasing I kw 2026'!I7 -> 104886.57 | J7: ='pozyczki I kw 2026'!J7+'leasing I kw 2026'!J7 -> 0 | K7: ='pozyczki I kw 2026'!K7+'leasing I kw 2026'!K7 -> 0 | L7: ='pozyczki I kw 2026'!L7+'leasing I kw 2026'!L7 -> 62996.512 | ... BE7: ='pozyczki I kw 2026'!BE7+'leasing I kw 2026'!BE7 -> 1020423.5
B8: 2 | C8: BMW Financial Services Polska Sp z o. o. | D8: ='leasing I kw 2026'!D8+'pozyczki I kw 2026'!D8 -> 970451.34 | E8: ='pozyczki I kw 2026'!E8+'leasing I kw 2026'!E8 -> 948552.97 | F8: ='pozyczki I kw 2026'!F8+'leasing I kw 2026'!F8 -> 247428.52 | G8: ='pozyczki I kw 2026'!G8+'leasing I kw 2026'!G8 -> 65230.082 | H8: ='pozyczki I kw 2026'!H8+'leasing I kw 2026'!H8 -> 0 | I8: ='pozyczki I kw 2026'!I8+'leasing I kw 2026'!I8 -> 0 | J8: ='pozyczki I kw 2026'!J8+'leasing I kw 2026'!J8 -> 0 | K8: ='pozyczki I kw 2026'!K8+'leasing I kw 2026'!K8 -> 0 | L8: ='pozyczki I kw 2026'!L8+'leasing I kw 2026'!L8 -> 0 | ... BE8: ='pozyczki I kw 2026'!BE8+'leasing I kw 2026'!BE8 -> 970451.34
B9: 3 | C9: BNP Paribas Lease Group Sp. z o. o. | D9: ='leasing I kw 2026'!D9+'pozyczki I kw 2026'!D9 -> 596809.94 | E9: ='pozyczki I kw 2026'!E9+'leasing I kw 2026'!E9 -> 391661.18 | F9: ='pozyczki I kw 2026'!F9+'leasing I kw 2026'!F9 -> 9979.4085 | G9: ='pozyczki I kw 2026'!G9+'leasing I kw 2026'!G9 -> 4234.0322 | H9: ='pozyczki I kw 2026'!H9+'leasing I kw 2026'!H9 -> 122966.88 | I9: ='pozyczki I kw 2026'!I9+'leasing I kw 2026'!I9 -> 59568.585 | J9: ='pozyczki I kw 2026'!J9+'leasing I kw 2026'!J9 -> 2674.5218 | K9: ='pozyczki I kw 2026'!K9+'leasing I kw 2026'!K9 -> 0 | L9: ='pozyczki I kw 2026'!L9+'leasing I kw 2026'!L9 -> 63398.298 | ... BE9: ='pozyczki I kw 2026'!BE9+'leasing I kw 2026'!BE9 -> 1291360.3
B10: 4 | C10: BOŚ LEASING S.A. | D10: ='leasing I kw 2026'!D10+'pozyczki I kw 2026'!D10 -> 11799.748 | E10: ='pozyczki I kw 2026'!E10+'leasing I kw 2026'!E10 -> 7585.1794 | F10: ='pozyczki I kw 2026'!F10+'leasing I kw 2026'!F10 -> 0 | G10: ='pozyczki I kw 2026'!G10+'leasing I kw 2026'!G10 -> 0 | H10: ='pozyczki I kw 2026'!H10+'leasing I kw 2026'!H10 -> 1847.6853 | I10: ='pozyczki I kw 2026'!I10+'leasing I kw 2026'!I10 -> 1109.3208 | J10: ='pozyczki I kw 2026'!J10+'leasing I kw 2026'!J10 -> 0 | K10: ='pozyczki I kw 2026'!K10+'leasing I kw 2026'!K10 -> 0 | L10: ='pozyczki I kw 2026'!L10+'leasing I kw 2026'!L10 -> 738.3645 | ... BE10: ='pozyczki I kw 2026'!BE10+'leasing I kw 2026'!BE10 -> 35847.892
B11: 5 | C11: BPCE Equipment Solutions Polska Sp. z o.o. | D11: ='leasing I kw 2026'!D11+'pozyczki I kw 2026'!D11 -> 64800.638 | E11: ='pozyczki I kw 2026'!E11+'leasing I kw 2026'!E11 -> 1020.127 | F11: ='pozyczki I kw 2026'!F11+'leasing I kw 2026'!F11 -> 0 | G11: ='pozyczki I kw 2026'!G11+'leasing I kw 2026'!G11 -> 341.8374 | H11: ='pozyczki I kw 2026'!H11+'leasing I kw 2026'!H11 -> 17097.53 | I11: ='pozyczki I kw 2026'!I11+'leasing I kw 2026'!I11 -> 2519.1197 | J11: ='pozyczki I kw 2026'!J11+'leasing I kw 2026'!J11 -> 126.9 | K11: ='pozyczki I kw 2026'!K11+'leasing I kw 2026'!K11 -> 0 | L11: ='pozyczki I kw 2026'!L11+'leasing I kw 2026'!L11 -> 14578.411 | ... BE11: ='pozyczki I kw 2026'!BE11+'leasing I kw 2026'!BE11 -> 240166.92
B12: 6 | C12: BPS Leasing S.A. | D12: ='leasing I kw 2026'!D12+'pozyczki I kw 2026'!D12 -> 60100.733 | E12: ='pozyczki I kw 2026'!E12+'leasing I kw 2026'!E12 -> 16333.263 | F12: ='pozyczki I kw 2026'!F12+'leasing I kw 2026'!F12 -> 573.38113 | G12: ='pozyczki I kw 2026'!G12+'leasing I kw 2026'!G12 -> 0 | H12: ='pozyczki I kw 2026'!H12+'leasing I kw 2026'!H12 -> 8424.1985 | I12: ='pozyczki I kw 2026'!I12+'leasing I kw 2026'!I12 -> 4466.7465 | J12: ='pozyczki I kw 2026'!J12+'leasing I kw 2026'!J12 -> 145.99187 | K12: ='pozyczki I kw 2026'!K12+'leasing I kw 2026'!K12 -> 0 | L12: ='pozyczki I kw 2026'!L12+'leasing I kw 2026'!L12 -> 3957.452 | ... BE12: ='pozyczki I kw 2026'!BE12+'leasing I kw 2026'!BE12 -> 75149.131
B13: 7 | C13: Caterpillar Financial Services Poland Sp. z o. o. | D13: ='leasing I kw 2026'!D13+'pozyczki I kw 2026'!D13 -> 0 | E13: ='pozyczki I kw 2026'!E13+'leasing I kw 2026'!E13 -> 0 | F13: ='pozyczki I kw 2026'!F13+'leasing I kw 2026'!F13 -> 0 | G13: ='pozyczki I kw 2026'!G13+'leasing I kw 2026'!G13 -> 0 | H13: ='pozyczki I kw 2026'!H13+'leasing I kw 2026'!H13 -> 0 | I13: ='pozyczki I kw 2026'!I13+'leasing I kw 2026'!I13 -> 0 | J13: ='pozyczki I kw 2026'!J13+'leasing I kw 2026'!J13 -> 0 | K13: ='pozyczki I kw 2026'!K13+'leasing I kw 2026'!K13 -> 0 | L13: ='pozyczki I kw 2026'!L13+'leasing I kw 2026'!L13 -> 0 | ... BE13: ='pozyczki I kw 2026'!BE13+'leasing I kw 2026'!BE13 -> 87151.94
B14: 8 | C14: DE LAGE Landen Leasing Polska S.A. | D14: ='leasing I kw 2026'!D14+'pozyczki I kw 2026'!D14 -> 15047.762 | E14: ='pozyczki I kw 2026'!E14+'leasing I kw 2026'!E14 -> 0 | F14: ='pozyczki I kw 2026'!F14+'leasing I kw 2026'!F14 -> 0 | G14: ='pozyczki I kw 2026'!G14+'leasing I kw 2026'!G14 -> 0 | H14: ='pozyczki I kw 2026'!H14+'leasing I kw 2026'!H14 -> 0 | I14: ='pozyczki I kw 2026'!I14+'leasing I kw 2026'!I14 -> 0 | J14: ='pozyczki I kw 2026'!J14+'leasing I kw 2026'!J14 -> 0 | K14: ='pozyczki I kw 2026'!K14+'leasing I kw 2026'!K14 -> 0 | L14: ='pozyczki I kw 2026'!L14+'leasing I kw 2026'!L14 -> 0 | ... BE14: ='pozyczki I kw 2026'!BE14+'leasing I kw 2026'!BE14 -> 252636.77
B15: 9 | C15: Deutsche Leasing Polska S.A. | D15: ='leasing I kw 2026'!D15+'pozyczki I kw 2026'!D15 -> 24458 | E15: ='pozyczki I kw 2026'!E15+'leasing I kw 2026'!E15 -> 764 | F15: ='pozyczki I kw 2026'!F15+'leasing I kw 2026'!F15 -> 0 | G15: ='pozyczki I kw 2026'!G15+'leasing I kw 2026'!G15 -> 0 | H15: ='pozyczki I kw 2026'!H15+'leasing I kw 2026'!H15 -> 33 | I15: ='pozyczki I kw 2026'!I15+'leasing I kw 2026'!I15 -> 33 | J15: ='pozyczki I kw 2026'!J15+'leasing I kw 2026'!J15 -> 0 | K15: ='pozyczki I kw 2026'!K15+'leasing I kw 2026'!K15 -> 0 | L15: ='pozyczki I kw 2026'!L15+'leasing I kw 2026'!L15 -> 0 | ... BE15: ='pozyczki I kw 2026'!BE15+'leasing I kw 2026'!BE15 -> 262119
B16: 10 | C16: Europejski Fundusz Leasingowy S.A. | D16: ='leasing I kw 2026'!D16+'pozyczki I kw 2026'!D16 -> 1745234.1 | E16: ='pozyczki I kw 2026'!E16+'leasing I kw 2026'!E16 -> 700257.55 | F16: ='pozyczki I kw 2026'!F16+'leasing I kw 2026'!F16 -> 28103.886 | G16: ='pozyczki I kw 2026'!G16+'leasing I kw 2026'!G16 -> 12375.582 | H16: ='pozyczki I kw 2026'!H16+'leasing I kw 2026'!H16 -> 395574.9 | I16: ='pozyczki I kw 2026'!I16+'leasing I kw 2026'!I16 -> 185547.96 | J16: ='pozyczki I kw 2026'!J16+'leasing I kw 2026'!J16 -> 2720.7876 | K16: ='pozyczki I kw 2026'!K16+'leasing I kw 2026'!K16 -> 191.9 | L16: ='pozyczki I kw 2026'!L16+'leasing I kw 2026'!L16 -> 210026.94 | ... BE16: ='pozyczki I kw 2026'!BE16+'leasing I kw 2026'!BE16 -> 2488582.6
B17: 11 | C17: Impuls-Leasing Polska Sp. z o. o. | D17: ='leasing I kw 2026'!D17+'pozyczki I kw 2026'!D17 -> 299812.13 | E17: ='pozyczki I kw 2026'!E17+'leasing I kw 2026'!E17 -> 147728.5 | F17: ='pozyczki I kw 2026'!F17+'leasing I kw 2026'!F17 -> 7087.65 | G17: ='pozyczki I kw 2026'!G17+'leasing I kw 2026'!G17 -> 63166.93 | H17: ='pozyczki I kw 2026'!H17+'leasing I kw 2026'!H17 -> 38581.79 | I17: ='pozyczki I kw 2026'!I17+'leasing I kw 2026'!I17 -> 22134.55 | J17: ='pozyczki I kw 2026'!J17+'leasing I kw 2026'!J17 -> 667.02 | K17: ='pozyczki I kw 2026'!K17+'leasing I kw 2026'!K17 -> 186.18 | L17: ='pozyczki I kw 2026'!L17+'leasing I kw 2026'!L17 -> 16447.24 | ... BE17: ='pozyczki I kw 2026'!BE17+'leasing I kw 2026'!BE17 -> 363504.59
B18: 12 | C18: ING Lease (Polska) Sp. z o. o. | D18: ='leasing I kw 2026'!D18+'pozyczki I kw 2026'!D18 -> 846533 | E18: ='pozyczki I kw 2026'!E18+'leasing I kw 2026'!E18 -> 365303 | F18: ='pozyczki I kw 2026'!F18+'leasing I kw 2026'!F18 -> 11977 | G18: ='pozyczki I kw 2026'!G18+'leasing I kw 2026'!G18 -> 14896 | H18: ='pozyczki I kw 2026'!H18+'leasing I kw 2026'!H18 -> 233792 | I18: ='pozyczki I kw 2026'!I18+'leasing I kw 2026'!I18 -> 115521 | J18: ='pozyczki I kw 2026'!J18+'leasing I kw 2026'!J18 -> 701 | K18: ='pozyczki I kw 2026'!K18+'leasing I kw 2026'!K18 -> 620 | L18: ='pozyczki I kw 2026'!L18+'leasing I kw 2026'!L18 -> 118271 | ... BE18: ='pozyczki I kw 2026'!BE18+'leasing I kw 2026'!BE18 -> 1460904
... B33: 27 | C33: VELOLEASING SPÓŁKA AKCYJNA | D33: ='leasing I kw 2026'!D33+'pozyczki I kw 2026'!D33 -> 100057 | E33: ='pozyczki I kw 2026'!E33+'leasing I kw 2026'!E33 -> 88706 | F33: ='pozyczki I kw 2026'!F33+'leasing I kw 2026'!F33 -> 0 | G33: ='pozyczki I kw 2026'!G33+'leasing I kw 2026'!G33 -> 0 | H33: ='pozyczki I kw 2026'!H33+'leasing I kw 2026'!H33 -> 1189 | I33: ='pozyczki I kw 2026'!I33+'leasing I kw 2026'!I33 -> 0 | J33: ='pozyczki I kw 2026'!J33+'leasing I kw 2026'!J33 -> 0 | K33: ='pozyczki I kw 2026'!K33+'leasing I kw 2026'!K33 -> 0 | L33: ='pozyczki I kw 2026'!L33+'leasing I kw 2026'!L33 -> 1189 | ... BE33: ='pozyczki I kw 2026'!BE33+'leasing I kw 2026'!BE33 -> 100057
B34: 28 | C34: Razem | D34: ='leasing I kw 2026'!D34+'pozyczki I kw 2026'!D34 -> 15913907 | E34: ='leasing I kw 2026'!E34+'pozyczki I kw 2026'!E34 -> 9380178.7 | F34: ='leasing I kw 2026'!F34+'pozyczki I kw 2026'!F34 -> 585347.09 | G34: ='leasing I kw 2026'!G34+'pozyczki I kw 2026'!G34 -> 568046.73 | H34: ='leasing I kw 2026'!H34+'pozyczki I kw 2026'!H34 -> 2469356.5 | I34: ='leasing I kw 2026'!I34+'pozyczki I kw 2026'!I34 -> 1415237.4 | J34: ='leasing I kw 2026'!J34+'pozyczki I kw 2026'!J34 -> 20605.331 | K34: ='leasing I kw 2026'!K34+'pozyczki I kw 2026'!K34 -> 7694.9879 | ... BE34: ='leasing I kw 2026'!BE34+'pozyczki I kw 2026'!BE34 -> 22815824
B36: Ilość środków oddanych w leasing w | D36: I kwartale 2026
B38: Lp. | C38: Spółka | D38: POJAZDY | E38: Osobowe | F38: osobowe - zeroemisyjne | G38: osobowe - hybryda plug-in | H38: Cięzarowe: | I38: o masie do 3,5 tony | J38: o masie do 3,5 tony - zeroemisyjne | K38: o masie do 3,5 tony - hybryda plug-in | L38: o masie powyzej 3,5 tony | M38: o masie powyżej 3,5 tony - zeroemisyjne | N38: o masie powyżej 3,5 tony - hybryda plug-in | O38: ciagniki siodlowe | P38: ciągniki siodłowe - zeroemisyjne | Q38: ciągniki siodłowe - hybryda plug-in | R38: naczepy / przyczepy | S38: autobusy | T38: autobusy - zeroemisyjne | U38: autobusy - hybryda plug-in | V38: inne | W38: inne - zeroemisyjne | X38: inne - hybryda plug-in | Y38: MiU | Z38: Sprzęt Budowlany | AA38: Maszyny Rolnicze | AB38: Maszyny Poligraf. | AC38: maszyny do produkcji tworzyw sztucznych | AD38: maszyny i urządzenia do obróbki metali | AE38: maszyny dla przemysłu spożywczego | AF38: Sprzęt Medyczny | AG38: Sprzęt Gastronom. | AH38: Wózki Widłowe | AI38: Magazyny energii | AJ38: Pompy ciepła | AK38: fotowoltaika | AL38: wiatraki i turbiny wiatrowe | AM38: stacje ładowania pojazdów elektrycznych (na użytek własny i komercyjny) | AN38: inne MiU | AO38: IT | AP38: Sprzęt | AQ38: Oprogram. | AR38: inne IT | AS38: POZOSTAŁE ŚRODKI TRANSPORTU | AT38: Powietrzne | AU38: Wodne | AV38: Kolejowe | AW38: Inne ruchomości | AX38: RUCHOMOŚCI | AY38: Nieruchomości | AZ38: budynki przemysłowe | BA38: obiekty handlowe i usługowe | BB38: obiekty biurowe | BC38: hotele i obiekty rekreacyjne | BD38: inne | BE38: OGÓŁEM
B39: 1 | C39: Alior Leasing Sp. z o. o. | D39: ='pozyczki I kw 2026'!D40+'leasing I kw 2026'!D40 -> 5848 | E39: ='pozyczki I kw 2026'!E40+'leasing I kw 2026'!E40 -> 2533 | F39: ='pozyczki I kw 2026'!F40+'leasing I kw 2026'!F40 -> 0 | G39: ='pozyczki I kw 2026'!G40+'leasing I kw 2026'!G40 -> 0 | H39: ='pozyczki I kw 2026'!H40+'leasing I kw 2026'!H40 -> 1411 | I39: ='pozyczki I kw 2026'!I40+'leasing I kw 2026'!I40 -> 1140 | J39: ='pozyczki I kw 2026'!J40+'leasing I kw 2026'!J40 -> 0 | K39: ='pozyczki I kw 2026'!K40+'leasing I kw 2026'!K40 -> 0 | ... BE39: ='pozyczki I kw 2026'!BE40+'leasing I kw 2026'!BE40 -> 7459
B40: 2 | C40: BMW Financial Services Polska Sp z o. o. | D40: ='pozyczki I kw 2026'!D41+'leasing I kw 2026'!D41 -> 4710 | E40: ='pozyczki I kw 2026'!E41+'leasing I kw 2026'!E41 -> 4448 | F40: ='pozyczki I kw 2026'!F41+'leasing I kw 2026'!F41 -> 1415 | G40: ='pozyczki I kw 2026'!G41+'leasing I kw 2026'!G41 -> 190 | H40: ='pozyczki I kw 2026'!H41+'leasing I kw 2026'!H41 -> 0 | I40: ='pozyczki I kw 2026'!I41+'leasing I kw 2026'!I41 -> 0 | J40: ='pozyczki I kw 2026'!J41+'leasing I kw 2026'!J41 -> 0 | K40: ='pozyczki I kw 2026'!K41+'leasing I kw 2026'!K41 -> 0 | ... BE40: ='pozyczki I kw 2026'!BE41+'leasing I kw 2026'!BE41 -> 4710
B41: 3 | C41: BNP Paribas Lease Group Sp. z o. o. | D41: ='pozyczki I kw 2026'!D42+'leasing I kw 2026'!D42 -> 4070 | E41: ='pozyczki I kw 2026'!E42+'leasing I kw 2026'!E42 -> 3236 | F41: ='pozyczki I kw 2026'!F42+'leasing I kw 2026'!F42 -> 70 | G41: ='pozyczki I kw 2026'!G42+'leasing I kw 2026'!G42 -> 30 | H41: ='pozyczki I kw 2026'!H42+'leasing I kw 2026'!H42 -> 601 | I41: ='pozyczki I kw 2026'!I42+'leasing I kw 2026'!I42 -> 411 | J41: ='pozyczki I kw 2026'!J42+'leasing I kw 2026'!J42 -> 19 | K41: ='pozyczki I kw 2026'!K42+'leasing I kw 2026'!K42 -> 0 | ... BE41: ='pozyczki I kw 2026'!BE42+'leasing I kw 2026'!BE42 -> 6468
B42: 4 | C42: BOŚ LEASING S.A. | D42: ='pozyczki I kw 2026'!D43+'leasing I kw 2026'!D43 -> 94 | E42: ='pozyczki I kw 2026'!E43+'leasing I kw 2026'!E43 -> 72 | F42: ='pozyczki I kw 2026'!F43+'leasing I kw 2026'!F43 -> 0 | G42: ='pozyczki I kw 2026'!G43+'leasing I kw 2026'!G43 -> 0 | H42: ='pozyczki I kw 2026'!H43+'leasing I kw 2026'!H43 -> 11 | I42: ='pozyczki I kw 2026'!I43+'leasing I kw 2026'!I43 -> 9 | J42: ='pozyczki I kw 2026'!J43+'leasing I kw 2026'!J43 -> 0 | K42: ='pozyczki I kw 2026'!K43+'leasing I kw 2026'!K43 -> 0 | ... BE42: ='pozyczki I kw 2026'!BE43+'leasing I kw 2026'!BE43 -> 168
B43: 5 | C43: BPCE Equipment Solutions Polska Sp. z o.o. | D43: ='pozyczki I kw 2026'!D44+'leasing I kw 2026'!D44 -> 230 | E43: ='pozyczki I kw 2026'!E44+'leasing I kw 2026'!E44 -> 6 | F43: ='pozyczki I kw 2026'!F44+'leasing I kw 2026'!F44 -> 0 | G43: ='pozyczki I kw 2026'!G44+'leasing I kw 2026'!G44 -> 1 | H43: ='pozyczki I kw 2026'!H44+'leasing I kw 2026'!H44 -> 41 | I43: ='pozyczki I kw 2026'!I44+'leasing I kw 2026'!I44 -> 12 | J43: ='pozyczki I kw 2026'!J44+'leasing I kw 2026'!J44 -> 1 | K43: ='pozyczki I kw 2026'!K44+'leasing I kw 2026'!K44 -> 0 | ... BE43: ='pozyczki I kw 2026'!BE44+'leasing I kw 2026'!BE44 -> 525
B44: 6 | C44: BPS Leasing S.A. | D44: ='pozyczki I kw 2026'!D45+'leasing I kw 2026'!D45 -> 330 | E44: ='pozyczki I kw 2026'!E45+'leasing I kw 2026'!E45 -> 131 | F44: ='pozyczki I kw 2026'!F45+'leasing I kw 2026'!F45 -> 8 | G44: ='pozyczki I kw 2026'!G45+'leasing I kw 2026'!G45 -> 0 | H44: ='pozyczki I kw 2026'!H45+'leasing I kw 2026'!H45 -> 50 | I44: ='pozyczki I kw 2026'!I45+'leasing I kw 2026'!I45 -> 40 | J44: ='pozyczki I kw 2026'!J45+'leasing I kw 2026'!J45 -> 1 | K44: ='pozyczki I kw 2026'!K45+'leasing I kw 2026'!K45 -> 0 | ... BE44: ='pozyczki I kw 2026'!BE45+'leasing I kw 2026'!BE45 -> 396
B45: 7 | C45: Caterpillar Financial Services Poland Sp. z o. o. | D45: ='pozyczki I kw 2026'!D46+'leasing I kw 2026'!D46 -> 0 | E45: ='pozyczki I kw 2026'!E46+'leasing I kw 2026'!E46 -> 0 | F45: ='pozyczki I kw 2026'!F46+'leasing I kw 2026'!F46 -> 0 | G45: ='pozyczki I kw 2026'!G46+'leasing I kw 2026'!G46 -> 0 | H45: ='pozyczki I kw 2026'!H46+'leasing I kw 2026'!H46 -> 0 | I45: ='pozyczki I kw 2026'!I46+'leasing I kw 2026'!I46 -> 0 | J45: ='pozyczki I kw 2026'!J46+'leasing I kw 2026'!J46 -> 0 | K45: ='pozyczki I kw 2026'!K46+'leasing I kw 2026'!K46 -> 0 | ... BE45: ='pozyczki I kw 2026'!BE46+'leasing I kw 2026'!BE46 -> 142
B46: 8 | C46: DE LAGE Landen Leasing Polska S.A. | D46: ='pozyczki I kw 2026'!D47+'leasing I kw 2026'!D47 -> 28 | E46: ='pozyczki I kw 2026'!E47+'leasing I kw 2026'!E47 -> 0 | F46: ='pozyczki I kw 2026'!F47+'leasing I kw 2026'!F47 -> 0 | G46: ='pozyczki I kw 2026'!G47+'leasing I kw 2026'!G47 -> 0 | H46: ='pozyczki I kw 2026'!H47+'leasing I kw 2026'!H47 -> 0 | I46: ='pozyczki I kw 2026'!I47+'leasing I kw 2026'!I47 -> 0 | J46: ='pozyczki I kw 2026'!J47+'leasing I kw 2026'!J47 -> 0 | K46: ='pozyczki I kw 2026'!K47+'leasing I kw 2026'!K47 -> 0 | ... BE46: ='pozyczki I kw 2026'!BE47+'leasing I kw 2026'!BE47 -> 529
B47: 9 | C47: Deutsche Leasing Polska S.A. | D47: ='pozyczki I kw 2026'!D48+'leasing I kw 2026'!D48 -> 164 | E47: ='pozyczki I kw 2026'!E48+'leasing I kw 2026'!E48 -> 4 | F47: ='pozyczki I kw 2026'!F48+'leasing I kw 2026'!F48 -> 0 | G47: ='pozyczki I kw 2026'!G48+'leasing I kw 2026'!G48 -> 0 | H47: ='pozyczki I kw 2026'!H48+'leasing I kw 2026'!H48 -> 1 | I47: ='pozyczki I kw 2026'!I48+'leasing I kw 2026'!I48 -> 1 | J47: ='pozyczki I kw 2026'!J48+'leasing I kw 2026'!J48 -> 0 | K47: ='pozyczki I kw 2026'!K48+'leasing I kw 2026'!K48 -> 0 | ... BE47: ='pozyczki I kw 2026'!BE48+'leasing I kw 2026'!BE48 -> 481
B48: 10 | C48: Europejski Fundusz Leasingowy S.A. | D48: ='pozyczki I kw 2026'!D49+'leasing I kw 2026'!D49 -> 10063 | E48: ='pozyczki I kw 2026'!E49+'leasing I kw 2026'!E49 -> 4697 | F48: ='pozyczki I kw 2026'!F49+'leasing I kw 2026'!F49 -> 179 | G48: ='pozyczki I kw 2026'!G49+'leasing I kw 2026'!G49 -> 58 | H48: ='pozyczki I kw 2026'!H49+'leasing I kw 2026'!H49 -> 2187 | I48: ='pozyczki I kw 2026'!I49+'leasing I kw 2026'!I49 -> 1540 | J48: ='pozyczki I kw 2026'!J49+'leasing I kw 2026'!J49 -> 27 | K48: ='pozyczki I kw 2026'!K49+'leasing I kw 2026'!K49 -> 1 | ... BE48: ='pozyczki I kw 2026'!BE49+'leasing I kw 2026'!BE49 -> 14387
B49: 11 | C49: Impuls-Leasing Polska Sp. z o. o. | D49: ='pozyczki I kw 2026'!D50+'leasing I kw 2026'!D50 -> 1728 | E49: ='pozyczki I kw 2026'!E50+'leasing I kw 2026'!E50 -> 1020 | F49: ='pozyczki I kw 2026'!F50+'leasing I kw 2026'!F50 -> 107 | G49: ='pozyczki I kw 2026'!G50+'leasing I kw 2026'!G50 -> 371 | H49: ='pozyczki I kw 2026'!H50+'leasing I kw 2026'!H50 -> 227 | I49: ='pozyczki I kw 2026'!I50+'leasing I kw 2026'!I50 -> 176 | J49: ='pozyczki I kw 2026'!J50+'leasing I kw 2026'!J50 -> 6 | K49: ='pozyczki I kw 2026'!K50+'leasing I kw 2026'!K50 -> 1 | ... BE49: ='pozyczki I kw 2026'!BE50+'leasing I kw 2026'!BE50 -> 2115
B50: 12 | C50: ING Lease (Polska) Sp. z o. o. | D50: ='pozyczki I kw 2026'!D51+'leasing I kw 2026'!D51 -> 4404 | E50: ='pozyczki I kw 2026'!E51+'leasing I kw 2026'!E51 -> 2451 | F50: ='pozyczki I kw 2026'!F51+'leasing I kw 2026'!F51 -> 72 | G50: ='pozyczki I kw 2026'!G51+'leasing I kw 2026'!G51 -> 92 | H50: ='pozyczki I kw 2026'!H51+'leasing I kw 2026'!H51 -> 1059 | I50: ='pozyczki I kw 2026'!I51+'leasing I kw 2026'!I51 -> 833 | J50: ='pozyczki I kw 2026'!J51+'leasing I kw 2026'!J51 -> 6 | K50: ='pozyczki I kw 2026'!K51+'leasing I kw 2026'!K51 -> 4 | ... BE50: ='pozyczki I kw 2026'!BE51+'leasing I kw 2026'!BE51 -> 5943
... B65: 27 | C65: VELOLEASING SPÓŁKA AKCYJNA | D65: ='pozyczki I kw 2026'!D66+'leasing I kw 2026'!D66 -> 940 | E65: ='pozyczki I kw 2026'!E66+'leasing I kw 2026'!E66 -> 829 | F65: ='pozyczki I kw 2026'!F66+'leasing I kw 2026'!F66 -> 0 | G65: ='pozyczki I kw 2026'!G66+'leasing I kw 2026'!G66 -> 0 | H65: ='pozyczki I kw 2026'!H66+'leasing I kw 2026'!H66 -> 7 | I65: ='pozyczki I kw 2026'!I66+'leasing I kw 2026'!I66 -> 0 | J65: ='pozyczki I kw 2026'!J66+'leasing I kw 2026'!J66 -> 0 | K65: ='pozyczki I kw 2026'!K66+'leasing I kw 2026'!K66 -> 0 | ... BE65: ='pozyczki I kw 2026'!BE66+'leasing I kw 2026'!BE66 -> 940
B66: 28 | C66: Razem | D66: =SUM(D39:D65) -> 94681 | E66: =SUM(E39:E65) -> 61931 | F66: =SUM(F39:F65) -> 3717 | G66: =SUM(G39:G65) -> 2630 | H66: =SUM(H39:H65) -> 14576 | I66: =SUM(I39:I65) -> 11667 | J66: =SUM(J39:J65) -> 175 | K66: =SUM(K39:K65) -> 47 | ... BE66: =SUM(BE39:BE65) -> 155426

Sheet outstanding I kw 2026
B1: ZWIĄZEK POLSKIEGO LEASINGU
A2: ILOŚĆ ŚRODKÓW TRWAŁYCH (szt.) | C2: 2026q1
B3: WARTOŚĆ CAŁEGO PORTFELA LEASINGU
A5: Lp. | B5: Spółka | C5: Środki transportu drogowego | D5: w tym samochody osobowe | E5: Maszyny i urządzenia przemysłowe | F5: Komputery i sprzet biurowy | G5: Pozostałe środki transportu | H5: Inne ruchomości | I5: Razem ruchomości | J5: Razem nieruchomości | K5: Ogółem
A7: WARTOŚĆ ŚRODKÓW TRWAŁYCH - zgodnie z ustawą o rachunkowości (netto tys. PLN) | C7: 2026q1
A10: Lp. | B10: Spółka | C10: Środki transportu drogowego | D10: w tym samochody osobowe | E10: Maszyny i urządzenia przemysłowe | F10: Komputery i sprzet biurowy | G10: Pozostałe środki transportu | H10: Inne ruchomości | I10: Razem ruchomości | J10: Razem nieruchomości | K10: Ogółem
A12: WARTOŚĆ ŚRODKÓW TRWAŁYCH - zgodnie z ustawami podatkowymi (netto tys. PLN) | C12: 2026q1
A15: Lp. | B15: Spółka | C15: Środki transportu drogowego | D15: w tym samochody osobowe | E15: Maszyny i urządzenia przemysłowe | F15: Komputery i sprzet biurowy | G15: Pozostałe środki transportu | H15: Inne ruchomości | I15: Razem ruchomości | J15: Razem nieruchomości | K15: Ogółem
A17: WARTOŚĆ CAŁEGO PORTFELA LEASINGU (netto tys. PLN) | C17: 2026q1
A20: Lp. | B20: Spółka | C20: Ilość ST leasingu konsumenckiego | D20: ust. o rach. | E20: ust. podatkowe | F20: Ilość ST leasingu do umów CFM | G20: ust. o rach. | H20: ust. podatkowe
D21: Wartość netto leasingu konsumenckiego | E21: Wartość netto leasingu konsumenckiego | G21: Wartość umów CFM | H21: Wartość umów CFM
A23: ILOŚĆ ŚRODKÓW TRWAŁYCH (szt.) | C23: 2026q1
A26: Lp. | B26: Spółka | C26: ust. o rach. | D26: ust. podatkowe | E26: ust. o rach. | F26: ust. podatkowe
C27: Leasing operacyjny | D27: Leasing operacyjny | E27: Leasing kapitałowy | F27: Leasing kapitałowy
A29: WARTOŚĆ ŚRODKÓW TRWAŁYCH - (netto tys. PLN) | C29: 2026q1
A32: Lp. | B32: Spółka | C32: ust. o rach. | D32: ust. podatkowe | E32: ust. o rach. | F32: ust. podatkowe
C33: Leasing operacyjny | D33: Leasing operacyjny | E33: Leasing kapitałowy | F33: Leasing kapitałowy
