Workbook

Sheet pozyczki I kw 2026
B2: Związek Polskiego Leasingu, Warszawa 12-10-2026
B4: Wartość środków oddanych w leasing w | D4: I kwartale 2026
B6: Lp. | C6: Spółka | D6: POJAZDY | E6: Osobowe | F6: osobowe - zeroemisyjne | G6: osobowe - hybryda plug-in | H6: Cięzarowe: | I6: o masie do 3,5 tony | J6: o masie do 3,5 tony - zeroemisyjne | K6: o masie do 3,5 tony - hybryda plug-in | L6: o masie powyzej 3,5 tony | M6: o masie powyżej 3,5 tony - zeroemisyjne | N6: o masie powyżej 3,5 tony - hybryda plug-in | O6: ciagniki siodlowe | P6: ciągniki siodłowe - zeroemisyjne | Q6: ciągniki siodłowe - hybryda plug-in | R6: naczepy / przyczepy | S6: autobusy | T6: autobusy - zeroemisyjne | U6: autobusy - hybryda plug-in | V6: inne | W6: inne - zeroemisyjne | X6: inne - hybryda plug-in | Y6: MiU | Z6: Sprzęt Budowlany | AA6: Maszyny Rolnicze | AB6: Maszyny Poligraf. | AC6: maszyny do produkcji tworzyw sztucznych | AD6: maszyny i urządzenia do obróbki metali | AE6: maszyny dla przemysłu spożywczego | AF6: Sprzęt Medyczny | AG6: Sprzęt Gastronom. | AH6: Wózki Widłowe | AI6: Magazyny energii | AJ6: Pompy ciepła | AK6: fotowoltaika | AL6: wiatraki i turbiny wiatrowe | AM6: stacje ładowania pojazdów elektrycznych (na użytek własny i komercyjny) | AN6: inne MiU | AO6: IT | AP6: Sprzęt | AQ6: Oprogram. | AR6: inne IT | AS6: POZOSTAŁE ŚRODKI TRANSPORTU | AT6: Powietrzne | AU6: Wodne | AV6: Kolejowe | AW6: Inne ruchomości | AX6: RUCHOMOŚCI | AY6: Nieruchomości | AZ6: budynki przemysłowe | BA6: obiekty handlowe i usługowe | BB6: obiekty biurowe | BC6: hotele i obiekty rekreacyjne | BD6: inne | BE6: OGÓŁEM
B7: 1 | C7: Alior Leasing Sp. z o. o. | D7: 69816.191 | E7: 41296.092 | H7: 8675.0786 | I7: 5619.4639 | L7: 3055.6147 | O7: 12921.327 | R7: 5456.0275 | S7: 707 | V7: 760.66667 | Y7: 41579.178 | Z7: 4599.641 | AA7: 5064.2561 | AB7: 10827.67 | AC7: 94.19575 | AD7: 1513.8109 | AE7: 385.99313 | AF7: 10367.926 | AH7: 820.75 | AK7: 2034.6032 | AN7: 5870.3314 | AO7: 0 | AS7: 1483.4801 | AU7: 1483.4801 | AX7: 112878.85 | AY7: 0 | BE7: 112878.85
B8: 2 | C8: BMW Financial Services Polska Sp z o. o. | D8: 1003.76 | E8: 1003.76 | H8: 0 | Y8: 0 | AO8: 0 | AS8: 0 | AX8: 1003.76 | AY8: 0 | BE8: 1003.76
B9: 3 | C9: BNP Paribas Lease Group Sp. z o. o. | D9: 27607.165 | E9: 2966.1557 | F9: 100 | G9: 0 | H9: 19037.845 | I9: 7168.3647 | J9: 0 | K9: 0 | L9: 11869.48 | M9: 0 | N9: 0 | O9: 2026.7531 | P9: 0 | Q9: 0 | R9: 3576.4112 | S9: 0 | T9: 0 | U9: 0 | V9: 0 | W9: 0 | X9: 0 | Y9: 377992.53 | Z9: 8330.5694 | AA9: 312085.47 | AB9: 0 | AC9: 0 | AD9: 1903.4706 | AE9: 2899.1 | AF9: 29060.711 | AG9: 0 | AH9: 407.78599 | AI9: 0 | AJ9: 0 | AK9: 3751 | AL9: 0 | AM9: 0 | AN9: 19554.424 | AO9: 5367.6875 | AP9: 923.39405 | AQ9: 4444.2934 | AR9: 0 | AS9: 0 | AT9: 0 | AU9: 0 | AV9: 0 | AW9: 0 | AX9: 410967.38 | AY9: 0 | AZ9: 0 | BA9: 0 | BB9: 0 | BC9: 0 | BD9: 0 | BE9: 410967.38
B10: 4 | C10: BOŚ LEASING S.A. | D10: 3565.9982 | E10: 3219.8319 | H10: 346.16628 | I10: 346.16628 | Y10: 183.83296 | AF10: 183.83296 | AO10: 1306.3941 | AP10: 1306.3941 | AS10: 0 | AX10: 5056.2252 | AY10: 0 | BE10: 5056.2252
B11: 5 | C11: BPCE Equipment Solutions Polska Sp. z o.o. | D11: 4742.7875 | H11: 886.3504 | I11: 886.3504 | O11: 2476.8993 | R11: 1379.5378 | Y11: 33313.123 | Z11: 3043.3432 | AA11: 18545.256 | AH11: 4092.5315 | AN11: 7631.9921 | AO11: 37901.01 | AP11: 33676.876 | AQ11: 4224.134 | AS11: 22206.286 | AV11: 22206.286 | AX11: 98163.207 | AY11: 0 | BE11: 98163.207
B12: 6 | C12: BPS Leasing S.A. | D12: 1682.2128 | E12: 155.52 | H12: 0 | O12: 1526.6928 | Y12: 1000.8712 | AA12: 867.98418 | AN12: 132.88703 | AO12: 0 | AS12: 0 | AW12: 180.61006 | AX12: 2863.694 | AY12: 0 | BE12: 2863.694
B13: 7 | C13: Caterpillar Financial Services Poland Sp. z o. o. | D13: 0 | H13: 0 | Y13: 26419.535 | Z13: 26419.535 | AO13: 0 | AS13: 0 | AX13: 26419.535 | AY13: 0 | BE13: 26419.535
B14: 8 | C14: DE LAGE Landen Leasing Polska S.A. | D14: 2934.1425 | H14: 0 | R14: 2934.1425 | Y14: 203928.57 | Z14: 3318.8271 | AA14: 171513.14 | AF14: 29096.608 | AH14: 0 | AK14: 0 | AN14: 0 | AO14: 13994.373 | AP14: 5146.0571 | AQ14: 8848.3161 | AR14: 0 | AS14: 0 | AX14: 220857.09 | AY14: 0 | BE14: 220857.09
B15: 9 | C15: Deutsche Leasing Polska S.A. | D15: 10245 | H15: 0 | O15: 320 | R15: 9925 | Y15: 31333 | AA15: 17939 | AD15: 12721 | AN15: 673 | AO15: 0 | AS15: 0 | AX15: 41578 | AY15: 0 | BE15: 41578
B16: 10 | C16: Europejski Fundusz Leasingowy S.A. | D16: 59750.508 | E16: 27593.468 | F16: 249.42683 | H16: 9052.0829 | I16: 6233.6746 | L16: 2818.4082 | O16: 14655.971 | R16: 6915.5864 | S16: 1533.4 | Y16: 189222.5 | Z16: 9488.3439 | AA16: 154339.69 | AD16: 279.87724 | AE16: 5319.5598 | AF16: 4913.5256 | AG16: 1115.5915 | AH16: 277.7835 | AJ16: 22.97 | AK16: 148.815 | AN16: 13316.345 | AO16: 1928.8645 | AP16: 81.69164 | AQ16: 1741.6189 | AR16: 105.554 | AS16: 911.61994 | AT16: 20.3561 | AU16: 891.26384 | AX16: 251813.49 | AY16: 0 | BE16: 251813.49
B17: 11 | C17: Impuls-Leasing Polska Sp. z o. o. | D17: 61706.8 | E17: 30790.39 | F17: 2956.47 | G17: 14029.54 | H17: 5069.47 | I17: 2032.49 | J17: 44.5 | L17: 3036.98 | O17: 14502.32 | R17: 8233.23 | S17: 1500.6 | V17: 1610.79 | Y17: 15980.92 | Z17: 1477.7 | AA17: 1356.86 | AD17: 516 | AF17: 1272.8 | AK17: 453.01 | AN17: 10904.55 | AO17: 0 | AS17: 1768.32 | AU17: 1768.32 | AX17: 79456.04 | AY17: 0 | BE17: 79456.04
B18: 12 | C18: ING Lease (Polska) Sp. z o. o. | D18: 23354 | E18: 6881 | H18: 5312 | I18: 5312 | L18: 0 | O18: 6954 | R18: 4207 | S18: 0 | V18: 0 | Y18: 131933 | Z18: 6084 | AA18: 0 | AB18: 2562 | AC18: 0 | AD18: 11432 | AE18: 101245 | AF18: 0 | AG18: 0 | AH18: 540 | AI18: 0 | AJ18: 0 | AK18: 0 | AN18: 10070 | AO18: 200 | AP18: 200 | AQ18: 0 | AR18: 0 | AS18: 9231 | AT18: 0 | AU18: 0 | AV18: 9231 | AW18: 0 | AX18: 164718 | AY18: 0 | AZ18: 0 | BA18: 0 | BB18: 0 | BC18: 0 | BD18: 0 | BE18: 164718
B19: 13 | C19: Leasing Polski Sp. z o. o. | D19: 0 | H19: 0 | Y19: 0 | AO19: 0 | AS19: 0 | AX19: 0 | AY19: 0 | BE19: 0
B20: 14 | C20: Mercedes-Benz Leasing Polska Sp. z o.o. | D20: 73574.263 | E20: 69166.99 | G20: 1782.0297 | H20: 4407.273 | I20: 4123.389 | L20: 283.884 | Y20: 0 | AO20: 0 | AS20: 0 | AX20: 73574.263 | AY20: 0 | BE20: 73574.263
B21: 15 | C21: Millennium Leasing Sp. z o. o. | D21: 0 | H21: 0 | Y21: 0 | AO21: 0 | AS21: 0 | AX21: 0 | AY21: 0 | BE21: 0
B22: 16 | C22: mLeasing Sp. z o. o. | D22: 56861.008 | E22: 14947.824 | F22: 132.5 | G22: 873.7 | H22: 1146.14 | I22: 54.11 | J22: 0 | K22: 0 | L22: 1092.03 | M22: 0 | N22: 0 | O22: 28555.84 | P22: 0 | Q22: 0 | R22: 10734.745 | S22: 0 | T22: 0 | U22: 0 | V22: 1476.459 | W22: 1039.242 | X22: 0 | Y22: 162314.6 | Z22: 4985.771 | AA22: 5466.05 | AB22: 1557.17 | AC22: 5425.18 | AD22: 11098.201 | AE22: 16036.98 | AF22: 59604.594 | AG22: 3815.683 | AH22: 3052.352 | AI22: 167.28 | AJ22: 65.666 | AK22: 18573.466 | AL22: 0 | AM22: 9.691 | AN22: 32456.511 | AO22: 20285.715 | AP22: 18004.308 | AQ22: 1237.406 | AR22: 1044.001 | AS22: 1345.951 | AT22: 0 | AU22: 1345.951 | AV22: 0 | AW22: 14673.56 | AX22: 255480.83 | AY22: 0 | BE22: 255480.83
B23: 17 | C23: NEST LEASE SPÓŁKA AKCYJNA | D23: 48370.991 | E23: 17359.878 | H23: 4793.0227 | I23: 2696.4916 | L23: 2096.5311 | O23: 13039.684 | R23: 11213.122 | S23: 1506.59 | V23: 458.6942 | Y23: 51437.382 | Z23: 3800.0429 | AA23: 38488.184 | AB23: 0 | AC23: 0 | AD23: 1456.002 | AE23: 233.33661 | AF23: 5096.2973 | AG23: 92.49718 | AH23: 161.83034 | AI23: 0 | AJ23: 0 | AK23: 0 | AL23: 0 | AM23: 0 | AN23: 2109.1915 | AO23: 0 | AP23: 0 | AQ23: 0 | AR23: 0 | AS23: 1642.6014 | AT23: 0 | AU23: 1642.6014 | AV23: 0 | AX23: 101450.97 | AY23: 0 | BE23: 101450.97
B24: 18 | C24: PEAC (Poland) Sp. z o. o. | D24: 1827 | E24: 104 | H24: 0 | R24: 1723 | Y24: 4060 | Z24: 1128 | AA24: 1518 | AN24: 1414 | AO24: 0 | AS24: 0 | AW24: 298 | AX24: 6185 | AY24: 0 | BE24: 6185
B25: 19 | C25: PEKAO Leasing Sp. z o.o. | D25: 79874.807 | E25: 21898.172 | F25: 0 | G25: 0 | H25: 3545.4023 | I25: 1800.0311 | J25: 0 | K25: 0 | L25: 1745.3713 | M25: 0 | N25: 0 | O25: 40265.879 | P25: 0 | Q25: 0 | R25: 5635.8369 | S25: 5789.0529 | T25: 0 | U25: 0 | V25: 2740.4635 | W25: 0 | X25: 0 | Y25: 184864.15 | Z25: 22354.791 | AA25: 39487.635 | AB25: 1328.0422 | AC25: 14301.354 | AD25: 23579.827 | AE25: 4634.0127 | AF25: 11765.903 | AG25: 76.68007 | AH25: 755.02207 | AI25: 0 | AJ25: 0 | AK25: 12266.452 | AL25: 0 | AM25: 0 | AN25: 54314.435 | AO25: 0 | AP25: 0 | AQ25: 0 | AR25: 0 | AS25: 4201.0838 | AT25: 0 | AU25: 601.08378 | AV25: 3600 | AW25: 1117.7242 | AX25: 270057.77 | AY25: 855.994 | AZ25: 0 | BA25: 855.994 | BB25: 0 | BC25: 0 | BD25: 0 | BE25: 270913.76
B26: 20 | C26: PKO Leasing S.A. | D26: 186569.91 | E26: 66751.738 | F26: 1948.7144 | G26: 318.00001 | H26: 22794.081 | I26: 8974.0537 | L26: 13820.027 | O26: 65853.903 | R26: 24976.714 | S26: 5744.9057 | V26: 448.57376 | Y26: 644776.05 | Z26: 160420.9 | AA26: 91245.979 | AB26: 2662.6833 | AC26: 1375.0231 | AD26: 26327.739 | AE26: 12976.106 | AF26: 21968.716 | AH26: 262562.56 | AJ26: 942.91483 | AK26: 7369.4571 | AM26: 188.3508 | AN26: 56735.633 | AO26: 1992.7949 | AP26: 1992.7949 | AS26: 27447.973 | AU26: 3313.6761 | AV26: 24134.297 | AW26: 282.00073 | AX26: 861068.74 | AY26: 0 | BE26: 861068.74
B27: 21 | C27: Santander Consumer Multirent Sp. z o.o. | D27: 469153.27 | E27: 464613.3 | H27: 1872.9697 | I27: 1872.9697 | V27: 2667 | Y27: 0 | AO27: 0 | AS27: 0 | AX27: 469153.27 | AY27: 0 | BE27: 469153.27
B28: 22 | C28: Santander Leasing S.A. | D28: 246277.43 | E28: 178566.5 | F28: 1645.185 | G28: 1379.292 | H28: 18521.471 | I28: 12570.307 | J28: 276.135 | K28: 0 | L28: 5951.164 | M28: 0 | N28: 0 | O28: 38204.876 | P28: 0 | Q28: 0 | R28: 9024.157 | S28: 578.1 | T28: 0 | U28: 0 | V28: 1382.326 | W28: 0 | X28: 0 | Y28: 321815.13 | Z28: 3222.088 | AA28: 231245.74 | AB28: 1785.382 | AC28: 911.56 | AD28: 15802.115 | AE28: 159.9 | AF28: 25197.005 | AG28: 231.74 | AH28: 487.755 | AI28: 198.214 | AJ28: 0 | AK28: 18293.422 | AL28: 0 | AM28: 0 | AN28: 24280.204 | AO28: 2597.546 | AP28: 2597.546 | AQ28: 0 | AR28: 0 | AS28: 831.988 | AT28: 0 | AU28: 831.988 | AV28: 0 | AW28: 0 | AX28: 571522.09 | AY28: 0 | AZ28: 0 | BA28: 0 | BB28: 0 | BC28: 0 | BD28: 0 | BE28: 571522.09
B29: 23 | C29: Scania Finance Polska Sp. z o. o. | D29: 34445 | H29: 0 | O29: 33648 | R29: 797 | Y29: 0 | AO29: 0 | AS29: 0 | AX29: 34445 | AY29: 0 | BE29: 34445
B30: 24 | C30: SGB Leasing Sp. z o. o. | D30: 3684 | E30: 524 | H30: 2275 | I30: 1855 | L30: 420 | O30: 80 | R30: 805 | Y30: 14581 | Z30: 342 | AA30: 12365 | AF30: 1092 | AN30: 782 | AO30: 0 | AS30: 0 | AX30: 18265 | AY30: 1216 | BC30: 365 | BD30: 851 | BE30: 19481
B31: 25 | C31: Siemens Finance Sp. z o. o. | D31: 1891 | E31: 0 | F31: 0 | G31: 0 | H31: 1891 | I31: 0 | J31: 0 | K31: 0 | L31: 1891 | M31: 0 | N31: 0 | O31: 0 | P31: 0 | Q31: 0 | R31: 0 | S31: 0 | T31: 0 | U31: 0 | V31: 0 | Y31: 121977 | Z31: 9324 | AA31: 0 | AB31: 0 | AC31: 0 | AD31: 6147 | AE31: 0 | AF31: 74751 | AG31: 0 | AH31: 2878 | AI31: 0 | AJ31: 0 | AK31: 0 | AL31: 0 | AM31: 0 | AN31: 28877 | AO31: 21343 | AP31: 13912 | AQ31: 7431 | AR31: 0 | AS31: 0 | AT31: 0 | AU31: 0 | AV31: 0 | AX31: 145211 | AY31: 0 | BE31: 145211
B32: 26 | C32: VEHIS FINANSE Sp. z o.o. | D32: 0 | H32: 0 | Y32: 0 | AO32: 0 | AS32: 0 | AX32: 0 | AY32: 0 | BE32: 0
B33: 27 | C33: VELOLEASING SPÓŁKA AKCYJNA | D33: 21031 | E33: 20905 | H33: 0 | V33: 126 | Y33: 0 | AO33: 0 | AS33: 0 | AX33: 21031 | AY33: 0 | BE33: 21031
B34: 28 | C34: Razem | D34: 1489968.2 | E34: 968743.62 | F34: 7032.2962 | G34: 18382.562 | H34: 109625.35 | I34: 61544.862 | J34: 320.635 | K34: 0 | L34: 48080.49 | M34: 0 | N34: 0 | O34: 275032.15 | P34: 0 | Q34: 0 | R34: 107536.51 | S34: 17359.649 | T34: 0 | U34: 0 | V34: 11670.973 | W34: 1039.242 | X34: 0 | Y34: 2558712.4 | Z34: 268339.55 | AA34: 1101528.2 | AB34: 20722.948 | AC34: 22107.313 | AD34: 112777.04 | AE34: 143889.99 | AF34: 274370.92 | AG34: 5332.1918 | AH34: 276036.37 | AI34: 365.494 | AJ34: 1031.5508 | AK34: 62890.225 | AL34: 0 | AM34: 198.0418 | AN34: 269122.5 | AO34: 106917.38 | AP34: 77841.061 | AQ34: 27926.768 | AR34: 1149.555 | AS34: 71070.304 | AT34: 20.3561 | AU34: 11878.364 | AV34: 59171.583 | AW34: 16551.895 | AX34: 4243220.2 | AY34: 2071.994 | AZ34: 0 | BA34: 855.994 | BB34: 0 | BC34: 365 | BD34: 851 | BE34: 4245292.2
B36: Ilość środków oddanych w leasing w | D36: I kwartale 2026
B39: Lp. | C39: Spółka | D39: POJAZDY | E39: Osobowe | F39: osobowe - zeroemisyjne | G39: osobowe - hybryda plug-in | H39: Cięzarowe: | I39: o masie do 3,5 tony | J39: o masie do 3,5 tony - zeroemisyjne | K39: o masie do 3,5 tony - hybryda plug-in | L39: o masie powyzej 3,5 tony | M39: o masie powyżej 3,5 tony - zeroemisyjne | N39: o masie powyżej 3,5 tony - hybryda plug-in | O39: ciagniki siodlowe | P39: ciągniki siodłowe - zeroemisyjne | Q39: ciągniki siodłowe - hybryda plug-in | R39: naczepy / przyczepy | S39: autobusy | T39: autobusy - zeroemisyjne | U39: autobusy - hybryda plug-in | V39: inne | W39: inne - zeroemisyjne | X39: inne - hybryda plug-in | Y39: MiU | Z39: Sprzęt Budowlany | AA39: Maszyny Rolnicze | AB39: Maszyny Poligraf. | AC39: maszyny do produkcji tworzyw sztucznych | AD39: maszyny i urządzenia do obróbki metali | AE39: maszyny dla przemysłu spożywczego | AF39: Sprzęt Medyczny | AG39: Sprzęt Gastronom. | AH39: Wózki Widłowe | AI39: Magazyny energii | AJ39: Pompy ciepła | AK39: fotowoltaika | AL39: wiatraki i turbiny wiatrowe | AM39: stacje ładowania pojazdów elektrycznych (na użytek własny i komercyjny) | AN39: inne MiU | AO39: IT | AP39: Sprzęt | AQ39: Oprogram. | AR39: inne IT | AS39: POZOSTAŁE ŚRODKI TRANSPORTU | AT39: Powietrzne | AU39: Wodne | AV39: Kolejowe | AW39: Inne ruchomości | AX39: RUCHOMOŚCI | AY39: Nieruchomości | AZ39: budynki przemysłowe | BA39: obiekty handlowe i usługowe | BB39: obiekty biurowe | BC39: hotele i obiekty rekreacyjne | BD39: inne | BE39: OGÓŁEM
B40: 1 | C40: Alior Leasing Sp. z o. o. | D40: 611 | E40: 357 | H40: 95 | I40: 77 | L40: 18 | O40: 80 | R40: 68 | S40: 2 | V40: 9 | Y40: 189 | Z40: 37 | AA40: 27 | AB40: 6 | AC40: 1 | AD40: 14 | AE40: 5 | AF40: 71 | AH40: 2 | AK40: 3 | AN40: 23 | AO40: 0 | AS40: 13 | AU40: 13 | AX40: 813 | AY40: 0 | BE40: 813
B41: 2 | C41: BMW Financial Services Polska Sp z o. o. | D41: 3 | E41: 3 | H41: 0 | Y41: 0 | AO41: 0 | AS41: 0 | AX41: 3 | AY41: 0 | BE41: 3
B42: 3 | C42: BNP Paribas Lease Group Sp. z o. o. | D42: 110 | E42: 13 | F42: 1 | G42: 0 | H42: 77 | I42: 42 | J42: 0 | K42: 0 | L42: 35 | M42: 0 | N42: 0 | O42: 7 | P42: 0 | Q42: 0 | R42: 13 | S42: 0 | T42: 0 | U42: 0 | V42: 0 | W42: 0 | X42: 0 | Y42: 1259 | Z42: 22 | AA42: 808 | AB42: 0 | AC42: 0 | AD42: 4 | AE42: 6 | AF42: 391 | AG42: 0 | AH42: 4 | AI42: 0 | AJ42: 0 | AK42: 4 | AL42: 0 | AM42: 0 | AN42: 20 | AO42: 136 | AP42: 6 | AQ42: 130 | AR42: 0 | AS42: 0 | AT42: 0 | AU42: 0 | AV42: 0 | AW42: 0 | AX42: 1505 | AY42: 0 | AZ42: 0 | BA42: 0 | BB42: 0 | BC42: 0 | BD42: 0 | BE42: 1505
B43: 4 | C43: BOŚ LEASING S.A. | D43: 31 | E43: 29 | H43: 2 | I43: 2 | Y43: 1 | AF43: 1 | AO43: 1 | AP43: 1 | AS43: 0 | AX43: 33 | AY43: 0 | BE43: 33
B44: 5 | C44: BPCE Equipment Solutions Polska Sp. z o.o. | D44: 18 | H44: 1 | I44: 1 | O44: 9 | R44: 8 | Y44: 88 | Z44: 9 | AA44: 68 | AH44: 3 | AN44: 8 | AO44: 51 | AP44: 47 | AQ44: 4 | AS44: 2 | AV44: 2 | AX44: 159 | AY44: 0 | BE44: 159
B45: 6 | C45: BPS Leasing S.A. | D45: 5 | E45: 2 | H45: 0 | O45: 3 | Y45: 5 | AA45: 3 | AN45: 2 | AO45: 0 | AS45: 0 | AW45: 1 | AX45: 11 | AY45: 0 | BE45: 11
B46: 7 | C46: Caterpillar Financial Services Poland Sp. z o. o. | D46: 0 | H46: 0 | Y46: 37 | Z46: 37 | AO46: 0 | AS46: 0 | AX46: 37 | AY46: 0 | BE46: 37
...

Sheet leasing I kw 2026
B2: Związek Polskiego Leasingu, Warszawa 12-10-2026
B4: Wartość środków oddanych w leasing w | D4: I kwartale 2026
B6: Lp. | C6: Spółka | D6: POJAZDY | E6: Osobowe | F6: osobowe - zeroemisyjne | G6: osobowe - hybryda plug-in | H6: Cięzarowe: | I6: o masie do 3,5 tony | J6: o masie do 3,5 tony - zeroemisyjne | K6: o masie do 3,5 tony - hybryda plug-in | L6: o masie powyzej 3,5 tony | M6: o masie powyżej 3,5 tony - zeroemisyjne | N6: o masie powyżej 3,5 tony - hybryda plug-in | O6: ciagniki siodlowe | P6: ciągniki siodłowe - zeroemisyjne | Q6: ciągniki siodłowe - hybryda plug-in | R6: naczepy / przyczepy | S6: autobusy | T6: autobusy - zeroemisyjne | U6: autobusy - hybryda plug-in | V6: inne | W6: inne - zeroemisyjne | X6: inne - hybryda plug-in | Y6: MiU | Z6: Sprzęt Budowlany | AA6: Maszyny Rolnicze | AB6: Maszyny Poligraf. | AC6: maszyny do produkcji tworzyw sztucznych | AD6: maszyny i urządzenia do obróbki metali | AE6: maszyny dla przemysłu spożywczego | AF6: Sprzęt Medyczny | AG6: Sprzęt Gastronom. | AH6: Wózki Widłowe | AI6: Magazyny energii | AJ6: Pompy ciepła | AK6: fotowoltaika | AL6: wiatraki i turbiny wiatrowe | AM6: stacje ładowania pojazdów elektrycznych (na użytek własny i komercyjny) | AN6: inne MiU | AO6: IT | AP6: Sprzęt | AQ6: Oprogram. | AR6: inne IT | AS6: POZOSTAŁE ŚRODKI TRANSPORTU | AT6: Powietrzne | AU6: Wodne | AV6: Kolejowe | AW6: Inne ruchomości | AX6: RUCHOMOŚCI | AY6: Nieruchomości | AZ6: budynki przemysłowe | BA6: obiekty handlowe i usługowe | BB6: obiekty biurowe | BC6: hotele i obiekty rekreacyjne | BD6: inne | BE6: OGÓŁEM
B7: 1 | C7: Alior Leasing Sp. z o. o. | D7: 738197.29 | E7: 271099.25 | H7: 159208.01 | I7: 99267.108 | L7: 59940.897 | O7: 173145.63 | R7: 72443.201 | S7: 49352.547 | V7: 12948.655 | Y7: 167586.89 | Z7: 65942.654 | AA7: 27769.768 | AB7: 4310.7097 | AC7: 2321.0402 | AD7: 11447.548 | AE7: 5291.2632 | AF7: 9093.517 | AH7: 5261.2353 | AK7: 272.14259 | AN7: 35877.012 | AO7: 628.0455 | AP7: 628.0455 | AS7: 1132.4117 | AT7: 61.37008 | AU7: 1071.0416 | AX7: 907544.64 | AY7: 0 | BE7: 907544.64
B8: 2 | C8: BMW Financial Services Polska Sp z o. o. | D8: 969447.58 | E8: 947549.21 | F8: 247428.52 | G8: 65230.082 | H8: 0 | V8: 21898.37 | Y8: 0 | AO8: 0 | AS8: 0 | AX8: 969447.58 | AY8: 0 | BE8: 969447.58
B9: 3 | C9: BNP Paribas Lease Group Sp. z o. o. | D9: 569202.78 | E9: 388695.02 | F9: 9879.4085 | G9: 4234.0322 | H9: 103929.04 | I9: 52400.221 | J9: 2674.5218 | K9: 0 | L9: 51528.818 | M9: 4233.3717 | N9: 0 | O9: 26732.484 | P9: 0 | Q9: 0 | R9: 46912.864 | S9: 0 | T9: 0 | U9: 0 | V9: 2933.3685 | W9: 0 | X9: 0 | Y9: 225521.67 | Z9: 47267.507 | AA9: 27246.211 | AB9: 999.5638 | AC9: 7370.1105 | AD9: 2397.3861 | AE9: 5513.0625 | AF9: 3211.56 | AG9: 0 | AH9: 38800.974 | AI9: 76.9 | AJ9: 0 | AK9: 866.35397 | AL9: 0 | AM9: 0 | AN9: 91772.036 | AO9: 33687.671 | AP9: 30759.545 | AQ9: 2928.1262 | AR9: 0 | AS9: 0 | AT9: 0 | AU9: 0 | AV9: 0 | AW9: 0 | AX9: 828412.11 | AY9: 51980.76 | AZ9: 0 | BA9: 51980.76 | BB9: 0 | BC9: 0 | BD9: 0 | BE9: 880392.87
B10: 4 | C10: BOŚ LEASING S.A. | D10: 8233.75 | E10: 4365.3475 | H10: 1501.519 | I10: 763.15448 | L10: 738.3645 | O10: 1045.6235 | R10: 486.31252 | V10: 834.94755 | Y10: 17134.157 | Z10: 3991.4479 | AB10: 4162.2937 | AD10: 1839.9335 | AN10: 7140.4818 | AO10: 3590.55 | AP10: 3590.55 | AS10: 1833.2096 | AV10: 1833.2096 | AX10: 30791.667 | AY10: 0 | BE10: 30791.667
B11: 5 | C11: BPCE Equipment Solutions Polska Sp. z o.o. | D11: 60057.851 | E11: 1020.127 | G11: 341.8374 | H11: 16211.18 | I11: 1632.7693 | J11: 126.9 | L11: 14578.411 | O11: 26434.179 | R11: 13857.275 | V11: 2535.09 | Y11: 59595.02 | Z11: 31784.801 | AA11: 2302.3479 | AB11: 4208.3708 | AD11: 1097.0352 | AE11: 13660.666 | AF11: 626.44444 | AH11: 127.8 | AI11: 285 | AN11: 5502.5547 | AO11: 398.58962 | AP11: 398.58962 | AS11: 21952.257 | AT11: 21952.257 | AX11: 142003.72 | AY11: 0 | BE11: 142003.72
B12: 6 | C12: BPS Leasing S.A. | D12: 58418.52 | E12: 16177.743 | F12: 573.38113 | H12: 8424.1985 | I12: 4466.7465 | J12: 145.99187 | L12: 3957.452 | O12: 13792.341 | R12: 7522.1741 | S12: 9406.0494 | V12: 3096.0138 | Y12: 12252.867 | Z12: 4622.8041 | AA12: 1443.6 | AC12: 194 | AD12: 1185.1553 | AE12: 342.134 | AF12: 1208.7576 | AH12: 131 | AN12: 3125.4157 | AO12: 118.936 | AP12: 118.936 | AS12: 1263.4918 | AT12: 1263.4918 | AW12: 231.623 | AX12: 72285.437 | AY12: 0 | BE12: 72285.437
B13: 7 | C13: Caterpillar Financial Services Poland Sp. z o. o. | D13: 0 | H13: 0 | Y13: 60732.405 | Z13: 60732.405 | AO13: 0 | AS13: 0 | AX13: 60732.405 | AY13: 0 | BE13: 60732.405
B14: 8 | C14: DE LAGE Landen Leasing Polska S.A. | D14: 12113.62 | E14: 0 | H14: 0 | O14: 12113.62 | R14: 0 | Y14: 17428.446 | Z14: 3378.4243 | AA14: 7645.0186 | AF14: 73.83916 | AH14: 6331.1636 | AK14: 0 | AN14: 0 | AO14: 2237.621 | AP14: 2237.621 | AQ14: 0 | AR14: 0 | AS14: 0 | AX14: 31779.687 | AY14: 0 | BE14: 31779.687
B15: 9 | C15: Deutsche Leasing Polska S.A. | D15: 14213 | E15: 764 | H15: 33 | I15: 33 | O15: 2338 | R15: 11078 | Y15: 206328 | Z15: 3938 | AA15: 5644 | AB15: 4112 | AD15: 7409 | AE15: 43034 | AF15: 240 | AH15: 19120 | AN15: 122831 | AO15: 0 | AS15: 0 | AX15: 220541 | AY15: 0 | BE15: 220541
B16: 10 | C16: Europejski Fundusz Leasingowy S.A. | D16: 1685483.6 | E16: 672664.08 | F16: 27854.459 | G16: 12375.582 | H16: 386522.82 | I16: 179314.29 | J16: 2720.7876 | K16: 191.9 | L16: 207208.53 | M16: 335 | O16: 389820.08 | R16: 167169.16 | S16: 55226.982 | V16: 14080.462 | W16: 23.57724 | Y16: 521560.96 | Z16: 201675.94 | AA16: 94194.011 | AB16: 6206.1587 | AC16: 7423.6125 | AD16: 22348.582 | AE16: 7217.8458 | AF16: 7734.2093 | AG16: 27343.473 | AH16: 14270.362 | AI16: 384.43787 | AJ16: 54.4 | AK16: 1512.1379 | AM16: 207 | AN16: 130988.79 | AO16: 18848.945 | AP16: 8932.1298 | AQ16: 6234.7348 | AR16: 3682.0808 | AS16: 10875.661 | AT16: 8296.313 | AU16: 2579.3478 | AX16: 2236769.1 | AY16: 0 | BE16: 2236769.1
B17: 11 | C17: Impuls-Leasing Polska Sp. z o. o. | D17: 238105.33 | E17: 116938.11 | F17: 4131.18 | G17: 49137.39 | H17: 33512.32 | I17: 20102.06 | J17: 622.52 | K17: 186.18 | L17: 13410.26 | M17: 395 | O17: 60053.94 | R17: 20536.09 | S17: 4176.14 | V17: 2888.73 | Y17: 45533.03 | Z17: 14134.88 | AA17: 5524.1 | AB17: 1222.52 | AD17: 5473.82 | AF17: 1016.67 | AG17: 2168.06 | AH17: 1650.93 | AK17: 25.93 | AN17: 14316.12 | AO17: 224.79 | AP17: 224.79 | AS17: 185.4 | AU17: 185.4 | AX17: 284048.55 | AY17: 0 | BE17: 284048.55
B18: 12 | C18: ING Lease (Polska) Sp. z o. o. | D18: 823179 | E18: 358422 | F18: 11977 | G18: 14896 | H18: 228480 | I18: 110209 | J18: 701 | K18: 620 | L18: 118271 | M18: 0 | N18: 0 | O18: 140570 | P18: 0 | Q18: 0 | R18: 66485 | S18: 16750 | T18: 0 | U18: 0 | V18: 12472 | W18: 223 | X18: 0 | Y18: 397345 | Z18: 47291 | AA18: 10167 | AB18: 7583 | AC18: 14905 | AD18: 66226 | AE18: 28010 | AF18: 15825 | AG18: 20638 | AH18: 28087 | AI18: 1573 | AJ18: 47 | AK18: 2039 | AL18: 0 | AM18: 121 | AN18: 154833 | AO18: 6981 | AP18: 6981 | AQ18: 0 | AR18: 0 | AS18: 46603 | AT18: 0 | AU18: 0 | AV18: 46603 | AW18: 22078 | AX18: 1296186 | AY18: 0 | AZ18: 0 | BA18: 0 | BB18: 0 | BC18: 0 | BD18: 0 | BE18: 1296186
B19: 13 | C19: Leasing Polski Sp. z o. o. | D19: 53367.268 | E19: 10758.533 | G19: 2327.9122 | H19: 12653.816 | I19: 5304.8641 | L19: 7348.952 | O19: 12525.723 | R19: 6316.1355 | S19: 1680.5996 | V19: 9432.4607 | Y19: 16684.857 | Z19: 9296.0825 | AA19: 5840.224 | AH19: 52.55 | AN19: 1496 | AO19: 0 | AS19: 0 | AX19: 70052.124 | AY19: 240 | BC19: 240 | BE19: 70292.124
B20: 14 | C20: Mercedes-Benz Leasing Polska Sp. z o.o. | D20: 722395.16 | E20: 651536.32 | F20: 96531.597 | G20: 55724.599 | H20: 67724.209 | I20: 66884.084 | J20: 1548.5909 | L20: 840.12482 | S20: 2532.601 | V20: 602.0289 | Y20: 0 | AO20: 0 | AS20: 0 | AX20: 722395.16 | AY20: 0 | BE20: 722395.16
B21: 15 | C21: Millennium Leasing Sp. z o. o. | D21: 658088.96 | E21: 235801.35 | F21: 13001.997 | G21: 1944.563 | H21: 130501.04 | I21: 64477.181 | J21: 594.75482 | K21: 183.44999 | L21: 66023.854 | M21: 794.78 | N21: 0 | O21: 192143.52 | P21: 0 | Q21: 0 | R21: 60455.183 | S21: 24469.725 | T21: 1142.1 | U21: 0 | V21: 14718.15 | W21: 0 | X21: 0 | Y21: 294523.92 | Z21: 69998.289 | AA21: 3610.1761 | AB21: 16417.98 | AC21: 41255.083 | AD21: 0 | AE21: 30119.649 | AF21: 5428.4482 | AG21: 3010.0557 | AH21: 22552.394 | AI21: 64 | AJ21: 395.76 | AK21: 15195.63 | AL21: 0 | AM21: 306.9 | AN21: 86169.557 | AO21: 8915.6929 | AP21: 8884.6929 | AQ21: 31 | AR21: 0 | AS21: 6722.5481 | AT21: 503.62853 | AU21: 2782.9196 | AV21: 3436 | AW21: 0 | AX21: 968251.13 | AY21: 7275 | AZ21: 0 | BA21: 0 | BB21: 0 | BC21: 0 | BD21: 7275 | BE21: 975526.13
B22: 16 | C22: mLeasing Sp. z o. o. | D22: 1489281.1 | E22: 1064608.2 | F22: 24256.374 | G22: 185726.1 | H22: 194436.36 | I22: 87340.73 | J22: 867.745 | K22: 372.65 | L22: 107095.63 | M22: 0 | N22: 0 | O22: 120309.1 | P22: 524.7257 | Q22: 0 | R22: 28211.38 | S22: 74131.1 | T22: 0 | U22: 0 | V22: 7585.044 | W22: 3045.7028 | X22: 0 | Y22: 307260.31 | Z22: 60249.573 | AA22: 8293.395 | AB22: 4980.37 | AC22: 12195.83 | AD22: 24912.263 | AE22: 21232.25 | AF22: 7632.996 | AG22: 15681.31 | AH22: 28804.613 | AI22: 3515.49 | AJ22: 0 | AK22: 3365.186 | AL22: 0 | AM22: 352.9 | AN22: 116044.14 | AO22: 24507.947 | AP22: 23368.448 | AQ22: 705.399 | AR22: 434.1 | AS22: 74137.13 | AT22: 30586.05 | AU22: 43551.08 | AV22: 0 | AW22: 13704.7 | AX22: 1908891.2 | AY22: 0 | BE22: 1908891.2
B23: 17 | C23: NEST LEASE SPÓŁKA AKCYJNA | D23: 204244.42 | E23: 58439.765 | H23: 39662.804 | I23: 14743.67 | L23: 24919.134 | O23: 54934.261 | R23: 21022.029 | S23: 18116.689 | V23: 12068.87 | Y23: 71310.197 | Z23: 33109.302 | AA23: 13737.366 | AB23: 260.2 | AC23: 447.12225 | AD23: 1682.4004 | AE23: 263.10387 | AF23: 2926.5007 | AG23: 0 | AH23: 1574.1973 | AI23: 0 | AJ23: 0 | AK23: 0 | AL23: 0 | AM23: 0 | AN23: 17310.004 | AO23: 0 | AP23: 0 | AQ23: 0 | AR23: 0 | AS23: 548.83751 | AT23: 0 | AU23: 548.83751 | AV23: 0 | AW23: 0 | AX23: 276103.45 | AY23: 0 | BE23: 276103.45
B24: 18 | C24: PEAC (Poland) Sp. z o. o. | D24: 4731 | E24: 348 | H24: 0 | R24: 4334 | V24: 49 | Y24: 11062 | Z24: 117 | AA24: 674 | AB24: 2 | AE24: 2205 | AF24: 1695 | AH24: 13 | AN24: 6356 | AO24: 0 | AS24: 0 | AX24: 15793 | AY24: 0 | BE24: 15793
B25: 19 | C25: PEKAO Leasing Sp. z o.o. | D25: 1124495 | E25: 452322.86 | F25: 7649.721 | G25: 14001.675 | H25: 135642.61 | I25: 66071.232 | J25: 891.80627 | K25: 676.8935 | L25: 69571.375 | M25: 1715 | N25: 0 | O25: 249861.17 | P25: 0 | Q25: 0 | R25: 91190.932 | S25: 175492.4 | T25: 0 | U25: 0 | V25: 19985.079 | W25: 16.26016 | X25: 0 | Y25: 354158.39 | Z25: 65219.134 | AA25: 12972.814 | AB25: 9452.7505 | AC25: 18612.948 | AD25: 50109.452 | AE25: 14721.339 | AF25: 5031.5447 | AG25: 4952.4422 | AH25: 21386.662 | AI25: 57 | AJ25: 0 | AK25: 3356.5796 | AL25: 0 | AM25: 0 | AN25: 148285.73 | AO25: 22673.62 | AP25: 10411.393 | AQ25: 369.0229 | AR25: 11893.204 | AS25: 14284.659 | AT25: 1550.9585 | AU25: 10983.701 | AV25: 1750 | AW25: 28571.599 | AX25: 1544183.3 | AY25: 0 | AZ25: 0 | BA25: 0 | BB25: 0 | BC25: 0 | BD25: 0 | BE25: 1544183.3
B26: 20 | C26: PKO Leasing S.A. | D26: 2530413.6 | E26: 1509565.9 | F26: 101838.63 | G26: 64282.357 | H26: 460716.08 | I26: 279498.8 | J26: 5392.9058 | K26: 2736.4924 | L26: 181217.28 | M26: 2578.9949 | O26: 313923.53 | P26: 760.878 | R26: 148619.57 | S26: 76345.046 | V26: 21243.578 | W26: 117.18429 | Y26: 512265.25 | Z26: 131831.96 | AA26: 66081.606 | AB26: 12194.758 | AC26: 12545.131 | AD26: 64587.242 | AE26: 21228.571 | AF26: 22077.498 | AG26: 4623.1739 | AH26: 26416.271 | AI26: 356.76527 | AJ26: 129.68712 | AK26: 1408.6512 | AM26: 520.68938 | AN26: 148263.24 | AO26: 20755.388 | AP26: 14012.61 | AQ26: 19.24 | AR26: 6723.5378 | AS26: 28319.639 | AT26: 14878.993 | AU26: 1720.1354 | AV26: 11720.511 | AX26: 3091753.9 | AY26: 0 | BE26: 3091753.9
B27: 21 | C27: Santander Consumer Multirent Sp. z o.o. | D27: 641437.84 | E27: 558868.44 | H27: 72696.622 | I27: 72696.622 | S27: 624.68049 | V27: 9248.0978 | Y27: 0 | AO27: 0 | AS27: 0 | AX27: 641437.84 | AY27: 0 | BE27: 641437.84
B28: 22 | C28: Santander Leasing S.A. | D28: 851210.66 | E28: 455049.6 | F28: 15644.734 | G28: 6589.25 | H28: 174575.05 | I28: 125696.52 | J28: 2047.922 | K28: 2185.802 | L28: 48878.528 | M28: 0 | N28: 0 | O28: 137252.15 | P28: 0 | Q28: 0 | R28: 58522.491 | S28: 20718.143 | T28: 0 | U28: 0 | V28: 5093.232 | W28: 19.35 | X28: 0 | Y28: 285010.14 | Z28: 53375.592 | AA28: 29091.022 | AB28: 18226.919 | AC28: 15753.006 | AD28: 17780.678 | AE28: 2537.279 | AF28: 7792.586 | AG28: 2815.464 | AH28: 9901.261 | AI28: 3622.423 | AJ28: 73.9 | AK28: 5163.797 | AL28: 0 | AM28: 0 | AN28: 118876.22 | AO28: 6881.318 | AP28: 6881.318 | AQ28: 0 | AR28: 0 | AS28: 321.06 | AT28: 82.684 | AU28: 165.294 | AV28: 73.082 | AW28: 0 | AX28: 1143423.2 | AY28: 0 | AZ28: 0 | BA28: 0 | BB28: 0 | BC28: 0 | BD28: 0 | BE28: 1143423.2
B29: 23 | C29: Scania Finance Polska Sp. z o. o. | D29: 210342 | E29: 322 | H29: 28700 | I29: 1020 | L29: 27680 | O29: 162194 | P29: 1573 | R29: 13943 | S29: 5183 | Y29: 0 | AO29: 0 | AS29: 0 | AX29: 210342 | AY29: 0 | BE29: 210342
B30: 24 | C30: SGB Leasing Sp. z o. o. | D30: 12924 | E30: 5411 | F30: 177 | G30: 1814 | H30: 1816 | I30: 1401 | L30: 415 | O30: 2151 | R30: 1004 | S30: 890 | U30: 640 | V30: 1652 | Y30: 8794 | Z30: 2438 | AA30: 3155 | AC30: 827 | AE30: 300 | AH30: 120 | AN30: 1954 | AO30: 0 | AS30: 0 | AX30: 21718 | AY30: 0 | BE30: 21718
B31: 25 | C31: Siemens Finance Sp. z o. o. | D31: 2456 | E31: 403 | F31: 290 | G31: 0 | H31: 1226 | I31: 0 | J31: 0 | K31: 0 | L31: 1226 | M31: 0 | N31: 0 | O31: 405 | P31: 0 | Q31: 0 | R31: 422 | S31: 0 | T31: 0 | U31: 0 | V31: 0 | Y31: 58462 | Z31: 10087 | AA31: 5639 | AB31: 3891 | AC31: 2273 | AD31: 9937 | AE31: 0 | AF31: 248 | AG31: 0 | AH31: 251 | AI31: 0 | AJ31: 0 | AK31: 0 | AL31: 0 | AM31: 0 | AN31: 26136 | AO31: 13332 | AP31: 13332 | AQ31: 0 | AR31: 0 | AS31: 0 | AT31: 0 | AU31: 0 | AV31: 0 | AX31: 74250 | AY31: 0 | BE31: 74250
B32: 26 | C32: VEHIS FINANSE Sp. z o.o. | D32: 662873.78 | E32: 562504.27 | F32: 17080.79 | G32: 71038.79 | H32: 100369.51 | I32: 100369.51 | J32: 1949.25 | K32: 541.62 | Y32: 0 | AO32: 0 | AS32: 0 | AX32: 662873.78 | AY32: 0 | BE32: 662873.78
B33: 27 | C33: VELOLEASING SPÓŁKA AKCYJNA | D33: 79026 | E33: 67801 | H33: 1189 | L33: 1189 | O33: 4241 | R33: 1667 | V33: 4128 | Y33: 0 | AO33: 0 | AS33: 0 | AX33: 79026 | AY33: 0 | BE33: 79026
B34: 28 | C34: Razem | D34: 14423939 | E34: 8411435 | F34: 578314.79 | G34: 549664.17 | H34: 2359731.2 | I34: 1353692.6 | J34: 20284.696 | K34: 7694.9879 | L34: 1006038.6 | M34: 10052.147 | N34: 0 | O34: 2095986.4 | P34: 2858.6037 | Q34: 0 | R34: 842197.79 | S34: 535095.7 | T34: 1142.1 | U34: 640 | V34: 179493.18 | W34: 3445.0745 | X34: 0 | Y34: 3650549.5 | Z34: 920481.8 | AA34: 331030.66 | AB34: 98230.593 | AC34: 136122.88 | AD34: 288433.5 | AE34: 195676.16 | AF34: 91862.572 | AG34: 81231.979 | AH34: 224852.41 | AI34: 9935.0161 | AJ34: 700.74712 | AK34: 33205.409 | AL34: 0 | AM34: 1508.4894 | AN34: 1237277.3 | AO34: 163782.11 | AP34: 130761.67 | AQ34: 10287.523 | AR34: 22732.922 | AS34: 208179.3 | AT34: 79175.746 | AU34: 63587.757 | AV34: 65415.803 | AW34: 64585.922 | AX34: 18511036 | AY34: 59495.76 | AZ34: 0 | BA34: 51980.76 | BB34: 0 | BC34: 240 | BD34: 7275 | BE34: 18570532
B36: Ilość środków oddanych w leasing w | D36: I kwartale 2026
B39: Lp. | C39: Spółka | D39: POJAZDY | E39: Osobowe | F39: osobowe - zeroemisyjne | G39: osobowe - hybryda plug-in | H39: Cięzarowe: | I39: o masie do 3,5 tony | J39: o masie do 3,5 tony - zeroemisyjne | K39: o masie do 3,5 tony - hybryda plug-in | L39: o masie powyzej 3,5 tony | M39: o masie powyżej 3,5 tony - zeroemisyjne | N39: o masie powyżej 3,5 tony - hybryda plug-in | O39: ciagniki siodlowe | P39: ciągniki siodłowe - zeroemisyjne | Q39: ciągniki siodłowe - hybryda plug-in | R39: naczepy / przyczepy | S39: autobusy | T39: autobusy - zeroemisyjne | U39: autobusy - hybryda plug-in | V39: inne | W39: inne - zeroemisyjne | X39: inne - hybryda plug-in | Y39: MiU | Z39: Sprzęt Budowlany | AA39: Maszyny Rolnicze | AB39: Maszyny Poligraf. | AC39: maszyny do produkcji tworzyw sztucznych | AD39: maszyny i urządzenia do obróbki metali | AE39: maszyny dla przemysłu spożywczego | AF39: Sprzęt Medyczny | AG39: Sprzęt Gastronom. | AH39: Wózki Widłowe | AI39: Magazyny energii | AJ39: Pompy ciepła | AK39: fotowoltaika | AL39: wiatraki i turbiny wiatrowe | AM39: stacje ładowania pojazdów elektrycznych (na użytek własny i komercyjny) | AN39: inne MiU | AO39: IT | AP39: Sprzęt | AQ39: Oprogram. | AR39: inne IT | AS39: POZOSTAŁE ŚRODKI TRANSPORTU | AT39: Powietrzne | AU39: Wodne | AV39: Kolejowe | AW39: Inne ruchomości | AX39: RUCHOMOŚCI | AY39: Nieruchomości | AZ39: budynki przemysłowe | BA39: obiekty handlowe i usługowe | BB39: obiekty biurowe | BC39: hotele i obiekty rekreacyjne | BD39: inne | BE39: OGÓŁEM
B40: 1 | C40: Alior Leasing Sp. z o. o. | D40: 5237 | E40: 2176 | H40: 1316 | I40: 1063 | L40: 253 | O40: 907 | R40: 638 | S40: 122 | V40: 78 | Y40: 1384 | Z40: 463 | AA40: 145 | AB40: 42 | AC40: 19 | AD40: 87 | AE40: 59 | AF40: 179 | AH40: 69 | AK40: 5 | AN40: 316 | AO40: 16 | AP40: 16 | AS40: 9 | AT40: 1 | AU40: 8 | AX40: 6646 | AY40: 0 | BE40: 6646
B41: 2 | C41: BMW Financial Services Polska Sp z o. o. | D41: 4707 | E41: 4445 | F41: 1415 | G41: 190 | H41: 0 | V41: 262 | Y41: 0 | AO41: 0 | AS41: 0 | AX41: 4707 | AY41: 0 | BE41: 4707
B42: 3 | C42: BNP Paribas Lease Group Sp. z o. o. | D42: 3960 | E42: 3223 | F42: 69 | G42: 30 | H42: 524 | I42: 369 | J42: 19 | K42: 0 | L42: 155 | M42: 7 | N42: 0 | O42: 77 | P42: 0 | Q42: 0 | R42: 90 | S42: 0 | T42: 0 | U42: 0 | V42: 46 | W42: 0 | X42: 0 | Y42: 883 | Z42: 168 | AA42: 78 | AB42: 5 | AC42: 8 | AD42: 12 | AE42: 81 | AF42: 72 | AG42: 0 | AH42: 367 | AI42: 1 | AJ42: 0 | AK42: 3 | AL42: 0 | AM42: 0 | AN42: 88 | AO42: 119 | AP42: 96 | AQ42: 23 | AR42: 0 | AS42: 0 | AT42: 0 | AU42: 0 | AV42: 0 | AW42: 0 | AX42: 4962 | AY42: 1 | AZ42: 0 | BA42: 1 | BB42: 0 | BC42: 0 | BD42: 0 | BE42: 4963
B43: 4 | C43: BOŚ LEASING S.A. | D43: 63 | E43: 43 | H43: 9 | I43: 7 | L43: 2 | O43: 5 | R43: 3 | V43: 3 | Y43: 58 | Z43: 6 | AB43: 8 | AD43: 2 | AN43: 42 | AO43: 4 | AP43: 4 | AS43: 10 | AV43: 10 | AX43: 135 | AY43: 0 | BE43: 135
B44: 5 | C44: BPCE Equipment Solutions Polska Sp. z o.o. | D44: 212 | E44: 6 | G44: 1 | H44: 40 | I44: 11 | J44: 1 | L44: 29 | O44: 80 | R44: 84 | V44: 2 | Y44: 146 | Z44: 98 | AA44: 10 | AB44: 2 | AD44: 1 | AE44: 1 | AF44: 3 | AH44: 2 | AI44: 3 | AN44: 26 | AO44: 2 | AP44: 2 | AS44: 6 | AT44: 6 | AX44: 366 | AY44: 0 | BE44: 366
B45: 6 | C45: BPS Leasing S.A. | D45: 325 | E45: 129 | F45: 8 | H45: 50 | I45: 40 | J45: 1 | L45: 10 | O45: 54 | R45: 66 | S45: 17 | V45: 9 | Y45: 55 | Z45: 18 | AA45: 7 | AC45: 1 | AD45: 3 | AE45: 6 | AF45: 3 | AH45: 1 | AN45: 16 | AO45: 2 | AP45: 2 | AS45: 1 | AT45: 1 | AW45: 2 | AX45: 385 | AY45: 0 | BE45: 385
B46: 7 | C46: Caterpillar Financial Services Poland Sp. z o. o. | D46: 0 | H46: 0 | Y46: 105 | Z46: 105 | AO46: 0 | AS46: 0 | AX46: 105 | AY46: 0 | BE46: 105
...

Sheet pożyczki&leasing I kw 2026
B2: Związek Polskiego Leasingu, Warszawa 12-10-2026
B4: Wartość środków oddanych w leasing w | D4: I kwartale 2026
B6: Lp. | C6: Spółka | D6: POJAZDY | E6: Osobowe | F6: osobowe - zeroemisyjne | G6: osobowe - hybryda plug-in | H6: Cięzarowe: | I6: o masie do 3,5 tony | J6: o masie do 3,5 tony - zeroemisyjne | K6: o masie do 3,5 tony - hybryda plug-in | L6: o masie powyzej 3,5 tony | M6: o masie powyżej 3,5 tony - zeroemisyjne | N6: o masie powyżej 3,5 tony - hybryda plug-in | O6: ciagniki siodlowe | P6: ciągniki siodłowe - zeroemisyjne | Q6: ciągniki siodłowe - hybryda plug-in | R6: naczepy / przyczepy | S6: autobusy | T6: autobusy - zeroemisyjne | U6: autobusy - hybryda plug-in | V6: inne | W6: inne - zeroemisyjne | X6: inne - hybryda plug-in | Y6: MiU | Z6: Sprzęt Budowlany | AA6: Maszyny Rolnicze | AB6: Maszyny Poligraf. | AC6: maszyny do produkcji tworzyw sztucznych | AD6: maszyny i urządzenia do obróbki metali | AE6: maszyny dla przemysłu spożywczego | AF6: Sprzęt Medyczny | AG6: Sprzęt Gastronom. | AH6: Wózki Widłowe | AI6: Magazyny energii | AJ6: Pompy ciepła | AK6: fotowoltaika | AL6: wiatraki i turbiny wiatrowe | AM6: stacje ładowania pojazdów elektrycznych (na użytek własny i komercyjny) | AN6: inne MiU | AO6: IT | AP6: Sprzęt | AQ6: Oprogram. | AR6: inne IT | AS6: POZOSTAŁE ŚRODKI TRANSPORTU | AT6: Powietrzne | AU6: Wodne | AV6: Kolejowe | AW6: Inne ruchomości | AX6: RUCHOMOŚCI | AY6: Nieruchomości | AZ6: budynki przemysłowe | BA6: obiekty handlowe i usługowe | BB6: obiekty biurowe | BC6: hotele i obiekty rekreacyjne | BD6: inne | BE6: OGÓŁEM
B7: 1 | C7: Alior Leasing Sp. z o. o. | D7: ='leasing I kw 2026'!D7+'pozyczki I kw 2026'!D7 -> 808013.48 | E7: ='pozyczki I kw 2026'!E7+'leasing I kw 2026'!E7 -> 312395.35 | F7: ='pozyczki I kw 2026'!F7+'leasing I kw 2026'!F7 -> 0 | G7: ='pozyczki I kw 2026'!G7+'leasing I kw 2026'!G7 -> 0 | H7: ='pozyczki I kw 2026'!H7+'leasing I kw 2026'!H7 -> 167883.08 | I7: ='pozyczki I kw 2026'!I7+'leasing I kw 2026'!I7 -> 104886.57 | J7: ='pozyczki I kw 2026'!J7+'leasing I kw 2026'!J7 -> 0 | K7: ='pozyczki I kw 2026'!K7+'leasing I kw 2026'!K7 -> 0 | L7: ='pozyczki I kw 2026'!L7+'leasing I kw 2026'!L7 -> 62996.512 | ... BE7: ='pozyczki I kw 2026'!BE7+'leasing I kw 2026'!BE7 -> 1020423.5
B8: 2 | C8: BMW Financial Services Polska Sp z o. o. | D8: ='leasing I kw 2026'!D8+'pozyczki I kw 2026'!D8 -> 970451.34 | E8: ='pozyczki I kw 2026'!E8+'leasing I kw 2026'!E8 -> 948552.97 | F8: ='pozyczki I kw 2026'!F8+'leasing I kw 2026'!F8 -> 247428.52 | G8: ='pozyczki I kw 2026'!G8+'leasing I kw 2026'!G8 -> 65230.082 | H8: ='pozyczki I kw 2026'!H8+'leasing I kw 2026'!H8 -> 0 | I8: ='pozyczki I kw 2026'!I8+'leasing I kw 2026'!I8 -> 0 | J8: ='pozyczki I kw 2026'!J8+'leasing I kw 2026'!J8 -> 0 | K8: ='pozyczki I kw 2026'!K8+'leasing I kw 2026'!K8 -> 0 | L8: ='pozyczki I kw 2026'!L8+'leasing I kw 2026'!L8 -> 0 | ... BE8: ='pozyczki I kw 2026'!BE8+'leasing I kw 2026'!BE8 -> 970451.34
B9: 3 | C9: BNP Paribas Lease Group Sp. z o. o. | D9: ='leasing I kw 2026'!D9+'pozyczki I kw 2026'!D9 -> 596809.94 | E9: ='pozyczki I kw 2026'!E9+'leasing I kw 2026'!E9 -> 391661.18 | F9: ='pozyczki I kw 2026'!F9+'leasing I kw 2026'!F9 -> 9979.4085 | G9: ='pozyczki I kw 2026'!G9+'leasing I kw 2026'!G9 -> 4234.0322 | H9: ='pozyczki I kw 2026'!H9+'leasing I kw 2026'!H9 -> 122966.88 | I9: ='pozyczki I kw 2026'!I9+'leasing I kw 2026'!I9 -> 59568.585 | J9: ='pozyczki I kw 2026'!J9+'leasing I kw 2026'!J9 -> 2674.5218 | K9: ='pozyczki I kw 2026'!K9+'leasing I kw 2026'!K9 -> 0 | L9: ='pozyczki I kw 2026'!L9+'leasing I kw 2026'!L9 -> 63398.298 | ... BE9: ='pozyczki I kw 2026'!BE9+'leasing I kw 2026'!BE9 -> 1291360.3
B10: 4 | C10: BOŚ LEASING S.A. | D10: ='leasing I kw 2026'!D10+'pozyczki I kw 2026'!D10 -> 11799.748 | E10: ='pozyczki I kw 2026'!E10+'leasing I kw 2026'!E10 -> 7585.1794 | F10: ='pozyczki I kw 2026'!F10+'leasing I kw 2026'!F10 -> 0 | G10: ='pozyczki I kw 2026'!G10+'leasing I kw 2026'!G10 -> 0 | H10: ='pozyczki I kw 2026'!H10+'leasing I kw 2026'!H10 -> 1847.6853 | I10: ='pozyczki I kw 2026'!I10+'leasing I kw 2026'!I10 -> 1109.3208 | J10: ='pozyczki I kw 2026'!J10+'leasing I kw 2026'!J10 -> 0 | K10: ='pozyczki I kw 2026'!K10+'leasing I kw 2026'!K10 -> 0 | L10: ='pozyczki I kw 2026'!L10+'leasing I kw 2026'!L10 -> 738.3645 | ... BE10: ='pozyczki I kw 2026'!BE10+'leasing I kw 2026'!BE10 -> 35847.892
B11: 5 | C11: BPCE Equipment Solutions Polska Sp. z o.o. | D11: ='leasing I kw 2026'!D11+'pozyczki I kw 2026'!D11 -> 64800.638 | E11: ='pozyczki I kw 2026'!E11+'leasing I kw 2026'!E11 -> 1020.127 | F11: ='pozyczki I kw 2026'!F11+'leasing I kw 2026'!F11 -> 0 | G11: ='pozyczki I kw 2026'!G11+'leasing I kw 2026'!G11 -> 341.8374 | H11: ='pozyczki I kw 2026'!H11+'leasing I kw 2026'!H11 -> 17097.53 | I11: ='pozyczki I kw 2026'!I11+'leasing I kw 2026'!I11 -> 2519.1197 | J11: ='pozyczki I kw 2026'!J11+'leasing I kw 2026'!J11 -> 126.9 | K11: ='pozyczki I kw 2026'!K11+'leasing I kw 2026'!K11 -> 0 | L11: ='pozyczki I kw 2026'!L11+'leasing I kw 2026'!L11 -> 14578.411 | ... BE11: ='pozyczki I kw 2026'!BE11+'leasing I kw 2026'!BE11 -> 240166.92
B12: 6 | C12: BPS Leasing S.A. | D12: ='leasing I kw 2026'!D12+'pozyczki I kw 2026'!D12 -> 60100.733 | E12: ='pozyczki I kw 2026'!E12+'leasing I kw 2026'!E12 -> 16333.263 | F12: ='pozyczki I kw 2026'!F12+'leasing I kw 2026'!F12 -> 573.38113 | G12: ='pozyczki I kw 2026'!G12+'leasing I kw 2026'!G12 -> 0 | H12: ='pozyczki I kw 2026'!H12+'leasing I kw 2026'!H12 -> 8424.1985 | I12: ='pozyczki I kw 2026'!I12+'leasing I kw 2026'!I12 -> 4466.7465 | J12: ='pozyczki I kw 2026'!J12+'leasing I kw 2026'!J12 -> 145.99187 | K12: ='pozyczki I kw 2026'!K12+'leasing I kw 2026'!K12 -> 0 | L12: ='pozyczki I kw 2026'!L12+'leasing I kw 2026'!L12 -> 3957.452 | ... BE12: ='pozyczki I kw 2026'!BE12+'leasing I kw 2026'!BE12 -> 75149.131
B13: 7 | C13: Caterpillar Financial Services Poland Sp. z o. o. | D13: ='leasing I kw 2026'!D13+'pozyczki I kw 2026'!D13 -> 0 | E13: ='pozyczki I kw 2026'!E13+'leasing I kw 2026'!E13 -> 0 | F13: ='pozyczki I kw 2026'!F13+'leasing I kw 2026'!F13 -> 0 | G13: ='pozyczki I kw 2026'!G13+'leasing I kw 2026'!G13 -> 0 | H13: ='pozyczki I kw 2026'!H13+'leasing I kw 2026'!H13 -> 0 | I13: ='pozyczki I kw 2026'!I13+'leasing I kw 2026'!I13 -> 0 | J13: ='pozyczki I kw 2026'!J13+'leasing I kw 2026'!J13 -> 0 | K13: ='pozyczki I kw 2026'!K13+'leasing I kw 2026'!K13 -> 0 | L13: ='pozyczki I kw 2026'!L13+'leasing I kw 2026'!L13 -> 0 | ... BE13: ='pozyczki I kw 2026'!BE13+'leasing I kw 2026'!BE13 -> 87151.94
B14: 8 | C14: DE LAGE Landen Leasing Polska S.A. | D14: ='leasing I kw 2026'!D14+'pozyczki I kw 2026'!D14 -> 15047.762 | E14: ='pozyczki I kw 2026'!E14+'leasing I kw 2026'!E14 -> 0 | F14: ='pozyczki I kw 2026'!F14+'leasing I kw 2026'!F14 -> 0 | G14: ='pozyczki I kw 2026'!G14+'leasing I kw 2026'!G14 -> 0 | H14: ='pozyczki I kw 2026'!H14+'leasing I kw 2026'!H14 -> 0 | I14: ='pozyczki I kw 2026'!I14+'leasing I kw 2026'!I14 -> 0 | J14: ='pozyczki I kw 2026'!J14+'leasing I kw 2026'!J14 -> 0 | K14: ='pozyczki I kw 2026'!K14+'leasing I kw 2026'!K14 -> 0 | L14: ='pozyczki I kw 2026'!L14+'leasing I kw 2026'!L14 -> 0 | ... BE14: ='pozyczki I kw 2026'!BE14+'leasing I kw 2026'!BE14 -> 252636.77
B15: 9 | C15: Deutsche Leasing Polska S.A. | D15: ='leasing I kw 2026'!D15+'pozyczki I kw 2026'!D15 -> 24458 | E15: ='pozyczki I kw 2026'!E15+'leasing I kw 2026'!E15 -> 764 | F15: ='pozyczki I kw 2026'!F15+'leasing I kw 2026'!F15 -> 0 | G15: ='pozyczki I kw 2026'!G15+'leasing I kw 2026'!G15 -> 0 | H15: ='pozyczki I kw 2026'!H15+'leasing I kw 2026'!H15 -> 33 | I15: ='pozyczki I kw 2026'!I15+'leasing I kw 2026'!I15 -> 33 | J15: ='pozyczki I kw 2026'!J15+'leasing I kw 2026'!J15 -> 0 | K15: ='pozyczki I kw 2026'!K15+'leasing I kw 2026'!K15 -> 0 | L15: ='pozyczki I kw 2026'!L15+'leasing I kw 2026'!L15 -> 0 | ... BE15: ='pozyczki I kw 2026'!BE15+'leasing I kw 2026'!BE15 -> 262119
B16: 10 | C16: Europejski Fundusz Leasingowy S.A. | D16: ='leasing I kw 2026'!D16+'pozyczki I kw 2026'!D16 -> 1745234.1 | E16: ='pozyczki I kw 2026'!E16+'leasing I kw 2026'!E16 -> 700257.55 | F16: ='pozyczki I kw 2026'!F16+'leasing I kw 2026'!F16 -> 28103.886 | G16: ='pozyczki I kw 2026'!G16+'leasing I kw 2026'!G16 -> 12375.582 | H16: ='pozyczki I kw 2026'!H16+'leasing I kw 2026'!H16 -> 395574.9 | I16: ='pozyczki I kw 2026'!I16+'leasing I kw 2026'!I16 -> 185547.96 | J16: ='pozyczki I kw 2026'!J16+'leasing I kw 2026'!J16 -> 2720.7876 | K16: ='pozyczki I kw 2026'!K16+'leasing I kw 2026'!K16 -> 191.9 | L16: ='pozyczki I kw 2026'!L16+'leasing I kw 2026'!L16 -> 210026.94 | ... BE16: ='pozyczki I kw 2026'!BE16+'leasing I kw 2026'!BE16 -> 2488582.6
B17: 11 | C17: Impuls-Leasing Polska Sp. z o. o. | D17: ='leasing I kw 2026'!D17+'pozyczki I kw 2026'!D17 -> 299812.13 | E17: ='pozyczki I kw 2026'!E17+'leasing I kw 2026'!E17 -> 147728.5 | F17: ='pozyczki I kw 2026'!F17+'leasing I kw 2026'!F17 -> 7087.65 | G17: ='pozyczki I kw 2026'!G17+'leasing I kw 2026'!G17 -> 63166.93 | H17: ='pozyczki I kw 2026'!H17+'leasing I kw 2026'!H17 -> 38581.79 | I17: ='pozyczki I kw 2026'!I17+'leasing I kw 2026'!I17 -> 22134.55 | J17: ='pozyczki I kw 2026'!J17+'leasing I kw 2026'!J17 -> 667.02 | K17: ='pozyczki I kw 2026'!K17+'leasing I kw 2026'!K17 -> 186.18 | L17: ='pozyczki I kw 2026'!L17+'leasing I kw 2026'!L17 -> 16447.24 | ... BE17: ='pozyczki I kw 2026'!BE17+'leasing I kw 2026'!BE17 -> 363504.59
B18: 12 | C18: ING Lease (Polska) Sp. z o. o. | D18: ='leasing I kw 2026'!D18+'pozyczki I kw 2026'!D18 -> 846533 | E18: ='pozyczki I kw 2026'!E18+'leasing I kw 2026'!E18 -> 365303 | F18: ='pozyczki I kw 2026'!F18+'leasing I kw 2026'!F18 -> 11977 | G18: ='pozyczki I kw 2026'!G18+'leasing I kw 2026'!G18 -> 14896 | H18: ='pozyczki I kw 2026'!H18+'leasing I kw 2026'!H18 -> 233792 | I18: ='pozyczki I kw 2026'!I18+'leasing I kw 2026'!I18 -> 115521 | J18: ='pozyczki I kw 2026'!J18+'leasing I kw 2026'!J18 -> 701 | K18: ='pozyczki I kw 2026'!K18+'leasing I kw 2026'!K18 -> 620 | L18: ='pozyczki I kw 2026'!L18+'leasing I kw 2026'!L18 -> 118271 | ... BE18: ='pozyczki I kw 2026'!BE18+'leasing I kw 2026'!BE18 -> 1460904
... B33: 27 | C33: VELOLEASING SPÓŁKA AKCYJNA | D33: ='leasing I kw 2026'!D33+'pozyczki I kw 2026'!D33 -> 100057 | E33: ='pozyczki I kw 2026'!E33+'leasing I kw 2026'!E33 -> 88706 | F33: ='pozyczki I kw 2026'!F33+'leasing I kw 2026'!F33 -> 0 | G33: ='pozyczki I kw 2026'!G33+'leasing I kw 2026'!G33 -> 0 | H33: ='pozyczki I kw 2026'!H33+'leasing I kw 2026'!H33 -> 1189 | I33: ='pozyczki I kw 2026'!I33+'leasing I kw 2026'!I33 -> 0 | J33: ='pozyczki I kw 2026'!J33+'leasing I kw 2026'!J33 -> 0 | K33: ='pozyczki I kw 2026'!K33+'leasing I kw 2026'!K33 -> 0 | L33: ='pozyczki I kw 2026'!L33+'leasing I kw 2026'!L33 -> 1189 | ... BE33: ='pozyczki I kw 2026'!BE33+'leasing I kw 2026'!BE33 -> 100057
B34: 28 | C34: Razem | D34: ='leasing I kw 2026'!D34+'pozyczki I kw 2026'!D34 -> 15913907 | E34: ='leasing I kw 2026'!E34+'pozyczki I kw 2026'!E34 -> 9380178.7 | F34: ='leasing I kw 2026'!F34+'pozyczki I kw 2026'!F34 -> 585347.09 | G34: ='leasing I kw 2026'!G34+'pozyczki I kw 2026'!G34 -> 568046.73 | H34: ='leasing I kw 2026'!H34+'pozyczki I kw 2026'!H34 -> 2469356.5 | I34: ='leasing I kw 2026'!I34+'pozyczki I kw 2026'!I34 -> 1415237.4 | J34: ='leasing I kw 2026'!J34+'pozyczki I kw 2026'!J34 -> 20605.331 | K34: ='leasing I kw 2026'!K34+'pozyczki I kw 2026'!K34 -> 7694.9879 | ... BE34: ='leasing I kw 2026'!BE34+'pozyczki I kw 2026'!BE34 -> 22815824
B36: Ilość środków oddanych w leasing w | D36: I kwartale 2026
B38: Lp. | C38: Spółka | D38: POJAZDY | E38: Osobowe | F38: osobowe - zeroemisyjne | G38: osobowe - hybryda plug-in | H38: Cięzarowe: | I38: o masie do 3,5 tony | J38: o masie do 3,5 tony - zeroemisyjne | K38: o masie do 3,5 tony - hybryda plug-in | L38: o masie powyzej 3,5 tony | M38: o masie powyżej 3,5 tony - zeroemisyjne | N38: o masie powyżej 3,5 tony - hybryda plug-in | O38: ciagniki siodlowe | P38: ciągniki siodłowe - zeroemisyjne | Q38: ciągniki siodłowe - hybryda plug-in | R38: naczepy / przyczepy | S38: autobusy | T38: autobusy - zeroemisyjne | U38: autobusy - hybryda plug-in | V38: inne | W38: inne - zeroemisyjne | X38: inne - hybryda plug-in | Y38: MiU | Z38: Sprzęt Budowlany | AA38: Maszyny Rolnicze | AB38: Maszyny Poligraf. | AC38: maszyny do produkcji tworzyw sztucznych | AD38: maszyny i urządzenia do obróbki metali | AE38: maszyny dla przemysłu spożywczego | AF38: Sprzęt Medyczny | AG38: Sprzęt Gastronom. | AH38: Wózki Widłowe | AI38: Magazyny energii | AJ38: Pompy ciepła | AK38: fotowoltaika | AL38: wiatraki i turbiny wiatrowe | AM38: stacje ładowania pojazdów elektrycznych (na użytek własny i komercyjny) | AN38: inne MiU | AO38: IT | AP38: Sprzęt | AQ38: Oprogram. | AR38: inne IT | AS38: POZOSTAŁE ŚRODKI TRANSPORTU | AT38: Powietrzne | AU38: Wodne | AV38: Kolejowe | AW38: Inne ruchomości | AX38: RUCHOMOŚCI | AY38: Nieruchomości | AZ38: budynki przemysłowe | BA38: obiekty handlowe i usługowe | BB38: obiekty biurowe | BC38: hotele i obiekty rekreacyjne | BD38: inne | BE38: OGÓŁEM
B39: 1 | C39: Alior Leasing Sp. z o. o. | D39: ='pozyczki I kw 2026'!D40+'leasing I kw 2026'!D40 -> 5848 | E39: ='pozyczki I kw 2026'!E40+'leasing I kw 2026'!E40 -> 2533 | F39: ='pozyczki I kw 2026'!F40+'leasing I kw 2026'!F40 -> 0 | G39: ='pozyczki I kw 2026'!G40+'leasing I kw 2026'!G40 -> 0 | H39: ='pozyczki I kw 2026'!H40+'leasing I kw 2026'!H40 -> 1411 | I39: ='pozyczki I kw 2026'!I40+'leasing I kw 2026'!I40 -> 1140 | J39: ='pozyczki I kw 2026'!J40+'leasing I kw 2026'!J40 -> 0 | K39: ='pozyczki I kw 2026'!K40+'leasing I kw 2026'!K40 -> 0 | ... BE39: ='pozyczki I kw 2026'!BE40+'leasing I kw 2026'!BE40 -> 7459
B40: 2 | C40: BMW Financial Services Polska Sp z o. o. | D40: ='pozyczki I kw 2026'!D41+'leasing I kw 2026'!D41 -> 4710 | E40: ='pozyczki I kw 2026'!E41+'leasing I kw 2026'!E41 -> 4448 | F40: ='pozyczki I kw 2026'!F41+'leasing I kw 2026'!F41 -> 1415 | G40: ='pozyczki I kw 2026'!G41+'leasing I kw 2026'!G41 -> 190 | H40: ='pozyczki I kw 2026'!H41+'leasing I kw 2026'!H41 -> 0 | I40: ='pozyczki I kw 2026'!I41+'leasing I kw 2026'!I41 -> 0 | J40: ='pozyczki I kw 2026'!J41+'leasing I kw 2026'!J41 -> 0 | K40: ='pozyczki I kw 2026'!K41+'leasing I kw 2026'!K41 -> 0 | ... BE40: ='pozyczki I kw 2026'!BE41+'leasing I kw 2026'!BE41 -> 4710
B41: 3 | C41: BNP Paribas Lease Group Sp. z o. o. | D41: ='pozyczki I kw 2026'!D42+'leasing I kw 2026'!D42 -> 4070 | E41: ='pozyczki I kw 2026'!E42+'leasing I kw 2026'!E42 -> 3236 | F41: ='pozyczki I kw 2026'!F42+'leasing I kw 2026'!F42 -> 70 | G41: ='pozyczki I kw 2026'!G42+'leasing I kw 2026'!G42 -> 30 | H41: ='pozyczki I kw 2026'!H42+'leasing I kw 2026'!H42 -> 601 | I41: ='pozyczki I kw 2026'!I42+'leasing I kw 2026'!I42 -> 411 | J41: ='pozyczki I kw 2026'!J42+'leasing I kw 2026'!J42 -> 19 | K41: ='pozyczki I kw 2026'!K42+'leasing I kw 2026'!K42 -> 0 | ... BE41: ='pozyczki I kw 2026'!BE42+'leasing I kw 2026'!BE42 -> 6468
B42: 4 | C42: BOŚ LEASING S.A. | D42: ='pozyczki I kw 2026'!D43+'leasing I kw 2026'!D43 -> 94 | E42: ='pozyczki I kw 2026'!E43+'leasing I kw 2026'!E43 -> 72 | F42: ='pozyczki I kw 2026'!F43+'leasing I kw 2026'!F43 -> 0 | G42: ='pozyczki I kw 2026'!G43+'leasing I kw 2026'!G43 -> 0 | H42: ='pozyczki I kw 2026'!H43+'leasing I kw 2026'!H43 -> 11 | I42: ='pozyczki I kw 2026'!I43+'leasing I kw 2026'!I43 -> 9 | J42: ='pozyczki I kw 2026'!J43+'leasing I kw 2026'!J43 -> 0 | K42: ='pozyczki I kw 2026'!K43+'leasing I kw 2026'!K43 -> 0 | ... BE42: ='pozyczki I kw 2026'!BE43+'leasing I kw 2026'!BE43 -> 168
B43: 5 | C43: BPCE Equipment Solutions Polska Sp. z o.o. | D43: ='pozyczki I kw 2026'!D44+'leasing I kw 2026'!D44 -> 230 | E43: ='pozyczki I kw 2026'!E44+'leasing I kw 2026'!E44 -> 6 | F43: ='pozyczki I kw 2026'!F44+'leasing I kw 2026'!F44 -> 0 | G43: ='pozyczki I kw 2026'!G44+'leasing I kw 2026'!G44 -> 1 | H43: ='pozyczki I kw 2026'!H44+'leasing I kw 2026'!H44 -> 41 | I43: ='pozyczki I kw 2026'!I44+'leasing I kw 2026'!I44 -> 12 | J43: ='pozyczki I kw 2026'!J44+'leasing I kw 2026'!J44 -> 1 | K43: ='pozyczki I kw 2026'!K44+'leasing I kw 2026'!K44 -> 0 | ... BE43: ='pozyczki I kw 2026'!BE44+'leasing I kw 2026'!BE44 -> 525
B44: 6 | C44: BPS Leasing S.A. | D44: ='pozyczki I kw 2026'!D45+'leasing I kw 2026'!D45 -> 330 | E44: ='pozyczki I kw 2026'!E45+'leasing I kw 2026'!E45 -> 131 | F44: ='pozyczki I kw 2026'!F45+'leasing I kw 2026'!F45 -> 8 | G44: ='pozyczki I kw 2026'!G45+'leasing I kw 2026'!G45 -> 0 | H44: ='pozyczki I kw 2026'!H45+'leasing I kw 2026'!H45 -> 50 | I44: ='pozyczki I kw 2026'!I45+'leasing I kw 2026'!I45 -> 40 | J44: ='pozyczki I kw 2026'!J45+'leasing I kw 2026'!J45 -> 1 | K44: ='pozyczki I kw 2026'!K45+'leasing I kw 2026'!K45 -> 0 | ... BE44: ='pozyczki I kw 2026'!BE45+'leasing I kw 2026'!BE45 -> 396
B45: 7 | C45: Caterpillar Financial Services Poland Sp. z o. o. | D45: ='pozyczki I kw 2026'!D46+'leasing I kw 2026'!D46 -> 0 | E45: ='pozyczki I kw 2026'!E46+'leasing I kw 2026'!E46 -> 0 | F45: ='pozyczki I kw 2026'!F46+'leasing I kw 2026'!F46 -> 0 | G45: ='pozyczki I kw 2026'!G46+'leasing I kw 2026'!G46 -> 0 | H45: ='pozyczki I kw 2026'!H46+'leasing I kw 2026'!H46 -> 0 | I45: ='pozyczki I kw 2026'!I46+'leasing I kw 2026'!I46 -> 0 | J45: ='pozyczki I kw 2026'!J46+'leasing I kw 2026'!J46 -> 0 | K45: ='pozyczki I kw 2026'!K46+'leasing I kw 2026'!K46 -> 0 | ... BE45: ='pozyczki I kw 2026'!BE46+'leasing I kw 2026'!BE46 -> 142
B46: 8 | C46: DE LAGE Landen Leasing Polska S.A. | D46: ='pozyczki I kw 2026'!D47+'leasing I kw 2026'!D47 -> 28 | E46: ='pozyczki I kw 2026'!E47+'leasing I kw 2026'!E47 -> 0 | F46: ='pozyczki I kw 2026'!F47+'leasing I kw 2026'!F47 -> 0 | G46: ='pozyczki I kw 2026'!G47+'leasing I kw 2026'!G47 -> 0 | H46: ='pozyczki I kw 2026'!H47+'leasing I kw 2026'!H47 -> 0 | I46: ='pozyczki I kw 2026'!I47+'leasing I kw 2026'!I47 -> 0 | J46: ='pozyczki I kw 2026'!J47+'leasing I kw 2026'!J47 -> 0 | K46: ='pozyczki I kw 2026'!K47+'leasing I kw 2026'!K47 -> 0 | ... BE46: ='pozyczki I kw 2026'!BE47+'leasing I kw 2026'!BE47 -> 529
B47: 9 | C47: Deutsche Leasing Polska S.A. | D47: ='pozyczki I kw 2026'!D48+'leasing I kw 2026'!D48 -> 164 | E47: ='pozyczki I kw 2026'!E48+'leasing I kw 2026'!E48 -> 4 | F47: ='pozyczki I kw 2026'!F48+'leasing I kw 2026'!F48 -> 0 | G47: ='pozyczki I kw 2026'!G48+'leasing I kw 2026'!G48 -> 0 | H47: ='pozyczki I kw 2026'!H48+'leasing I kw 2026'!H48 -> 1 | I47: ='pozyczki I kw 2026'!I48+'leasing I kw 2026'!I48 -> 1 | J47: ='pozyczki I kw 2026'!J48+'leasing I kw 2026'!J48 -> 0 | K47: ='pozyczki I kw 2026'!K48+'leasing I kw 2026'!K48 -> 0 | ... BE47: ='pozyczki I kw 2026'!BE48+'leasing I kw 2026'!BE48 -> 481
B48: 10 | C48: Europejski Fundusz Leasingowy S.A. | D48: ='pozyczki I kw 2026'!D49+'leasing I kw 2026'!D49 -> 10063 | E48: ='pozyczki I kw 2026'!E49+'leasing I kw 2026'!E49 -> 4697 | F48: ='pozyczki I kw 2026'!F49+'leasing I kw 2026'!F49 -> 179 | G48: ='pozyczki I kw 2026'!G49+'leasing I kw 2026'!G49 -> 58 | H48: ='pozyczki I kw 2026'!H49+'leasing I kw 2026'!H49 -> 2187 | I48: ='pozyczki I kw 2026'!I49+'leasing I kw 2026'!I49 -> 1540 | J48: ='pozyczki I kw 2026'!J49+'leasing I kw 2026'!J49 -> 27 | K48: ='pozyczki I kw 2026'!K49+'leasing I kw 2026'!K49 -> 1 | ... BE48: ='pozyczki I kw 2026'!BE49+'leasing I kw 2026'!BE49 -> 14387
B49: 11 | C49: Impuls-Leasing Polska Sp. z o. o. | D49: ='pozyczki I kw 2026'!D50+'leasing I kw 2026'!D50 -> 1728 | E49: ='pozyczki I kw 2026'!E50+'leasing I kw 2026'!E50 -> 1020 | F49: ='pozyczki I kw 2026'!F50+'leasing I kw 2026'!F50 -> 107 | G49: ='pozyczki I kw 2026'!G50+'leasing I kw 2026'!G50 -> 371 | H49: ='pozyczki I kw 2026'!H50+'leasing I kw 2026'!H50 -> 227 | I49: ='pozyczki I kw 2026'!I50+'leasing I kw 2026'!I50 -> 176 | J49: ='pozyczki I kw 2026'!J50+'leasing I kw 2026'!J50 -> 6 | K49: ='pozyczki I kw 2026'!K50+'leasing I kw 2026'!K50 -> 1 | ... BE49: ='pozyczki I kw 2026'!BE50+'leasing I kw 2026'!BE50 -> 2115
B50: 12 | C50: ING Lease (Polska) Sp. z o. o. | D50: ='pozyczki I kw 2026'!D51+'leasing I kw 2026'!D51 -> 4404 | E50: ='pozyczki I kw 2026'!E51+'leasing I kw 2026'!E51 -> 2451 | F50: ='pozyczki I kw 2026'!F51+'leasing I kw 2026'!F51 -> 72 | G50: ='pozyczki I kw 2026'!G51+'leasing I kw 2026'!G51 -> 92 | H50: ='pozyczki I kw 2026'!H51+'leasing I kw 2026'!H51 -> 1059 | I50: ='pozyczki I kw 2026'!I51+'leasing I kw 2026'!I51 -> 833 | J50: ='pozyczki I kw 2026'!J51+'leasing I kw 2026'!J51 -> 6 | K50: ='pozyczki I kw 2026'!K51+'leasing I kw 2026'!K51 -> 4 | ... BE50: ='pozyczki I kw 2026'!BE51+'leasing I kw 2026'!BE51 -> 5943
... B65: 27 | C65: VELOLEASING SPÓŁKA AKCYJNA | D65: ='pozyczki I kw 2026'!D66+'leasing I kw 2026'!D66 -> 940 | E65: ='pozyczki I kw 2026'!E66+'leasing I kw 2026'!E66 -> 829 | F65: ='pozyczki I kw 2026'!F66+'leasing I kw 2026'!F66 -> 0 | G65: ='pozyczki I kw 2026'!G66+'leasing I kw 2026'!G66 -> 0 | H65: ='pozyczki I kw 2026'!H66+'leasing I kw 2026'!H66 -> 7 | I65: ='pozyczki I kw 2026'!I66+'leasing I kw 2026'!I66 -> 0 | J65: ='pozyczki I kw 2026'!J66+'leasing I kw 2026'!J66 -> 0 | K65: ='pozyczki I kw 2026'!K66+'leasing I kw 2026'!K66 -> 0 | ... BE65: ='pozyczki I kw 2026'!BE66+'leasing I kw 2026'!BE66 -> 940
B66: 28 | C66: Razem | D66: =SUM(D39:D65) -> 94681 | E66: =SUM(E39:E65) -> 61931 | F66: =SUM(F39:F65) -> 3717 | G66: =SUM(G39:G65) -> 2630 | H66: =SUM(H39:H65) -> 14576 | I66: =SUM(I39:I65) -> 11667 | J66: =SUM(J39:J65) -> 175 | K66: =SUM(K39:K65) -> 47 | ... BE66: =SUM(BE39:BE65) -> 155426

Sheet outstanding I kw 2026
B1: ZWIĄZEK POLSKIEGO LEASINGU
A2: ILOŚĆ ŚRODKÓW TRWAŁYCH (szt.) | C2: 2026q1
B3: WARTOŚĆ CAŁEGO PORTFELA LEASINGU
A5: Lp. | B5: Spółka | C5: Środki transportu drogowego | D5: w tym samochody osobowe | E5: Maszyny i urządzenia przemysłowe | F5: Komputery i sprzet biurowy | G5: Pozostałe środki transportu | H5: Inne ruchomości | I5: Razem ruchomości | J5: Razem nieruchomości | K5: Ogółem
A7: WARTOŚĆ ŚRODKÓW TRWAŁYCH - zgodnie z ustawą o rachunkowości (netto tys. PLN) | C7: 2026q1
A10: Lp. | B10: Spółka | C10: Środki transportu drogowego | D10: w tym samochody osobowe | E10: Maszyny i urządzenia przemysłowe | F10: Komputery i sprzet biurowy | G10: Pozostałe środki transportu | H10: Inne ruchomości | I10: Razem ruchomości | J10: Razem nieruchomości | K10: Ogółem
A12: WARTOŚĆ ŚRODKÓW TRWAŁYCH - zgodnie z ustawami podatkowymi (netto tys. PLN) | C12: 2026q1
A15: Lp. | B15: Spółka | C15: Środki transportu drogowego | D15: w tym samochody osobowe | E15: Maszyny i urządzenia przemysłowe | F15: Komputery i sprzet biurowy | G15: Pozostałe środki transportu | H15: Inne ruchomości | I15: Razem ruchomości | J15: Razem nieruchomości | K15: Ogółem
A17: WARTOŚĆ CAŁEGO PORTFELA LEASINGU (netto tys. PLN) | C17: 2026q1
A20: Lp. | B20: Spółka | C20: Ilość ST leasingu konsumenckiego | D20: ust. o rach. | E20: ust. podatkowe | F20: Ilość ST leasingu do umów CFM | G20: ust. o rach. | H20: ust. podatkowe
D21: Wartość netto leasingu konsumenckiego | E21: Wartość netto leasingu konsumenckiego | G21: Wartość umów CFM | H21: Wartość umów CFM
A23: ILOŚĆ ŚRODKÓW TRWAŁYCH (szt.) | C23: 2026q1
A26: Lp. | B26: Spółka | C26: ust. o rach. | D26: ust. podatkowe | E26: ust. o rach. | F26: ust. podatkowe
C27: Leasing operacyjny | D27: Leasing operacyjny | E27: Leasing kapitałowy | F27: Leasing kapitałowy
A29: WARTOŚĆ ŚRODKÓW TRWAŁYCH - (netto tys. PLN) | C29: 2026q1
A32: Lp. | B32: Spółka | C32: ust. o rach. | D32: ust. podatkowe | E32: ust. o rach. | F32: ust. podatkowe
C33: Leasing operacyjny | D33: Leasing operacyjny | E33: Leasing kapitałowy | F33: Leasing kapitałowy
