Workbook

Sheet pozyczki_2024q1
A1: ZWIAZEK POLSKIEGO LEASINGU Warszawa - 06-11-2024 - korekta
A3: Wartość środków oddanych w pożyczki w | C3: 2024q1 | D3: netto w tys. PLN
A4: Lp. | B4: Spółka | C4: POJAZDY | D4: Osobowe | E4: osobowe - zeroemisyjne | F4: osobowe - hybryda plug-in | G4: Cięzarowe: | H4: o masie do 3,5 tony | I4: o masie do 3,5 tony - zeroemisyjne | J4: o masie do 3,5 tony - hybryda plug-in | K4: o masie powyzej 3,5 tony | L4: o masie powyżej 3,5 tony - zeroemisyjne | M4: o masie powyżej 3,5 tony - hybryda plug-in | N4: ciagniki siodlowe | O4: ciągniki siodłowe - zeroemisyjne | P4: ciągniki siodłowe - hybryda plug-in | Q4: naczepy / przyczepy | R4: autobusy | S4: autobusy - zeroemisyjne | T4: autobusy - hybryda plug-in | U4: inne | V4: inne - zeroemisyjne | W4: inne - hybryda plug-in | X4: MiU | Y4: Sprzęt Budowlany | Z4: Maszyny Rolnicze | AA4: Maszyny Poligraf. | AB4: maszyny do produkcji tworzyw sztucznych | AC4: maszyny i urządzenia do obróbki metali | AD4: maszyny dla przemysłu spożywczego | AE4: Sprzęt Medyczny | AF4: Sprzęt Gastronom. | AG4: Wózki Widłowe | AH4: fotowoltaika | AI4: wiatraki i turbiny wiatrowe | AJ4: stacje ładowania pojazdów elektrycznych (na użytek własny i komercyjny) | AK4: inne MiU | AL4: IT | AM4: Sprzęt | AN4: Oprogram. | AO4: inne IT | AP4: POZOSTAŁE ŚRODKI TRANSPORTU | AQ4: Powietrzne | AR4: Wodne | AS4: Kolejowe | AT4: Inne ruchomości | AU4: RUCHOMOŚCI | AV4: Nieruchomości | AW4: budynki przemysłowe | AX4: obiekty handlowe i usługowe | AY4: obiekty biurowe | AZ4: hotele i obiekty rekreacyjne | BA4: inne | BB4: OGÓŁEM
A5: 1 | B5: Alior Leasing Sp. z o. o. | C5: 58190.904 | D5: 25688.979 | G5: 7414.4086 | H5: 3830.148 | K5: 3584.2606 | N5: 16675.575 | Q5: 6524.7671 | R5: 225 | U5: 1662.1743 | X5: 27210.084 | Y5: 5431.0871 | Z5: 3867.7298 | AA5: 5979.7307 | AB5: 1934.9957 | AC5: 1137.3064 | AD5: 332.85 | AE5: 5150.4159 | AK5: 3375.9681 | AL5: 0 | AP5: 0 | AU5: 85400.988 | AV5: 0 | BB5: 85400.988
A6: 2 | B6: BNP Paribas Lease Group Sp. z o.o. | C6: 35807.859 | D6: 3745.6595 | E6: 0 | F6: 0 | G6: 24668.449 | H6: 15413.175 | I6: 0 | J6: 0 | K6: 9255.2747 | L6: 0 | M6: 0 | N6: 4671.8008 | O6: 0 | P6: 0 | Q6: 2721.9494 | R6: 0 | S6: 0 | T6: 0 | U6: 0 | V6: 0 | W6: 0 | X6: 346973.53 | Y6: 21656.901 | Z6: 305311.32 | AA6: 0 | AB6: 0 | AC6: 465 | AD6: 786.3 | AE6: 8576.2925 | AF6: 0 | AG6: 167 | AH6: 1222.8939 | AI6: 0 | AJ6: 0 | AK6: 8787.8254 | AL6: 5428.778 | AM6: 267.796 | AN6: 5160.9811 | AO6: 0.00081 | AP6: 0 | AQ6: 0 | AR6: 0 | AS6: 0 | AT6: 0 | AU6: 388210.17 | AV6: 0 | AW6: 0 | AX6: 0 | AY6: 0 | AZ6: 0 | BA6: 0 | BB6: 388210.17
A7: 3 | B7: BOŚ Leasing - EKO Profit S.A. | C7: 0 | G7: 0 | X7: 0 | AL7: 0 | AP7: 0 | AU7: 0 | AV7: 0 | BB7: 0
A8: 4 | B8: BPS Leasing Spółka Akcyjna (BPS Leasing S.A.) | C8: 0 | G8: 0 | X8: 0 | AL8: 0 | AP8: 0 | AU8: 0 | AV8: 0 | BB8: 0
A9: 5 | B9: Caterpillar Financial Services Poland Sp. z o.o. | C9: 0 | G9: 0 | X9: 28828.256 | Y9: 28828.256 | AL9: 0 | AP9: 0 | AU9: 28828.256 | AV9: 0 | BB9: 28828.256
A10: 6 | B10: De Lage Landen Leasing Polska S.A. | C10: 3112 | D10: 398 | G10: 0 | Q10: 2714 | X10: 180422 | Y10: 7519 | Z10: 165258 | AE10: 6845 | AH10: 688 | AK10: 112 | AL10: 2689 | AM10: 2689 | AP10: 0 | AU10: 186223 | AV10: 0 | BB10: 186223
A11: 7 | B11: Deutsche Leasing Polska S.A. | C11: 7241 | G11: 0 | Q11: 7241 | X11: 6506 | Z11: 6281 | AK11: 225 | AL11: 0 | AP11: 0 | AU11: 13747 | AV11: 0 | BB11: 13747
A12: 8 | B12: Europejski Fundusz Leasingowy S.A. | C12: 63412.91 | D12: 23865.813 | E12: 935.3055 | F12: 0 | G12: 11613.099 | H12: 10750.549 | I12: 218 | K12: 862.55 | N12: 16287.236 | Q12: 10726.324 | R12: 608.8298 | U12: 311.60893 | X12: 200667.09 | Y12: 27154.132 | Z12: 149798.63 | AA12: 1399.936 | AB12: 5.8 | AC12: 22.1561 | AD12: 3906.1403 | AE12: 5710.5048 | AF12: 475.65284 | AG12: 173 | AH12: 1011.913 | AK12: 11009.219 | AL12: 1001.2131 | AM12: 5.51626 | AN12: 466.28028 | AO12: 529.41656 | AP12: 1096.4187 | AR12: 1096.4187 | AU12: 266177.63 | AV12: 0 | BB12: 266177.63
A13: 9 | B13: Impuls-Leasing Polska Sp. z o. o. | C13: 29625.56 | D13: 6628.36 | E13: 513.72 | G13: 4434.56 | H13: 3325.94 | I13: 830.35 | K13: 1108.62 | N13: 10562.6 | Q13: 6144.7 | U13: 1855.34 | X13: 10799.42 | Y13: 6353.62 | Z13: 689.91 | AE13: 2124.25 | AF13: 1027.05 | AK13: 604.59 | AL13: 0 | AP13: 0 | AU13: 40424.98 | AV13: 0 | BB13: 40424.98
A14: 10 | B14: ING Lease (Polska) Sp. z o.o. | C14: 17096 | D14: 6117 | G14: 1058 | H14: 1058 | K14: 0 | N14: 4315 | Q14: 5606 | R14: 0 | U14: 0 | X14: 32455 | Y14: 0 | Z14: 0 | AA14: 4975 | AB14: 0 | AC14: 23752 | AD14: 0 | AE14: 3281 | AF14: 0 | AG14: 0 | AK14: 447 | AL14: 0 | AM14: 0 | AN14: 0 | AO14: 0 | AP14: 0 | AQ14: 0 | AR14: 0 | AS14: 0 | AT14: 0 | AU14: 49551 | AV14: 0 | AW14: 0 | AX14: 0 | AY14: 0 | AZ14: 0 | BA14: 0 | BB14: 49551
A15: 11 | B15: Leasing Polski Sp. z o. o. | C15: 0 | G15: 0 | X15: 0 | AL15: 0 | AP15: 0 | AU15: 0 | AV15: 0 | BB15: 0
A16: 12 | B16: Mercedes-Benz Leasing Polska Sp. z o.o. | C16: 101711.51 | D16: 81847.78 | G16: 18377.671 | H16: 16659.222 | K16: 1718.4489 | R16: 1486.0621 | X16: 0 | AL16: 0 | AP16: 0 | AU16: 101711.51 | AV16: 0 | BB16: 101711.51
A17: 13 | B17: Millennium Leasing Sp. z o.o. | C17: 0 | G17: 0 | X17: 0 | AL17: 0 | AP17: 0 | AU17: 0 | AV17: 0 | BB17: 0
A18: 14 | B18: mLeasing Sp. z o.o. | C18: 36015.383 | G18: 846.22178 | K18: 846.22178 | N18: 24191.097 | Q18: 9399.6575 | R18: 1578.4068 | X18: 75652.914 | Y18: 6333.2666 | AC18: 1659.3595 | AD18: 271.98051 | AE18: 61719.619 | AG18: 222.45 | AK18: 5446.2388 | AL18: 0 | AP18: 0 | AT18: 10982.72 | AU18: 122651.02 | AV18: 0 | BB18: 122651.02
A19: 15 | B19: PEAC (Poland) Sp. z o.o. | C19: 735.5 | D19: 39.6 | G19: 156.9 | H19: 90.4 | K19: 66.5 | Q19: 339 | R19: 200 | X19: 5288.2 | Y19: 1606 | Z19: 1039.5 | AB19: 806.5 | AC19: 118 | AE19: 36.8 | AK19: 1681.4 | AL19: 0 | AP19: 0 | AU19: 6023.7 | AV19: 0 | BB19: 6023.7
A20: 16 | B20: PEKAO Leasing Sp. z o.o. | C20: 40531.286 | D20: 16400.607 | E20: 0 | F20: 0 | G20: 3531.4172 | H20: 2767.6931 | I20: 0 | J20: 0 | K20: 763.72415 | L20: 0 | M20: 0 | N20: 11103.146 | O20: 0 | P20: 0 | Q20: 5394.2165 | R20: 1181.8998 | S20: 0 | T20: 0 | U20: 2920 | V20: 0 | W20: 0 | X20: 123291.71 | Y20: 18424.843 | Z20: 22057.266 | AA20: 1875.7397 | AB20: 0 | AC20: 11156.937 | AD20: 6620.2174 | AE20: 5649.1053 | AF20: 0 | AG20: 43.10117 | AH20: 2411.2592 | AI20: 0 | AJ20: 0 | AK20: 55053.243 | AL20: 8361.2101 | AM20: 7968.9501 | AN20: 0 | AO20: 392.26 | AP20: 21942.094 | AQ20: 0 | AR20: 8337.0922 | AS20: 13605.002 | AT20: 29.90001 | AU20: 194156.2 | AV20: 3070.4885 | AW20: 0 | AX20: 3070.4885 | AY20: 0 | AZ20: 0 | BA20: 0 | BB20: 197226.69
A21: 17 | B21: PKO Leasing S.A. | C21: 140989.99 | D21: 69831.022 | E21: 894.86551 | F21: 219.19401 | G21: 12674.768 | H21: 9861.534 | I21: 62.35 | K21: 2813.2341 | N21: 47442.906 | Q21: 10010.479 | R21: 562.5 | U21: 468.31678 | X21: 224110.77 | Y21: 44116.428 | Z21: 69909.62 | AB21: 26163.697 | AC21: 10504.74 | AD21: 10354.751 | AE21: 15109.536 | AG21: 984.36409 | AH21: 22202.635 | AJ21: 1452.1 | AK21: 23312.897 | AL21: 1171.0193 | AM21: 507.3 | AN21: 168.71928 | AO21: 495 | AP21: 0 | AU21: 366271.78 | AV21: 0 | BB21: 366271.78
A22: 18 | B22: Santander Consumer Multirent Sp.z o.o. | C22: 42437.537 | D22: 40352.019 | G22: 1774.8032 | H22: 1774.8032 | U22: 310.715 | X22: 0 | AL22: 0 | AP22: 0 | AU22: 42437.537 | AV22: 0 | BB22: 42437.537
A23: 19 | B23: Santander Leasing S.A. | C23: 170975.78 | D23: 107485.68 | E23: 732.6 | F23: 2589.795 | G23: 28031.451 | H23: 18047.538 | I23: 0 | J23: 0 | K23: 9983.913 | L23: 0 | M23: 0 | N23: 24869.404 | O23: 0 | P23: 0 | Q23: 8366.959 | R23: 885.6 | S23: 0 | T23: 0 | U23: 1336.678 | V23: 0 | W23: 0 | X23: 345428.39 | Y23: 12777.711 | Z23: 209212.82 | AA23: 15098.237 | AB23: 2339.921 | AC23: 9000.42 | AD23: 793.981 | AE23: 37947.579 | AF23: 36.281 | AG23: 666.672 | AH23: 15307.153 | AI23: 0 | AJ23: 0 | AK23: 42247.616 | AL23: 9645.655 | AM23: 9645.655 | AN23: 0 | AO23: 0 | AP23: 222.081 | AQ23: 0 | AR23: 222.081 | AS23: 0 | AT23: 563.32 | AU23: 526835.22 | AV23: 2653.756 | AW23: 0 | AX23: 0 | AY23: 0 | AZ23: 0 | BA23: 2653.756 | BB23: 529488.98
A24: 20 | B24: Scania Finance Polska Sp. z o.o. | C24: 27436 | G24: 389 | K24: 389 | N24: 26546 | Q24: 501 | X24: 0 | AL24: 0 | AP24: 0 | AU24: 27436 | AV24: 0 | BB24: 27436
A25: 21 | B25: SG Equipment Leasing Polska Sp. z o.o. | C25: 785.65664 | G25: 0 | N25: 526.5842 | Q25: 259.07244 | X25: 33275.306 | Y25: 22459.95 | Z25: 9604.1681 | AG25: 0 | AK25: 1211.1886 | AL25: 2500 | AM25: 0 | AN25: 2500 | AP25: 0 | AU25: 36560.963 | AV25: 0 | BB25: 36560.963
A26: 22 | B26: SGB Leasing Sp. z o.o. | C26: 1791 | D26: 436 | F26: 380 | G26: 1355 | H26: 1139 | K26: 216 | X26: 14965 | Y26: 528 | Z26: 6761 | AE26: 540 | AH26: 1127 | AK26: 6009 | AL26: 0 | AP26: 3328 | AS26: 3328 | AU26: 20084 | AV26: 0 | BB26: 20084
A27: 23 | B27: Siemens Finance Sp. z o.o. | C27: 0 | G27: 0 | X27: 0 | AL27: 0 | AP27: 0 | AU27: 0 | AV27: 0 | BB27: 0
A28: 24 | B28: Vehis Fin 1 Sp. z o. o. | C28: 0 | G28: 0 | X28: 0 | AL28: 0 | AP28: 0 | AU28: 0 | AV28: 0 | BB28: 0
A29: 25 | B29: Razem | C29: 777895.88 | D29: 382836.52 | E29: 3076.491 | F29: 3188.989 | G29: 116325.75 | H29: 84718.002 | I29: 1110.7 | J29: 0 | K29: 31607.747 | L29: 0 | M29: 0 | N29: 187191.35 | O29: 0 | P29: 0 | Q29: 75949.124 | R29: 6728.2985 | S29: 0 | T29: 0 | U29: 8864.833 | V29: 0 | W29: 0 | X29: 1674148 | Y29: 203189.19 | Z29: 949790.97 | AA29: 29328.643 | AB29: 31250.914 | AC29: 57815.919 | AD29: 23066.22 | AE29: 152690.1 | AF29: 1538.9838 | AG29: 3898.1735 | AH29: 43970.854 | AI29: 0 | AJ29: 1452.1 | AK29: 176155.96 | AL29: 67026.517 | AM29: 35278.694 | AN29: 30331.146 | AO29: 1416.6774 | AP29: 26588.594 | AQ29: 0 | AR29: 9655.5919 | AS29: 16933.002 | AT29: 11575.94 | AU29: 2557235 | AV29: 5724.2445 | AW29: 0 | AX29: 3070.4885 | AY29: 0 | AZ29: 0 | BA29: 2653.756 | BB29: 2562959.2
A31: Ilość środków oddanych w pożyczki w | C31: 2024q1 | D31: w sztukach
A33: Lp. | B33: Spółka | C33: POJAZDY | D33: Osobowe | E33: osobowe - zeroemisyjne | F33: osobowe - hybryda plug-in | G33: Cięzarowe: | H33: o masie do 3,5 tony | I33: o masie do 3,5 tony - zeroemisyjne | J33: o masie do 3,5 tony - hybryda plug-in | K33: o masie powyzej 3,5 tony | L33: o masie powyżej 3,5 tony - zeroemisyjne | M33: o masie powyżej 3,5 tony - hybryda plug-in | N33: ciagniki siodlowe | O33: ciągniki siodłowe - zeroemisyjne | P33: ciągniki siodłowe - hybryda plug-in | Q33: naczepy / przyczepy | R33: autobusy | S33: autobusy - zeroemisyjne | T33: autobusy - hybryda plug-in | U33: inne | V33: inne - zeroemisyjne | W33: inne - hybryda plug-in | X33: MiU | Y33: Sprzęt Budowlany | Z33: Maszyny Rolnicze | AA33: Maszyny Poligraf. | AB33: maszyny do produkcji tworzyw sztucznych | AC33: maszyny i urządzenia do obróbki metali | AD33: maszyny dla przemysłu spożywczego | AE33: Sprzęt Medyczny | AF33: Sprzęt Gastronom. | AG33: Wózki Widłowe | AH33: fotowoltaika | AI33: wiatraki i turbiny wiatrowe | AJ33: stacje ładowania pojazdów elektrycznych (na użytek własny i komercyjny) | AK33: inne MiU | AL33: IT | AM33: Sprzęt | AN33: Oprogram. | AO33: inne IT | AP33: POZOSTAŁE ŚRODKI TRANSPORTU | AQ33: Powietrzne | AR33: Wodne | AS33: Kolejowe | AT33: Inne ruchomości | AU33: RUCHOMOŚCI | AV33: Nieruchomości | AW33: budynki przemysłowe | AX33: obiekty handlowe i usługowe | AY33: obiekty biurowe | AZ33: hotele i obiekty rekreacyjne | BA33: inne | BB33: OGÓŁEM
A34: 1 | B34: Alior Leasing Sp. z o. o. | C34: 459 | D34: 243 | G34: 74 | H34: 50 | K34: 24 | N34: 82 | Q34: 49 | R34: 2 | U34: 9 | X34: 123 | Y34: 20 | Z34: 39 | AA34: 2 | AB34: 2 | AC34: 7 | AD34: 3 | AE34: 40 | AK34: 10 | AL34: 0 | AP34: 0 | AU34: 582 | AV34: 0 | BB34: 582
A35: 2 | B35: BNP Paribas Lease Group Sp. z o.o. | C35: 202 | D35: 44 | E35: 0 | F35: 0 | G35: 119 | H35: 82 | I35: 0 | J35: 0 | K35: 37 | L35: 0 | M35: 0 | N35: 17 | O35: 0 | P35: 0 | Q35: 22 | R35: 0 | S35: 0 | T35: 0 | U35: 0 | V35: 0 | W35: 0 | X35: 1057 | Y35: 69 | Z35: 770 | AA35: 0 | AB35: 0 | AC35: 1 | AD35: 1 | AE35: 183 | AF35: 0 | AG35: 2 | AH35: 12 | AI35: 0 | AJ35: 0 | AK35: 19 | AL35: 103 | AM35: 10 | AN35: 92 | AO35: 1 | AP35: 0 | AQ35: 0 | AR35: 0 | AS35: 0 | AT35: 0 | AU35: 1362 | AV35: 0 | AW35: 0 | AX35: 0 | AY35: 0 | AZ35: 0 | BA35: 0 | BB35: 1362
A36: 3 | B36: BOŚ Leasing - EKO Profit S.A. | C36: 0 | G36: 0 | X36: 0 | AL36: 0 | AP36: 0 | AU36: 0 | AV36: 0 | BB36: 0
A37: 4 | B37: BPS Leasing Spółka Akcyjna (BPS Leasing S.A.) | C37: 0 | G37: 0 | X37: 0 | AL37: 0 | AP37: 0 | AU37: 0 | AV37: 0 | BB37: 0
A38: 5 | B38: Caterpillar Financial Services Poland Sp. z o.o. | C38: 0 | G38: 0 | X38: 58 | Y38: 58 | AL38: 0 | AP38: 0 | AU38: 58 | AV38: 0 | BB38: 58
A39: 6 | B39: De Lage Landen Leasing Polska S.A. | C39: 19 | D39: 1 | G39: 0 | Q39: 18 | X39: 306 | Y39: 16 | Z39: 260 | AE39: 22 | AH39: 5 | AK39: 3 | AL39: 3 | AM39: 3 | AP39: 0 | AU39: 328 | AV39: 0 | BB39: 328
A40: 7 | B40: Deutsche Leasing Polska S.A. | C40: 54 | G40: 0 | Q40: 54 | X40: 14 | Z40: 11 | AK40: 3 | AL40: 0 | AP40: 0 | AU40: 68 | AV40: 0 | BB40: 68
A41: 8 | B41: Europejski Fundusz Leasingowy S.A. | C41: 341 | D41: 132 | E41: 4 | F41: 0 | G41: 58 | H41: 54 | I41: 1 | K41: 4 | N41: 73 | Q41: 72 | R41: 2 | U41: 4 | X41: 510 | Y41: 89 | Z41: 279 | AA41: 1 | AB41: 1 | AC41: 2 | AD41: 5 | AE41: 55 | AF41: 13 | AG41: 3 | AH41: 8 | AK41: 54 | AL41: 16 | AM41: 1 | AN41: 10 | AO41: 5 | AP41: 7 | AR41: 7 | AU41: 874 | AV41: 0 | BB41: 874
A42: 9 | B42: Impuls-Leasing Polska Sp. z o. o. | C42: 136 | D42: 41 | E42: 3 | G42: 21 | H42: 18 | I42: 3 | K42: 3 | N42: 35 | Q42: 32 | U42: 7 | X42: 42 | Y42: 13 | Z42: 4 | AE42: 19 | AF42: 1 | AK42: 5 | AL42: 0 | AP42: 0 | AU42: 178 | AV42: 0 | BB42: 178
A43: 10 | B43: ING Lease (Polska) Sp. z o.o. | C43: 120 | D43: 63 | G43: 20 | H43: 20 | K43: 0 | N43: 1 | Q43: 36 | R43: 0 | U43: 0 | X43: 11 | Y43: 0 | Z43: 0 | AA43: 0 | AB43: 0 | AC43: 8 | AD43: 0 | AE43: 1 | AF43: 0 | AG43: 0 | AK43: 2 | AL43: 0 | AM43: 0 | AN43: 0 | AO43: 0 | AP43: 0 | AQ43: 0 | AR43: 0 | AS43: 0 | AT43: 0 | AU43: 131 | AV43: 0 | AW43: 0 | AX43: 0 | AY43: 0 | AZ43: 0 | BA43: 0 | BB43: 131
A44: 11 | B44: Leasing Polski Sp. z o. o. | C44: 0 | G44: 0 | X44: 0 | AL44: 0 | AP44: 0 | AU44: 0 | AV44: 0 | BB44: 0
A45: 12 | B45: Mercedes-Benz Leasing Polska Sp. z o.o. | C45: 492 | D45: 381 | G45: 110 | H45: 101 | K45: 9 | R45: 1 | X45: 0 | AL45: 0 | AP45: 0 | AU45: 492 | AV45: 0 | BB45: 492
A46: 13 | B46: Millennium Leasing Sp. z o.o. | C46: 0 | G46: 0 | X46: 0 | AL46: 0 | AP46: 0 | AU46: 0 | AV46: 0 | BB46: 0
A47: 14 | B47: mLeasing Sp. z o.o. | C47: 108 | G47: 1 | K47: 1 | N47: 59 | Q47: 46 | R47: 2 | X47: 380 | Y47: 11 | AC47: 10 | AD47: 2 | AE47: 331 | AG47: 2 | AK47: 24 | AL47: 0 | AP47: 0 | AT47: 59 | AU47: 547 | AV47: 0 | BB47: 547
A48: 15 | B48: PEAC (Poland) Sp. z o.o. | C48: 7 | D48: 1 | G48: 3 | H48: 2 | K48: 1 | Q48: 2 | R48: 1 | X48: 33 | Y48: 4 | Z48: 6 | AB48: 10 | AC48: 1 | AE48: 1 | AK48: 11 | AL48: 0 | AP48: 0 | AU48: 40 | AV48: 0 | BB48: 40
A49: 16 | B49: PEKAO Leasing Sp. z o.o. | C49: 198 | D49: 131 | E49: 0 | F49: 0 | G49: 14 | H49: 13 | I49: 0 | J49: 0 | K49: 1 | L49: 0 | M49: 0 | N49: 25 | O49: 0 | P49: 0 | Q49: 19 | R49: 8 | S49: 0 | T49: 0 | U49: 1 | V49: 0 | W49: 0 | X49: 131 | Y49: 19 | Z49: 40 | AA49: 1 | AB49: 0 | AC49: 5 | AD49: 5 | AE49: 24 | AF49: 0 | AG49: 1 | AH49: 1 | AI49: 0 | AJ49: 0 | AK49: 35 | AL49: 5 | AM49: 4 | AN49: 0 | AO49: 1 | AP49: 46 | AQ49: 0 | AR49: 29 | AS49: 17 | AT49: 1 | AU49: 381 | AV49: 1 | AW49: 0 | AX49: 1 | AY49: 0 | AZ49: 0 | BA49: 0 | BB49: 382
A50: 17 | B50: PKO Leasing S.A. | C50: 1227 | D50: 468 | E50: 4 | F50: 1 | G50: 65 | H50: 56 | I50: 1 | K50: 9 | N50: 549 | Q50: 138 | R50: 1 | U50: 6 | X50: 628 | Y50: 97 | Z50: 221 | AB50: 18 | AC50: 15 | AD50: 11 | AE50: 118 | AG50: 10 | AH50: 11 | AJ50: 25 | AK50: 102 | AL50: 8 | AM50: 1 | AN50: 5 | AO50: 2 | AP50: 0 | AU50: 1863 | AV50: 0 | BB50: 1863
A51: 18 | B51: Santander Consumer Multirent Sp.z o.o. | C51: 1135 | D51: 1114 | G51: 17 | H51: 17 | U51: 4 | X51: 0 | AL51: 0 | AP51: 0 | AU51: 1135 | AV51: 0 | BB51: 1135
A52: 19 | B52: Santander Leasing S.A. | C52: 1391 | D52: 1099 | E52: 6 | F52: 0 | G52: 118 | H52: 88 | I52: 0 | J52: 0 | K52: 30 | L52: 0 | M52: 0 | N52: 70 | O52: 0 | P52: 0 | Q52: 66 | R52: 1 | S52: 0 | T52: 0 | U52: 37 | V52: 0 | W52: 0 | X52: 1884 | Y52: 40 | Z52: 1024 | AA52: 12 | AB52: 4 | AC52: 11 | AD52: 8 | AE52: 439 | AF52: 3 | AG52: 6 | AH52: 95 | AI52: 0 | AJ52: 0 | AK52: 242 | AL52: 27 | AM52: 27 | AN52: 0 | AO52: 0 | AP52: 1 | AQ52: 0 | AR52: 1 | AS52: 0 | AT52: 16 | AU52: 3319 | AV52: 4 | AW52: 0 | AX52: 0 | AY52: 0 | AZ52: 0 | BA52: 4 | BB52: 3323
A53: 20 | B53: Scania Finance Polska Sp. z o.o. | C53: 63 | G53: 1 | K53: 1 | N53: 60 | Q53: 2 | X53: 0 | AL53: 0 | AP53: 0 | AU53: 63 | AV53: 0 | BB53: 63
A54: 21 | B54: SG Equipment Leasing Polska Sp. z o.o. | C54: 2 | G54: 0 | N54: 1 | Q54: 1 | X54: 60 | Y54: 34 | Z54: 22 | AG54: 0 | AK54: 4 | AL54: 2 | AM54: 0 | AN54: 2 | AP54: 0 | AU54: 64 | AV54: 0 | BB54: 64
A55: 22 | B55: SGB Leasing Sp. z o.o. | C55: 8 | D55: 2 | F55: 1 | G55: 6 | H55: 5 | K55: 1 | X55: 16 | Y55: 1 | Z55: 7 | AE55: 3 | AH55: 1 | AK55: 4 | AL55: 0 | AP55: 3 | AS55: 3 | AU55: 27 | AV55: 0 | BB55: 27
A56: 23 | B56: Siemens Finance Sp. z o.o. | C56: 0 | G56: 0 | X56: 0 | AL56: 0 | AP56: 0 | AU56: 0 | AV56: 0 | BB56: 0
A57: 24 | B57: Vehis Fin 1 Sp. z o. o. | C57: 0 | G57: 0 | X57: 0 | AL57: 0 | AP57: 0 | AU57: 0 | AV57: 0 | BB57: 0
A58: 25 | B58: Razem | C58: 5962 | D58: 3720 | E58: 17 | F58: 2 | G58: 627 | H58: 506 | I58: 5 | J58: 0 | K58: 121 | L58: 0 | M58: 0 | N58: 972 | O58: 0 | P58: 0 | Q58: 557 | R58: 18 | S58: 0 | T58: 0 | U58: 68 | V58: 0 | W58: 0 | X58: 5258 | Y58: 471 | Z58: 2683 | AA58: 16 | AB58: 35 | AC58: 60 | AD58: 35 | AE58: 1236 | AF58: 17 | AG58: 26 | AH58: 133 | AI58: 0 | AJ58: 25 | AK58: 521 | AL58: 199 | AM58: 74 | AN58: 116 | AO58: 9 | AP58: 57 | AQ58: 0 | AR58: 37 | AS58: 20 | AT58: 76 | AU58: 11552 | AV58: 5 | AW58: 0 | AX58: 1 | AY58: 0 | AZ58: 0 | BA58: 4 | BB58: 11557
A60: Średnia wartość środków oddanych w pożyczki (tys. PLN) | C60: 2024q1 | D60: netto w tys. PLN
A62: Lp. | B62: Spółka | C62: POJAZDY | D62: Osobowe | E62: osobowe - zeroemisyjne | F62: osobowe - hybryda plug-in | G62: Cięzarowe: | H62: o masie do 3,5 tony | I62: o masie do 3,5 tony - zeroemisyjne | J62: o masie do 3,5 tony - hybryda plug-in | K62: o masie powyzej 3,5 tony | L62: o masie powyżej 3,5 tony - zeroemisyjne | M62: o masie powyżej 3,5 tony - hybryda plug-in | N62: ciagniki siodlowe | O62: ciągniki siodłowe - zeroemisyjne | P62: ciągniki siodłowe - hybryda plug-in | Q62: naczepy / przyczepy | R62: autobusy | S62: autobusy - zeroemisyjne | T62: autobusy - hybryda plug-in | U62: inne | V62: inne - zeroemisyjne | W62: inne - hybryda plug-in | X62: MiU | Y62: Sprzęt Budowlany | Z62: Maszyny Rolnicze | AA62: Maszyny Poligraf. | AB62: maszyny do produkcji tworzyw sztucznych | AC62: maszyny i urządzenia do obróbki metali | AD62: maszyny dla przemysłu spożywczego | AE62: Sprzęt Medyczny | AF62: Sprzęt Gastronom. | AG62: Wózki Widłowe | AH62: fotowoltaika | AI62: wiatraki i turbiny wiatrowe | AJ62: stacje ładowania pojazdów elektrycznych (na użytek własny i komercyjny) | AK62: inne MiU | AL62: IT | AM62: Sprzęt | AN62: Oprogram. | AO62: inne IT | AP62: POZOSTAŁE ŚRODKI TRANSPORTU | AQ62: Powietrzne | AR62: Wodne | AS62: Kolejowe | AT62: Inne ruchomości | AU62: RUCHOMOŚCI | AV62: Nieruchomości | AW62: budynki przemysłowe | AX62: obiekty handlowe i usługowe | AY62: obiekty biurowe | AZ62: hotele i obiekty rekreacyjne | BA62: inne | BB62: OGÓŁEM
A63: 1 | B63: Alior Leasing Sp. z o. o. | C63: 126.77757 | D63: 105.71596 | G63: 100.19471 | H63: 76.602959 | K63: 149.34419 | N63: 203.36068 | Q63: 133.15851 | R63: 112.5 | U63: 184.68603 | X63: 221.22019 | Y63: 271.55436 | Z63: 99.172559 | AA63: 2989.8653 | AB63: 967.49786 | AC63: 162.47235 | AD63: 110.95 | AE63: 128.7604 | AK63: 337.59681 | AU63: 146.73709 | BB63: 146.73709
A64: 2 | B64: BNP Paribas Lease Group Sp. z o.o. | C64: 177.26663 | D64: 85.128625 | G64: 207.29789 | H64: 187.96555 | K64: 250.14256 | N64: 274.81181 | Q64: 123.72497 | X64: 328.26257 | Y64: 313.86812 | Z64: 396.50821 | AC64: 465 | AD64: 786.3 | AE64: 46.864986 | AG64: 83.5 | AH64: 101.90782 | AK64: 462.51713 | AL64: 52.706582 | AM64: 26.7796 | AN64: 56.097621 | AO64: 0.00081 | AU64: 285.02949 | BB64: 285.02949
A65: 3 | B65: BOŚ Leasing - EKO Profit S.A.
A66: 4 | B66: BPS Leasing Spółka Akcyjna (BPS Leasing S.A.)
A67: 5 | B67: Caterpillar Financial Services Poland Sp. z o.o. | X67: 497.03889 | Y67: 497.03889 | AU67: 497.03889 | BB67: 497.03889
A68: 6 | B68: De Lage Landen Leasing Polska S.A. | C68: 163.78947 | D68: 398 | Q68: 150.77778 | X68: 589.61438 | Y68: 469.9375 | Z68: 635.60769 | AE68: 311.13636 | AH68: 137.6 | AK68: 37.333333 | AL68: 896.33333 | AM68: 896.33333 | AU68: 567.75305 | BB68: 567.75305
A69: 7 | B69: Deutsche Leasing Polska S.A. | C69: 134.09259 | Q69: 134.09259 | X69: 464.71429 | Z69: 571 | AK69: 75 | AU69: 202.16176 | BB69: 202.16176
A70: 8 | B70: Europejski Fundusz Leasingowy S.A. | C70: 185.96161 | D70: 180.80161 | E70: 233.82638 | G70: 200.22584 | H70: 199.08424 | I70: 218 | K70: 215.6375 | N70: 223.11282 | Q70: 148.97672 | R70: 304.4149 | U70: 77.902232 | X70: 393.46488 | Y70: 305.10261 | Z70: 536.91267 | AA70: 1399.936 | AB70: 5.8 | AC70: 11.07805 | AD70: 781.22807 | AE70: 103.82736 | AF70: 36.58868 | AG70: 57.666667 | AH70: 126.48913 | AK70: 203.87443 | AL70: 62.575819 | AM70: 5.51626 | AN70: 46.628028 | AO70: 105.88331 | AP70: 156.63124 | AR70: 156.63124 | AU70: 304.55106 | BB70: 304.55106
A71: 9 | B71: Impuls-Leasing Polska Sp. z o. o. | C71: 217.835 | D71: 161.66732 | E71: 171.24 | G71: 211.16952 | H71: 184.77444 | I71: 276.78333 | K71: 369.54 | N71: 301.78857 | Q71: 192.02187 | U71: 265.04857 | X71: 257.12905 | Y71: 488.74 | Z71: 172.4775 | AE71: 111.80263 | AF71: 1027.05 | AK71: 120.918 | AU71: 227.10663 | BB71: 227.10663
A72: 10 | B72: ING Lease (Polska) Sp. z o.o. | C72: 142.46667 | D72: 97.095238 | G72: 52.9 | H72: 52.9 | N72: 4315 | Q72: 155.72222 | X72: 2950.4545 | AC72: 2969 | AE72: 3281 | AK72: 223.5 | AU72: 378.25191 | BB72: 378.25191
A73: 11 | B73: Leasing Polski Sp. z o. o.
A74: 12 | B74: Mercedes-Benz Leasing Polska Sp. z o.o. | C74: 206.73072 | D74: 214.82357 | G74: 167.06974 | H74: 164.94279 | K74: 190.93877 | R74: 1486.0621 | AU74: 206.73072 | BB74: 206.73072
A75: 13 | B75: Millennium Leasing Sp. z o.o.
A76: 14 | B76: mLeasing Sp. z o.o. | C76: 333.47577 | G76: 846.22178 | K76: 846.22178 | N76: 410.01859 | Q76: 204.34038 | R76: 789.20338 | X76: 199.08662 | Y76: 575.75151 | AC76: 165.93595 | AD76: 135.99025 | AE76: 186.46411 | AG76: 111.225 | AK76: 226.92662 | AT76: 186.14779 | AU76: 224.22489 | BB76: 224.22489
A77: 15 | B77: PEAC (Poland) Sp. z o.o. | C77: 105.07143 | D77: 39.6 | G77: 52.3 | H77: 45.2 | K77: 66.5 | Q77: 169.5 | R77: 200 | X77: 160.24848 | Y77: 401.5 | Z77: 173.25 | AB77: 80.65 | AC77: 118 | AE77: 36.8 | AK77: 152.85455 | AU77: 150.5925 | BB77: 150.5925
A78: 16 | B78: PEKAO Leasing Sp. z o.o. | C78: 204.70347 | D78: 125.19547 | G78: 252.24409 | H78: 212.89947 | K78: 763.72415 | N78: 444.12583 | Q78: 283.90613 | R78: 147.73748 | U78: 2920 | X78: 941.15812 | Y78: 969.7286 | Z78: 551.43166 | AA78: 1875.7397 | AC78: 2231.3875 | AD78: 1324.0435 | AE78: 235.37939 | AG78: 43.10117 | AH78: 2411.2592 | AK78: 1572.9498 | AL78: 1672.242 | AM78: 1992.2375 | AO78: 392.26 | AP78: 477.00205 | AR78: 287.48594 | AS78: 800.29425 | AT78: 29.90001 | AU78: 509.59634 | AV78: 3070.4885 | AX78: 3070.4885 | BB78: 516.30024
A79: 17 | B79: PKO Leasing S.A. | C79: 114.90627 | D79: 149.21159 | E79: 223.71638 | F79: 219.19401 | G79: 194.99643 | H79: 176.09882 | I79: 62.35 | K79: 312.58157 | N79: 86.416951 | Q79: 72.5397 | R79: 562.5 | U79: 78.052797 | X79: 356.86428 | Y79: 454.80853 | Z79: 316.33312 | AB79: 1453.5387 | AC79: 700.316 | AD79: 941.34097 | AE79: 128.04691 | AG79: 98.436409 | AH79: 2018.4214 | AJ79: 58.083999 | AK79: 228.55781 | AL79: 146.37741 | AM79: 507.3 | AN79: 33.743856 | AO79: 247.5 | AU79: 196.60321 | BB79: 196.60321
A80: 18 | B80: Santander Consumer Multirent Sp.z o.o. | C80: 37.389901 | D80: 36.222638 | G80: 104.40019 | H80: 104.40019 | U80: 77.67875 | AU80: 37.389901 | BB80: 37.389901
A81: 19 | B81: Santander Leasing S.A. | C81: 122.91573 | D81: 97.803171 | E81: 122.1 | G81: 237.55467 | H81: 205.08566 | K81: 332.7971 | N81: 355.2772 | Q81: 126.77211 | R81: 885.6 | U81: 36.126432 | X81: 183.3484 | Y81: 319.44277 | Z81: 204.30939 | AA81: 1258.1864 | AB81: 584.98025 | AC81: 818.22 | AD81: 99.247625 | AE81: 86.440954 | AF81: 12.093667 | AG81: 111.112 | AH81: 161.12793 | AK81: 174.57693 | AL81: 357.24648 | AM81: 357.24648 | AP81: 222.081 | AR81: 222.081 | AT81: 35.2075 | AU81: 158.73312 | AV81: 663.439 | BA81: 663.439 | BB81: 159.34065
A82: 20 | B82: Scania Finance Polska Sp. z o.o. | C82: 435.49206 | G82: 389 | K82: 389 | N82: 442.43333 | Q82: 250.5 | AU82: 435.49206 | BB82: 435.49206
A83: 21 | B83: SG Equipment Leasing Polska Sp. z o.o. | C83: =C23/C53 -> 2713.9012 | N83: =N23/N53 -> 414.49007 | Q83: =Q23/Q53 -> 4183.4795 | X83: =X23/X53 -> #DIV/0! | Y83: =Y23/Y53 -> #DIV/0! | Z83: =Z23/Z53 -> #DIV/0! | AK83: =AK23/AK53 -> #DIV/0! | AL83: =AL23/AL53 -> #DIV/0! | AN83: =AN23/AN53 -> #DIV/0! | AU83: =AU23/AU53 -> 8362.4639 | BB83: =BB23/BB53 -> 8404.587
A84: 22 | B84: SGB Leasing Sp. z o.o. | C84: 223.875 | D84: 218 | F84: 380 | G84: 225.83333 | H84: 227.8 | K84: 216 | X84: 935.3125 | Y84: 528 | Z84: 965.85714 | AE84: 180 | AH84: 1127 | AK84: 1502.25 | AP84: 1109.3333 | AS84: 1109.3333 | AU84: 743.85185 | BB84: 743.85185
A85: 23 | B85: Siemens Finance Sp. z o.o.
A86: 24 | B86: Vehis Fin 1 Sp. z o. o.
A87: 25 | B87: Razem | C87: 130.47566 | D87: 102.91304 | E87: 180.97006 | F87: 1594.4945 | G87: 185.52751 | H87: 167.42688 | I87: 222.14 | K87: 261.22105 | N87: 192.58369 | Q87: 136.3539 | R87: 373.79436 | U87: 130.36519 | X87: 318.40016 | Y87: 431.39956 | Z87: 354.00334 | AA87: 1833.0402 | AB87: 892.88325 | AC87: 963.59866 | AD87: 659.03486 | AE87: 123.53568 | AF87: 90.528461 | AG87: 149.92975 | AH87: 330.60793 | AJ87: 58.083999 | AK87: 338.11124 | AL87: 336.81667 | AM87: 476.73911 | AN87: 261.47539 | AO87: 157.4086 | AP87: 466.46656 | AR87: 260.96194 | AS87: 846.65011 | AT87: 152.315 | AU87: 221.36729 | AV87: 1144.8489 | AX87: 3070.4885 | BA87: 663.439 | BB87: 221.76683
A89: Struktura wartościowa umów (ruchomości) | C89: 2024q1
A91: Lp. | B91: Spółka | C91: POJAZDY | D91: Osobowe | E91: osobowe - zeroemisyjne | F91: osobowe - hybryda plug-in | G91: Cięzarowe: | H91: o masie do 3,5 tony | I91: o masie do 3,5 tony - zeroemisyjne | J91: o masie do 3,5 tony - hybryda plug-in | K91: o masie powyzej 3,5 tony | L91: o masie powyżej 3,5 tony - zeroemisyjne | M91: o masie powyżej 3,5 tony - hybryda plug-in | N91: ciagniki siodlowe | O91: ciągniki siodłowe - zeroemisyjne | P91: ciągniki siodłowe - hybryda plug-in | Q91: naczepy / przyczepy | R91: autobusy | S91: autobusy - zeroemisyjne | T91: autobusy - hybryda plug-in | U91: inne | V91: inne - zeroemisyjne | W91: inne - hybryda plug-in | X91: MiU | Y91: Sprzęt Budowlany | Z91: Maszyny Rolnicze | AA91: Maszyny Poligraf. | AB91: maszyny do produkcji tworzyw sztucznych | AC91: maszyny i urządzenia do obróbki metali | AD91: maszyny dla przemysłu spożywczego | AE91: Sprzęt Medyczny | AF91: Sprzęt Gastronom. | AG91: Wózki Widłowe | AH91: fotowoltaika | AI91: wiatraki i turbiny wiatrowe | AJ91: stacje ładowania pojazdów elektrycznych (na użytek własny i komercyjny) | AK91: inne MiU | AL91: IT | AM91: Sprzęt | AN91: Oprogram. | AO91: inne IT | AP91: POZOSTAŁE ŚRODKI TRANSPORTU | AQ91: Powietrzne | AR91: Wodne | AS91: Kolejowe | AT91: Inne ruchomości | AU91: RUCHOMOŚCI | AV91: Nieruchomości | AW91: budynki przemysłowe | AX91: obiekty handlowe i usługowe | AY91: obiekty biurowe | AZ91: hotele i obiekty rekreacyjne | BA91: inne | BB91: OGÓŁEM
A92: 1 | B92: Alior Leasing Sp. z o. o. | C92: 0.68138444 | D92: 0.30080424 | G92: 0.086818768 | H92: 0.044848989 | K92: 0.041969779 | N92: 0.19526209 | Q92: 0.076401541 | R92: 0.0026346299 | U92: 0.019463174 | X92: 0.31861556 | Y92: 0.063595132 | Z92: 0.045289052 | AA92: 0.070019455 | AB92: 0.022657767 | AC92: 0.013317251 | AD92: 0.0038974959 | AE92: 0.060308622 | AK92: 0.039530784 | AL92: 0 | AP92: 0 | AU92: 1 | AV92: 0 | BB92: 1
A93: 2 | B93: BNP Paribas Lease Group Sp. z o.o. | C93: 0.092238334 | D93: 0.0096485353 | E93: 0 | F93: 0 | G93: 0.063544058 | H93: 0.039703171 | I93: 0 | J93: 0 | K93: 0.023840887 | L93: 0 | M93: 0 | N93: 0.012034205 | O93: 0 | P93: 0 | Q93: 0.0070115356 | R93: 0 | S93: 0 | T93: 0 | U93: 0 | V93: 0 | W93: 0 | X93: 0.89377755 | Y93: 0.055786536 | Z93: 0.78645884 | AA93: 0 | AB93: 0 | AC93: 0.0011978048 | AD93: 0.0020254493 | AE93: 0.02209188 | AF93: 0 | AG93: 0.00043017935 | AH93: 0.0031500821 | AI93: 0 | AJ93: 0 | AK93: 0.022636773 | AL93: 0.013984121 | AM93: 0.00068982222 | AN93: 0.013294297 | AO93: 2.0864987e-09 | AP93: 0 | AQ93: 0 | AR93: 0 | AS93: 0 | AT93: 0 | AU93: 1 | AV93: 0 | AW93: 0 | AX93: 0 | AY93: 0 | AZ93: 0 | BA93: 0 | BB93: 1
A94: 3 | B94: BOŚ Leasing - EKO Profit S.A.
A95: 4 | B95: BPS Leasing Spółka Akcyjna (BPS Leasing S.A.)
A96: 5 | B96: Caterpillar Financial Services Poland Sp. z o.o. | C96: 0 | G96: 0 | X96: 1 | Y96: 1 | AL96: 0 | AP96: 0 | AU96: 1 | AV96: 0 | BB96: 1
A97: 6 | B97: De Lage Landen Leasing Polska S.A. | C97: 0.016711147 | D97: 0.0021372226 | G97: 0 | Q97: 0.014573925 | X97: 0.96884918 | Y97: 0.040376323 | Z97: 0.88741992 | AE97: 0.036757006 | AH97: 0.0036944953 | AK97: 0.00060142947 | AL97: 0.014439677 | AM97: 0.014439677 | AP97: 0 | AU97: 1 | AV97: 0 | BB97: 1
A98: 7 | B98: Deutsche Leasing Polska S.A. | C98: 0.52673311 | G98: 0 | Q98: 0.52673311 | X98: 0.47326689 | Z98: 0.45689969 | AK98: 0.016367207 | AL98: 0 | AP98: 0 | AU98: 1 | AV98: 0 | BB98: 1
A99: 8 | B99: Europejski Fundusz Leasingowy S.A. | C99: 0.23823531 | D99: 0.089661228 | E99: 0.0035138396 | F99: 0 | G99: 0.043629132 | H99: 0.040388627 | I99: 0.00081900196 | K99: 0.0032405052 | N99: 0.061189348 | Q99: 0.040297615 | R99: 0.0022873064 | U99: 0.0011706804 | X99: 0.75388412 | Y99: 0.10201508 | Z99: 0.56277695 | AA99: 0.0052594052 | AB99: 2.178996e-05 | AC99: 8.3238024e-05 | AD99: 0.014674938 | AE99: 0.021453737 | AF99: 0.0017869753 | AG99: 0.00064994192 | AH99: 0.0038016455 | AK99: 0.041360422 | AL99: 0.0037614472 | AM99: 2.072398e-05 | AN99: 0.0017517636 | AO99: 0.0019889596 | AP99: 0.0041191241 | AR99: 0.0041191241 | AU99: 1 | AV99: 0 | BB99: 1
A100: 9 | B100: Impuls-Leasing Polska Sp. z o. o. | C100: 0.73285281 | D100: 0.16396693 | E100: 0.012707984 | G100: 0.10969851 | H100: 0.082274376 | I100: 0.020540517 | K100: 0.027424132 | N100: 0.26128894 | Q100: 0.15200255 | U100: 0.045895879 | X100: 0.26714719 | Y100: 0.15717064 | Z100: 0.017066428 | AE100: 0.052547954 | AF100: 0.025406321 | AK100: 0.014955852 | AL100: 0 | AP100: 0 | AU100: 1 | AV100: 0 | BB100: 1
A101: 10 | B101: ING Lease (Polska) Sp. z o.o. | C101: 0.34501826 | D101: 0.12344857 | G101: 0.021351739 | H101: 0.021351739 | K101: 0 | N101: 0.087081996 | Q101: 0.11313596 | R101: 0 | U101: 0 | X101: 0.65498174 | Y101: 0 | Z101: 0 | AA101: 0.10040161 | AB101: 0 | AC101: 0.47934451 | AD101: 0 | AE101: 0.066214607 | AF101: 0 | AG101: 0 | AK101: 0.0090210087 | AL101: 0 | AM101: 0 | AN101: 0 | AO101: 0 | AP101: 0 | AQ101: 0 | AR101: 0 | AS101: 0 | AT101: 0 | AU101: 1 | AV101: 0 | AW101: 0 | AX101: 0 | AY101: 0 | AZ101: 0 | BA101: 0 | BB101: 1
A102: 11 | B102: Leasing Polski Sp. z o. o.
A103: 12 | B103: Mercedes-Benz Leasing Polska Sp. z o.o. | C103: 1 | D103: 0.80470516 | G103: 0.18068428 | H103: 0.16378895 | K103: 0.016895324 | R103: 0.014610559 | X103: 0 | AL103: 0 | AP103: 0 | AU103: 1 | AV103: 0 | BB103: 1
A104: 13 | B104: Millennium Leasing Sp. z o.o.
A105: 14 | B105: mLeasing Sp. z o.o. | C105: 0.29364113 | G105: 0.0068994273 | K105: 0.0068994273 | N105: 0.19723519 | Q105: 0.07663742 | R105: 0.012869088 | X105: 0.61681441 | Y105: 0.051636479 | AC105: 0.013529113 | AD105: 0.0022175153 | AE105: 0.50321327 | AG105: 0.0018136825 | AK105: 0.044404351 | AL105: 0 | AP105: 0 | AT105: 0.089544466 | AU105: 1 | AV105: 0 | BB105: 1
A106: 15 | B106: PEAC (Poland) Sp. z o.o. | C106: 0.12210103 | D106: 0.0065740326 | G106: 0.026047114 | H106: 0.015007387 | K106: 0.011039726 | Q106: 0.056277703 | R106: 0.033202185 | X106: 0.87789897 | Y106: 0.26661354 | Z106: 0.17256835 | AB106: 0.13388781 | AC106: 0.019589289 | AE106: 0.006109202 | AK106: 0.27913077 | AL106: 0 | AP106: 0 | AU106: 1 | AV106: 0 | BB106: 1
A107: 16 | B107: PEKAO Leasing Sp. z o.o. | C107: 0.20875607 | D107: 0.084471196 | E107: 0 | F107: 0 | G107: 0.018188537 | H107: 0.014254981 | I107: 0 | J107: 0 | K107: 0.0039335552 | L107: 0 | M107: 0 | N107: 0.057186665 | O107: 0 | P107: 0 | Q107: 0.02778287 | R107: 0.0060873658 | S107: 0 | T107: 0 | U107: 0.015039437 | V107: 0 | W107: 0 | X107: 0.635013 | Y107: 0.094897011 | Z107: 0.11360578 | AA107: 0.0096609827 | AB107: 0 | AC107: 0.057463718 | AD107: 0.034097378 | AE107: 0.029095672 | AF107: 0 | AG107: 0.00022199224 | AH107: 0.012419172 | AI107: 0 | AJ107: 0 | AK107: 0.2835513 | AL107: 0.043064347 | AM107: 0.041044015 | AN107: 0 | AO107: 0.002020332 | AP107: 0.11301258 | AQ107: 0 | AR107: 0.042940128 | AS107: 0.070072457 | AT107: 0.00015399977 | AU107: 1 | AV107: 0.015814527 | AW107: 0 | AX107: 0.015814527 | AY107: 0 | AZ107: 0 | BA107: 0 | BB107: 1.0158145
...

Sheet leasing_2024q1
A1: ZWIAZEK POLSKIEGO LEASINGU Warszawa - 03-10-2024
A3: Wartość środków oddanych w leasing w | C3: 2024q1 | D3: netto w tys. PLN
A4: Lp. | B4: Spółka | C4: POJAZDY | D4: Osobowe | E4: osobowe - zeroemisyjne | F4: osobowe - hybryda plug-in | G4: Cięzarowe: | H4: o masie do 3,5 tony | I4: o masie do 3,5 tony - zeroemisyjne | J4: o masie do 3,5 tony - hybryda plug-in | K4: o masie powyzej 3,5 tony | L4: o masie powyżej 3,5 tony - zeroemisyjne | M4: o masie powyżej 3,5 tony - hybryda plug-in | N4: ciagniki siodlowe | O4: ciągniki siodłowe - zeroemisyjne | P4: ciągniki siodłowe - hybryda plug-in | Q4: naczepy / przyczepy | R4: autobusy | S4: autobusy - zeroemisyjne | T4: autobusy - hybryda plug-in | U4: inne | V4: inne - zeroemisyjne | W4: inne - hybryda plug-in | X4: MiU | Y4: Sprzęt Budowlany | Z4: Maszyny Rolnicze | AA4: Maszyny Poligraf. | AB4: maszyny do produkcji tworzyw sztucznych | AC4: maszyny i urządzenia do obróbki metali | AD4: maszyny dla przemysłu spożywczego | AE4: Sprzęt Medyczny | AF4: Sprzęt Gastronom. | AG4: Wózki Widłowe | AH4: fotowoltaika | AI4: wiatraki i turbiny wiatrowe | AJ4: stacje ładowania pojazdów elektrycznych (na użytek własny i komercyjny) | AK4: inne MiU | AL4: IT | AM4: Sprzęt | AN4: Oprogram. | AO4: inne IT | AP4: POZOSTAŁE ŚRODKI TRANSPORTU | AQ4: Powietrzne | AR4: Wodne | AS4: Kolejowe | AT4: Inne ruchomości | AU4: RUCHOMOŚCI | AV4: Nieruchomości | AW4: budynki przemysłowe | AX4: obiekty handlowe i usługowe | AY4: obiekty biurowe | AZ4: hotele i obiekty rekreacyjne | BA4: inne | BB4: OGÓŁEM
A5: 1 | B5: Alior Leasing Sp. z o. o. | C5: 683608.48 | D5: 304505.65 | G5: 138266.03 | H5: 87345.505 | K5: 50920.529 | N5: 98538.463 | Q5: 75512.885 | R5: 48827.727 | U5: 17957.718 | X5: 150203.92 | Y5: 57509.698 | Z5: 34799.86 | AA5: 2943.9658 | AB5: 1837.2339 | AC5: 15616.779 | AD5: 3192.4137 | AE5: 5087.7501 | AF5: 118.0618 | AG5: 2618.0132 | AH5: 1271.7766 | AK5: 25208.365 | AL5: 932.6619 | AM5: 932.6619 | AP5: 0 | AU5: 834745.06 | AV5: 0 | BB5: 834745.06
A6: 2 | B6: BNP Paribas Lease Group Sp. z o.o. | C6: 721016.43 | D6: 522271.61 | E6: 8138.5537 | F6: 3487.9516 | G6: 159257.83 | H6: 100487.82 | I6: 843.96616 | J6: 0 | K6: 58770.012 | L6: 298.7718 | M6: 0 | N6: 29546.104 | O6: 0 | P6: 0 | Q6: 4936.7394 | R6: 342.26 | S6: 0 | T6: 0 | U6: 4661.8831 | V6: 0 | W6: 0 | X6: 329921.15 | Y6: 52260.64 | Z6: 31395.904 | AA6: 782.53607 | AB6: 1858.6163 | AC6: 8720.5198 | AD6: 5190.7372 | AE6: 3335.4205 | AF6: 0 | AG6: 52163.794 | AH6: 1693.4826 | AI6: 0 | AJ6: 289.33553 | AK6: 172230.17 | AL6: 15796.092 | AM6: 11013.518 | AN6: 2216.0821 | AO6: 2566.4917 | AP6: 0 | AQ6: 0 | AR6: 0 | AS6: 0 | AU6: 1066733.7 | AV6: 153373.36 | AW6: 0 | AX6: 153373.36 | AY6: 0 | AZ6: 0 | BA6: 0 | BB6: 1220107
A7: 3 | B7: BOŚ Leasing - EKO Profit S.A. | C7: 9892.3693 | D7: 3470.1017 | G7: 220.352 | H7: 220.352 | N7: 1536.5 | Q7: 579 | R7: 743 | U7: 3343.4155 | X7: 10460.461 | Y7: 1680 | Z7: 2387.9579 | AC7: 711.30511 | AG7: 703.07 | AH7: 948.038 | AK7: 4030.09 | AL7: 0 | AP7: 0 | AU7: 20352.83 | AV7: 0 | BB7: 20352.83
A8: 4 | B8: BPS Leasing Spółka Akcyjna (BPS Leasing S.A.) | C8: 70185.58 | D8: 17732.42 | E8: 184.06 | F8: 6525.89 | G8: 10513.19 | H8: 5913.42 | I8: 230 | K8: 4599.77 | N8: 23561.47 | Q8: 13510.73 | R8: 3404.09 | U8: 1463.68 | X8: 9837.36 | Y8: 576.29 | Z8: 4657.24 | AC8: 300 | AG8: 639.48 | AH8: 31.63 | AK8: 3632.72 | AL8: 37.02 | AM8: 37.02 | AP8: 0 | AT8: 2398.68 | AU8: 82458.64 | AV8: 0 | BB8: 82458.64
A9: 5 | B9: Caterpillar Financial Services Poland Sp. z o.o. | C9: 0 | G9: 0 | X9: 90037.589 | Y9: 90037.589 | AL9: 0 | AP9: 0 | AU9: 90037.589 | AV9: 0 | BB9: 90037.589
A10: 6 | B10: De Lage Landen Leasing Polska S.A. | C10: 1592 | D10: 580 | G10: 869 | H10: 869 | Q10: 143 | X10: 29368 | Y10: 1367 | Z10: 25650 | AG10: 2150 | AH10: 169 | AK10: 32 | AL10: 4242 | AM10: 4242 | AP10: 0 | AU10: 35202 | AV10: 0 | BB10: 35202
A11: 7 | B11: Deutsche Leasing Polska S.A. | C11: 38402 | D11: 500 | G11: 6704 | H11: 251 | K11: 6453 | N11: 15981 | Q11: 15217 | X11: 133996 | Y11: 5226 | Z11: 8331 | AC11: 12901 | AE11: 169 | AG11: 102065 | AK11: 5304 | AL11: 0 | AP11: 0 | AU11: 172398 | AV11: 0 | BB11: 172398
A12: 8 | B12: Europejski Fundusz Leasingowy S.A. | C12: 1675373 | D12: 711033.56 | E12: 26474.757 | F12: 12201.021 | G12: 413685.73 | H12: 200356.31 | I12: 4851.7917 | J12: 0 | K12: 213329.41 | N12: 350139.02 | Q12: 160734.97 | R12: 26817.63 | U12: 12962.058 | V12: 48.77235 | X12: 598930.86 | Y12: 246957.64 | Z12: 97765.129 | AA12: 10472.696 | AB12: 5046.387 | AC12: 21237.27 | AD12: 11177.504 | AE12: 4421.5465 | AF12: 21211.471 | AG12: 18754.622 | AH12: 13636.112 | AI12: 0 | AJ12: 781.3814 | AK12: 147469.1 | AL12: 22086.331 | AM12: 11200.534 | AN12: 3858.164 | AO12: 7027.633 | AP12: 924.84047 | AQ12: 17 | AR12: 907.84047 | AU12: 2297315 | AV12: 0 | BB12: 2297315
A13: 9 | B13: Impuls-Leasing Polska Sp. z o. o. | C13: 240816.5 | D13: 128259.68 | E13: 4463.17 | F13: 3795.84 | G13: 35097.43 | H13: 25930 | I13: 273.36 | K13: 9167.43 | N13: 41488.14 | Q13: 26406.16 | R13: 4449.34 | U13: 5115.75 | V13: 23 | X13: 50877.89 | Y13: 14919.9 | Z13: 6605.5 | AA13: 3173.25 | AB13: 607.37 | AC13: 3282.16 | AE13: 1854.27 | AF13: 4041.56 | AG13: 1836.73 | AH13: 848.37 | AK13: 13708.78 | AL13: 265.81 | AM13: 265.81 | AP13: 223.58 | AR13: 223.58 | AU13: 292183.78 | AV13: 0 | BB13: 292183.78
A14: 10 | B14: ING Lease (Polska) Sp. z o.o. | C14: 927415 | D14: 409899 | E14: 14974 | F14: 9186 | G14: 146387 | H14: 91037 | I14: 90 | J14: 0 | K14: 55350 | L14: 0 | M14: 0 | N14: 224371 | O14: 0 | P14: 0 | Q14: 94462 | R14: 37357 | S14: 0 | T14: 0 | U14: 14939 | V14: 16 | W14: 0 | X14: 491391 | Y14: 65067 | Z14: 11657 | AA14: 9777 | AB14: 41717 | AC14: 97777 | AD14: 58289 | AE14: 15896 | AF14: 6316 | AG14: 25067 | AH14: 8196 | AI14: 0 | AJ14: 0 | AK14: 151632 | AL14: 8987 | AM14: 8987 | AN14: 0 | AO14: 0 | AP14: 10972 | AQ14: 0 | AR14: 72 | AS14: 10900 | AT14: 61654 | AU14: 1500419 | AV14: 8595 | AW14: 8595 | AX14: 0 | AY14: 0 | AZ14: 0 | BA14: 0 | BB14: 1509014
A15: 11 | B15: Leasing Polski Sp. z o. o. | C15: 51747.292 | D15: 9271.5072 | E15: 139 | F15: 685.64227 | G15: 11711.684 | H15: 5352.0094 | I15: 0 | J15: 0 | K15: 6359.6748 | L15: 0 | M15: 0 | N15: 16031.87 | O15: 0 | P15: 0 | Q15: 6198.0795 | R15: 2399.9675 | S15: 0 | T15: 0 | U15: 6134.1836 | X15: 17229.682 | Y15: 5511.1106 | Z15: 1331.2415 | AC15: 0 | AG15: 123 | AK15: 10264.33 | AL15: 0 | AP15: 0 | AQ15: 0 | AR15: 0 | AS15: 0 | AT15: 131.0943 | AU15: 69108.068 | AV15: 0 | BB15: 69108.068
A16: 12 | B16: Mercedes-Benz Leasing Polska Sp. z o.o. | C16: 694650.16 | D16: 547088.38 | E16: 41987.979 | F16: 58855.82 | G16: 79449.982 | H16: 68683.003 | I16: 3179.3459 | K16: 10766.979 | N16: 57435.789 | Q16: 1148.3915 | R16: 8456.3736 | U16: 1071.2441 | X16: 0 | AL16: 0 | AP16: 0 | AU16: 694650.16 | AV16: 0 | BB16: 694650.16
A17: 13 | B17: Millennium Leasing Sp. z o.o. | C17: 615293.94 | D17: 241303.37 | E17: 11672.995 | F17: 1928.957 | G17: 113963.2 | H17: 63055.818 | I17: 1071.2607 | K17: 50907.384 | N17: 162428.87 | Q17: 73906.188 | R17: 8864.8 | U17: 14827.513 | V17: 556.013 | X17: 254534.34 | Y17: 56878.22 | Z17: 242.79313 | AA17: 19576.335 | AB17: 66021.968 | AD17: 13513.547 | AE17: 7212.3653 | AG17: 15041.293 | AH17: 17278.007 | AK17: 58769.813 | AL17: 3943.1695 | AM17: 3943.1695 | AP17: 11927.781 | AR17: 1114.7811 | AS17: 10813 | AU17: 885699.23 | AV17: 0 | BB17: 885699.23
A18: 14 | B18: mLeasing Sp. z o.o. | C18: 1369813 | D18: 1026885.3 | G18: 149717.39 | H18: 83769.615 | K18: 65947.776 | N18: 111167.55 | Q18: 32514.007 | R18: 19193.963 | U18: 30334.774 | X18: 340103.83 | Y18: 59149.584 | Z18: 4053.0297 | AA18: 11888.156 | AB18: 8778.3706 | AC18: 48251.575 | AD18: 8230.6569 | AE18: 4031.51 | AF18: 1860.2747 | AG18: 12748.155 | AK18: 181112.52 | AL18: 12029.428 | AM18: 12029.428 | AP18: 128980.15 | AQ18: 102940.02 | AR18: 26040.128 | AT18: 15035.832 | AU18: 1865962.2 | AV18: 0 | BB18: 1865962.2
A19: 15 | B19: PEAC (Poland) Sp. z o.o. | C19: 10759.3 | D19: 706.5 | G19: 1166.9 | H19: 633.8 | K19: 533.1 | N19: 602.4 | Q19: 2773.1 | R19: 5125.8 | U19: 384.6 | X19: 22756 | Y19: 246.1 | Z19: 4759.7 | AA19: 714.1 | AB19: 933.8 | AC19: 1576.6 | AD19: 132.8 | AE19: 101.3 | AG19: 1029.3 | AH19: 169.1 | AK19: 13093.2 | AL19: 750.8 | AM19: 750.8 | AP19: 22.4 | AQ19: 22.4 | AU19: 34288.5 | AV19: 0 | BB19: 34288.5
A20: 16 | B20: PEKAO Leasing Sp. z o.o. | C20: 943691.8 | D20: 404494.83 | E20: 8237.3948 | F20: 5326.7917 | G20: 168023.65 | H20: 67226.771 | I20: 677.65231 | J20: 0 | K20: 100796.88 | L20: 0 | M20: 0 | N20: 206368.77 | O20: 0 | P20: 0 | Q20: 79027.55 | R20: 54479.554 | S20: 0 | T20: 0 | U20: 31297.441 | V20: 67.71529 | W20: 0 | X20: 446867.81 | Y20: 73425.4 | Z20: 12197.669 | AA20: 25989.531 | AB20: 37217.835 | AC20: 65585.385 | AD20: 15423.51 | AE20: 2510.683 | AF20: 2261.51 | AG20: 23336.724 | AH20: 9605.5845 | AI20: 0 | AJ20: 40.996 | AK20: 179272.98 | AL20: 12847.019 | AM20: 6960.4478 | AN20: 59.08 | AO20: 5827.4917 | AP20: 37372.633 | AQ20: 23980.825 | AR20: 13391.808 | AS20: 0 | AT20: 17993.811 | AU20: 1458773.1 | AV20: 29484.674 | AW20: 0 | AX20: 0 | AY20: 25714.943 | AZ20: 0 | BA20: 3769.7311 | BB20: 1488257.7
A21: 17 | B21: PKO Leasing S.A. | C21: 2381169.9 | D21: 1437294.3 | E21: 62261.75 | F21: 25981.452 | G21: 392557.39 | H21: 235088.28 | I21: 6897.4634 | K21: 157469.11 | L21: 2177.4265 | N21: 321018.05 | Q21: 141610.25 | R21: 63076.408 | U21: 25613.503 | V21: 768.15853 | X21: 574416.12 | Y21: 141153.17 | Z21: 52352.207 | AA21: 23952.997 | AB21: 14511.042 | AC21: 60187.493 | AD21: 25125.809 | AE21: 18377.146 | AF21: 4166.8791 | AG21: 31113.043 | AH21: 6692.5169 | AJ21: 1000 | AK21: 195783.82 | AL21: 27798.708 | AM21: 14179.889 | AN21: 366.07671 | AO21: 13252.743 | AP21: 83584.35 | AQ21: 21303.193 | AR21: 1638.9203 | AS21: 60642.236 | AU21: 3066969.1 | AV21: 0 | BB21: 3066969.1
A22: 18 | B22: Santander Consumer Multirent Sp.z o.o. | C22: 331234.21 | D22: 271738.64 | G22: 47422.874 | H22: 47422.874 | U22: 12072.698 | X22: 0 | AL22: 0 | AP22: 0 | AU22: 331234.21 | AV22: 0 | BB22: 331234.21
A23: 19 | B23: Santander Leasing S.A. | C23: 1181633.7 | D23: 727301.8 | E23: 35230.025 | F23: 22235.806 | G23: 193303.54 | H23: 116180.65 | I23: 1572.715 | J23: 0 | K23: 77122.888 | L23: 0 | M23: 0 | N23: 182432.41 | O23: 0 | P23: 0 | Q23: 57985.606 | R23: 14262.947 | S23: 0 | T23: 0 | U23: 6347.395 | V23: 92.697 | W23: 0 | X23: 339143.28 | Y23: 46934.342 | Z23: 34613.347 | AA23: 9092.856 | AB23: 14040.381 | AC23: 22343.393 | AD23: 18199.374 | AE23: 14630.075 | AF23: 2751.117 | AG23: 42408.177 | AH23: 8524.132 | AI23: 0 | AJ23: 0 | AK23: 125606.09 | AL23: 9763.72 | AM23: 9763.72 | AN23: 0 | AO23: 0 | AP23: 1545.611 | AQ23: 141.34 | AR23: 784.271 | AS23: 620 | AT23: 0 | AU23: 1532086.3 | AV23: 0 | AW23: 0 | AX23: 0 | AY23: 0 | AZ23: 0 | BA23: 0 | BB23: 1532086.3
A24: 20 | B24: Scania Finance Polska Sp. z o.o. | C24: 262514 | D24: 734 | G24: 25430 | H24: 9595 | K24: 15835 | N24: 216406 | Q24: 19944 | X24: 0 | AL24: 0 | AP24: 0 | AU24: 262514 | AV24: 0 | BB24: 262514
A25: 21 | B25: SG Equipment Leasing Polska Sp. z o.o. | C25: 34857.469 | D25: 1394.261 | G25: 7575.0891 | H25: 774.9 | K25: 6800.1891 | N25: 16537.041 | Q25: 8536.1778 | U25: 814.9 | X25: 43542.088 | Y25: 33772.5 | Z25: 4439.7802 | AC25: 954.971 | AD25: 672.05986 | AG25: 407.08612 | AK25: 3295.6913 | AL25: 96.59838 | AM25: 96.59838 | AP25: 6156.4251 | AQ25: 6156.4251 | AU25: 84652.581 | AV25: 0 | BB25: 84652.581
A26: 22 | B26: SGB Leasing Sp. z o.o. | C26: 15137 | D26: 8308 | E26: 319 | G26: 3684 | H26: 3035 | K26: 649 | N26: 926 | Q26: 859 | R26: 510 | U26: 850 | X26: 26508 | Y26: 2504 | Z26: 3994 | AA26: 320 | AB26: 141 | AC26: 713 | AD26: 210 | AE26: 60 | AF26: 34 | AG26: 165 | AH26: 300 | AK26: 18067 | AL26: 0 | AP26: 0 | AU26: 41645 | AV26: 0 | BB26: 41645
A27: 23 | B27: Siemens Finance Sp. z o.o. | C27: 2545 | D27: 1179 | G27: 1087 | H27: 808 | K27: 279 | N27: 279 | X27: 180903 | Y27: 20575 | Z27: 8961 | AA27: 9332 | AB27: 2726 | AC27: 11667 | AE27: 107870 | AG27: 4014 | AK27: 15758 | AL27: 23835 | AM27: 22027 | AN27: 1808 | AP27: 0 | AU27: 207283 | AV27: 0 | BB27: 207283
A28: 24 | B28: Vehis Fin 1 Sp. z o. o. | C28: 213572.44 | D28: 171137.47 | E28: 3676.02 | F28: 7304.18 | G28: 42434.97 | H28: 42434.97 | I28: 0 | J28: 0 | X28: 0 | AL28: 0 | AP28: 0 | AU28: 213572.44 | AV28: 0 | BB28: 213572.44
A29: 25 | B29: Razem | C29: 12476921 | D29: 6947089.4 | E29: 217758.71 | F29: 157515.35 | G29: 2148528.2 | H29: 1256471.1 | I29: 19687.555 | J29: 0 | K29: 892057.14 | L29: 2476.1983 | M29: 0 | N29: 2076795.4 | O29: 0 | P29: 0 | Q29: 816004.83 | R29: 298310.86 | S29: 0 | T29: 0 | U29: 190191.76 | V29: 1572.3562 | W29: 0 | X29: 4141028.4 | Y29: 975751.18 | Z29: 350194.36 | AA29: 128015.42 | AB29: 195437 | AC29: 371825.45 | AD29: 159357.41 | AE29: 185557.07 | AF29: 42760.874 | AG29: 336383.49 | AH29: 69363.75 | AI29: 0 | AJ29: 2111.7129 | AK29: 1324270.7 | AL29: 143411.36 | AM29: 106429.6 | AN29: 8307.4028 | AO29: 28674.359 | AP29: 281709.77 | AQ29: 154561.2 | AR29: 44173.329 | AS29: 82975.236 | AT29: 97213.417 | AU29: 17140283 | AV29: 191453.03 | AW29: 8595 | AX29: 153373.36 | AY29: 25714.943 | AZ29: 0 | BA29: 3769.7311 | BB29: 17331737
A31: Ilość środków oddanych w leasing w | C31: 2024q1 | D31: w sztukach
A33: Lp. | B33: Spółka | C33: POJAZDY | D33: Osobowe | E33: osobowe - zeroemisyjne | F33: osobowe - hybryda plug-in | G33: Cięzarowe: | H33: o masie do 3,5 tony | I33: o masie do 3,5 tony - zeroemisyjne | J33: o masie do 3,5 tony - hybryda plug-in | K33: o masie powyzej 3,5 tony | L33: o masie powyżej 3,5 tony - zeroemisyjne | M33: o masie powyżej 3,5 tony - hybryda plug-in | N33: ciagniki siodlowe | O33: ciągniki siodłowe - zeroemisyjne | P33: ciągniki siodłowe - hybryda plug-in | Q33: naczepy / przyczepy | R33: autobusy | S33: autobusy - zeroemisyjne | T33: autobusy - hybryda plug-in | U33: inne | V33: inne - zeroemisyjne | W33: inne - hybryda plug-in | X33: MiU | Y33: Sprzęt Budowlany | Z33: Maszyny Rolnicze | AA33: Maszyny Poligraf. | AB33: maszyny do produkcji tworzyw sztucznych | AC33: maszyny i urządzenia do obróbki metali | AD33: maszyny dla przemysłu spożywczego | AE33: Sprzęt Medyczny | AF33: Sprzęt Gastronom. | AG33: Wózki Widłowe | AH33: fotowoltaika | AI33: wiatraki i turbiny wiatrowe | AJ33: stacje ładowania pojazdów elektrycznych (na użytek własny i komercyjny) | AK33: inne MiU | AL33: IT | AM33: Sprzęt | AN33: Oprogram. | AO33: inne IT | AP33: POZOSTAŁE ŚRODKI TRANSPORTU | AQ33: Powietrzne | AR33: Wodne | AS33: Kolejowe | AT33: Inne ruchomości | AU33: RUCHOMOŚCI | AV33: Nieruchomości | AW33: budynki przemysłowe | AX33: obiekty handlowe i usługowe | AY33: obiekty biurowe | AZ33: hotele i obiekty rekreacyjne | BA33: inne | BB33: OGÓŁEM
A34: 1 | B34: Alior Leasing Sp. z o. o. | C34: 4876 | D34: 2370 | G34: 1116 | H34: 911 | K34: 205 | N34: 454 | Q34: 636 | R34: 133 | U34: 167 | X34: 1157 | Y34: 327 | Z34: 337 | AA34: 37 | AB34: 14 | AC34: 76 | AD34: 39 | AE34: 66 | AF34: 1 | AG34: 35 | AH34: 14 | AK34: 211 | AL34: 9 | AM34: 9 | AP34: 0 | AU34: 6042 | AV34: 0 | BB34: 6042
A35: 2 | B35: BNP Paribas Lease Group Sp. z o.o. | C35: 5124 | D35: 4069 | E35: 43 | F35: 18 | G35: 866 | H35: 672 | I35: 4 | J35: 0 | K35: 194 | L35: 1 | M35: 0 | N35: 73 | O35: 0 | P35: 0 | Q35: 24 | R35: 1 | S35: 0 | T35: 0 | U35: 91 | V35: 0 | W35: 0 | X35: 1005 | Y35: 202 | Z35: 95 | AA35: 3 | AB35: 3 | AC35: 11 | AD35: 3 | AE35: 56 | AF35: 0 | AG35: 398 | AH35: 13 | AI35: 0 | AJ35: 1 | AK35: 220 | AL35: 104 | AM35: 86 | AN35: 15 | AO35: 3 | AP35: 0 | AQ35: 0 | AR35: 0 | AS35: 0 | AU35: 6233 | AV35: 10 | AW35: 0 | AX35: 10 | AY35: 0 | AZ35: 0 | BA35: 0 | BB35: 6243
A36: 3 | B36: BOŚ Leasing - EKO Profit S.A. | C36: 51 | D36: 27 | G36: 2 | H36: 2 | N36: 8 | Q36: 2 | R36: 3 | U36: 9 | X36: 35 | Y36: 4 | Z36: 8 | AC36: 1 | AG36: 2 | AH36: 8 | AK36: 12 | AL36: 0 | AP36: 0 | AU36: 86 | AV36: 0 | BB36: 86
A37: 4 | B37: BPS Leasing Spółka Akcyjna (BPS Leasing S.A.) | C37: 296 | D37: 113 | E37: 1 | F37: 44 | G37: 54 | H37: 39 | I37: 1 | K37: 15 | N37: 72 | Q37: 47 | R37: 4 | U37: 6 | X37: 25 | Y37: 5 | Z37: 6 | AC37: 1 | AG37: 4 | AH37: 1 | AK37: 8 | AL37: 1 | AM37: 1 | AP37: 0 | AT37: 11 | AU37: 333 | AV37: 0 | BB37: 333
A38: 5 | B38: Caterpillar Financial Services Poland Sp. z o.o. | C38: 0 | G38: 0 | X38: 226 | Y38: 226 | AL38: 0 | AP38: 0 | AU38: 226 | AV38: 0 | BB38: 226
A39: 6 | B39: De Lage Landen Leasing Polska S.A. | C39: 12 | D39: 6 | G39: 5 | H39: 5 | Q39: 1 | X39: 140 | Y39: 13 | Z39: 112 | AG39: 11 | AH39: 3 | AK39: 1 | AL39: 70 | AM39: 70 | AP39: 0 | AU39: 222 | AV39: 0 | BB39: 222
A40: 7 | B40: Deutsche Leasing Polska S.A. | C40: 110 | D40: 5 | G40: 9 | H40: 2 | K40: 7 | N40: 36 | Q40: 60 | X40: 881 | Y40: 3 | Z40: 5 | AC40: 13 | AE40: 1 | AG40: 843 | AK40: 16 | AL40: 0 | AP40: 0 | AU40: 991 | AV40: 0 | BB40: 991
A41: 8 | B41: Europejski Fundusz Leasingowy S.A. | C41: 9502 | D41: 4693 | E41: 127 | F41: 55 | G41: 2173 | H41: 1525 | I41: 18 | J41: 0 | K41: 648 | N41: 1198 | Q41: 1123 | R41: 47 | U41: 268 | V41: 1 | X41: 3777 | Y41: 1233 | Z41: 488 | AA41: 49 | AB41: 31 | AC41: 126 | AD41: 67 | AE41: 69 | AF41: 340 | AG41: 180 | AH41: 99 | AI41: 0 | AJ41: 5 | AK41: 1090 | AL41: 361 | AM41: 192 | AN41: 66 | AO41: 103 | AP41: 8 | AQ41: 1 | AR41: 7 | AU41: 13648 | AV41: 0 | BB41: 13648
A42: 9 | B42: Impuls-Leasing Polska Sp. z o. o. | C42: 1376 | D42: 797 | E42: 26 | F42: 15 | G42: 208 | H42: 183 | I42: 2 | K42: 25 | N42: 124 | Q42: 175 | R42: 10 | U42: 62 | V42: 1 | X42: 339 | Y42: 60 | Z42: 52 | AA42: 16 | AB42: 3 | AC42: 9 | AE42: 24 | AF42: 23 | AG42: 22 | AH42: 7 | AK42: 123 | AL42: 8 | AM42: 8 | AP42: 1 | AR42: 1 | AU42: 1724 | AV42: 0 | BB42: 1724
A43: 10 | B43: ING Lease (Polska) Sp. z o.o. | C43: 4752 | D43: 2714 | E43: 80 | F43: 50 | G43: 833 | H43: 691 | I43: 1 | J43: 0 | K43: 142 | L43: 0 | M43: 0 | N43: 615 | O43: 0 | P43: 0 | Q43: 471 | R43: 61 | S43: 0 | T43: 0 | U43: 58 | V43: 1 | W43: 0 | X43: 1215 | Y43: 224 | Z43: 40 | AA43: 29 | AB43: 49 | AC43: 137 | AD43: 68 | AE43: 54 | AF43: 39 | AG43: 197 | AH43: 41 | AI43: 0 | AJ43: 0 | AK43: 337 | AL43: 56 | AM43: 56 | AN43: 0 | AO43: 0 | AP43: 66 | AQ43: 0 | AR43: 1 | AS43: 65 | AT43: 199 | AU43: 6288 | AV43: 1 | AW43: 1 | AX43: 0 | AY43: 0 | AZ43: 0 | BA43: 0 | BB43: 6289
A44: 11 | B44: Leasing Polski Sp. z o. o. | C44: 469 | D44: 103 | E44: 1 | F44: 7 | G44: 120 | H44: 81 | I44: 0 | J44: 0 | K44: 39 | L44: 0 | M44: 0 | N44: 118 | O44: 0 | P44: 0 | Q44: 72 | R44: 19 | S44: 0 | T44: 0 | U44: 37 | X44: 48 | Y44: 34 | Z44: 11 | AC44: 0 | AG44: 2 | AK44: 1 | AL44: 0 | AP44: 0 | AQ44: 0 | AR44: 0 | AS44: 0 | AT44: 1 | AU44: 518 | AV44: 0 | BB44: 518
A45: 12 | B45: Mercedes-Benz Leasing Polska Sp. z o.o. | C45: 3179 | D45: 2557 | E45: 166 | F45: 251 | G45: 465 | H45: 441 | I45: 23 | K45: 24 | N45: 130 | Q45: 10 | R45: 11 | U45: 6 | X45: 0 | AL45: 0 | AP45: 0 | AU45: 3179 | AV45: 0 | BB45: 3179
A46: 13 | B46: Millennium Leasing Sp. z o.o. | C46: 3250 | D46: 1537 | E46: 61 | F46: 13 | G46: 638 | H46: 485 | I46: 6 | K46: 153 | N46: 531 | Q46: 470 | R46: 9 | U46: 65 | V46: 1 | X46: 983 | Y46: 207 | Z46: 2 | AA46: 57 | AB46: 116 | AD46: 43 | AE46: 61 | AG46: 98 | AH46: 137 | AK46: 262 | AL46: 25 | AM46: 25 | AP46: 6 | AQ46: 0 | AR46: 4 | AS46: 2 | AU46: 4264 | AV46: 0 | BB46: 4264
A47: 14 | B47: mLeasing Sp. z o.o. | C47: 7653 | D47: 6233 | G47: 857 | H47: 714 | K47: 143 | N47: 308 | Q47: 186 | R47: 25 | U47: 44 | X47: 1468 | Y47: 126 | Z47: 6 | AA47: 40 | AB47: 17 | AC47: 62 | AD47: 10 | AE47: 30 | AF47: 129 | AG47: 134 | AK47: 914 | AL47: 220 | AM47: 220 | AP47: 24 | AQ47: 2 | AR47: 22 | AT47: 276 | AU47: 9641 | AV47: 0 | BB47: 9641
A48: 15 | B48: PEAC (Poland) Sp. z o.o. | C48: 49 | D48: 4 | G48: 7 | H48: 4 | K48: 3 | N48: 3 | Q48: 23 | R48: 10 | U48: 2 | X48: 331 | Y48: 3 | Z48: 29 | AA48: 4 | AB48: 1 | AC48: 15 | AD48: 1 | AE48: 5 | AG48: 8 | AH48: 1 | AK48: 264 | AL48: 22 | AM48: 22 | AP48: 1 | AQ48: 1 | AU48: 403 | AV48: 0 | BB48: 403
A49: 16 | B49: PEKAO Leasing Sp. z o.o. | C49: 4476 | D49: 2451 | E49: 43 | F49: 19 | G49: 686 | H49: 467 | I49: 5 | J49: 0 | K49: 219 | L49: 0 | M49: 0 | N49: 571 | O49: 0 | P49: 0 | Q49: 551 | R49: 106 | S49: 0 | T49: 0 | U49: 111 | V49: 3 | W49: 0 | X49: 1145 | Y49: 193 | Z49: 26 | AA49: 38 | AB49: 30 | AC49: 81 | AD49: 47 | AE49: 19 | AF49: 47 | AG49: 143 | AH49: 40 | AI49: 0 | AJ49: 1 | AK49: 480 | AL49: 236 | AM49: 107 | AN49: 1 | AO49: 128 | AP49: 25 | AQ49: 5 | AR49: 20 | AS49: 0 | AT49: 68 | AU49: 5950 | AV49: 18 | AW49: 0 | AX49: 0 | AY49: 8 | AZ49: 0 | BA49: 10 | BB49: 5968
A50: 17 | B50: PKO Leasing S.A. | C50: 14309 | D50: 9685 | E50: 344 | F50: 108 | G50: 2215 | H50: 1820 | I50: 37 | K50: 395 | L50: 1 | N50: 955 | Q50: 949 | R50: 100 | U50: 405 | V50: 4 | X50: 4066 | Y50: 573 | Z50: 252 | AA50: 67 | AB50: 34 | AC50: 216 | AD50: 261 | AE50: 164 | AF50: 252 | AG50: 267 | AH50: 67 | AJ50: 40 | AK50: 1873 | AL50: 3342 | AM50: 1940 | AN50: 4 | AO50: 1398 | AP50: 54 | AQ50: 5 | AR50: 6 | AS50: 43 | AU50: 21771 | AV50: 0 | BB50: 21771
A51: 18 | B51: Santander Consumer Multirent Sp.z o.o. | C51: 2935 | D51: 2254 | G51: 430 | H51: 430 | U51: 251 | X51: 0 | AL51: 0 | AP51: 0 | AU51: 2935 | AV51: 0 | BB51: 2935
A52: 19 | B52: Santander Leasing S.A. | C52: 6405 | D52: 4216 | E52: 172 | F52: 0 | G52: 1120 | H52: 875 | I52: 9 | J52: 0 | K52: 245 | L52: 0 | M52: 0 | N52: 496 | O52: 0 | P52: 0 | Q52: 395 | R52: 28 | S52: 0 | T52: 0 | U52: 150 | V52: 7 | W52: 0 | X52: 2113 | Y52: 185 | Z52: 136 | AA52: 51 | AB52: 47 | AC52: 56 | AD52: 20 | AE52: 166 | AF52: 95 | AG52: 369 | AH52: 77 | AI52: 0 | AJ52: 0 | AK52: 911 | AL52: 188 | AM52: 188 | AN52: 0 | AO52: 0 | AP52: 6 | AQ52: 2 | AR52: 3 | AS52: 1 | AT52: 0 | AU52: 8712 | AV52: 0 | AW52: 0 | AX52: 0 | AY52: 0 | AZ52: 0 | BA52: 0 | BB52: 8712
A53: 20 | B53: Scania Finance Polska Sp. z o.o. | C53: 600 | D53: 2 | G53: 42 | H53: 14 | K53: 28 | N53: 468 | Q53: 88 | X53: 0 | AL53: 0 | AP53: 0 | AU53: 600 | AV53: 0 | BB53: 600
A54: 21 | B54: SG Equipment Leasing Polska Sp. z o.o. | C54: 139 | D54: 14 | G54: 16 | H54: 4 | K54: 12 | N54: 41 | Q54: 66 | U54: 2 | X54: 148 | Y54: 110 | Z54: 23 | AC54: 2 | AD54: 1 | AG54: 2 | AK54: 10 | AL54: 1 | AM54: 1 | AP54: 3 | AQ54: 3 | AU54: 291 | AV54: 0 | BB54: 291
A55: 22 | B55: SGB Leasing Sp. z o.o. | C55: 96 | D55: 46 | E55: 2 | G55: 34 | H55: 30 | K55: 4 | N55: 4 | Q55: 8 | R55: 2 | U55: 2 | X55: 69 | Y55: 15 | Z55: 18 | AA55: 1 | AB55: 1 | AC55: 2 | AD55: 2 | AE55: 2 | AF55: 1 | AG55: 2 | AH55: 3 | AK55: 22 | AL55: 0 | AP55: 0 | AU55: 165 | AV55: 0 | BB55: 165
A56: 23 | B56: Siemens Finance Sp. z o.o. | C56: 6 | D56: 3 | G56: 2 | H56: 1 | K56: 1 | N56: 1 | X56: 765 | Y56: 45 | Z56: 11 | AA56: 5 | AB56: 1 | AC56: 16 | AE56: 455 | AG56: 5 | AK56: 227 | AL56: 1783 | AM56: 1770 | AN56: 13 | AP56: 0 | AU56: 2554 | AV56: 0 | BB56: 2554
A57: 24 | B57: Vehis Fin 1 Sp. z o. o. | C57: 1553 | D57: 1212 | E57: 21 | F57: 30 | G57: 341 | H57: 341 | I57: 0 | J57: 0 | X57: 0 | AL57: 0 | AP57: 0 | AU57: 1553 | AV57: 0 | BB57: 1553
A58: 25 | B58: Razem | C58: 71218 | D58: 45111 | E58: 1087 | F58: 610 | G58: 12239 | H58: 9737 | I58: 106 | J58: 0 | K58: 2502 | L58: 2 | M58: 0 | N58: 6206 | O58: 0 | P58: 0 | Q58: 5357 | R58: 569 | S58: 0 | T58: 0 | U58: 1736 | V58: 18 | W58: 0 | X58: 19936 | Y58: 3788 | Z58: 1657 | AA58: 397 | AB58: 347 | AC58: 824 | AD58: 562 | AE58: 1172 | AF58: 927 | AG58: 2722 | AH58: 511 | AI58: 0 | AJ58: 47 | AK58: 6982 | AL58: 6426 | AM58: 4695 | AN58: 99 | AO58: 1632 | AP58: 194 | AQ58: 19 | AR58: 64 | AS58: 111 | AT58: 555 | AU58: 98329 | AV58: 29 | AW58: 1 | AX58: 10 | AY58: 8 | AZ58: 0 | BA58: 10 | BB58: 98358
A60: Średnia wartość środków oddanych w leasing (tys. PLN) | C60: 2024q1 | D60: netto w tys. PLN
A62: Lp. | B62: Spółka | C62: POJAZDY | D62: Osobowe | E62: osobowe - zeroemisyjne | F62: osobowe - hybryda plug-in | G62: Cięzarowe: | H62: o masie do 3,5 tony | I62: o masie do 3,5 tony - zeroemisyjne | J62: o masie do 3,5 tony - hybryda plug-in | K62: o masie powyzej 3,5 tony | L62: o masie powyżej 3,5 tony - zeroemisyjne | M62: o masie powyżej 3,5 tony - hybryda plug-in | N62: ciagniki siodlowe | O62: ciągniki siodłowe - zeroemisyjne | P62: ciągniki siodłowe - hybryda plug-in | Q62: naczepy / przyczepy | R62: autobusy | S62: autobusy - zeroemisyjne | T62: autobusy - hybryda plug-in | U62: inne | V62: inne - zeroemisyjne | W62: inne - hybryda plug-in | X62: MiU | Y62: Sprzęt Budowlany | Z62: Maszyny Rolnicze | AA62: Maszyny Poligraf. | AB62: maszyny do produkcji tworzyw sztucznych | AC62: maszyny i urządzenia do obróbki metali | AD62: maszyny dla przemysłu spożywczego | AE62: Sprzęt Medyczny | AF62: Sprzęt Gastronom. | AG62: Wózki Widłowe | AH62: fotowoltaika | AI62: wiatraki i turbiny wiatrowe | AJ62: stacje ładowania pojazdów elektrycznych (na użytek własny i komercyjny) | AK62: inne MiU | AL62: IT | AM62: Sprzęt | AN62: Oprogram. | AO62: inne IT | AP62: POZOSTAŁE ŚRODKI TRANSPORTU | AQ62: Powietrzne | AR62: Wodne | AS62: Kolejowe | AT62: Inne ruchomości | AU62: RUCHOMOŚCI | AV62: Nieruchomości | AW62: budynki przemysłowe | AX62: obiekty handlowe i usługowe | AY62: obiekty biurowe | AZ62: hotele i obiekty rekreacyjne | BA62: inne | BB62: OGÓŁEM
A63: 1 | B63: Alior Leasing Sp. z o. o. | C63: 140.19862 | D63: 128.4834 | G63: 123.8943 | H63: 95.878711 | K63: 248.39283 | N63: 217.04507 | Q63: 118.73095 | R63: 367.12577 | U63: 107.53125 | X63: 129.82188 | Y63: 175.87064 | Z63: 103.26368 | AA63: 79.566642 | AB63: 131.23099 | AC63: 205.48393 | AD63: 81.856762 | AE63: 77.087123 | AF63: 118.0618 | AG63: 74.800377 | AH63: 90.841188 | AK63: 119.47093 | AL63: 103.6291 | AM63: 103.6291 | AU63: 138.15708 | BB63: 138.15708
A64: 2 | B64: BNP Paribas Lease Group Sp. z o.o. | C64: 140.71359 | D64: 128.3538 | E64: 189.26869 | F64: 193.77509 | G64: 183.90049 | H64: 149.53544 | I64: 210.99154 | K64: 302.93821 | L64: 298.7718 | N64: 404.74116 | Q64: 205.69747 | R64: 342.26 | U64: 51.229485 | X64: 328.27975 | Y64: 258.71604 | Z64: 330.4832 | AA64: 260.84536 | AB64: 619.53878 | AC64: 792.77452 | AD64: 1730.2457 | AE64: 59.561081 | AG64: 131.06481 | AH64: 130.26789 | AJ64: 289.33553 | AK64: 782.86439 | AL64: 151.8855 | AM64: 128.06416 | AN64: 147.73881 | AO64: 855.49723 | AU64: 171.1429 | AV64: 15337.336 | AX64: 15337.336 | BB64: 195.43601
A65: 3 | B65: BOŚ Leasing - EKO Profit S.A. | C65: 193.96803 | D65: 128.52229 | G65: 110.176 | H65: 110.176 | N65: 192.0625 | Q65: 289.5 | R65: 247.66667 | U65: 371.49062 | X65: 298.87032 | Y65: 420 | Z65: 298.49474 | AC65: 711.30511 | AG65: 351.535 | AH65: 118.50475 | AK65: 335.84083 | AU65: 236.66082 | BB65: 236.66082
A66: 4 | B66: BPS Leasing Spółka Akcyjna (BPS Leasing S.A.) | C66: 237.11345 | D66: 156.92407 | E66: 184.06 | F66: 148.31568 | G66: 194.6887 | H66: 151.62615 | I66: 230 | K66: 306.65133 | N66: 327.24264 | Q66: 287.46234 | R66: 851.0225 | U66: 243.94667 | X66: 393.4944 | Y66: 115.258 | Z66: 776.20667 | AC66: 300 | AG66: 159.87 | AH66: 31.63 | AK66: 454.09 | AL66: 37.02 | AM66: 37.02 | AT66: 218.06182 | AU66: 247.62354 | BB66: 247.62354
A67: 5 | B67: Caterpillar Financial Services Poland Sp. z o.o. | X67: 398.39641 | Y67: 398.39641 | AU67: 398.39641 | BB67: 398.39641
A68: 6 | B68: De Lage Landen Leasing Polska S.A. | C68: 132.66667 | D68: 96.666667 | G68: 173.8 | H68: 173.8 | Q68: 143 | X68: 209.77143 | Y68: 105.15385 | Z68: 229.01786 | AG68: 195.45455 | AH68: 56.333333 | AK68: 32 | AL68: 60.6 | AM68: 60.6 | AU68: 158.56757 | BB68: 158.56757
A69: 7 | B69: Deutsche Leasing Polska S.A. | C69: 349.10909 | D69: 100 | G69: 744.88889 | H69: 125.5 | K69: 921.85714 | N69: 443.91667 | Q69: 253.61667 | X69: 152.09535 | Y69: 1742 | Z69: 1666.2 | AC69: 992.38462 | AE69: 169 | AG69: 121.07355 | AK69: 331.5 | AU69: 173.96367 | BB69: 173.96367
A70: 8 | B70: Europejski Fundusz Leasingowy S.A. | C70: 176.31793 | D70: 151.50939 | E70: 208.46266 | F70: 221.83674 | G70: 190.37539 | H70: 131.38119 | I70: 269.54398 | K70: 329.21206 | N70: 292.26963 | Q70: 143.12998 | R70: 570.58788 | U70: 48.365887 | V70: 48.77235 | X70: 158.57317 | Y70: 200.29005 | Z70: 200.33838 | AA70: 213.72849 | AB70: 162.78668 | AC70: 168.54976 | AD70: 166.82842 | AE70: 64.080384 | AF70: 62.386681 | AG70: 104.19235 | AH70: 137.73851 | AJ70: 156.27628 | AK70: 135.29275 | AL70: 61.180972 | AM70: 58.336114 | AN70: 58.45703 | AO70: 68.229446 | AP70: 115.60506 | AQ70: 17 | AR70: 129.6915 | AU70: 168.32613 | BB70: 168.32613
A71: 9 | B71: Impuls-Leasing Polska Sp. z o. o. | C71: 175.01199 | D71: 160.92808 | E71: 171.66038 | F71: 253.056 | G71: 168.73764 | H71: 141.69399 | I71: 136.68 | K71: 366.6972 | N71: 334.58177 | Q71: 150.89234 | R71: 444.934 | U71: 82.512097 | V71: 23 | X71: 150.08227 | Y71: 248.665 | Z71: 127.02885 | AA71: 198.32812 | AB71: 202.45667 | AC71: 364.68444 | AE71: 77.26125 | AF71: 175.72 | AG71: 83.487727 | AH71: 121.19571 | AK71: 111.4535 | AL71: 33.22625 | AM71: 33.22625 | AP71: 223.58 | AR71: 223.58 | AU71: 169.48015 | BB71: 169.48015
A72: 10 | B72: ING Lease (Polska) Sp. z o.o. | C72: 195.16309 | D72: 151.03132 | E72: 187.175 | F72: 183.72 | G72: 175.73469 | H72: 131.74674 | I72: 90 | K72: 389.78873 | N72: 364.83089 | Q72: 200.55626 | R72: 612.40984 | U72: 257.56897 | V72: 16 | X72: 404.43704 | Y72: 290.47768 | Z72: 291.425 | AA72: 337.13793 | AB72: 851.36735 | AC72: 713.70073 | AD72: 857.19118 | AE72: 294.37037 | AF72: 161.94872 | AG72: 127.24365 | AH72: 199.90244 | AK72: 449.94659 | AL72: 160.48214 | AM72: 160.48214 | AP72: 166.24242 | AR72: 72 | AS72: 167.69231 | AT72: 309.8191 | AU72: 238.61625 | AV72: 8595 | AW72: 8595 | BB72: 239.94498
A73: 11 | B73: Leasing Polski Sp. z o. o. | C73: 110.33538 | D73: 90.014633 | E73: 139 | F73: 97.948896 | G73: 97.597368 | H73: 66.07419 | K73: 163.06858 | N73: 135.8633 | Q73: 86.084438 | R73: 126.31408 | U73: 165.78875 | X73: 358.95171 | Y73: 162.09149 | Z73: 121.02195 | AG73: 61.5 | AK73: 10264.33 | AT73: 131.0943 | AU73: 133.41326 | BB73: 133.41326
A74: 12 | B74: Mercedes-Benz Leasing Polska Sp. z o.o. | C74: 218.51216 | D74: 213.95713 | E74: 252.93963 | F74: 234.48534 | G74: 170.86018 | H74: 155.74377 | I74: 138.23243 | K74: 448.62412 | N74: 441.81376 | Q74: 114.83915 | R74: 768.76123 | U74: 178.54068 | AU74: 218.51216 | BB74: 218.51216
A75: 13 | B75: Millennium Leasing Sp. z o.o. | C75: 189.32121 | D75: 156.99634 | E75: 191.36057 | F75: 148.3813 | G75: 178.62571 | H75: 130.012 | I75: 178.54346 | K75: 332.728 | N75: 305.8924 | Q75: 157.24721 | R75: 984.97778 | U75: 228.11558 | V75: 556.013 | X75: 258.93626 | Y75: 274.77401 | Z75: 121.39656 | AA75: 343.44447 | AB75: 569.1549 | AD75: 314.26852 | AE75: 118.2355 | AG75: 153.48258 | AH75: 126.11684 | AK75: 224.31226 | AL75: 157.72678 | AM75: 157.72678 | AP75: 1987.9635 | AR75: 278.69528 | AS75: 5406.5 | AU75: 207.71558 | BB75: 207.71558
A76: 14 | B76: mLeasing Sp. z o.o. | C76: 178.99033 | D76: 164.74977 | G76: 174.69941 | H76: 117.32439 | K76: 461.17326 | N76: 360.93359 | Q76: 174.80649 | R76: 767.75854 | U76: 689.42668 | X76: 231.67836 | Y76: 469.44114 | Z76: 675.50496 | AA76: 297.20391 | AB76: 516.37474 | AC76: 778.25121 | AD76: 823.06569 | AE76: 134.38367 | AF76: 14.420734 | AG76: 95.135486 | AK76: 198.15374 | AL76: 54.679216 | AM76: 54.679216 | AP76: 5374.1728 | AQ76: 51470.01 | AR76: 1183.6422 | AT76: 54.477651 | AU76: 193.54447 | BB76: 193.54447
A77: 15 | B77: PEAC (Poland) Sp. z o.o. | C77: 219.57755 | D77: 176.625 | G77: 166.7 | H77: 158.45 | K77: 177.7 | N77: 200.8 | Q77: 120.56957 | R77: 512.58 | U77: 192.3 | X77: 68.749245 | Y77: 82.033333 | Z77: 164.12759 | AA77: 178.525 | AB77: 933.8 | AC77: 105.10667 | AD77: 132.8 | AE77: 20.26 | AG77: 128.6625 | AH77: 169.1 | AK77: 49.595455 | AL77: 34.127273 | AM77: 34.127273 | AP77: 22.4 | AQ77: 22.4 | AU77: 85.083127 | BB77: 85.083127
A78: 16 | B78: PEKAO Leasing Sp. z o.o. | C78: 210.83374 | D78: 165.03257 | E78: 191.56732 | F78: 280.35746 | G78: 244.93244 | H78: 143.95454 | I78: 135.53046 | K78: 460.25973 | N78: 361.41642 | Q78: 143.42568 | R78: 513.95806 | U78: 281.95893 | V78: 22.571763 | X78: 390.27756 | Y78: 380.44249 | Z78: 469.14113 | AA78: 683.93502 | AB78: 1240.5945 | AC78: 809.69611 | AD78: 328.15979 | AE78: 132.14121 | AF78: 48.117235 | AG78: 163.19387 | AH78: 240.13961 | AJ78: 40.996 | AK78: 373.48538 | AL78: 54.436523 | AM78: 65.050914 | AN78: 59.08 | AO78: 45.527279 | AP78: 1494.9053 | AQ78: 4796.165 | AR78: 669.59041 | AT78: 264.61487 | AU78: 245.17195 | AV78: 1638.0374 | AY78: 3214.3678 | BA78: 376.97311 | BB78: 249.37295
A79: 17 | B79: PKO Leasing S.A. | C79: 166.41065 | D79: 148.40417 | E79: 180.99346 | F79: 240.569 | G79: 177.22681 | H79: 129.16938 | I79: 186.41793 | K79: 398.65598 | L79: 2177.4265 | N79: 336.14455 | Q79: 149.2205 | R79: 630.76408 | U79: 63.243218 | V79: 192.03963 | X79: 141.27302 | Y79: 246.34061 | Z79: 207.74685 | AA79: 357.50742 | AB79: 426.79537 | AC79: 278.6458 | AD79: 96.267467 | AE79: 112.05577 | AF79: 16.535234 | AG79: 116.52825 | AH79: 99.888312 | AJ79: 25 | AK79: 104.52953 | AL79: 8.3179857 | AM79: 7.3092209 | AN79: 91.519177 | AO79: 9.4797875 | AP79: 1547.8583 | AQ79: 4260.6387 | AR79: 273.15339 | AS79: 1410.2846 | AU79: 140.87406 | BB79: 140.87406
A80: 18 | B80: Santander Consumer Multirent Sp.z o.o. | C80: 112.85663 | D80: 120.5584 | G80: 110.28575 | H80: 110.28575 | U80: 48.098396 | AU80: 112.85663 | BB80: 112.85663
A81: 19 | B81: Santander Leasing S.A. | C81: 184.48613 | D81: 172.50991 | E81: 204.82573 | G81: 172.59244 | H81: 132.77788 | I81: 174.74611 | K81: 314.7873 | N81: 367.80728 | Q81: 146.799 | R81: 509.39096 | U81: 42.315967 | V81: 13.242429 | X81: 160.50321 | Y81: 253.69915 | Z81: 254.5099 | AA81: 178.29129 | AB81: 298.73151 | AC81: 398.98916 | AD81: 909.9687 | AE81: 88.132982 | AF81: 28.959126 | AG81: 114.92731 | AH81: 110.70301 | AK81: 137.87715 | AL81: 51.934681 | AM81: 51.934681 | AP81: 257.60183 | AQ81: 70.67 | AR81: 261.42367 | AS81: 620 | AU81: 175.85931 | BB81: 175.85931
A82: 20 | B82: Scania Finance Polska Sp. z o.o. | C82: 437.52333 | D82: 367 | G82: 605.47619 | H82: 685.35714 | K82: 565.53571 | N82: 462.40598 | Q82: 226.63636 | AU82: 437.52333 | BB82: 437.52333
A83: 21 | B83: SG Equipment Leasing Polska Sp. z o.o. | C83: 250.77316 | D83: 99.590072 | G83: 473.44307 | H83: 193.725 | K83: 566.68242 | N83: 403.34246 | Q83: 129.33603 | U83: 407.45 | X83: 294.2033 | Y83: 307.02272 | Z83: 193.03392 | AC83: 477.4855 | AD83: 672.05986 | AG83: 203.54306 | AK83: 329.56913 | AL83: 96.59838 | AM83: 96.59838 | AP83: 2052.1417 | AQ83: 2052.1417 | AU83: 290.90234 | BB83: 290.90234
A84: 22 | B84: SGB Leasing Sp. z o.o. | C84: 157.67708 | D84: 180.6087 | E84: 159.5 | G84: 108.35294 | H84: 101.16667 | K84: 162.25 | N84: 231.5 | Q84: 107.375 | R84: 255 | U84: 425 | X84: 384.17391 | Y84: 166.93333 | Z84: 221.88889 | AA84: 320 | AB84: 141 | AC84: 356.5 | AD84: 105 | AE84: 30 | AF84: 34 | AG84: 82.5 | AH84: 100 | AK84: 821.22727 | AU84: 252.39394 | BB84: 252.39394
A85: 23 | B85: Siemens Finance Sp. z o.o. | C85: 424.16667 | D85: 393 | G85: 543.5 | H85: 808 | K85: 279 | N85: 279 | X85: 236.47451 | Y85: 457.22222 | Z85: 814.63636 | AA85: 1866.4 | AB85: 2726 | AC85: 729.1875 | AE85: 237.07692 | AG85: 802.8 | AK85: 69.418502 | AL85: 13.367919 | AM85: 12.444633 | AN85: 139.07692 | AU85: 81.160141 | BB85: 81.160141
A86: 24 | B86: Vehis Fin 1 Sp. z o. o. | C86: 137.5225 | D86: 141.20253 | E86: 175.04857 | F86: 243.47267 | G86: 124.44273 | H86: 124.44273 | AU86: 137.5225 | BB86: 137.5225
A87: 25 | B87: Razem | C87: 175.19336 | D87: 153.9999 | E87: 200.33 | F87: 258.22189 | G87: 175.54769 | H87: 129.04088 | I87: 185.73165 | K87: 356.53763 | L87: 1238.0992 | N87: 334.64316 | Q87: 152.32496 | R87: 524.27216 | U87: 109.55746 | V87: 87.353121 | X87: 207.71611 | Y87: 257.59007 | Z87: 211.3424 | AA87: 322.45698 | AB87: 563.21903 | AC87: 451.24448 | AD87: 283.55411 | AE87: 158.32514 | AF87: 46.128235 | AG87: 123.57953 | AH87: 135.74119 | AJ87: 44.930062 | AK87: 189.66924 | AL87: 22.31736 | AM87: 22.66871 | AN87: 83.91316 | AO87: 17.570073 | AP87: 1452.1122 | AQ87: 8134.8002 | AR87: 690.20826 | AS87: 747.52465 | AT87: 175.15931 | AU87: 174.31565 | AV87: 6601.8286 | AW87: 8595 | AX87: 15337.336 | AY87: 3214.3678 | BA87: 376.97311 | BB87: 176.21075
A89: Struktura wartościowa umów (ruchomości) | C89: 2024q1
A91: Lp. | B91: Spółka | C91: POJAZDY | D91: Osobowe | E91: osobowe - zeroemisyjne | F91: osobowe - hybryda plug-in | G91: Cięzarowe: | H91: o masie do 3,5 tony | I91: o masie do 3,5 tony - zeroemisyjne | J91: o masie do 3,5 tony - hybryda plug-in | K91: o masie powyzej 3,5 tony | L91: o masie powyżej 3,5 tony - zeroemisyjne | M91: o masie powyżej 3,5 tony - hybryda plug-in | N91: ciagniki siodlowe | O91: ciągniki siodłowe - zeroemisyjne | P91: ciągniki siodłowe - hybryda plug-in | Q91: naczepy / przyczepy | R91: autobusy | S91: autobusy - zeroemisyjne | T91: autobusy - hybryda plug-in | U91: inne | V91: inne - zeroemisyjne | W91: inne - hybryda plug-in | X91: MiU | Y91: Sprzęt Budowlany | Z91: Maszyny Rolnicze | AA91: Maszyny Poligraf. | AB91: maszyny do produkcji tworzyw sztucznych | AC91: maszyny i urządzenia do obróbki metali | AD91: maszyny dla przemysłu spożywczego | AE91: Sprzęt Medyczny | AF91: Sprzęt Gastronom. | AG91: Wózki Widłowe | AH91: fotowoltaika | AI91: wiatraki i turbiny wiatrowe | AJ91: stacje ładowania pojazdów elektrycznych (na użytek własny i komercyjny) | AK91: inne MiU | AL91: IT | AM91: Sprzęt | AN91: Oprogram. | AO91: inne IT | AP91: POZOSTAŁE ŚRODKI TRANSPORTU | AQ91: Powietrzne | AR91: Wodne | AS91: Kolejowe | AT91: Inne ruchomości | AU91: RUCHOMOŚCI | AV91: Nieruchomości | AW91: budynki przemysłowe | AX91: obiekty handlowe i usługowe | AY91: obiekty biurowe | AZ91: hotele i obiekty rekreacyjne | BA91: inne | BB91: OGÓŁEM
A92: 1 | B92: Alior Leasing Sp. z o. o. | C92: 0.81894283 | D92: 0.3647888 | G92: 0.16563864 | H92: 0.10463734 | K92: 0.061001295 | N92: 0.11804618 | Q92: 0.090462213 | R92: 0.058494179 | U92: 0.021512817 | X92: 0.17993987 | Y92: 0.068894925 | Z92: 0.041689208 | AA92: 0.0035267843 | AB92: 0.0022009521 | AC92: 0.018708441 | AD92: 0.0038244176 | AE92: 0.0060949748 | AF92: 0.00014143456 | AG92: 0.0031363027 | AH92: 0.001523551 | AK92: 0.030198879 | AL92: 0.0011173015 | AM92: 0.0011173015 | AP92: 0 | AU92: 1 | AV92: 0 | BB92: 1
A93: 2 | B93: BNP Paribas Lease Group Sp. z o.o. | C93: 0.67591044 | D93: 0.48959888 | E93: 0.0076294148 | F93: 0.0032697492 | G93: 0.14929484 | H93: 0.09420141 | I93: 0.00079116858 | J93: 0 | K93: 0.055093425 | L93: 0.00028008097 | M93: 0 | N93: 0.027697733 | O93: 0 | P93: 0 | Q93: 0.0046279025 | R93: 0.0003208486 | S93: 0 | T93: 0 | U93: 0.0043702409 | V93: 0 | W93: 0 | X93: 0.30928165 | Y93: 0.048991273 | Z93: 0.029431812 | AA93: 0.00073358149 | AB93: 0.0017423434 | AC93: 0.0081749738 | AD93: 0.0048660105 | AE93: 0.0031267603 | AF93: 0 | AG93: 0.048900485 | AH93: 0.0015875402 | AI93: 0 | AJ93: 0.00027123502 | AK93: 0.16145564 | AL93: 0.014807906 | AM93: 0.010324525 | AN93: 0.0020774465 | AO93: 0.0024059348 | AP93: 0 | AQ93: 0 | AR93: 0 | AS93: 0 | AU93: 1 | AV93: 0.14377849 | AW93: 0 | AX93: 0.14377849 | AY93: 0 | AZ93: 0 | BA93: 0 | BB93: 1.1437785
A94: 3 | B94: BOŚ Leasing - EKO Profit S.A. | C94: 0.48604391 | D94: 0.17049726 | G94: 0.010826602 | H94: 0.010826602 | N94: 0.075493186 | Q94: 0.028448132 | R94: 0.036505979 | U94: 0.16427276 | X94: 0.51395609 | Y94: 0.082543802 | Z94: 0.11732805 | AC94: 0.034948707 | AG94: 0.03454409 | AH94: 0.046580155 | AK94: 0.19801128 | AL94: 0 | AP94: 0 | AU94: 1 | AV94: 0 | BB94: 1
A95: 4 | B95: BPS Leasing Spółka Akcyjna (BPS Leasing S.A.) | C95: 0.85116102 | D95: 0.21504623 | E95: 0.0022321494 | F95: 0.079141373 | G95: 0.12749652 | H95: 0.071713771 | I95: 0.0027892771 | K95: 0.055782754 | N95: 0.28573683 | Q95: 0.16384857 | R95: 0.041282393 | U95: 0.017750475 | X95: 0.11930054 | Y95: 0.0069888371 | Z95: 0.056479709 | AC95: 0.0036381876 | AG95: 0.0077551606 | AH95: 0.00038358624 | AK95: 0.044055056 | AL95: 0.00044895235 | AM95: 0.00044895235 | AP95: 0 | AT95: 0.029089493 | AU95: 1 | AV95: 0 | BB95: 1
A96: 5 | B96: Caterpillar Financial Services Poland Sp. z o.o. | C96: 0 | G96: 0 | X96: 1 | Y96: 1 | AL96: 0 | AP96: 0 | AU96: 1 | AV96: 0 | BB96: 1
A97: 6 | B97: De Lage Landen Leasing Polska S.A. | C97: 0.045224703 | D97: 0.016476337 | G97: 0.024686097 | H97: 0.024686097 | Q97: 0.0040622692 | X97: 0.83427078 | Y97: 0.038833021 | Z97: 0.72865178 | AG97: 0.061076075 | AH97: 0.0048008636 | AK97: 0.00090903926 | AL97: 0.12050452 | AM97: 0.12050452 | AP97: 0 | AU97: 1 | AV97: 0 | BB97: 1
A98: 7 | B98: Deutsche Leasing Polska S.A. | C98: 0.222752 | D98: 0.0029002657 | G98: 0.038886762 | H98: 0.0014559334 | K98: 0.037430829 | N98: 0.092698291 | Q98: 0.088266685 | X98: 0.777248 | Y98: 0.030313577 | Z98: 0.048324226 | AC98: 0.074832655 | AE98: 0.00098028979 | AG98: 0.59203123 | AK98: 0.030766018 | AL98: 0 | AP98: 0 | AU98: 1 | AV98: 0 | BB98: 1
A99: 8 | B99: Europejski Fundusz Leasingowy S.A. | C99: 0.72927438 | D99: 0.30950634 | E99: 0.011524217 | F99: 0.0053109917 | G99: 0.18007358 | H99: 0.087213253 | I99: 0.0021119401 | J99: 0 | K99: 0.092860323 | N99: 0.15241228 | Q99: 0.069966447 | R99: 0.011673467 | U99: 0.005642264 | V99: 2.1230154e-05 | X99: 0.26070907 | Y99: 0.10749838 | Z99: 0.042556258 | AA99: 0.0045586679 | AB99: 0.0021966457 | AC99: 0.0092443875 | AD99: 0.0048654643 | AE99: 0.0019246584 | AF99: 0.0092331576 | AG99: 0.0081637139 | AH99: 0.0059356738 | AI99: 0 | AJ99: 0.00034012811 | AK99: 0.064191938 | AL99: 0.0096139759 | AM99: 0.004875489 | AN99: 0.0016794232 | AO99: 0.0030590637 | AP99: 0.00040257452 | AQ99: 7.399943e-06 | AR99: 0.00039517457 | AU99: 1 | AV99: 0 | BB99: 1
A100: 9 | B100: Impuls-Leasing Polska Sp. z o. o. | C100: 0.82419531 | D100: 0.4389692 | E100: 0.015275215 | F100: 0.012991276 | G100: 0.12012108 | H100: 0.088745515 | I100: 0.00093557555 | K100: 0.031375561 | N100: 0.1419933 | Q100: 0.090375174 | R100: 0.015227882 | U100: 0.017508672 | V100: 7.871758e-05 | X100: 0.17412975 | Y100: 0.051063409 | Z100: 0.022607347 | AA100: 0.010860459 | AB100: 0.0020787259 | AC100: 0.011233204 | AE100: 0.0063462455 | AF100: 0.013832253 | AG100: 0.0062862148 | AH100: 0.0029035493 | AK100: 0.046918347 | AL100: 0.00090973565 | AM100: 0.00090973565 | AP100: 0.00076520333 | AR100: 0.00076520333 | AU100: 1 | AV100: 0 | BB100: 1
A101: 10 | B101: ING Lease (Polska) Sp. z o.o. | C101: 0.61810401 | D101: 0.27318969 | E101: 0.009979879 | F101: 0.0061222898 | G101: 0.09756408 | H101: 0.060674385 | I101: 5.9983245e-05 | J101: 0 | K101: 0.036889695 | L101: 0 | M101: 0 | N101: 0.1495389 | O101: 0 | P101: 0 | Q101: 0.062957081 | R101: 0.024897712 | S101: 0 | T101: 0 | U101: 0.0099565521 | V101: 1.0663688e-05 | W101: 0 | X101: 0.32750252 | Y101: 0.043365886 | Z101: 0.0077691631 | AA101: 0.0065161798 | AB101: 0.027803567 | AC101: 0.065166464 | AD101: 0.038848482 | AE101: 0.010594374 | AF101: 0.0042094908 | AG101: 0.016706667 | AH101: 0.0054624741 | AI101: 0 | AJ101: 0 | AK101: 0.10105977 | AL101: 0.0059896602 | AM101: 0.0059896602 | AN101: 0 | AO101: 0 | AP101: 0.007312624 | AQ101: 0 | AR101: 4.7986596e-05 | AS101: 0.0072646374 | AT101: 0.041091189 | AU101: 1 | AV101: 0.0057283999 | AW101: 0.0057283999 | AX101: 0 | AY101: 0 | AZ101: 0 | BA101: 0 | BB101: 1.0057284
A102: 11 | B102: Leasing Polski Sp. z o. o. | C102: 0.74878799 | D102: 0.13415955 | E102: 0.0020113426 | F102: 0.0099213057 | G102: 0.16946913 | H102: 0.07744406 | I102: 0 | J102: 0 | K102: 0.09202507 | L102: 0 | M102: 0 | N102: 0.23198261 | O102: 0 | P102: 0 | Q102: 0.089686772 | R102: 0.034727747 | S102: 0 | T102: 0 | U102: 0.088762192 | X102: 0.24931506 | Y102: 0.079746269 | Z102: 0.019263184 | AC102: 0 | AG102: 0.0017798211 | AK102: 0.14852578 | AL102: 0 | AP102: 0 | AQ102: 0 | AR102: 0 | AS102: 0 | AT102: 0.0018969464 | AU102: 1 | AV102: 0 | BB102: 1
A103: 12 | B103: Mercedes-Benz Leasing Polska Sp. z o.o. | C103: 1 | D103: 0.78757396 | E103: 0.060444785 | F103: 0.084727282 | G103: 0.11437409 | H103: 0.098874236 | I103: 0.0045769023 | K103: 0.015499858 | N103: 0.082683044 | Q103: 0.0016531941 | R103: 0.012173572 | U103: 0.0015421346 | X103: 0 | AL103: 0 | AP103: 0 | AU103: 1 | AV103: 0 | BB103: 1
A104: 13 | B104: Millennium Leasing Sp. z o.o. | C104: 0.69469851 | D104: 0.27244392 | E104: 0.013179412 | F104: 0.0021778916 | G104: 0.12867032 | H104: 0.071193263 | I104: 0.0012095085 | K104: 0.057477056 | N104: 0.18339055 | Q104: 0.083443889 | R104: 0.010008815 | U104: 0.016741025 | V104: 0.00062776728 | X104: 0.28738237 | Y104: 0.064218437 | Z104: 0.00027412594 | AA104: 0.022102689 | AB104: 0.074542198 | AD104: 0.015257489 | AE104: 0.0081431315 | AG104: 0.016982393 | AH104: 0.019507759 | AK104: 0.066354142 | AL104: 0.0044520412 | AM104: 0.0044520412 | AP104: 0.013467079 | AR104: 0.0012586452 | AS104: 0.012208433 | AU104: 1 | AV104: 0 | BB104: 1
A105: 14 | B105: mLeasing Sp. z o.o. | C105: 0.73410542 | D105: 0.55032481 | G105: 0.080236025 | H105: 0.044893522 | K105: 0.035342503 | N105: 0.059576525 | Q105: 0.017424794 | R105: 0.010286362 | U105: 0.016256907 | X105: 0.18226726 | Y105: 0.03169924 | Z105: 0.0021720856 | AA105: 0.0063710594 | AB105: 0.0047044739 | AC105: 0.025858817 | AD105: 0.0044109451 | AE105: 0.0021605528 | AF105: 0.00099695198 | AG105: 0.0068319471 | AK105: 0.097061193 | AL105: 0.0064467691 | AM105: 0.0064467691 | AP105: 0.069122593 | AQ105: 0.055167258 | AR105: 0.013955335 | AT105: 0.0080579507 | AU105: 1 | AV105: 0 | BB105: 1
A106: 15 | B106: PEAC (Poland) Sp. z o.o. | C106: 0.31378742 | D106: 0.020604576 | G106: 0.034031818 | H106: 0.018484331 | K106: 0.015547487 | N106: 0.017568573 | Q106: 0.080875512 | R106: 0.14949035 | U106: 0.011216589 | X106: 0.66366274 | Y106: 0.0071773335 | Z106: 0.1388133 | AA106: 0.020826225 | AB106: 0.027233621 | AC106: 0.045980431 | AD106: 0.0038730187 | AE106: 0.0029543433 | AG106: 0.030018811 | AH106: 0.0049316826 | AK106: 0.38185397 | AL106: 0.021896554 | AM106: 0.021896554 | AP106: 0.00065328025 | AQ106: 0.00065328025 | AU106: 1 | AV106: 0 | BB106: 1
A107: 16 | B107: PEKAO Leasing Sp. z o.o. | C107: 0.64690788 | D107: 0.27728427 | E107: 0.0056467966 | F107: 0.0036515561 | G107: 0.11518149 | H107: 0.046084461 | I107: 0.00046453579 | J107: 0 | K107: 0.069097026 | L107: 0 | M107: 0 | N107: 0.14146736 | O107: 0 | P107: 0 | Q107: 0.054173985 | R107: 0.037346147 | S107: 0 | T107: 0 | U107: 0.021454633 | V107: 4.6419345e-05 | W107: 0 | X107: 0.30633127 | Y107: 0.050333668 | Z107: 0.0083615948 | AA107: 0.01781602 | AB107: 0.025513108 | AC107: 0.044959278 | AD107: 0.010572933 | AE107: 0.0017210923 | AF107: 0.0015502823 | AG107: 0.015997501 | AH107: 0.0065847009 | AI107: 0 | AJ107: 2.8103069e-05 | AK107: 0.12289299 | AL107: 0.0088067292 | AM107: 0.0047714397 | AN107: 4.0499788e-05 | AO107: 0.0039947897 | AP107: 0.025619223 | AQ107: 0.016439037 | AR107: 0.009180186 | AS107: 0 | AT107: 0.012334894 | AU107: 1 | AV107: 0.020211967 | AW107: 0 | AX107: 0 | AY107: 0.017627788 | AZ107: 0 | BA107: 0.0025841793 | BB107: 1.020212
...

Sheet leasing&pozyczki_2024q1
A1: ZWIAZEK POLSKIEGO LEASINGU Warszawa - 06-11-2024
A3: Wartość środków oddanych w pożyczki w | C3: 2024q1 | D3: netto w tys. PLN
A4: Lp. | B4: Spółka | C4: POJAZDY | D4: Osobowe | E4: osobowe - zeroemisyjne | F4: osobowe - hybryda plug-in | G4: Cięzarowe: | H4: o masie do 3,5 tony | I4: o masie do 3,5 tony - zeroemisyjne | J4: o masie do 3,5 tony - hybryda plug-in | K4: o masie powyzej 3,5 tony | L4: o masie powyżej 3,5 tony - zeroemisyjne | M4: o masie powyżej 3,5 tony - hybryda plug-in | N4: ciagniki siodlowe | O4: ciągniki siodłowe - zeroemisyjne | P4: ciągniki siodłowe - hybryda plug-in | Q4: naczepy / przyczepy | R4: autobusy | S4: autobusy - zeroemisyjne | T4: autobusy - hybryda plug-in | U4: inne | V4: inne - zeroemisyjne | W4: inne - hybryda plug-in | X4: MiU | Y4: Sprzęt Budowlany | Z4: Maszyny Rolnicze | AA4: Maszyny Poligraf. | AB4: maszyny do produkcji tworzyw sztucznych | AC4: maszyny i urządzenia do obróbki metali | AD4: maszyny dla przemysłu spożywczego | AE4: Sprzęt Medyczny | AF4: Sprzęt Gastronom. | AG4: Wózki Widłowe | AH4: fotowoltaika | AI4: wiatraki i turbiny wiatrowe | AJ4: stacje ładowania pojazdów elektrycznych (na użytek własny i komercyjny) | AK4: inne MiU | AL4: IT | AM4: Sprzęt | AN4: Oprogram. | AO4: inne IT | AP4: POZOSTAŁE ŚRODKI TRANSPORTU | AQ4: Powietrzne | AR4: Wodne | AS4: Kolejowe | AT4: Inne ruchomości | AU4: RUCHOMOŚCI | AV4: Nieruchomości | AW4: budynki przemysłowe | AX4: obiekty handlowe i usługowe | AY4: obiekty biurowe | AZ4: hotele i obiekty rekreacyjne | BA4: inne | BB4: OGÓŁEM
A5: 1 | B5: Alior Leasing Sp. z o. o. | C5: =pozyczki_2024q1!C5+leasing_2024q1!C5 -> 741799.38 | D5: =pozyczki_2024q1!D5+leasing_2024q1!D5 -> 330194.63 | E5: =pozyczki_2024q1!E5+leasing_2024q1!E5 -> 0 | F5: =pozyczki_2024q1!F5+leasing_2024q1!F5 -> 0 | G5: =pozyczki_2024q1!G5+leasing_2024q1!G5 -> 145680.44 | H5: =pozyczki_2024q1!H5+leasing_2024q1!H5 -> 91175.653 | I5: =pozyczki_2024q1!I5+leasing_2024q1!I5 -> 0 | J5: =pozyczki_2024q1!J5+leasing_2024q1!J5 -> 0 | ... BB5: =pozyczki_2024q1!BB5+leasing_2024q1!BB5 -> 920146.05
A6: 2 | B6: BNP Paribas Lease Group Sp. z o.o. | C6: =pozyczki_2024q1!C6+leasing_2024q1!C6 -> 756824.28 | D6: =pozyczki_2024q1!D6+leasing_2024q1!D6 -> 526017.27 | E6: =pozyczki_2024q1!E6+leasing_2024q1!E6 -> 8138.5537 | F6: =pozyczki_2024q1!F6+leasing_2024q1!F6 -> 3487.9516 | G6: =pozyczki_2024q1!G6+leasing_2024q1!G6 -> 183926.28 | H6: =pozyczki_2024q1!H6+leasing_2024q1!H6 -> 115900.99 | I6: =pozyczki_2024q1!I6+leasing_2024q1!I6 -> 843.96616 | J6: =pozyczki_2024q1!J6+leasing_2024q1!J6 -> 0 | ... BB6: =pozyczki_2024q1!BB6+leasing_2024q1!BB6 -> 1608317.2
A7: 3 | B7: BOŚ Leasing - EKO Profit S.A. | C7: =pozyczki_2024q1!C7+leasing_2024q1!C7 -> 9892.3693 | D7: =pozyczki_2024q1!D7+leasing_2024q1!D7 -> 3470.1017 | E7: =pozyczki_2024q1!E7+leasing_2024q1!E7 -> 0 | F7: =pozyczki_2024q1!F7+leasing_2024q1!F7 -> 0 | G7: =pozyczki_2024q1!G7+leasing_2024q1!G7 -> 220.352 | H7: =pozyczki_2024q1!H7+leasing_2024q1!H7 -> 220.352 | I7: =pozyczki_2024q1!I7+leasing_2024q1!I7 -> 0 | J7: =pozyczki_2024q1!J7+leasing_2024q1!J7 -> 0 | ... BB7: =pozyczki_2024q1!BB7+leasing_2024q1!BB7 -> 20352.83
A8: 4 | B8: BPS Leasing Spółka Akcyjna (BPS Leasing S.A.) | C8: =pozyczki_2024q1!C8+leasing_2024q1!C8 -> 70185.58 | D8: =pozyczki_2024q1!D8+leasing_2024q1!D8 -> 17732.42 | E8: =pozyczki_2024q1!E8+leasing_2024q1!E8 -> 184.06 | F8: =pozyczki_2024q1!F8+leasing_2024q1!F8 -> 6525.89 | G8: =pozyczki_2024q1!G8+leasing_2024q1!G8 -> 10513.19 | H8: =pozyczki_2024q1!H8+leasing_2024q1!H8 -> 5913.42 | I8: =pozyczki_2024q1!I8+leasing_2024q1!I8 -> 230 | J8: =pozyczki_2024q1!J8+leasing_2024q1!J8 -> 0 | ... BB8: =pozyczki_2024q1!BB8+leasing_2024q1!BB8 -> 82458.64
A9: 5 | B9: Caterpillar Financial Services Poland Sp. z o.o. | C9: =pozyczki_2024q1!C9+leasing_2024q1!C9 -> 0 | D9: =pozyczki_2024q1!D9+leasing_2024q1!D9 -> 0 | E9: =pozyczki_2024q1!E9+leasing_2024q1!E9 -> 0 | F9: =pozyczki_2024q1!F9+leasing_2024q1!F9 -> 0 | G9: =pozyczki_2024q1!G9+leasing_2024q1!G9 -> 0 | H9: =pozyczki_2024q1!H9+leasing_2024q1!H9 -> 0 | I9: =pozyczki_2024q1!I9+leasing_2024q1!I9 -> 0 | J9: =pozyczki_2024q1!J9+leasing_2024q1!J9 -> 0 | ... BB9: =pozyczki_2024q1!BB9+leasing_2024q1!BB9 -> 118865.84
A10: 6 | B10: De Lage Landen Leasing Polska S.A. | C10: =pozyczki_2024q1!C10+leasing_2024q1!C10 -> 4704 | D10: =pozyczki_2024q1!D10+leasing_2024q1!D10 -> 978 | E10: =pozyczki_2024q1!E10+leasing_2024q1!E10 -> 0 | F10: =pozyczki_2024q1!F10+leasing_2024q1!F10 -> 0 | G10: =pozyczki_2024q1!G10+leasing_2024q1!G10 -> 869 | H10: =pozyczki_2024q1!H10+leasing_2024q1!H10 -> 869 | I10: =pozyczki_2024q1!I10+leasing_2024q1!I10 -> 0 | J10: =pozyczki_2024q1!J10+leasing_2024q1!J10 -> 0 | ... BB10: =pozyczki_2024q1!BB10+leasing_2024q1!BB10 -> 221425
A11: 7 | B11: Deutsche Leasing Polska S.A. | C11: =pozyczki_2024q1!C11+leasing_2024q1!C11 -> 45643 | D11: =pozyczki_2024q1!D11+leasing_2024q1!D11 -> 500 | E11: =pozyczki_2024q1!E11+leasing_2024q1!E11 -> 0 | F11: =pozyczki_2024q1!F11+leasing_2024q1!F11 -> 0 | G11: =pozyczki_2024q1!G11+leasing_2024q1!G11 -> 6704 | H11: =pozyczki_2024q1!H11+leasing_2024q1!H11 -> 251 | I11: =pozyczki_2024q1!I11+leasing_2024q1!I11 -> 0 | J11: =pozyczki_2024q1!J11+leasing_2024q1!J11 -> 0 | ... BB11: =pozyczki_2024q1!BB11+leasing_2024q1!BB11 -> 186145
A12: 8 | B12: Europejski Fundusz Leasingowy S.A. | C12: =pozyczki_2024q1!C12+leasing_2024q1!C12 -> 1738785.9 | D12: =pozyczki_2024q1!D12+leasing_2024q1!D12 -> 734899.37 | E12: =pozyczki_2024q1!E12+leasing_2024q1!E12 -> 27410.063 | F12: =pozyczki_2024q1!F12+leasing_2024q1!F12 -> 12201.021 | G12: =pozyczki_2024q1!G12+leasing_2024q1!G12 -> 425298.83 | H12: =pozyczki_2024q1!H12+leasing_2024q1!H12 -> 211106.86 | I12: =pozyczki_2024q1!I12+leasing_2024q1!I12 -> 5069.7917 | J12: =pozyczki_2024q1!J12+leasing_2024q1!J12 -> 0 | ... BB12: =pozyczki_2024q1!BB12+leasing_2024q1!BB12 -> 2563492.6
A13: 9 | B13: Impuls-Leasing Polska Sp. z o. o. | C13: =pozyczki_2024q1!C13+leasing_2024q1!C13 -> 270442.06 | D13: =pozyczki_2024q1!D13+leasing_2024q1!D13 -> 134888.04 | E13: =pozyczki_2024q1!E13+leasing_2024q1!E13 -> 4976.89 | F13: =pozyczki_2024q1!F13+leasing_2024q1!F13 -> 3795.84 | G13: =pozyczki_2024q1!G13+leasing_2024q1!G13 -> 39531.99 | H13: =pozyczki_2024q1!H13+leasing_2024q1!H13 -> 29255.94 | I13: =pozyczki_2024q1!I13+leasing_2024q1!I13 -> 1103.71 | J13: =pozyczki_2024q1!J13+leasing_2024q1!J13 -> 0 | ... BB13: =pozyczki_2024q1!BB13+leasing_2024q1!BB13 -> 332608.76
A14: 10 | B14: ING Lease (Polska) Sp. z o.o. | C14: =pozyczki_2024q1!C14+leasing_2024q1!C14 -> 944511 | D14: =pozyczki_2024q1!D14+leasing_2024q1!D14 -> 416016 | E14: =pozyczki_2024q1!E14+leasing_2024q1!E14 -> 14974 | F14: =pozyczki_2024q1!F14+leasing_2024q1!F14 -> 9186 | G14: =pozyczki_2024q1!G14+leasing_2024q1!G14 -> 147445 | H14: =pozyczki_2024q1!H14+leasing_2024q1!H14 -> 92095 | I14: =pozyczki_2024q1!I14+leasing_2024q1!I14 -> 90 | J14: =pozyczki_2024q1!J14+leasing_2024q1!J14 -> 0 | ... BB14: =pozyczki_2024q1!BB14+leasing_2024q1!BB14 -> 1558565
A15: 11 | B15: Leasing Polski Sp. z o. o. | C15: =pozyczki_2024q1!C15+leasing_2024q1!C15 -> 51747.292 | D15: =pozyczki_2024q1!D15+leasing_2024q1!D15 -> 9271.5072 | E15: =pozyczki_2024q1!E15+leasing_2024q1!E15 -> 139 | F15: =pozyczki_2024q1!F15+leasing_2024q1!F15 -> 685.64227 | G15: =pozyczki_2024q1!G15+leasing_2024q1!G15 -> 11711.684 | H15: =pozyczki_2024q1!H15+leasing_2024q1!H15 -> 5352.0094 | I15: =pozyczki_2024q1!I15+leasing_2024q1!I15 -> 0 | J15: =pozyczki_2024q1!J15+leasing_2024q1!J15 -> 0 | ... BB15: =pozyczki_2024q1!BB15+leasing_2024q1!BB15 -> 69108.068
A16: 12 | B16: Mercedes-Benz Leasing Polska Sp. z o.o. | C16: =pozyczki_2024q1!C16+leasing_2024q1!C16 -> 796361.67 | D16: =pozyczki_2024q1!D16+leasing_2024q1!D16 -> 628936.16 | E16: =pozyczki_2024q1!E16+leasing_2024q1!E16 -> 41987.979 | F16: =pozyczki_2024q1!F16+leasing_2024q1!F16 -> 58855.82 | G16: =pozyczki_2024q1!G16+leasing_2024q1!G16 -> 97827.653 | H16: =pozyczki_2024q1!H16+leasing_2024q1!H16 -> 85342.225 | I16: =pozyczki_2024q1!I16+leasing_2024q1!I16 -> 3179.3459 | J16: =pozyczki_2024q1!J16+leasing_2024q1!J16 -> 0 | ... BB16: =pozyczki_2024q1!BB16+leasing_2024q1!BB16 -> 796361.67
... A29: 25 | B29: Razem | C29: =pozyczki_2024q1!C29+leasing_2024q1!C29 -> 13254816 | D29: =pozyczki_2024q1!D29+leasing_2024q1!D29 -> 7329925.9 | E29: =pozyczki_2024q1!E29+leasing_2024q1!E29 -> 220835.2 | F29: =pozyczki_2024q1!F29+leasing_2024q1!F29 -> 160704.34 | G29: =pozyczki_2024q1!G29+leasing_2024q1!G29 -> 2264854 | H29: =pozyczki_2024q1!H29+leasing_2024q1!H29 -> 1341189.1 | I29: =pozyczki_2024q1!I29+leasing_2024q1!I29 -> 20798.255 | J29: =pozyczki_2024q1!J29+leasing_2024q1!J29 -> 0 | ... BB29: =pozyczki_2024q1!BB29+leasing_2024q1!BB29 -> 19894696
A31: Ilość środków oddanych w pożyczki w | C31: 2024q1 | D31: w sztukach
A33: Lp. | B33: Spółka | C33: POJAZDY | D33: Osobowe | E33: osobowe - zeroemisyjne | F33: osobowe - hybryda plug-in | G33: Cięzarowe: | H33: o masie do 3,5 tony | I33: o masie do 3,5 tony - zeroemisyjne | J33: o masie do 3,5 tony - hybryda plug-in | K33: o masie powyzej 3,5 tony | L33: o masie powyżej 3,5 tony - zeroemisyjne | M33: o masie powyżej 3,5 tony - hybryda plug-in | N33: ciagniki siodlowe | O33: ciągniki siodłowe - zeroemisyjne | P33: ciągniki siodłowe - hybryda plug-in | Q33: naczepy / przyczepy | R33: autobusy | S33: autobusy - zeroemisyjne | T33: autobusy - hybryda plug-in | U33: inne | V33: inne - zeroemisyjne | W33: inne - hybryda plug-in | X33: MiU | Y33: Sprzęt Budowlany | Z33: Maszyny Rolnicze | AA33: Maszyny Poligraf. | AB33: maszyny do produkcji tworzyw sztucznych | AC33: maszyny i urządzenia do obróbki metali | AD33: maszyny dla przemysłu spożywczego | AE33: Sprzęt Medyczny | AF33: Sprzęt Gastronom. | AG33: Wózki Widłowe | AH33: fotowoltaika | AI33: wiatraki i turbiny wiatrowe | AJ33: stacje ładowania pojazdów elektrycznych (na użytek własny i komercyjny) | AK33: inne MiU | AL33: IT | AM33: Sprzęt | AN33: Oprogram. | AO33: inne IT | AP33: POZOSTAŁE ŚRODKI TRANSPORTU | AQ33: Powietrzne | AR33: Wodne | AS33: Kolejowe | AT33: Inne ruchomości | AU33: RUCHOMOŚCI | AV33: Nieruchomości | AW33: budynki przemysłowe | AX33: obiekty handlowe i usługowe | AY33: obiekty biurowe | AZ33: hotele i obiekty rekreacyjne | BA33: inne | BB33: OGÓŁEM
A34: 1 | B34: Alior Leasing Sp. z o. o. | C34: =pozyczki_2024q1!C34+leasing_2024q1!C34 -> 5335 | D34: =pozyczki_2024q1!D34+leasing_2024q1!D34 -> 2613 | E34: =pozyczki_2024q1!E34+leasing_2024q1!E34 -> 0 | F34: =pozyczki_2024q1!F34+leasing_2024q1!F34 -> 0 | G34: =pozyczki_2024q1!G34+leasing_2024q1!G34 -> 1190 | H34: =pozyczki_2024q1!H34+leasing_2024q1!H34 -> 961 | I34: =pozyczki_2024q1!I34+leasing_2024q1!I34 -> 0 | J34: =pozyczki_2024q1!J34+leasing_2024q1!J34 -> 0 | ... BB34: =pozyczki_2024q1!BB34+leasing_2024q1!BB34 -> 6624
A35: 2 | B35: BNP Paribas Lease Group Sp. z o.o. | C35: =pozyczki_2024q1!C35+leasing_2024q1!C35 -> 5326 | D35: =pozyczki_2024q1!D35+leasing_2024q1!D35 -> 4113 | E35: =pozyczki_2024q1!E35+leasing_2024q1!E35 -> 43 | F35: =pozyczki_2024q1!F35+leasing_2024q1!F35 -> 18 | G35: =pozyczki_2024q1!G35+leasing_2024q1!G35 -> 985 | H35: =pozyczki_2024q1!H35+leasing_2024q1!H35 -> 754 | I35: =pozyczki_2024q1!I35+leasing_2024q1!I35 -> 4 | J35: =pozyczki_2024q1!J35+leasing_2024q1!J35 -> 0 | ... BB35: =pozyczki_2024q1!BB35+leasing_2024q1!BB35 -> 7605
A36: 3 | B36: BOŚ Leasing - EKO Profit S.A. | C36: =pozyczki_2024q1!C36+leasing_2024q1!C36 -> 51 | D36: =pozyczki_2024q1!D36+leasing_2024q1!D36 -> 27 | E36: =pozyczki_2024q1!E36+leasing_2024q1!E36 -> 0 | F36: =pozyczki_2024q1!F36+leasing_2024q1!F36 -> 0 | G36: =pozyczki_2024q1!G36+leasing_2024q1!G36 -> 2 | H36: =pozyczki_2024q1!H36+leasing_2024q1!H36 -> 2 | I36: =pozyczki_2024q1!I36+leasing_2024q1!I36 -> 0 | J36: =pozyczki_2024q1!J36+leasing_2024q1!J36 -> 0 | ... BB36: =pozyczki_2024q1!BB36+leasing_2024q1!BB36 -> 86
A37: 4 | B37: BPS Leasing Spółka Akcyjna (BPS Leasing S.A.) | C37: =pozyczki_2024q1!C37+leasing_2024q1!C37 -> 296 | D37: =pozyczki_2024q1!D37+leasing_2024q1!D37 -> 113 | E37: =pozyczki_2024q1!E37+leasing_2024q1!E37 -> 1 | F37: =pozyczki_2024q1!F37+leasing_2024q1!F37 -> 44 | G37: =pozyczki_2024q1!G37+leasing_2024q1!G37 -> 54 | H37: =pozyczki_2024q1!H37+leasing_2024q1!H37 -> 39 | I37: =pozyczki_2024q1!I37+leasing_2024q1!I37 -> 1 | J37: =pozyczki_2024q1!J37+leasing_2024q1!J37 -> 0 | ... BB37: =pozyczki_2024q1!BB37+leasing_2024q1!BB37 -> 333
A38: 5 | B38: Caterpillar Financial Services Poland Sp. z o.o. | C38: =pozyczki_2024q1!C38+leasing_2024q1!C38 -> 0 | D38: =pozyczki_2024q1!D38+leasing_2024q1!D38 -> 0 | E38: =pozyczki_2024q1!E38+leasing_2024q1!E38 -> 0 | F38: =pozyczki_2024q1!F38+leasing_2024q1!F38 -> 0 | G38: =pozyczki_2024q1!G38+leasing_2024q1!G38 -> 0 | H38: =pozyczki_2024q1!H38+leasing_2024q1!H38 -> 0 | I38: =pozyczki_2024q1!I38+leasing_2024q1!I38 -> 0 | J38: =pozyczki_2024q1!J38+leasing_2024q1!J38 -> 0 | ... BB38: =pozyczki_2024q1!BB38+leasing_2024q1!BB38 -> 284
A39: 6 | B39: De Lage Landen Leasing Polska S.A. | C39: =pozyczki_2024q1!C39+leasing_2024q1!C39 -> 31 | D39: =pozyczki_2024q1!D39+leasing_2024q1!D39 -> 7 | E39: =pozyczki_2024q1!E39+leasing_2024q1!E39 -> 0 | F39: =pozyczki_2024q1!F39+leasing_2024q1!F39 -> 0 | G39: =pozyczki_2024q1!G39+leasing_2024q1!G39 -> 5 | H39: =pozyczki_2024q1!H39+leasing_2024q1!H39 -> 5 | I39: =pozyczki_2024q1!I39+leasing_2024q1!I39 -> 0 | J39: =pozyczki_2024q1!J39+leasing_2024q1!J39 -> 0 | ... BB39: =pozyczki_2024q1!BB39+leasing_2024q1!BB39 -> 550
A40: 7 | B40: Deutsche Leasing Polska S.A. | C40: =pozyczki_2024q1!C40+leasing_2024q1!C40 -> 164 | D40: =pozyczki_2024q1!D40+leasing_2024q1!D40 -> 5 | E40: =pozyczki_2024q1!E40+leasing_2024q1!E40 -> 0 | F40: =pozyczki_2024q1!F40+leasing_2024q1!F40 -> 0 | G40: =pozyczki_2024q1!G40+leasing_2024q1!G40 -> 9 | H40: =pozyczki_2024q1!H40+leasing_2024q1!H40 -> 2 | I40: =pozyczki_2024q1!I40+leasing_2024q1!I40 -> 0 | J40: =pozyczki_2024q1!J40+leasing_2024q1!J40 -> 0 | ... BB40: =pozyczki_2024q1!BB40+leasing_2024q1!BB40 -> 1059
A41: 8 | B41: Europejski Fundusz Leasingowy S.A. | C41: =pozyczki_2024q1!C41+leasing_2024q1!C41 -> 9843 | D41: =pozyczki_2024q1!D41+leasing_2024q1!D41 -> 4825 | E41: =pozyczki_2024q1!E41+leasing_2024q1!E41 -> 131 | F41: =pozyczki_2024q1!F41+leasing_2024q1!F41 -> 55 | G41: =pozyczki_2024q1!G41+leasing_2024q1!G41 -> 2231 | H41: =pozyczki_2024q1!H41+leasing_2024q1!H41 -> 1579 | I41: =pozyczki_2024q1!I41+leasing_2024q1!I41 -> 19 | J41: =pozyczki_2024q1!J41+leasing_2024q1!J41 -> 0 | ... BB41: =pozyczki_2024q1!BB41+leasing_2024q1!BB41 -> 14522
A42: 9 | B42: Impuls-Leasing Polska Sp. z o. o. | C42: =pozyczki_2024q1!C42+leasing_2024q1!C42 -> 1512 | D42: =pozyczki_2024q1!D42+leasing_2024q1!D42 -> 838 | E42: =pozyczki_2024q1!E42+leasing_2024q1!E42 -> 29 | F42: =pozyczki_2024q1!F42+leasing_2024q1!F42 -> 15 | G42: =pozyczki_2024q1!G42+leasing_2024q1!G42 -> 229 | H42: =pozyczki_2024q1!H42+leasing_2024q1!H42 -> 201 | I42: =pozyczki_2024q1!I42+leasing_2024q1!I42 -> 5 | J42: =pozyczki_2024q1!J42+leasing_2024q1!J42 -> 0 | ... BB42: =pozyczki_2024q1!BB42+leasing_2024q1!BB42 -> 1902
A43: 10 | B43: ING Lease (Polska) Sp. z o.o. | C43: =pozyczki_2024q1!C43+leasing_2024q1!C43 -> 4872 | D43: =pozyczki_2024q1!D43+leasing_2024q1!D43 -> 2777 | E43: =pozyczki_2024q1!E43+leasing_2024q1!E43 -> 80 | F43: =pozyczki_2024q1!F43+leasing_2024q1!F43 -> 50 | G43: =pozyczki_2024q1!G43+leasing_2024q1!G43 -> 853 | H43: =pozyczki_2024q1!H43+leasing_2024q1!H43 -> 711 | I43: =pozyczki_2024q1!I43+leasing_2024q1!I43 -> 1 | J43: =pozyczki_2024q1!J43+leasing_2024q1!J43 -> 0 | ... BB43: =pozyczki_2024q1!BB43+leasing_2024q1!BB43 -> 6420
A44: 11 | B44: Leasing Polski Sp. z o. o. | C44: =pozyczki_2024q1!C44+leasing_2024q1!C44 -> 469 | D44: =pozyczki_2024q1!D44+leasing_2024q1!D44 -> 103 | E44: =pozyczki_2024q1!E44+leasing_2024q1!E44 -> 1 | F44: =pozyczki_2024q1!F44+leasing_2024q1!F44 -> 7 | G44: =pozyczki_2024q1!G44+leasing_2024q1!G44 -> 120 | H44: =pozyczki_2024q1!H44+leasing_2024q1!H44 -> 81 | I44: =pozyczki_2024q1!I44+leasing_2024q1!I44 -> 0 | J44: =pozyczki_2024q1!J44+leasing_2024q1!J44 -> 0 | ... BB44: =pozyczki_2024q1!BB44+leasing_2024q1!BB44 -> 518
A45: 12 | B45: Mercedes-Benz Leasing Polska Sp. z o.o. | C45: =pozyczki_2024q1!C45+leasing_2024q1!C45 -> 3671 | D45: =pozyczki_2024q1!D45+leasing_2024q1!D45 -> 2938 | E45: =pozyczki_2024q1!E45+leasing_2024q1!E45 -> 166 | F45: =pozyczki_2024q1!F45+leasing_2024q1!F45 -> 251 | G45: =pozyczki_2024q1!G45+leasing_2024q1!G45 -> 575 | H45: =pozyczki_2024q1!H45+leasing_2024q1!H45 -> 542 | I45: =pozyczki_2024q1!I45+leasing_2024q1!I45 -> 23 | J45: =pozyczki_2024q1!J45+leasing_2024q1!J45 -> 0 | ... BB45: =pozyczki_2024q1!BB45+leasing_2024q1!BB45 -> 3671
... A58: 25 | B58: Razem | C58: =pozyczki_2024q1!C58+leasing_2024q1!C58 -> 77180 | D58: =pozyczki_2024q1!D58+leasing_2024q1!D58 -> 48831 | E58: =pozyczki_2024q1!E58+leasing_2024q1!E58 -> 1104 | F58: =pozyczki_2024q1!F58+leasing_2024q1!F58 -> 612 | G58: =pozyczki_2024q1!G58+leasing_2024q1!G58 -> 12866 | H58: =pozyczki_2024q1!H58+leasing_2024q1!H58 -> 10243 | I58: =pozyczki_2024q1!I58+leasing_2024q1!I58 -> 111 | J58: =pozyczki_2024q1!J58+leasing_2024q1!J58 -> 0 | ... BB58: =pozyczki_2024q1!BB58+leasing_2024q1!BB58 -> 109915
A61: ZWIAZEK POLSKIEGO LEASINGU
A62: Warszawa 03-10-2024
