Workbook

Sheet pozyczki_2024q1
A1: ZWIAZEK POLSKIEGO LEASINGU Warszawa - 06-11-2024 - korekta
A3: Wartość środków oddanych w pożyczki w | C3: 2024q1 | D3: netto w tys. PLN
A4: Lp. | B4: Spółka | C4: POJAZDY | D4: Osobowe | E4: osobowe - zeroemisyjne | F4: osobowe - hybryda plug-in | G4: Cięzarowe: | H4: o masie do 3,5 tony | I4: o masie do 3,5 tony - zeroemisyjne | J4: o masie do 3,5 tony - hybryda plug-in | K4: o masie powyzej 3,5 tony | L4: o masie powyżej 3,5 tony - zeroemisyjne | M4: o masie powyżej 3,5 tony - hybryda plug-in | N4: ciagniki siodlowe | O4: ciągniki siodłowe - zeroemisyjne | P4: ciągniki siodłowe - hybryda plug-in | Q4: naczepy / przyczepy | R4: autobusy | S4: autobusy - zeroemisyjne | T4: autobusy - hybryda plug-in | U4: inne | V4: inne - zeroemisyjne | W4: inne - hybryda plug-in | X4: MiU | Y4: Sprzęt Budowlany | Z4: Maszyny Rolnicze | AA4: Maszyny Poligraf. | AB4: maszyny do produkcji tworzyw sztucznych | AC4: maszyny i urządzenia do obróbki metali | AD4: maszyny dla przemysłu spożywczego | AE4: Sprzęt Medyczny | AF4: Sprzęt Gastronom. | AG4: Wózki Widłowe | AH4: fotowoltaika | AI4: wiatraki i turbiny wiatrowe | AJ4: stacje ładowania pojazdów elektrycznych (na użytek własny i komercyjny) | AK4: inne MiU | AL4: IT | AM4: Sprzęt | AN4: Oprogram. | AO4: inne IT | AP4: POZOSTAŁE ŚRODKI TRANSPORTU | AQ4: Powietrzne | AR4: Wodne | AS4: Kolejowe | AT4: Inne ruchomości | AU4: RUCHOMOŚCI | AV4: Nieruchomości | AW4: budynki przemysłowe | AX4: obiekty handlowe i usługowe | AY4: obiekty biurowe | AZ4: hotele i obiekty rekreacyjne | BA4: inne | BB4: OGÓŁEM
A5: 1 | B5: Alior Leasing Sp. z o. o. | C5: 58190.904 | D5: 25688.979 | G5: 7414.4086 | H5: 3830.148 | K5: 3584.2606 | N5: 16675.575 | Q5: 6524.7671 | R5: 225 | U5: 1662.1743 | X5: 27210.084 | Y5: 5431.0871 | Z5: 3867.7298 | AA5: 5979.7307 | AB5: 1934.9957 | AC5: 1137.3064 | AD5: 332.85 | AE5: 5150.4159 | AK5: 3375.9681 | AL5: 0 | AP5: 0 | AU5: 85400.988 | AV5: 0 | BB5: 85400.988
A6: 2 | B6: BNP Paribas Lease Group Sp. z o.o. | C6: 35807.859 | D6: 3745.6595 | E6: 0 | F6: 0 | G6: 24668.449 | H6: 15413.175 | I6: 0 | J6: 0 | K6: 9255.2747 | L6: 0 | M6: 0 | N6: 4671.8008 | O6: 0 | P6: 0 | Q6: 2721.9494 | R6: 0 | S6: 0 | T6: 0 | U6: 0 | V6: 0 | W6: 0 | X6: 346973.53 | Y6: 21656.901 | Z6: 305311.32 | AA6: 0 | AB6: 0 | AC6: 465 | AD6: 786.3 | AE6: 8576.2925 | AF6: 0 | AG6: 167 | AH6: 1222.8939 | AI6: 0 | AJ6: 0 | AK6: 8787.8254 | AL6: 5428.778 | AM6: 267.796 | AN6: 5160.9811 | AO6: 0.00081 | AP6: 0 | AQ6: 0 | AR6: 0 | AS6: 0 | AT6: 0 | AU6: 388210.17 | AV6: 0 | AW6: 0 | AX6: 0 | AY6: 0 | AZ6: 0 | BA6: 0 | BB6: 388210.17
A7: 3 | B7: BOŚ Leasing - EKO Profit S.A. | C7: 0 | G7: 0 | X7: 0 | AL7: 0 | AP7: 0 | AU7: 0 | AV7: 0 | BB7: 0
A8: 4 | B8: BPS Leasing Spółka Akcyjna (BPS Leasing S.A.) | C8: 0 | G8: 0 | X8: 0 | AL8: 0 | AP8: 0 | AU8: 0 | AV8: 0 | BB8: 0
A9: 5 | B9: Caterpillar Financial Services Poland Sp. z o.o. | C9: 0 | G9: 0 | X9: 28828.256 | Y9: 28828.256 | AL9: 0 | AP9: 0 | AU9: 28828.256 | AV9: 0 | BB9: 28828.256
A10: 6 | B10: De Lage Landen Leasing Polska S.A. | C10: 3112 | D10: 398 | G10: 0 | Q10: 2714 | X10: 180422 | Y10: 7519 | Z10: 165258 | AE10: 6845 | AH10: 688 | AK10: 112 | AL10: 2689 | AM10: 2689 | AP10: 0 | AU10: 186223 | AV10: 0 | BB10: 186223
A11: 7 | B11: Deutsche Leasing Polska S.A. | C11: 7241 | G11: 0 | Q11: 7241 | X11: 6506 | Z11: 6281 | AK11: 225 | AL11: 0 | AP11: 0 | AU11: 13747 | AV11: 0 | BB11: 13747
A12: 8 | B12: Europejski Fundusz Leasingowy S.A. | C12: 63412.91 | D12: 23865.813 | E12: 935.3055 | F12: 0 | G12: 11613.099 | H12: 10750.549 | I12: 218 | K12: 862.55 | N12: 16287.236 | Q12: 10726.324 | R12: 608.8298 | U12: 311.60893 | X12: 200667.09 | Y12: 27154.132 | Z12: 149798.63 | AA12: 1399.936 | AB12: 5.8 | AC12: 22.1561 | AD12: 3906.1403 | AE12: 5710.5048 | AF12: 475.65284 | AG12: 173 | AH12: 1011.913 | AK12: 11009.219 | AL12: 1001.2131 | AM12: 5.51626 | AN12: 466.28028 | AO12: 529.41656 | AP12: 1096.4187 | AR12: 1096.4187 | AU12: 266177.63 | AV12: 0 | BB12: 266177.63
A13: 9 | B13: Impuls-Leasing Polska Sp. z o. o. | C13: 29625.56 | D13: 6628.36 | E13: 513.72 | G13: 4434.56 | H13: 3325.94 | I13: 830.35 | K13: 1108.62 | N13: 10562.6 | Q13: 6144.7 | U13: 1855.34 | X13: 10799.42 | Y13: 6353.62 | Z13: 689.91 | AE13: 2124.25 | AF13: 1027.05 | AK13: 604.59 | AL13: 0 | AP13: 0 | AU13: 40424.98 | AV13: 0 | BB13: 40424.98
A14: 10 | B14: ING Lease (Polska) Sp. z o.o. | C14: 17096 | D14: 6117 | G14: 1058 | H14: 1058 | K14: 0 | N14: 4315 | Q14: 5606 | R14: 0 | U14: 0 | X14: 32455 | Y14: 0 | Z14: 0 | AA14: 4975 | AB14: 0 | AC14: 23752 | AD14: 0 | AE14: 3281 | AF14: 0 | AG14: 0 | AK14: 447 | AL14: 0 | AM14: 0 | AN14: 0 | AO14: 0 | AP14: 0 | AQ14: 0 | AR14: 0 | AS14: 0 | AT14: 0 | AU14: 49551 | AV14: 0 | AW14: 0 | AX14: 0 | AY14: 0 | AZ14: 0 | BA14: 0 | BB14: 49551
A15: 11 | B15: Leasing Polski Sp. z o. o. | C15: 0 | G15: 0 | X15: 0 | AL15: 0 | AP15: 0 | AU15: 0 | AV15: 0 | BB15: 0
A16: 12 | B16: Mercedes-Benz Leasing Polska Sp. z o.o. | C16: 101711.51 | D16: 81847.78 | G16: 18377.671 | H16: 16659.222 | K16: 1718.4489 | R16: 1486.0621 | X16: 0 | AL16: 0 | AP16: 0 | AU16: 101711.51 | AV16: 0 | BB16: 101711.51
A17: 13 | B17: Millennium Leasing Sp. z o.o. | C17: 0 | G17: 0 | X17: 0 | AL17: 0 | AP17: 0 | AU17: 0 | AV17: 0 | BB17: 0
A18: 14 | B18: mLeasing Sp. z o.o. | C18: 36015.383 | G18: 846.22178 | K18: 846.22178 | N18: 24191.097 | Q18: 9399.6575 | R18: 1578.4068 | X18: 75652.914 | Y18: 6333.2666 | AC18: 1659.3595 | AD18: 271.98051 | AE18: 61719.619 | AG18: 222.45 | AK18: 5446.2388 | AL18: 0 | AP18: 0 | AT18: 10982.72 | AU18: 122651.02 | AV18: 0 | BB18: 122651.02
A19: 15 | B19: PEAC (Poland) Sp. z o.o. | C19: 735.5 | D19: 39.6 | G19: 156.9 | H19: 90.4 | K19: 66.5 | Q19: 339 | R19: 200 | X19: 5288.2 | Y19: 1606 | Z19: 1039.5 | AB19: 806.5 | AC19: 118 | AE19: 36.8 | AK19: 1681.4 | AL19: 0 | AP19: 0 | AU19: 6023.7 | AV19: 0 | BB19: 6023.7
A20: 16 | B20: PEKAO Leasing Sp. z o.o. | C20: 40531.286 | D20: 16400.607 | E20: 0 | F20: 0 | G20: 3531.4172 | H20: 2767.6931 | I20: 0 | J20: 0 | K20: 763.72415 | L20: 0 | M20: 0 | N20: 11103.146 | O20: 0 | P20: 0 | Q20: 5394.2165 | R20: 1181.8998 | S20: 0 | T20: 0 | U20: 2920 | V20: 0 | W20: 0 | X20: 123291.71 | Y20: 18424.843 | Z20: 22057.266 | AA20: 1875.7397 | AB20: 0 | AC20: 11156.937 | AD20: 6620.2174 | AE20: 5649.1053 | AF20: 0 | AG20: 43.10117 | AH20: 2411.2592 | AI20: 0 | AJ20: 0 | AK20: 55053.243 | AL20: 8361.2101 | AM20: 7968.9501 | AN20: 0 | AO20: 392.26 | AP20: 21942.094 | AQ20: 0 | AR20: 8337.0922 | AS20: 13605.002 | AT20: 29.90001 | AU20: 194156.2 | AV20: 3070.4885 | AW20: 0 | AX20: 3070.4885 | AY20: 0 | AZ20: 0 | BA20: 0 | BB20: 197226.69
A21: 17 | B21: PKO Leasing S.A. | C21: 140989.99 | D21: 69831.022 | E21: 894.86551 | F21: 219.19401 | G21: 12674.768 | H21: 9861.534 | I21: 62.35 | K21: 2813.2341 | N21: 47442.906 | Q21: 10010.479 | R21: 562.5 | U21: 468.31678 | X21: 224110.77 | Y21: 44116.428 | Z21: 69909.62 | AB21: 26163.697 | AC21: 10504.74 | AD21: 10354.751 | AE21: 15109.536 | AG21: 984.36409 | AH21: 22202.635 | AJ21: 1452.1 | AK21: 23312.897 | AL21: 1171.0193 | AM21: 507.3 | AN21: 168.71928 | AO21: 495 | AP21: 0 | AU21: 366271.78 | AV21: 0 | BB21: 366271.78
A22: 18 | B22: Santander Consumer Multirent Sp.z o.o. | C22: 42437.537 | D22: 40352.019 | G22: 1774.8032 | H22: 1774.8032 | U22: 310.715 | X22: 0 | AL22: 0 | AP22: 0 | AU22: 42437.537 | AV22: 0 | BB22: 42437.537
A23: 19 | B23: Santander Leasing S.A. | C23: 170975.78 | D23: 107485.68 | E23: 732.6 | F23: 2589.795 | G23: 28031.451 | H23: 18047.538 | I23: 0 | J23: 0 | K23: 9983.913 | L23: 0 | M23: 0 | N23: 24869.404 | O23: 0 | P23: 0 | Q23: 8366.959 | R23: 885.6 | S23: 0 | T23: 0 | U23: 1336.678 | V23: 0 | W23: 0 | X23: 345428.39 | Y23: 12777.711 | Z23: 209212.82 | AA23: 15098.237 | AB23: 2339.921 | AC23: 9000.42 | AD23: 793.981 | AE23: 37947.579 | AF23: 36.281 | AG23: 666.672 | AH23: 15307.153 | AI23: 0 | AJ23: 0 | AK23: 42247.616 | AL23: 9645.655 | AM23: 9645.655 | AN23: 0 | AO23: 0 | AP23: 222.081 | AQ23: 0 | AR23: 222.081 | AS23: 0 | AT23: 563.32 | AU23: 526835.22 | AV23: 2653.756 | AW23: 0 | AX23: 0 | AY23: 0 | AZ23: 0 | BA23: 2653.756 | BB23: 529488.98
A24: 20 | B24: Scania Finance Polska Sp. z o.o. | C24: 27436 | G24: 389 | K24: 389 | N24: 26546 | Q24: 501 | X24: 0 | AL24: 0 | AP24: 0 | AU24: 27436 | AV24: 0 | BB24: 27436
A25: 21 | B25: SG Equipment Leasing Polska Sp. z o.o. | C25: 785.65664 | G25: 0 | N25: 526.5842 | Q25: 259.07244 | X25: 33275.306 | Y25: 22459.95 | Z25: 9604.1681 | AG25: 0 | AK25: 1211.1886 | AL25: 2500 | AM25: 0 | AN25: 2500 | AP25: 0 | AU25: 36560.963 | AV25: 0 | BB25: 36560.963
A26: 22 | B26: SGB Leasing Sp. z o.o. | C26: 1791 | D26: 436 | F26: 380 | G26: 1355 | H26: 1139 | K26: 216 | X26: 14965 | Y26: 528 | Z26: 6761 | AE26: 540 | AH26: 1127 | AK26: 6009 | AL26: 0 | AP26: 3328 | AS26: 3328 | AU26: 20084 | AV26: 0 | BB26: 20084
A27: 23 | B27: Siemens Finance Sp. z o.o. | C27: 0 | G27: 0 | X27: 0 | AL27: 0 | AP27: 0 | AU27: 0 | AV27: 0 | BB27: 0
A28: 24 | B28: Vehis Fin 1 Sp. z o. o. | C28: 0 | G28: 0 | X28: 0 | AL28: 0 | AP28: 0 | AU28: 0 | AV28: 0 | BB28: 0
A29: 25 | B29: Razem | C29: 777895.88 | D29: 382836.52 | E29: 3076.491 | F29: 3188.989 | G29: 116325.75 | H29: 84718.002 | I29: 1110.7 | J29: 0 | K29: 31607.747 | L29: 0 | M29: 0 | N29: 187191.35 | O29: 0 | P29: 0 | Q29: 75949.124 | R29: 6728.2985 | S29: 0 | T29: 0 | U29: 8864.833 | V29: 0 | W29: 0 | X29: 1674148 | Y29: 203189.19 | Z29: 949790.97 | AA29: 29328.643 | AB29: 31250.914 | AC29: 57815.919 | AD29: 23066.22 | AE29: 152690.1 | AF29: 1538.9838 | AG29: 3898.1735 | AH29: 43970.854 | AI29: 0 | AJ29: 1452.1 | AK29: 176155.96 | AL29: 67026.517 | AM29: 35278.694 | AN29: 30331.146 | AO29: 1416.6774 | AP29: 26588.594 | AQ29: 0 | AR29: 9655.5919 | AS29: 16933.002 | AT29: 11575.94 | AU29: 2557235 | AV29: 5724.2445 | AW29: 0 | AX29: 3070.4885 | AY29: 0 | AZ29: 0 | BA29: 2653.756 | BB29: 2562959.2
A31: Ilość środków oddanych w pożyczki w | C31: 2024q1 | D31: w sztukach
A33: Lp. | B33: Spółka | C33: POJAZDY | D33: Osobowe | E33: osobowe - zeroemisyjne | F33: osobowe - hybryda plug-in | G33: Cięzarowe: | H33: o masie do 3,5 tony | I33: o masie do 3,5 tony - zeroemisyjne | J33: o masie do 3,5 tony - hybryda plug-in | K33: o masie powyzej 3,5 tony | L33: o masie powyżej 3,5 tony - zeroemisyjne | M33: o masie powyżej 3,5 tony - hybryda plug-in | N33: ciagniki siodlowe | O33: ciągniki siodłowe - zeroemisyjne | P33: ciągniki siodłowe - hybryda plug-in | Q33: naczepy / przyczepy | R33: autobusy | S33: autobusy - zeroemisyjne | T33: autobusy - hybryda plug-in | U33: inne | V33: inne - zeroemisyjne | W33: inne - hybryda plug-in | X33: MiU | Y33: Sprzęt Budowlany | Z33: Maszyny Rolnicze | AA33: Maszyny Poligraf. | AB33: maszyny do produkcji tworzyw sztucznych | AC33: maszyny i urządzenia do obróbki metali | AD33: maszyny dla przemysłu spożywczego | AE33: Sprzęt Medyczny | AF33: Sprzęt Gastronom. | AG33: Wózki Widłowe | AH33: fotowoltaika | AI33: wiatraki i turbiny wiatrowe | AJ33: stacje ładowania pojazdów elektrycznych (na użytek własny i komercyjny) | AK33: inne MiU | AL33: IT | AM33: Sprzęt | AN33: Oprogram. | AO33: inne IT | AP33: POZOSTAŁE ŚRODKI TRANSPORTU | AQ33: Powietrzne | AR33: Wodne | AS33: Kolejowe | AT33: Inne ruchomości | AU33: RUCHOMOŚCI | AV33: Nieruchomości | AW33: budynki przemysłowe | AX33: obiekty handlowe i usługowe | AY33: obiekty biurowe | AZ33: hotele i obiekty rekreacyjne | BA33: inne | BB33: OGÓŁEM
A34: 1 | B34: Alior Leasing Sp. z o. o. | C34: 459 | D34: 243 | G34: 74 | H34: 50 | K34: 24 | N34: 82 | Q34: 49 | R34: 2 | U34: 9 | X34: 123 | Y34: 20 | Z34: 39 | AA34: 2 | AB34: 2 | AC34: 7 | AD34: 3 | AE34: 40 | AK34: 10 | AL34: 0 | AP34: 0 | AU34: 582 | AV34: 0 | BB34: 582
A35: 2 | B35: BNP Paribas Lease Group Sp. z o.o. | C35: 202 | D35: 44 | E35: 0 | F35: 0 | G35: 119 | H35: 82 | I35: 0 | J35: 0 | K35: 37 | L35: 0 | M35: 0 | N35: 17 | O35: 0 | P35: 0 | Q35: 22 | R35: 0 | S35: 0 | T35: 0 | U35: 0 | V35: 0 | W35: 0 | X35: 1057 | Y35: 69 | Z35: 770 | AA35: 0 | AB35: 0 | AC35: 1 | AD35: 1 | AE35: 183 | AF35: 0 | AG35: 2 | AH35: 12 | AI35: 0 | AJ35: 0 | AK35: 19 | AL35: 103 | AM35: 10 | AN35: 92 | AO35: 1 | AP35: 0 | AQ35: 0 | AR35: 0 | AS35: 0 | AT35: 0 | AU35: 1362 | AV35: 0 | AW35: 0 | AX35: 0 | AY35: 0 | AZ35: 0 | BA35: 0 | BB35: 1362
A36: 3 | B36: BOŚ Leasing - EKO Profit S.A. | C36: 0 | G36: 0 | X36: 0 | AL36: 0 | AP36: 0 | AU36: 0 | AV36: 0 | BB36: 0
A37: 4 | B37: BPS Leasing Spółka Akcyjna (BPS Leasing S.A.) | C37: 0 | G37: 0 | X37: 0 | AL37: 0 | AP37: 0 | AU37: 0 | AV37: 0 | BB37: 0
A38: 5 | B38: Caterpillar Financial Services Poland Sp. z o.o. | C38: 0 | G38: 0 | X38: 58 | Y38: 58 | AL38: 0 | AP38: 0 | AU38: 58 | AV38: 0 | BB38: 58
A39: 6 | B39: De Lage Landen Leasing Polska S.A. | C39: 19 | D39: 1 | G39: 0 | Q39: 18 | X39: 306 | Y39: 16 | Z39: 260 | AE39: 22 | AH39: 5 | AK39: 3 | AL39: 3 | AM39: 3 | AP39: 0 | AU39: 328 | AV39: 0 | BB39: 328
A40: 7 | B40: Deutsche Leasing Polska S.A. | C40: 54 | G40: 0 | Q40: 54 | X40: 14 | Z40: 11 | AK40: 3 | AL40: 0 | AP40: 0 | AU40: 68 | AV40: 0 | BB40: 68
A41: 8 | B41: Europejski Fundusz Leasingowy S.A. | C41: 341 | D41: 132 | E41: 4 | F41: 0 | G41: 58 | H41: 54 | I41: 1 | K41: 4 | N41: 73 | Q41: 72 | R41: 2 | U41: 4 | X41: 510 | Y41: 89 | Z41: 279 | AA41: 1 | AB41: 1 | AC41: 2 | AD41: 5 | AE41: 55 | AF41: 13 | AG41: 3 | AH41: 8 | AK41: 54 | AL41: 16 | AM41: 1 | AN41: 10 | AO41: 5 | AP41: 7 | AR41: 7 | AU41: 874 | AV41: 0 | BB41: 874
A42: 9 | B42: Impuls-Leasing Polska Sp. z o. o. | C42: 136 | D42: 41 | E42: 3 | G42: 21 | H42: 18 | I42: 3 | K42: 3 | N42: 35 | Q42: 32 | U42: 7 | X42: 42 | Y42: 13 | Z42: 4 | AE42: 19 | AF42: 1 | AK42: 5 | AL42: 0 | AP42: 0 | AU42: 178 | AV42: 0 | BB42: 178
A43: 10 | B43: ING Lease (Polska) Sp. z o.o. | C43: 120 | D43: 63 | G43: 20 | H43: 20 | K43: 0 | N43: 1 | Q43: 36 | R43: 0 | U43: 0 | X43: 11 | Y43: 0 | Z43: 0 | AA43: 0 | AB43: 0 | AC43: 8 | AD43: 0 | AE43: 1 | AF43: 0 | AG43: 0 | AK43: 2 | AL43: 0 | AM43: 0 | AN43: 0 | AO43: 0 | AP43: 0 | AQ43: 0 | AR43: 0 | AS43: 0 | AT43: 0 | AU43: 131 | AV43: 0 | AW43: 0 | AX43: 0 | AY43: 0 | AZ43: 0 | BA43: 0 | BB43: 131
...

Sheet leasing_2024q1
A1: ZWIAZEK POLSKIEGO LEASINGU Warszawa - 03-10-2024
A3: Wartość środków oddanych w leasing w | C3: 2024q1 | D3: netto w tys. PLN
A4: Lp. | B4: Spółka | C4: POJAZDY | D4: Osobowe | E4: osobowe - zeroemisyjne | F4: osobowe - hybryda plug-in | G4: Cięzarowe: | H4: o masie do 3,5 tony | I4: o masie do 3,5 tony - zeroemisyjne | J4: o masie do 3,5 tony - hybryda plug-in | K4: o masie powyzej 3,5 tony | L4: o masie powyżej 3,5 tony - zeroemisyjne | M4: o masie powyżej 3,5 tony - hybryda plug-in | N4: ciagniki siodlowe | O4: ciągniki siodłowe - zeroemisyjne | P4: ciągniki siodłowe - hybryda plug-in | Q4: naczepy / przyczepy | R4: autobusy | S4: autobusy - zeroemisyjne | T4: autobusy - hybryda plug-in | U4: inne | V4: inne - zeroemisyjne | W4: inne - hybryda plug-in | X4: MiU | Y4: Sprzęt Budowlany | Z4: Maszyny Rolnicze | AA4: Maszyny Poligraf. | AB4: maszyny do produkcji tworzyw sztucznych | AC4: maszyny i urządzenia do obróbki metali | AD4: maszyny dla przemysłu spożywczego | AE4: Sprzęt Medyczny | AF4: Sprzęt Gastronom. | AG4: Wózki Widłowe | AH4: fotowoltaika | AI4: wiatraki i turbiny wiatrowe | AJ4: stacje ładowania pojazdów elektrycznych (na użytek własny i komercyjny) | AK4: inne MiU | AL4: IT | AM4: Sprzęt | AN4: Oprogram. | AO4: inne IT | AP4: POZOSTAŁE ŚRODKI TRANSPORTU | AQ4: Powietrzne | AR4: Wodne | AS4: Kolejowe | AT4: Inne ruchomości | AU4: RUCHOMOŚCI | AV4: Nieruchomości | AW4: budynki przemysłowe | AX4: obiekty handlowe i usługowe | AY4: obiekty biurowe | AZ4: hotele i obiekty rekreacyjne | BA4: inne | BB4: OGÓŁEM
A5: 1 | B5: Alior Leasing Sp. z o. o. | C5: 683608.48 | D5: 304505.65 | G5: 138266.03 | H5: 87345.505 | K5: 50920.529 | N5: 98538.463 | Q5: 75512.885 | R5: 48827.727 | U5: 17957.718 | X5: 150203.92 | Y5: 57509.698 | Z5: 34799.86 | AA5: 2943.9658 | AB5: 1837.2339 | AC5: 15616.779 | AD5: 3192.4137 | AE5: 5087.7501 | AF5: 118.0618 | AG5: 2618.0132 | AH5: 1271.7766 | AK5: 25208.365 | AL5: 932.6619 | AM5: 932.6619 | AP5: 0 | AU5: 834745.06 | AV5: 0 | BB5: 834745.06
A6: 2 | B6: BNP Paribas Lease Group Sp. z o.o. | C6: 721016.43 | D6: 522271.61 | E6: 8138.5537 | F6: 3487.9516 | G6: 159257.83 | H6: 100487.82 | I6: 843.96616 | J6: 0 | K6: 58770.012 | L6: 298.7718 | M6: 0 | N6: 29546.104 | O6: 0 | P6: 0 | Q6: 4936.7394 | R6: 342.26 | S6: 0 | T6: 0 | U6: 4661.8831 | V6: 0 | W6: 0 | X6: 329921.15 | Y6: 52260.64 | Z6: 31395.904 | AA6: 782.53607 | AB6: 1858.6163 | AC6: 8720.5198 | AD6: 5190.7372 | AE6: 3335.4205 | AF6: 0 | AG6: 52163.794 | AH6: 1693.4826 | AI6: 0 | AJ6: 289.33553 | AK6: 172230.17 | AL6: 15796.092 | AM6: 11013.518 | AN6: 2216.0821 | AO6: 2566.4917 | AP6: 0 | AQ6: 0 | AR6: 0 | AS6: 0 | AU6: 1066733.7 | AV6: 153373.36 | AW6: 0 | AX6: 153373.36 | AY6: 0 | AZ6: 0 | BA6: 0 | BB6: 1220107
A7: 3 | B7: BOŚ Leasing - EKO Profit S.A. | C7: 9892.3693 | D7: 3470.1017 | G7: 220.352 | H7: 220.352 | N7: 1536.5 | Q7: 579 | R7: 743 | U7: 3343.4155 | X7: 10460.461 | Y7: 1680 | Z7: 2387.9579 | AC7: 711.30511 | AG7: 703.07 | AH7: 948.038 | AK7: 4030.09 | AL7: 0 | AP7: 0 | AU7: 20352.83 | AV7: 0 | BB7: 20352.83
A8: 4 | B8: BPS Leasing Spółka Akcyjna (BPS Leasing S.A.) | C8: 70185.58 | D8: 17732.42 | E8: 184.06 | F8: 6525.89 | G8: 10513.19 | H8: 5913.42 | I8: 230 | K8: 4599.77 | N8: 23561.47 | Q8: 13510.73 | R8: 3404.09 | U8: 1463.68 | X8: 9837.36 | Y8: 576.29 | Z8: 4657.24 | AC8: 300 | AG8: 639.48 | AH8: 31.63 | AK8: 3632.72 | AL8: 37.02 | AM8: 37.02 | AP8: 0 | AT8: 2398.68 | AU8: 82458.64 | AV8: 0 | BB8: 82458.64
A9: 5 | B9: Caterpillar Financial Services Poland Sp. z o.o. | C9: 0 | G9: 0 | X9: 90037.589 | Y9: 90037.589 | AL9: 0 | AP9: 0 | AU9: 90037.589 | AV9: 0 | BB9: 90037.589
A10: 6 | B10: De Lage Landen Leasing Polska S.A. | C10: 1592 | D10: 580 | G10: 869 | H10: 869 | Q10: 143 | X10: 29368 | Y10: 1367 | Z10: 25650 | AG10: 2150 | AH10: 169 | AK10: 32 | AL10: 4242 | AM10: 4242 | AP10: 0 | AU10: 35202 | AV10: 0 | BB10: 35202
A11: 7 | B11: Deutsche Leasing Polska S.A. | C11: 38402 | D11: 500 | G11: 6704 | H11: 251 | K11: 6453 | N11: 15981 | Q11: 15217 | X11: 133996 | Y11: 5226 | Z11: 8331 | AC11: 12901 | AE11: 169 | AG11: 102065 | AK11: 5304 | AL11: 0 | AP11: 0 | AU11: 172398 | AV11: 0 | BB11: 172398
A12: 8 | B12: Europejski Fundusz Leasingowy S.A. | C12: 1675373 | D12: 711033.56 | E12: 26474.757 | F12: 12201.021 | G12: 413685.73 | H12: 200356.31 | I12: 4851.7917 | J12: 0 | K12: 213329.41 | N12: 350139.02 | Q12: 160734.97 | R12: 26817.63 | U12: 12962.058 | V12: 48.77235 | X12: 598930.86 | Y12: 246957.64 | Z12: 97765.129 | AA12: 10472.696 | AB12: 5046.387 | AC12: 21237.27 | AD12: 11177.504 | AE12: 4421.5465 | AF12: 21211.471 | AG12: 18754.622 | AH12: 13636.112 | AI12: 0 | AJ12: 781.3814 | AK12: 147469.1 | AL12: 22086.331 | AM12: 11200.534 | AN12: 3858.164 | AO12: 7027.633 | AP12: 924.84047 | AQ12: 17 | AR12: 907.84047 | AU12: 2297315 | AV12: 0 | BB12: 2297315
A13: 9 | B13: Impuls-Leasing Polska Sp. z o. o. | C13: 240816.5 | D13: 128259.68 | E13: 4463.17 | F13: 3795.84 | G13: 35097.43 | H13: 25930 | I13: 273.36 | K13: 9167.43 | N13: 41488.14 | Q13: 26406.16 | R13: 4449.34 | U13: 5115.75 | V13: 23 | X13: 50877.89 | Y13: 14919.9 | Z13: 6605.5 | AA13: 3173.25 | AB13: 607.37 | AC13: 3282.16 | AE13: 1854.27 | AF13: 4041.56 | AG13: 1836.73 | AH13: 848.37 | AK13: 13708.78 | AL13: 265.81 | AM13: 265.81 | AP13: 223.58 | AR13: 223.58 | AU13: 292183.78 | AV13: 0 | BB13: 292183.78
A14: 10 | B14: ING Lease (Polska) Sp. z o.o. | C14: 927415 | D14: 409899 | E14: 14974 | F14: 9186 | G14: 146387 | H14: 91037 | I14: 90 | J14: 0 | K14: 55350 | L14: 0 | M14: 0 | N14: 224371 | O14: 0 | P14: 0 | Q14: 94462 | R14: 37357 | S14: 0 | T14: 0 | U14: 14939 | V14: 16 | W14: 0 | X14: 491391 | Y14: 65067 | Z14: 11657 | AA14: 9777 | AB14: 41717 | AC14: 97777 | AD14: 58289 | AE14: 15896 | AF14: 6316 | AG14: 25067 | AH14: 8196 | AI14: 0 | AJ14: 0 | AK14: 151632 | AL14: 8987 | AM14: 8987 | AN14: 0 | AO14: 0 | AP14: 10972 | AQ14: 0 | AR14: 72 | AS14: 10900 | AT14: 61654 | AU14: 1500419 | AV14: 8595 | AW14: 8595 | AX14: 0 | AY14: 0 | AZ14: 0 | BA14: 0 | BB14: 1509014
A15: 11 | B15: Leasing Polski Sp. z o. o. | C15: 51747.292 | D15: 9271.5072 | E15: 139 | F15: 685.64227 | G15: 11711.684 | H15: 5352.0094 | I15: 0 | J15: 0 | K15: 6359.6748 | L15: 0 | M15: 0 | N15: 16031.87 | O15: 0 | P15: 0 | Q15: 6198.0795 | R15: 2399.9675 | S15: 0 | T15: 0 | U15: 6134.1836 | X15: 17229.682 | Y15: 5511.1106 | Z15: 1331.2415 | AC15: 0 | AG15: 123 | AK15: 10264.33 | AL15: 0 | AP15: 0 | AQ15: 0 | AR15: 0 | AS15: 0 | AT15: 131.0943 | AU15: 69108.068 | AV15: 0 | BB15: 69108.068
A16: 12 | B16: Mercedes-Benz Leasing Polska Sp. z o.o. | C16: 694650.16 | D16: 547088.38 | E16: 41987.979 | F16: 58855.82 | G16: 79449.982 | H16: 68683.003 | I16: 3179.3459 | K16: 10766.979 | N16: 57435.789 | Q16: 1148.3915 | R16: 8456.3736 | U16: 1071.2441 | X16: 0 | AL16: 0 | AP16: 0 | AU16: 694650.16 | AV16: 0 | BB16: 694650.16
A17: 13 | B17: Millennium Leasing Sp. z o.o. | C17: 615293.94 | D17: 241303.37 | E17: 11672.995 | F17: 1928.957 | G17: 113963.2 | H17: 63055.818 | I17: 1071.2607 | K17: 50907.384 | N17: 162428.87 | Q17: 73906.188 | R17: 8864.8 | U17: 14827.513 | V17: 556.013 | X17: 254534.34 | Y17: 56878.22 | Z17: 242.79313 | AA17: 19576.335 | AB17: 66021.968 | AD17: 13513.547 | AE17: 7212.3653 | AG17: 15041.293 | AH17: 17278.007 | AK17: 58769.813 | AL17: 3943.1695 | AM17: 3943.1695 | AP17: 11927.781 | AR17: 1114.7811 | AS17: 10813 | AU17: 885699.23 | AV17: 0 | BB17: 885699.23
A18: 14 | B18: mLeasing Sp. z o.o. | C18: 1369813 | D18: 1026885.3 | G18: 149717.39 | H18: 83769.615 | K18: 65947.776 | N18: 111167.55 | Q18: 32514.007 | R18: 19193.963 | U18: 30334.774 | X18: 340103.83 | Y18: 59149.584 | Z18: 4053.0297 | AA18: 11888.156 | AB18: 8778.3706 | AC18: 48251.575 | AD18: 8230.6569 | AE18: 4031.51 | AF18: 1860.2747 | AG18: 12748.155 | AK18: 181112.52 | AL18: 12029.428 | AM18: 12029.428 | AP18: 128980.15 | AQ18: 102940.02 | AR18: 26040.128 | AT18: 15035.832 | AU18: 1865962.2 | AV18: 0 | BB18: 1865962.2
A19: 15 | B19: PEAC (Poland) Sp. z o.o. | C19: 10759.3 | D19: 706.5 | G19: 1166.9 | H19: 633.8 | K19: 533.1 | N19: 602.4 | Q19: 2773.1 | R19: 5125.8 | U19: 384.6 | X19: 22756 | Y19: 246.1 | Z19: 4759.7 | AA19: 714.1 | AB19: 933.8 | AC19: 1576.6 | AD19: 132.8 | AE19: 101.3 | AG19: 1029.3 | AH19: 169.1 | AK19: 13093.2 | AL19: 750.8 | AM19: 750.8 | AP19: 22.4 | AQ19: 22.4 | AU19: 34288.5 | AV19: 0 | BB19: 34288.5
A20: 16 | B20: PEKAO Leasing Sp. z o.o. | C20: 943691.8 | D20: 404494.83 | E20: 8237.3948 | F20: 5326.7917 | G20: 168023.65 | H20: 67226.771 | I20: 677.65231 | J20: 0 | K20: 100796.88 | L20: 0 | M20: 0 | N20: 206368.77 | O20: 0 | P20: 0 | Q20: 79027.55 | R20: 54479.554 | S20: 0 | T20: 0 | U20: 31297.441 | V20: 67.71529 | W20: 0 | X20: 446867.81 | Y20: 73425.4 | Z20: 12197.669 | AA20: 25989.531 | AB20: 37217.835 | AC20: 65585.385 | AD20: 15423.51 | AE20: 2510.683 | AF20: 2261.51 | AG20: 23336.724 | AH20: 9605.5845 | AI20: 0 | AJ20: 40.996 | AK20: 179272.98 | AL20: 12847.019 | AM20: 6960.4478 | AN20: 59.08 | AO20: 5827.4917 | AP20: 37372.633 | AQ20: 23980.825 | AR20: 13391.808 | AS20: 0 | AT20: 17993.811 | AU20: 1458773.1 | AV20: 29484.674 | AW20: 0 | AX20: 0 | AY20: 25714.943 | AZ20: 0 | BA20: 3769.7311 | BB20: 1488257.7
A21: 17 | B21: PKO Leasing S.A. | C21: 2381169.9 | D21: 1437294.3 | E21: 62261.75 | F21: 25981.452 | G21: 392557.39 | H21: 235088.28 | I21: 6897.4634 | K21: 157469.11 | L21: 2177.4265 | N21: 321018.05 | Q21: 141610.25 | R21: 63076.408 | U21: 25613.503 | V21: 768.15853 | X21: 574416.12 | Y21: 141153.17 | Z21: 52352.207 | AA21: 23952.997 | AB21: 14511.042 | AC21: 60187.493 | AD21: 25125.809 | AE21: 18377.146 | AF21: 4166.8791 | AG21: 31113.043 | AH21: 6692.5169 | AJ21: 1000 | AK21: 195783.82 | AL21: 27798.708 | AM21: 14179.889 | AN21: 366.07671 | AO21: 13252.743 | AP21: 83584.35 | AQ21: 21303.193 | AR21: 1638.9203 | AS21: 60642.236 | AU21: 3066969.1 | AV21: 0 | BB21: 3066969.1
A22: 18 | B22: Santander Consumer Multirent Sp.z o.o. | C22: 331234.21 | D22: 271738.64 | G22: 47422.874 | H22: 47422.874 | U22: 12072.698 | X22: 0 | AL22: 0 | AP22: 0 | AU22: 331234.21 | AV22: 0 | BB22: 331234.21
A23: 19 | B23: Santander Leasing S.A. | C23: 1181633.7 | D23: 727301.8 | E23: 35230.025 | F23: 22235.806 | G23: 193303.54 | H23: 116180.65 | I23: 1572.715 | J23: 0 | K23: 77122.888 | L23: 0 | M23: 0 | N23: 182432.41 | O23: 0 | P23: 0 | Q23: 57985.606 | R23: 14262.947 | S23: 0 | T23: 0 | U23: 6347.395 | V23: 92.697 | W23: 0 | X23: 339143.28 | Y23: 46934.342 | Z23: 34613.347 | AA23: 9092.856 | AB23: 14040.381 | AC23: 22343.393 | AD23: 18199.374 | AE23: 14630.075 | AF23: 2751.117 | AG23: 42408.177 | AH23: 8524.132 | AI23: 0 | AJ23: 0 | AK23: 125606.09 | AL23: 9763.72 | AM23: 9763.72 | AN23: 0 | AO23: 0 | AP23: 1545.611 | AQ23: 141.34 | AR23: 784.271 | AS23: 620 | AT23: 0 | AU23: 1532086.3 | AV23: 0 | AW23: 0 | AX23: 0 | AY23: 0 | AZ23: 0 | BA23: 0 | BB23: 1532086.3
A24: 20 | B24: Scania Finance Polska Sp. z o.o. | C24: 262514 | D24: 734 | G24: 25430 | H24: 9595 | K24: 15835 | N24: 216406 | Q24: 19944 | X24: 0 | AL24: 0 | AP24: 0 | AU24: 262514 | AV24: 0 | BB24: 262514
A25: 21 | B25: SG Equipment Leasing Polska Sp. z o.o. | C25: 34857.469 | D25: 1394.261 | G25: 7575.0891 | H25: 774.9 | K25: 6800.1891 | N25: 16537.041 | Q25: 8536.1778 | U25: 814.9 | X25: 43542.088 | Y25: 33772.5 | Z25: 4439.7802 | AC25: 954.971 | AD25: 672.05986 | AG25: 407.08612 | AK25: 3295.6913 | AL25: 96.59838 | AM25: 96.59838 | AP25: 6156.4251 | AQ25: 6156.4251 | AU25: 84652.581 | AV25: 0 | BB25: 84652.581
A26: 22 | B26: SGB Leasing Sp. z o.o. | C26: 15137 | D26: 8308 | E26: 319 | G26: 3684 | H26: 3035 | K26: 649 | N26: 926 | Q26: 859 | R26: 510 | U26: 850 | X26: 26508 | Y26: 2504 | Z26: 3994 | AA26: 320 | AB26: 141 | AC26: 713 | AD26: 210 | AE26: 60 | AF26: 34 | AG26: 165 | AH26: 300 | AK26: 18067 | AL26: 0 | AP26: 0 | AU26: 41645 | AV26: 0 | BB26: 41645
A27: 23 | B27: Siemens Finance Sp. z o.o. | C27: 2545 | D27: 1179 | G27: 1087 | H27: 808 | K27: 279 | N27: 279 | X27: 180903 | Y27: 20575 | Z27: 8961 | AA27: 9332 | AB27: 2726 | AC27: 11667 | AE27: 107870 | AG27: 4014 | AK27: 15758 | AL27: 23835 | AM27: 22027 | AN27: 1808 | AP27: 0 | AU27: 207283 | AV27: 0 | BB27: 207283
A28: 24 | B28: Vehis Fin 1 Sp. z o. o. | C28: 213572.44 | D28: 171137.47 | E28: 3676.02 | F28: 7304.18 | G28: 42434.97 | H28: 42434.97 | I28: 0 | J28: 0 | X28: 0 | AL28: 0 | AP28: 0 | AU28: 213572.44 | AV28: 0 | BB28: 213572.44
A29: 25 | B29: Razem | C29: 12476921 | D29: 6947089.4 | E29: 217758.71 | F29: 157515.35 | G29: 2148528.2 | H29: 1256471.1 | I29: 19687.555 | J29: 0 | K29: 892057.14 | L29: 2476.1983 | M29: 0 | N29: 2076795.4 | O29: 0 | P29: 0 | Q29: 816004.83 | R29: 298310.86 | S29: 0 | T29: 0 | U29: 190191.76 | V29: 1572.3562 | W29: 0 | X29: 4141028.4 | Y29: 975751.18 | Z29: 350194.36 | AA29: 128015.42 | AB29: 195437 | AC29: 371825.45 | AD29: 159357.41 | AE29: 185557.07 | AF29: 42760.874 | AG29: 336383.49 | AH29: 69363.75 | AI29: 0 | AJ29: 2111.7129 | AK29: 1324270.7 | AL29: 143411.36 | AM29: 106429.6 | AN29: 8307.4028 | AO29: 28674.359 | AP29: 281709.77 | AQ29: 154561.2 | AR29: 44173.329 | AS29: 82975.236 | AT29: 97213.417 | AU29: 17140283 | AV29: 191453.03 | AW29: 8595 | AX29: 153373.36 | AY29: 25714.943 | AZ29: 0 | BA29: 3769.7311 | BB29: 17331737
A31: Ilość środków oddanych w leasing w | C31: 2024q1 | D31: w sztukach
A33: Lp. | B33: Spółka | C33: POJAZDY | D33: Osobowe | E33: osobowe - zeroemisyjne | F33: osobowe - hybryda plug-in | G33: Cięzarowe: | H33: o masie do 3,5 tony | I33: o masie do 3,5 tony - zeroemisyjne | J33: o masie do 3,5 tony - hybryda plug-in | K33: o masie powyzej 3,5 tony | L33: o masie powyżej 3,5 tony - zeroemisyjne | M33: o masie powyżej 3,5 tony - hybryda plug-in | N33: ciagniki siodlowe | O33: ciągniki siodłowe - zeroemisyjne | P33: ciągniki siodłowe - hybryda plug-in | Q33: naczepy / przyczepy | R33: autobusy | S33: autobusy - zeroemisyjne | T33: autobusy - hybryda plug-in | U33: inne | V33: inne - zeroemisyjne | W33: inne - hybryda plug-in | X33: MiU | Y33: Sprzęt Budowlany | Z33: Maszyny Rolnicze | AA33: Maszyny Poligraf. | AB33: maszyny do produkcji tworzyw sztucznych | AC33: maszyny i urządzenia do obróbki metali | AD33: maszyny dla przemysłu spożywczego | AE33: Sprzęt Medyczny | AF33: Sprzęt Gastronom. | AG33: Wózki Widłowe | AH33: fotowoltaika | AI33: wiatraki i turbiny wiatrowe | AJ33: stacje ładowania pojazdów elektrycznych (na użytek własny i komercyjny) | AK33: inne MiU | AL33: IT | AM33: Sprzęt | AN33: Oprogram. | AO33: inne IT | AP33: POZOSTAŁE ŚRODKI TRANSPORTU | AQ33: Powietrzne | AR33: Wodne | AS33: Kolejowe | AT33: Inne ruchomości | AU33: RUCHOMOŚCI | AV33: Nieruchomości | AW33: budynki przemysłowe | AX33: obiekty handlowe i usługowe | AY33: obiekty biurowe | AZ33: hotele i obiekty rekreacyjne | BA33: inne | BB33: OGÓŁEM
A34: 1 | B34: Alior Leasing Sp. z o. o. | C34: 4876 | D34: 2370 | G34: 1116 | H34: 911 | K34: 205 | N34: 454 | Q34: 636 | R34: 133 | U34: 167 | X34: 1157 | Y34: 327 | Z34: 337 | AA34: 37 | AB34: 14 | AC34: 76 | AD34: 39 | AE34: 66 | AF34: 1 | AG34: 35 | AH34: 14 | AK34: 211 | AL34: 9 | AM34: 9 | AP34: 0 | AU34: 6042 | AV34: 0 | BB34: 6042
A35: 2 | B35: BNP Paribas Lease Group Sp. z o.o. | C35: 5124 | D35: 4069 | E35: 43 | F35: 18 | G35: 866 | H35: 672 | I35: 4 | J35: 0 | K35: 194 | L35: 1 | M35: 0 | N35: 73 | O35: 0 | P35: 0 | Q35: 24 | R35: 1 | S35: 0 | T35: 0 | U35: 91 | V35: 0 | W35: 0 | X35: 1005 | Y35: 202 | Z35: 95 | AA35: 3 | AB35: 3 | AC35: 11 | AD35: 3 | AE35: 56 | AF35: 0 | AG35: 398 | AH35: 13 | AI35: 0 | AJ35: 1 | AK35: 220 | AL35: 104 | AM35: 86 | AN35: 15 | AO35: 3 | AP35: 0 | AQ35: 0 | AR35: 0 | AS35: 0 | AU35: 6233 | AV35: 10 | AW35: 0 | AX35: 10 | AY35: 0 | AZ35: 0 | BA35: 0 | BB35: 6243
A36: 3 | B36: BOŚ Leasing - EKO Profit S.A. | C36: 51 | D36: 27 | G36: 2 | H36: 2 | N36: 8 | Q36: 2 | R36: 3 | U36: 9 | X36: 35 | Y36: 4 | Z36: 8 | AC36: 1 | AG36: 2 | AH36: 8 | AK36: 12 | AL36: 0 | AP36: 0 | AU36: 86 | AV36: 0 | BB36: 86
A37: 4 | B37: BPS Leasing Spółka Akcyjna (BPS Leasing S.A.) | C37: 296 | D37: 113 | E37: 1 | F37: 44 | G37: 54 | H37: 39 | I37: 1 | K37: 15 | N37: 72 | Q37: 47 | R37: 4 | U37: 6 | X37: 25 | Y37: 5 | Z37: 6 | AC37: 1 | AG37: 4 | AH37: 1 | AK37: 8 | AL37: 1 | AM37: 1 | AP37: 0 | AT37: 11 | AU37: 333 | AV37: 0 | BB37: 333
A38: 5 | B38: Caterpillar Financial Services Poland Sp. z o.o. | C38: 0 | G38: 0 | X38: 226 | Y38: 226 | AL38: 0 | AP38: 0 | AU38: 226 | AV38: 0 | BB38: 226
A39: 6 | B39: De Lage Landen Leasing Polska S.A. | C39: 12 | D39: 6 | G39: 5 | H39: 5 | Q39: 1 | X39: 140 | Y39: 13 | Z39: 112 | AG39: 11 | AH39: 3 | AK39: 1 | AL39: 70 | AM39: 70 | AP39: 0 | AU39: 222 | AV39: 0 | BB39: 222
A40: 7 | B40: Deutsche Leasing Polska S.A. | C40: 110 | D40: 5 | G40: 9 | H40: 2 | K40: 7 | N40: 36 | Q40: 60 | X40: 881 | Y40: 3 | Z40: 5 | AC40: 13 | AE40: 1 | AG40: 843 | AK40: 16 | AL40: 0 | AP40: 0 | AU40: 991 | AV40: 0 | BB40: 991
A41: 8 | B41: Europejski Fundusz Leasingowy S.A. | C41: 9502 | D41: 4693 | E41: 127 | F41: 55 | G41: 2173 | H41: 1525 | I41: 18 | J41: 0 | K41: 648 | N41: 1198 | Q41: 1123 | R41: 47 | U41: 268 | V41: 1 | X41: 3777 | Y41: 1233 | Z41: 488 | AA41: 49 | AB41: 31 | AC41: 126 | AD41: 67 | AE41: 69 | AF41: 340 | AG41: 180 | AH41: 99 | AI41: 0 | AJ41: 5 | AK41: 1090 | AL41: 361 | AM41: 192 | AN41: 66 | AO41: 103 | AP41: 8 | AQ41: 1 | AR41: 7 | AU41: 13648 | AV41: 0 | BB41: 13648
A42: 9 | B42: Impuls-Leasing Polska Sp. z o. o. | C42: 1376 | D42: 797 | E42: 26 | F42: 15 | G42: 208 | H42: 183 | I42: 2 | K42: 25 | N42: 124 | Q42: 175 | R42: 10 | U42: 62 | V42: 1 | X42: 339 | Y42: 60 | Z42: 52 | AA42: 16 | AB42: 3 | AC42: 9 | AE42: 24 | AF42: 23 | AG42: 22 | AH42: 7 | AK42: 123 | AL42: 8 | AM42: 8 | AP42: 1 | AR42: 1 | AU42: 1724 | AV42: 0 | BB42: 1724
A43: 10 | B43: ING Lease (Polska) Sp. z o.o. | C43: 4752 | D43: 2714 | E43: 80 | F43: 50 | G43: 833 | H43: 691 | I43: 1 | J43: 0 | K43: 142 | L43: 0 | M43: 0 | N43: 615 | O43: 0 | P43: 0 | Q43: 471 | R43: 61 | S43: 0 | T43: 0 | U43: 58 | V43: 1 | W43: 0 | X43: 1215 | Y43: 224 | Z43: 40 | AA43: 29 | AB43: 49 | AC43: 137 | AD43: 68 | AE43: 54 | AF43: 39 | AG43: 197 | AH43: 41 | AI43: 0 | AJ43: 0 | AK43: 337 | AL43: 56 | AM43: 56 | AN43: 0 | AO43: 0 | AP43: 66 | AQ43: 0 | AR43: 1 | AS43: 65 | AT43: 199 | AU43: 6288 | AV43: 1 | AW43: 1 | AX43: 0 | AY43: 0 | AZ43: 0 | BA43: 0 | BB43: 6289
...

Sheet leasing&pozyczki_2024q1
A1: ZWIAZEK POLSKIEGO LEASINGU Warszawa - 06-11-2024
A3: Wartość środków oddanych w pożyczki w | C3: 2024q1 | D3: netto w tys. PLN
A4: Lp. | B4: Spółka | C4: POJAZDY | D4: Osobowe | E4: osobowe - zeroemisyjne | F4: osobowe - hybryda plug-in | G4: Cięzarowe: | H4: o masie do 3,5 tony | I4: o masie do 3,5 tony - zeroemisyjne | J4: o masie do 3,5 tony - hybryda plug-in | K4: o masie powyzej 3,5 tony | L4: o masie powyżej 3,5 tony - zeroemisyjne | M4: o masie powyżej 3,5 tony - hybryda plug-in | N4: ciagniki siodlowe | O4: ciągniki siodłowe - zeroemisyjne | P4: ciągniki siodłowe - hybryda plug-in | Q4: naczepy / przyczepy | R4: autobusy | S4: autobusy - zeroemisyjne | T4: autobusy - hybryda plug-in | U4: inne | V4: inne - zeroemisyjne | W4: inne - hybryda plug-in | X4: MiU | Y4: Sprzęt Budowlany | Z4: Maszyny Rolnicze | AA4: Maszyny Poligraf. | AB4: maszyny do produkcji tworzyw sztucznych | AC4: maszyny i urządzenia do obróbki metali | AD4: maszyny dla przemysłu spożywczego | AE4: Sprzęt Medyczny | AF4: Sprzęt Gastronom. | AG4: Wózki Widłowe | AH4: fotowoltaika | AI4: wiatraki i turbiny wiatrowe | AJ4: stacje ładowania pojazdów elektrycznych (na użytek własny i komercyjny) | AK4: inne MiU | AL4: IT | AM4: Sprzęt | AN4: Oprogram. | AO4: inne IT | AP4: POZOSTAŁE ŚRODKI TRANSPORTU | AQ4: Powietrzne | AR4: Wodne | AS4: Kolejowe | AT4: Inne ruchomości | AU4: RUCHOMOŚCI | AV4: Nieruchomości | AW4: budynki przemysłowe | AX4: obiekty handlowe i usługowe | AY4: obiekty biurowe | AZ4: hotele i obiekty rekreacyjne | BA4: inne | BB4: OGÓŁEM
A5: 1 | B5: Alior Leasing Sp. z o. o. | C5: =pozyczki_2024q1!C5+leasing_2024q1!C5 -> 741799.38 | D5: =pozyczki_2024q1!D5+leasing_2024q1!D5 -> 330194.63 | E5: =pozyczki_2024q1!E5+leasing_2024q1!E5 -> 0 | F5: =pozyczki_2024q1!F5+leasing_2024q1!F5 -> 0 | G5: =pozyczki_2024q1!G5+leasing_2024q1!G5 -> 145680.44 | H5: =pozyczki_2024q1!H5+leasing_2024q1!H5 -> 91175.653 | I5: =pozyczki_2024q1!I5+leasing_2024q1!I5 -> 0 | J5: =pozyczki_2024q1!J5+leasing_2024q1!J5 -> 0 | ... BB5: =pozyczki_2024q1!BB5+leasing_2024q1!BB5 -> 920146.05
A6: 2 | B6: BNP Paribas Lease Group Sp. z o.o. | C6: =pozyczki_2024q1!C6+leasing_2024q1!C6 -> 756824.28 | D6: =pozyczki_2024q1!D6+leasing_2024q1!D6 -> 526017.27 | E6: =pozyczki_2024q1!E6+leasing_2024q1!E6 -> 8138.5537 | F6: =pozyczki_2024q1!F6+leasing_2024q1!F6 -> 3487.9516 | G6: =pozyczki_2024q1!G6+leasing_2024q1!G6 -> 183926.28 | H6: =pozyczki_2024q1!H6+leasing_2024q1!H6 -> 115900.99 | I6: =pozyczki_2024q1!I6+leasing_2024q1!I6 -> 843.96616 | J6: =pozyczki_2024q1!J6+leasing_2024q1!J6 -> 0 | ... BB6: =pozyczki_2024q1!BB6+leasing_2024q1!BB6 -> 1608317.2
A7: 3 | B7: BOŚ Leasing - EKO Profit S.A. | C7: =pozyczki_2024q1!C7+leasing_2024q1!C7 -> 9892.3693 | D7: =pozyczki_2024q1!D7+leasing_2024q1!D7 -> 3470.1017 | E7: =pozyczki_2024q1!E7+leasing_2024q1!E7 -> 0 | F7: =pozyczki_2024q1!F7+leasing_2024q1!F7 -> 0 | G7: =pozyczki_2024q1!G7+leasing_2024q1!G7 -> 220.352 | H7: =pozyczki_2024q1!H7+leasing_2024q1!H7 -> 220.352 | I7: =pozyczki_2024q1!I7+leasing_2024q1!I7 -> 0 | J7: =pozyczki_2024q1!J7+leasing_2024q1!J7 -> 0 | ... BB7: =pozyczki_2024q1!BB7+leasing_2024q1!BB7 -> 20352.83
A8: 4 | B8: BPS Leasing Spółka Akcyjna (BPS Leasing S.A.) | C8: =pozyczki_2024q1!C8+leasing_2024q1!C8 -> 70185.58 | D8: =pozyczki_2024q1!D8+leasing_2024q1!D8 -> 17732.42 | E8: =pozyczki_2024q1!E8+leasing_2024q1!E8 -> 184.06 | F8: =pozyczki_2024q1!F8+leasing_2024q1!F8 -> 6525.89 | G8: =pozyczki_2024q1!G8+leasing_2024q1!G8 -> 10513.19 | H8: =pozyczki_2024q1!H8+leasing_2024q1!H8 -> 5913.42 | I8: =pozyczki_2024q1!I8+leasing_2024q1!I8 -> 230 | J8: =pozyczki_2024q1!J8+leasing_2024q1!J8 -> 0 | ... BB8: =pozyczki_2024q1!BB8+leasing_2024q1!BB8 -> 82458.64
A9: 5 | B9: Caterpillar Financial Services Poland Sp. z o.o. | C9: =pozyczki_2024q1!C9+leasing_2024q1!C9 -> 0 | D9: =pozyczki_2024q1!D9+leasing_2024q1!D9 -> 0 | E9: =pozyczki_2024q1!E9+leasing_2024q1!E9 -> 0 | F9: =pozyczki_2024q1!F9+leasing_2024q1!F9 -> 0 | G9: =pozyczki_2024q1!G9+leasing_2024q1!G9 -> 0 | H9: =pozyczki_2024q1!H9+leasing_2024q1!H9 -> 0 | I9: =pozyczki_2024q1!I9+leasing_2024q1!I9 -> 0 | J9: =pozyczki_2024q1!J9+leasing_2024q1!J9 -> 0 | ... BB9: =pozyczki_2024q1!BB9+leasing_2024q1!BB9 -> 118865.84
A10: 6 | B10: De Lage Landen Leasing Polska S.A. | C10: =pozyczki_2024q1!C10+leasing_2024q1!C10 -> 4704 | D10: =pozyczki_2024q1!D10+leasing_2024q1!D10 -> 978 | E10: =pozyczki_2024q1!E10+leasing_2024q1!E10 -> 0 | F10: =pozyczki_2024q1!F10+leasing_2024q1!F10 -> 0 | G10: =pozyczki_2024q1!G10+leasing_2024q1!G10 -> 869 | H10: =pozyczki_2024q1!H10+leasing_2024q1!H10 -> 869 | I10: =pozyczki_2024q1!I10+leasing_2024q1!I10 -> 0 | J10: =pozyczki_2024q1!J10+leasing_2024q1!J10 -> 0 | ... BB10: =pozyczki_2024q1!BB10+leasing_2024q1!BB10 -> 221425
A11: 7 | B11: Deutsche Leasing Polska S.A. | C11: =pozyczki_2024q1!C11+leasing_2024q1!C11 -> 45643 | D11: =pozyczki_2024q1!D11+leasing_2024q1!D11 -> 500 | E11: =pozyczki_2024q1!E11+leasing_2024q1!E11 -> 0 | F11: =pozyczki_2024q1!F11+leasing_2024q1!F11 -> 0 | G11: =pozyczki_2024q1!G11+leasing_2024q1!G11 -> 6704 | H11: =pozyczki_2024q1!H11+leasing_2024q1!H11 -> 251 | I11: =pozyczki_2024q1!I11+leasing_2024q1!I11 -> 0 | J11: =pozyczki_2024q1!J11+leasing_2024q1!J11 -> 0 | ... BB11: =pozyczki_2024q1!BB11+leasing_2024q1!BB11 -> 186145
A12: 8 | B12: Europejski Fundusz Leasingowy S.A. | C12: =pozyczki_2024q1!C12+leasing_2024q1!C12 -> 1738785.9 | D12: =pozyczki_2024q1!D12+leasing_2024q1!D12 -> 734899.37 | E12: =pozyczki_2024q1!E12+leasing_2024q1!E12 -> 27410.063 | F12: =pozyczki_2024q1!F12+leasing_2024q1!F12 -> 12201.021 | G12: =pozyczki_2024q1!G12+leasing_2024q1!G12 -> 425298.83 | H12: =pozyczki_2024q1!H12+leasing_2024q1!H12 -> 211106.86 | I12: =pozyczki_2024q1!I12+leasing_2024q1!I12 -> 5069.7917 | J12: =pozyczki_2024q1!J12+leasing_2024q1!J12 -> 0 | ... BB12: =pozyczki_2024q1!BB12+leasing_2024q1!BB12 -> 2563492.6
A13: 9 | B13: Impuls-Leasing Polska Sp. z o. o. | C13: =pozyczki_2024q1!C13+leasing_2024q1!C13 -> 270442.06 | D13: =pozyczki_2024q1!D13+leasing_2024q1!D13 -> 134888.04 | E13: =pozyczki_2024q1!E13+leasing_2024q1!E13 -> 4976.89 | F13: =pozyczki_2024q1!F13+leasing_2024q1!F13 -> 3795.84 | G13: =pozyczki_2024q1!G13+leasing_2024q1!G13 -> 39531.99 | H13: =pozyczki_2024q1!H13+leasing_2024q1!H13 -> 29255.94 | I13: =pozyczki_2024q1!I13+leasing_2024q1!I13 -> 1103.71 | J13: =pozyczki_2024q1!J13+leasing_2024q1!J13 -> 0 | ... BB13: =pozyczki_2024q1!BB13+leasing_2024q1!BB13 -> 332608.76
A14: 10 | B14: ING Lease (Polska) Sp. z o.o. | C14: =pozyczki_2024q1!C14+leasing_2024q1!C14 -> 944511 | D14: =pozyczki_2024q1!D14+leasing_2024q1!D14 -> 416016 | E14: =pozyczki_2024q1!E14+leasing_2024q1!E14 -> 14974 | F14: =pozyczki_2024q1!F14+leasing_2024q1!F14 -> 9186 | G14: =pozyczki_2024q1!G14+leasing_2024q1!G14 -> 147445 | H14: =pozyczki_2024q1!H14+leasing_2024q1!H14 -> 92095 | I14: =pozyczki_2024q1!I14+leasing_2024q1!I14 -> 90 | J14: =pozyczki_2024q1!J14+leasing_2024q1!J14 -> 0 | ... BB14: =pozyczki_2024q1!BB14+leasing_2024q1!BB14 -> 1558565
A15: 11 | B15: Leasing Polski Sp. z o. o. | C15: =pozyczki_2024q1!C15+leasing_2024q1!C15 -> 51747.292 | D15: =pozyczki_2024q1!D15+leasing_2024q1!D15 -> 9271.5072 | E15: =pozyczki_2024q1!E15+leasing_2024q1!E15 -> 139 | F15: =pozyczki_2024q1!F15+leasing_2024q1!F15 -> 685.64227 | G15: =pozyczki_2024q1!G15+leasing_2024q1!G15 -> 11711.684 | H15: =pozyczki_2024q1!H15+leasing_2024q1!H15 -> 5352.0094 | I15: =pozyczki_2024q1!I15+leasing_2024q1!I15 -> 0 | J15: =pozyczki_2024q1!J15+leasing_2024q1!J15 -> 0 | ... BB15: =pozyczki_2024q1!BB15+leasing_2024q1!BB15 -> 69108.068
A16: 12 | B16: Mercedes-Benz Leasing Polska Sp. z o.o. | C16: =pozyczki_2024q1!C16+leasing_2024q1!C16 -> 796361.67 | D16: =pozyczki_2024q1!D16+leasing_2024q1!D16 -> 628936.16 | E16: =pozyczki_2024q1!E16+leasing_2024q1!E16 -> 41987.979 | F16: =pozyczki_2024q1!F16+leasing_2024q1!F16 -> 58855.82 | G16: =pozyczki_2024q1!G16+leasing_2024q1!G16 -> 97827.653 | H16: =pozyczki_2024q1!H16+leasing_2024q1!H16 -> 85342.225 | I16: =pozyczki_2024q1!I16+leasing_2024q1!I16 -> 3179.3459 | J16: =pozyczki_2024q1!J16+leasing_2024q1!J16 -> 0 | ... BB16: =pozyczki_2024q1!BB16+leasing_2024q1!BB16 -> 796361.67
... A29: 25 | B29: Razem | C29: =pozyczki_2024q1!C29+leasing_2024q1!C29 -> 13254816 | D29: =pozyczki_2024q1!D29+leasing_2024q1!D29 -> 7329925.9 | E29: =pozyczki_2024q1!E29+leasing_2024q1!E29 -> 220835.2 | F29: =pozyczki_2024q1!F29+leasing_2024q1!F29 -> 160704.34 | G29: =pozyczki_2024q1!G29+leasing_2024q1!G29 -> 2264854 | H29: =pozyczki_2024q1!H29+leasing_2024q1!H29 -> 1341189.1 | I29: =pozyczki_2024q1!I29+leasing_2024q1!I29 -> 20798.255 | J29: =pozyczki_2024q1!J29+leasing_2024q1!J29 -> 0 | ... BB29: =pozyczki_2024q1!BB29+leasing_2024q1!BB29 -> 19894696
A31: Ilość środków oddanych w pożyczki w | C31: 2024q1 | D31: w sztukach
A33: Lp. | B33: Spółka | C33: POJAZDY | D33: Osobowe | E33: osobowe - zeroemisyjne | F33: osobowe - hybryda plug-in | G33: Cięzarowe: | H33: o masie do 3,5 tony | I33: o masie do 3,5 tony - zeroemisyjne | J33: o masie do 3,5 tony - hybryda plug-in | K33: o masie powyzej 3,5 tony | L33: o masie powyżej 3,5 tony - zeroemisyjne | M33: o masie powyżej 3,5 tony - hybryda plug-in | N33: ciagniki siodlowe | O33: ciągniki siodłowe - zeroemisyjne | P33: ciągniki siodłowe - hybryda plug-in | Q33: naczepy / przyczepy | R33: autobusy | S33: autobusy - zeroemisyjne | T33: autobusy - hybryda plug-in | U33: inne | V33: inne - zeroemisyjne | W33: inne - hybryda plug-in | X33: MiU | Y33: Sprzęt Budowlany | Z33: Maszyny Rolnicze | AA33: Maszyny Poligraf. | AB33: maszyny do produkcji tworzyw sztucznych | AC33: maszyny i urządzenia do obróbki metali | AD33: maszyny dla przemysłu spożywczego | AE33: Sprzęt Medyczny | AF33: Sprzęt Gastronom. | AG33: Wózki Widłowe | AH33: fotowoltaika | AI33: wiatraki i turbiny wiatrowe | AJ33: stacje ładowania pojazdów elektrycznych (na użytek własny i komercyjny) | AK33: inne MiU | AL33: IT | AM33: Sprzęt | AN33: Oprogram. | AO33: inne IT | AP33: POZOSTAŁE ŚRODKI TRANSPORTU | AQ33: Powietrzne | AR33: Wodne | AS33: Kolejowe | AT33: Inne ruchomości | AU33: RUCHOMOŚCI | AV33: Nieruchomości | AW33: budynki przemysłowe | AX33: obiekty handlowe i usługowe | AY33: obiekty biurowe | AZ33: hotele i obiekty rekreacyjne | BA33: inne | BB33: OGÓŁEM
A34: 1 | B34: Alior Leasing Sp. z o. o. | C34: =pozyczki_2024q1!C34+leasing_2024q1!C34 -> 5335 | D34: =pozyczki_2024q1!D34+leasing_2024q1!D34 -> 2613 | E34: =pozyczki_2024q1!E34+leasing_2024q1!E34 -> 0 | F34: =pozyczki_2024q1!F34+leasing_2024q1!F34 -> 0 | G34: =pozyczki_2024q1!G34+leasing_2024q1!G34 -> 1190 | H34: =pozyczki_2024q1!H34+leasing_2024q1!H34 -> 961 | I34: =pozyczki_2024q1!I34+leasing_2024q1!I34 -> 0 | J34: =pozyczki_2024q1!J34+leasing_2024q1!J34 -> 0 | ... BB34: =pozyczki_2024q1!BB34+leasing_2024q1!BB34 -> 6624
A35: 2 | B35: BNP Paribas Lease Group Sp. z o.o. | C35: =pozyczki_2024q1!C35+leasing_2024q1!C35 -> 5326 | D35: =pozyczki_2024q1!D35+leasing_2024q1!D35 -> 4113 | E35: =pozyczki_2024q1!E35+leasing_2024q1!E35 -> 43 | F35: =pozyczki_2024q1!F35+leasing_2024q1!F35 -> 18 | G35: =pozyczki_2024q1!G35+leasing_2024q1!G35 -> 985 | H35: =pozyczki_2024q1!H35+leasing_2024q1!H35 -> 754 | I35: =pozyczki_2024q1!I35+leasing_2024q1!I35 -> 4 | J35: =pozyczki_2024q1!J35+leasing_2024q1!J35 -> 0 | ... BB35: =pozyczki_2024q1!BB35+leasing_2024q1!BB35 -> 7605
A36: 3 | B36: BOŚ Leasing - EKO Profit S.A. | C36: =pozyczki_2024q1!C36+leasing_2024q1!C36 -> 51 | D36: =pozyczki_2024q1!D36+leasing_2024q1!D36 -> 27 | E36: =pozyczki_2024q1!E36+leasing_2024q1!E36 -> 0 | F36: =pozyczki_2024q1!F36+leasing_2024q1!F36 -> 0 | G36: =pozyczki_2024q1!G36+leasing_2024q1!G36 -> 2 | H36: =pozyczki_2024q1!H36+leasing_2024q1!H36 -> 2 | I36: =pozyczki_2024q1!I36+leasing_2024q1!I36 -> 0 | J36: =pozyczki_2024q1!J36+leasing_2024q1!J36 -> 0 | ... BB36: =pozyczki_2024q1!BB36+leasing_2024q1!BB36 -> 86
A37: 4 | B37: BPS Leasing Spółka Akcyjna (BPS Leasing S.A.) | C37: =pozyczki_2024q1!C37+leasing_2024q1!C37 -> 296 | D37: =pozyczki_2024q1!D37+leasing_2024q1!D37 -> 113 | E37: =pozyczki_2024q1!E37+leasing_2024q1!E37 -> 1 | F37: =pozyczki_2024q1!F37+leasing_2024q1!F37 -> 44 | G37: =pozyczki_2024q1!G37+leasing_2024q1!G37 -> 54 | H37: =pozyczki_2024q1!H37+leasing_2024q1!H37 -> 39 | I37: =pozyczki_2024q1!I37+leasing_2024q1!I37 -> 1 | J37: =pozyczki_2024q1!J37+leasing_2024q1!J37 -> 0 | ... BB37: =pozyczki_2024q1!BB37+leasing_2024q1!BB37 -> 333
A38: 5 | B38: Caterpillar Financial Services Poland Sp. z o.o. | C38: =pozyczki_2024q1!C38+leasing_2024q1!C38 -> 0 | D38: =pozyczki_2024q1!D38+leasing_2024q1!D38 -> 0 | E38: =pozyczki_2024q1!E38+leasing_2024q1!E38 -> 0 | F38: =pozyczki_2024q1!F38+leasing_2024q1!F38 -> 0 | G38: =pozyczki_2024q1!G38+leasing_2024q1!G38 -> 0 | H38: =pozyczki_2024q1!H38+leasing_2024q1!H38 -> 0 | I38: =pozyczki_2024q1!I38+leasing_2024q1!I38 -> 0 | J38: =pozyczki_2024q1!J38+leasing_2024q1!J38 -> 0 | ... BB38: =pozyczki_2024q1!BB38+leasing_2024q1!BB38 -> 284
A39: 6 | B39: De Lage Landen Leasing Polska S.A. | C39: =pozyczki_2024q1!C39+leasing_2024q1!C39 -> 31 | D39: =pozyczki_2024q1!D39+leasing_2024q1!D39 -> 7 | E39: =pozyczki_2024q1!E39+leasing_2024q1!E39 -> 0 | F39: =pozyczki_2024q1!F39+leasing_2024q1!F39 -> 0 | G39: =pozyczki_2024q1!G39+leasing_2024q1!G39 -> 5 | H39: =pozyczki_2024q1!H39+leasing_2024q1!H39 -> 5 | I39: =pozyczki_2024q1!I39+leasing_2024q1!I39 -> 0 | J39: =pozyczki_2024q1!J39+leasing_2024q1!J39 -> 0 | ... BB39: =pozyczki_2024q1!BB39+leasing_2024q1!BB39 -> 550
A40: 7 | B40: Deutsche Leasing Polska S.A. | C40: =pozyczki_2024q1!C40+leasing_2024q1!C40 -> 164 | D40: =pozyczki_2024q1!D40+leasing_2024q1!D40 -> 5 | E40: =pozyczki_2024q1!E40+leasing_2024q1!E40 -> 0 | F40: =pozyczki_2024q1!F40+leasing_2024q1!F40 -> 0 | G40: =pozyczki_2024q1!G40+leasing_2024q1!G40 -> 9 | H40: =pozyczki_2024q1!H40+leasing_2024q1!H40 -> 2 | I40: =pozyczki_2024q1!I40+leasing_2024q1!I40 -> 0 | J40: =pozyczki_2024q1!J40+leasing_2024q1!J40 -> 0 | ... BB40: =pozyczki_2024q1!BB40+leasing_2024q1!BB40 -> 1059
A41: 8 | B41: Europejski Fundusz Leasingowy S.A. | C41: =pozyczki_2024q1!C41+leasing_2024q1!C41 -> 9843 | D41: =pozyczki_2024q1!D41+leasing_2024q1!D41 -> 4825 | E41: =pozyczki_2024q1!E41+leasing_2024q1!E41 -> 131 | F41: =pozyczki_2024q1!F41+leasing_2024q1!F41 -> 55 | G41: =pozyczki_2024q1!G41+leasing_2024q1!G41 -> 2231 | H41: =pozyczki_2024q1!H41+leasing_2024q1!H41 -> 1579 | I41: =pozyczki_2024q1!I41+leasing_2024q1!I41 -> 19 | J41: =pozyczki_2024q1!J41+leasing_2024q1!J41 -> 0 | ... BB41: =pozyczki_2024q1!BB41+leasing_2024q1!BB41 -> 14522
A42: 9 | B42: Impuls-Leasing Polska Sp. z o. o. | C42: =pozyczki_2024q1!C42+leasing_2024q1!C42 -> 1512 | D42: =pozyczki_2024q1!D42+leasing_2024q1!D42 -> 838 | E42: =pozyczki_2024q1!E42+leasing_2024q1!E42 -> 29 | F42: =pozyczki_2024q1!F42+leasing_2024q1!F42 -> 15 | G42: =pozyczki_2024q1!G42+leasing_2024q1!G42 -> 229 | H42: =pozyczki_2024q1!H42+leasing_2024q1!H42 -> 201 | I42: =pozyczki_2024q1!I42+leasing_2024q1!I42 -> 5 | J42: =pozyczki_2024q1!J42+leasing_2024q1!J42 -> 0 | ... BB42: =pozyczki_2024q1!BB42+leasing_2024q1!BB42 -> 1902
A43: 10 | B43: ING Lease (Polska) Sp. z o.o. | C43: =pozyczki_2024q1!C43+leasing_2024q1!C43 -> 4872 | D43: =pozyczki_2024q1!D43+leasing_2024q1!D43 -> 2777 | E43: =pozyczki_2024q1!E43+leasing_2024q1!E43 -> 80 | F43: =pozyczki_2024q1!F43+leasing_2024q1!F43 -> 50 | G43: =pozyczki_2024q1!G43+leasing_2024q1!G43 -> 853 | H43: =pozyczki_2024q1!H43+leasing_2024q1!H43 -> 711 | I43: =pozyczki_2024q1!I43+leasing_2024q1!I43 -> 1 | J43: =pozyczki_2024q1!J43+leasing_2024q1!J43 -> 0 | ... BB43: =pozyczki_2024q1!BB43+leasing_2024q1!BB43 -> 6420
A44: 11 | B44: Leasing Polski Sp. z o. o. | C44: =pozyczki_2024q1!C44+leasing_2024q1!C44 -> 469 | D44: =pozyczki_2024q1!D44+leasing_2024q1!D44 -> 103 | E44: =pozyczki_2024q1!E44+leasing_2024q1!E44 -> 1 | F44: =pozyczki_2024q1!F44+leasing_2024q1!F44 -> 7 | G44: =pozyczki_2024q1!G44+leasing_2024q1!G44 -> 120 | H44: =pozyczki_2024q1!H44+leasing_2024q1!H44 -> 81 | I44: =pozyczki_2024q1!I44+leasing_2024q1!I44 -> 0 | J44: =pozyczki_2024q1!J44+leasing_2024q1!J44 -> 0 | ... BB44: =pozyczki_2024q1!BB44+leasing_2024q1!BB44 -> 518
A45: 12 | B45: Mercedes-Benz Leasing Polska Sp. z o.o. | C45: =pozyczki_2024q1!C45+leasing_2024q1!C45 -> 3671 | D45: =pozyczki_2024q1!D45+leasing_2024q1!D45 -> 2938 | E45: =pozyczki_2024q1!E45+leasing_2024q1!E45 -> 166 | F45: =pozyczki_2024q1!F45+leasing_2024q1!F45 -> 251 | G45: =pozyczki_2024q1!G45+leasing_2024q1!G45 -> 575 | H45: =pozyczki_2024q1!H45+leasing_2024q1!H45 -> 542 | I45: =pozyczki_2024q1!I45+leasing_2024q1!I45 -> 23 | J45: =pozyczki_2024q1!J45+leasing_2024q1!J45 -> 0 | ... BB45: =pozyczki_2024q1!BB45+leasing_2024q1!BB45 -> 3671
... A58: 25 | B58: Razem | C58: =pozyczki_2024q1!C58+leasing_2024q1!C58 -> 77180 | D58: =pozyczki_2024q1!D58+leasing_2024q1!D58 -> 48831 | E58: =pozyczki_2024q1!E58+leasing_2024q1!E58 -> 1104 | F58: =pozyczki_2024q1!F58+leasing_2024q1!F58 -> 612 | G58: =pozyczki_2024q1!G58+leasing_2024q1!G58 -> 12866 | H58: =pozyczki_2024q1!H58+leasing_2024q1!H58 -> 10243 | I58: =pozyczki_2024q1!I58+leasing_2024q1!I58 -> 111 | J58: =pozyczki_2024q1!J58+leasing_2024q1!J58 -> 0 | ... BB58: =pozyczki_2024q1!BB58+leasing_2024q1!BB58 -> 109915
A61: ZWIAZEK POLSKIEGO LEASINGU
A62: Warszawa 03-10-2024
