Workbook

Sheet Leasing
B2: Związek Polskiego Leasingu, dnia 03-12-2024
B4: Zaktualizowany szacunek rynku Leasingu
B6: finansowanie leasingiem mPLN | C6: Q1 2023 | D6: H1 2023 | E6: Q1-Q3 2023 | F6: Q1-Q4 2023 | G6: Q1 2024 | H6: H1 2024 | I6: Q1-Q3 2024
B8: POJAZDY | C8: =SUM(C9:C10,C12:C16) -> 15217.062 | D8: =SUM(D9:D10,D12:D16) -> 31340.309 | E8: =SUM(E9:E10,E12:E16) -> 47068.979 | F8: =SUM(F9:F10,F12:F16) -> 66516.111 | G8: =SUM(G9:G10,G12:G16) -> 18285.76 | H8: =SUM(H9:H10,H12:H16) -> 37280.336 | I8: =SUM(I9:I10,I12:I16) -> 53793.477
B9: Osobowe | C9: 8743.2948 | D9: 18244.336 | E9: 27327.703 | F9: 39278.311 | G9: 11836.993 | H9: 24129.55 | I9: 34883.782
B10: Cięzarowe o masie do 3,5t | C10: 1410.2042 | D10: 2951.8908 | E10: 4590.6363 | F10: 6574.4594 | G10: 1912.8602 | H10: 3909.0579 | I10: 5761.9526
B11: pojazdy ciężkie | C11: =SUM(C12:C15) -> 4884.0357 | D11: =SUM(D12:D15) -> 9735.1792 | E11: =SUM(E12:E15) -> 14562.388 | F11: =SUM(F12:F15) -> 19875.764 | G11: =SUM(G12:G15) -> 4315.3954 | H11: =SUM(H12:H15) -> 8748.1395 | I11: =SUM(I12:I15) -> 12443.863
B12: o masie powyżej 3,5t | C12: 895.86421 | D12: 1839.0679 | E12: 2882.7769 | F12: 4306.5692 | G12: 957.23072 | H12: 2023.2552 | I12: 3102.6025
B13: Ciągniki siodłowe | C13: 2627.9969 | D13: 5099.7281 | E13: 7666.3185 | F13: 10378.942 | G13: 2233.2037 | H13: 4369.3451 | I13: 5880.3447
B14: Naczepy / przyczepy | C14: 1185.427 | D14: 2313.9566 | E14: 3293.675 | F14: 4286.8064 | G14: 826.21848 | H14: 1722.464 | I14: 2483.1948
B15: Autobusy | C15: 174.74748 | D15: 482.4267 | E15: 719.61788 | F15: 903.44687 | G15: 298.74253 | H15: 633.0751 | I15: 977.72061
B16: inne pojazdy | C16: 179.52737 | D16: 408.90362 | E16: 588.25076 | F16: 787.57617 | G16: 220.51197 | H16: 493.58909 | I16: 703.88034
B17: MiU | C17: 3903.7202 | D17: 8200.2842 | E17: 12245.586 | F17: 16979.161 | G17: 4081.0139 | H17: 8582.8598 | I17: 12884.149
B18: Sprzęt Budowlany | C18: 791.76251 | D18: 1811.8957 | E18: 2755.9757 | F18: 3916.7025 | G18: 976.53231 | H18: 2154.8345 | I18: 3090.4573
B19: Maszyny Rolnicze | C19: 340.73655 | D19: 709.06934 | E19: 1076.111 | F19: 1459.5685 | G19: 349.40774 | H19: 702.82313 | I19: 1054.3075
B20: Maszyny Poligraf. | C20: 138.82533 | D20: 269.56451 | E20: 364.30511 | F20: 574.48974 | G20: 123.62952 | H20: 248.49938 | I20: 390.34609
B21: maszyny do produkcji tworzyw sztucznych | C21: 286.17118 | D21: 545.68177 | E21: 586.57574 | F21: 786.02865 | G21: 196.53751 | H21: 383.77478 | I21: 587.88823
B22: maszyny i urządzenia do obróbki metali | C22: 379.40417 | D22: 758.17655 | E22: 1353.3953 | F22: 1837.8608 | G22: 369.53362 | H22: 835.58632 | I22: 1210.0463
B23: maszyny dla przemysłu spożywczego | C23: 185.11285 | D23: 371.3833 | E23: 543.68738 | F23: 773.42504 | G23: 161.75892 | H23: 380.37431 | I23: 555.47077
... B29: stacje ładowania pojazdów elektrycznych (na użytek własny i komercyjny) | C29: 1.9090547 | D29: 3.1507836 | E29: 5.3215673 | F29: 6.7975632 | G29: 2.4766954 | H29: 3.8576824 | I29: 6.4091323
B30: inne MiU | C30: =C17-SUM(C18:C29) -> 1244.0523 | D30: =D17-SUM(D18:D29) -> 2448.3117 | E30: =E17-SUM(E18:E29) -> 3625.4964 | F30: =F17-SUM(F18:F29) -> 4946.2978 | G30: =G17-SUM(G18:G29) -> 1322.2872 | H30: =H17-SUM(H18:H29) -> 2620.9767 | I30: =I17-SUM(I18:I29) -> 4112.3549
B31: IT | C31: =SUM(C32:C34) -> 187.728 | D31: =SUM(D32:D34) -> 383.38411 | E31: =SUM(E32:E34) -> 552.10725 | F31: =SUM(F32:F34) -> 757.94226 | G31: =SUM(G32:G34) -> 173.45318 | H31: =SUM(H32:H34) -> 381.96611 | I31: =SUM(I32:I34) -> 604.91071
B32: Sprzęt | C32: 138.75491 | D32: 294.78714 | E32: 406.68625 | F32: 569.57235 | G32: 128.72448 | H32: 289.31582 | I32: 456.86767
B33: Oprogram. | C33: 8.7264822 | D33: 17.75397 | E33: 34.914099 | F33: 46.173539 | G33: 10.047638 | H33: 22.012735 | I33: 44.333041
B34: inne IT | C34: 40.246603 | D34: 70.843001 | E34: 110.5069 | F34: 142.19637 | G34: 34.681066 | H34: 70.637561 | I34: 103.71
B35: POZOSTAŁE ŚRODKI TRANSPORTU | C35: =SUM(C36:C38) -> 310.70833 | D35: =SUM(D36:D38) -> 703.15835 | E35: =SUM(E36:E38) -> 1081.9027 | F35: =SUM(F36:F38) -> 1423.2475 | G35: =SUM(G36:G38) -> 283.53174 | H35: =SUM(H36:H38) -> 615.96039 | I35: =SUM(I36:I38) -> 1113.3913
B36: Powietrzne | C36: 25.840678 | D36: 87.331427 | E36: 103.56128 | F36: 140.37285 | G36: 155.56084 | H36: 216.25999 | I36: 344.39171
B37: Wodne | C37: 51.115733 | D37: 126.14632 | E37: 241.26887 | F37: 326.78179 | G37: 44.459023 | H37: 157.33179 | I37: 195.08628
B38: Kolejowe | C38: 233.75192 | D38: 489.68061 | E38: 737.07259 | F38: 956.0929 | G38: 83.511884 | H38: 242.3686 | I38: 573.91336
B39: Inne ruchomości | C39: 86.070101 | D39: 201.7932 | E39: 302.80417 | F39: 408.35936 | G39: 111.12099 | H39: 227.25268 | I39: 360.00364
B40: RUCHOMOŚCI | C40: =SUM(C39,C35,C31,C17,C8) -> 19705.289 | D40: =SUM(D39,D35,D31,D17,D8) -> 40828.929 | E40: =SUM(E39,E35,E31,E17,E8) -> 61251.379 | F40: =SUM(F39,F35,F31,F17,F8) -> 86084.821 | G40: =SUM(G39,G35,G31,G17,G8) -> 22934.88 | H40: =SUM(H39,H35,H31,H17,H8) -> 47088.375 | I40: =SUM(I39,I35,I31,I17,I8) -> 68755.932
B41: NIERUCHOMOŚCI | C41: 213.1059 | D41: 281.22962 | E41: 528.72971 | F41: 657.97792 | G41: 212.72559 | H41: 284.84042 | I41: 390.88812
B42: budynki przemysłowe | C42: b.d. | D42: b.d. | E42: b.d. | F42: b.d. | G42: b.d. | H42: b.d. | I42: b.d.
B43: obiekty handlowe i usługowe | C43: b.d. | D43: b.d. | E43: b.d. | F43: b.d. | G43: b.d. | H43: b.d. | I43: b.d.
B44: obiekty biurowe | C44: b.d. | D44: b.d. | E44: b.d. | F44: b.d. | G44: b.d. | H44: b.d. | I44: b.d.
B45: hotele i obiekty rekreacyjne | C45: b.d. | D45: b.d. | E45: b.d. | F45: b.d. | G45: b.d. | H45: b.d. | I45: b.d.
B46: inne | C46: b.d. | D46: b.d. | E46: b.d. | F46: b.d. | G46: b.d. | H46: b.d. | I46: b.d.
B47: OGÓŁEM RUCHOMOŚCI I NIERUCHOMOŚCI | C47: =C40+C41 -> 19918.395 | D47: =D40+D41 -> 41110.159 | E47: =E40+E41 -> 61780.108 | F47: =F40+F41 -> 86742.799 | G47: =G40+G41 -> 23147.606 | H47: =H40+H41 -> 47373.216 | I47: =I40+I41 -> 69146.82

Sheet pożyczki
B2: Związek Polskiego Leasingu, dnia 03-12-2024
B4: Zaktualizowany szacunek rynku leasingu
B6: finansowanie pożyczką mPLN | C6: Q1 2023 | D6: H1 2023 | E6: Q1-Q3 2023 | F6: Q1-Q4 2023 | G6: Q1 2024 | H6: H1 2024 | I6: Q1-Q3 2024
B8: POJAZDY | C8: =SUM(C9:C10,C12:C16) -> 900.22534 | D8: =SUM(D9:D10,D12:D16) -> 2023.0774 | E8: =SUM(E9:E10,E12:E16) -> 3400.5703 | F8: =SUM(F9:F10,F12:F16) -> 4642.996 | G8: =SUM(G9:G10,G12:G16) -> 953.6325 | H8: =SUM(H9:H10,H12:H16) -> 2157.202 | I8: =SUM(I9:I10,I12:I16) -> 3151.6718
B9: Osobowe | C9: 455.47876 | D9: 1062.651 | E9: 1715.5526 | F9: 2212.6698 | G9: 502.2633 | H9: 1186.7751 | I9: 1761.989
B10: Cięzarowe o masie do 3,5t | C10: 58.189003 | D10: 118.58725 | E10: 256.75673 | F10: 415.42903 | G10: 106.86587 | H10: 216.89341 | I10: 311.3381
B11: pojazdy ciężkie | C11: =SUM(C12:C15) -> 379.44636 | D11: =SUM(D12:D15) -> 817.83236 | E11: =SUM(E12:E15) -> 1399.1811 | F11: =SUM(F12:F15) -> 1974.7297 | G11: =SUM(G12:G15) -> 335.38324 | H11: =SUM(H12:H15) -> 736.24736 | I11: =SUM(I12:I15) -> 1056.146
B12: o masie powyżej 3,5t | C12: 26.424982 | D12: 84.138504 | E12: 137.31145 | F12: 183.73524 | G12: 33.65379 | H12: 106.91298 | I12: 153.76148
B13: Ciągniki siodłowe | C13: 208.67864 | D13: 471.13519 | E13: 858.86915 | F13: 1289.4328 | G13: 214.01673 | H13: 443.0718 | I13: 588.49383
B14: Naczepy / przyczepy | C14: 136.06211 | D14: 227.1627 | E14: 342.79296 | F14: 433.32138 | G14: 79.43201 | H14: 172.15688 | I14: 253.6707
B15: Autobusy | C15: 8.2806215 | D15: 35.395962 | E15: 60.207503 | F15: 68.240236 | G15: 8.2807064 | H15: 14.105705 | I15: 60.220005
B16: inne pojazdy | C16: 7.1112171 | D16: 24.006774 | E16: 29.079928 | F16: 40.16746 | G16: 9.1200994 | H16: 17.286186 | I16: 22.1987
B17: MiU | C17: 1823.4467 | D17: 3832.1451 | E17: 5856.1955 | F17: 8052.5972 | G17: 1809.568 | H17: 3997.7734 | I17: 6352.7087
B18: Sprzęt Budowlany | C18: 86.706851 | D18: 175.42627 | E18: 275.57215 | F18: 453.73468 | G18: 220.9464 | H18: 490.13146 | I18: 767.20173
B19: Maszyny Rolnicze | C19: 1031.1992 | D19: 2297.7028 | E19: 3606.7533 | F19: 4732.0042 | G19: 973.56905 | H19: 2191.5722 | I19: 3567.4364
B20: Maszyny Poligraf. | C20: 29.363437 | D20: 71.103766 | E20: 110.00873 | F20: 179.32897 | G20: 36.212205 | H20: 43.1838 | I20: 58.230241
B21: maszyny do produkcji tworzyw sztucznych | C21: 68.118856 | D21: 111.00801 | E21: 138.6579 | F21: 159.56967 | G21: 33.684245 | H21: 77.990104 | I21: 120.71806
B22: maszyny i urządzenia do obróbki metali | C22: 117.29228 | D22: 192.80118 | E22: 243.04128 | F22: 382.82922 | G22: 66.815809 | H22: 126.63843 | I22: 181.42557
B23: maszyny dla przemysłu spożywczego | C23: 21.147063 | D23: 53.730406 | E23: 71.255333 | F23: 96.531357 | G23: 23.4959 | H23: 47.037989 | I23: 82.504619
... B29: stacje ładowania pojazdów elektrycznych (na użytek własny i komercyjny) | C29: 0 | D29: 0 | E29: 0 | F29: 0.19173873 | G29: 1.6927757 | H29: 2.2057028 | I29: 2.2989739
B30: inne MiU | C30: =C17-SUM(C18:C29) -> 233.74571 | D30: =D17-SUM(D18:D29) -> 397.07926 | E30: =E17-SUM(E18:E29) -> 589.89255 | F30: =F17-SUM(F18:F29) -> 887.92146 | G30: =G17-SUM(G18:G29) -> 166.51342 | H30: =H17-SUM(H18:H29) -> 387.74131 | I30: =I17-SUM(I18:I29) -> 594.01008
B31: IT | C31: =SUM(C32:C34) -> 48.369726 | D31: =SUM(D32:D34) -> 116.36284 | E31: =SUM(E32:E34) -> 187.56074 | F31: =SUM(F32:F34) -> 277.18324 | G31: =SUM(G32:G34) -> 35.038568 | H31: =SUM(H32:H34) -> 67.350893 | I31: =SUM(I32:I34) -> 113.57531
B32: Sprzęt | C32: 41.669695 | D32: 86.969663 | E32: 139.0596 | F32: 207.31899 | G32: 23.988173 | H32: 50.876147 | I32: 76.83129
B33: Oprogram. | C33: 6.5638965 | D33: 28.70134 | E33: 47.630437 | F33: 68.898267 | G33: 9.4385966 | H33: 14.764393 | I33: 34.612242
B34: inne IT | C34: 0.13613376 | D34: 0.69183904 | E34: 0.87070868 | F34: 0.96598239 | G34: 1.6117981 | H34: 1.7103538 | I34: 2.1317728
B35: POZOSTAŁE ŚRODKI TRANSPORTU | C35: =SUM(C36:C38) -> 8.5821282 | D35: =SUM(D36:D38) -> 26.821823 | E35: =SUM(E36:E38) -> 183.90828 | F35: =SUM(F36:F38) -> 235.36383 | G35: =SUM(G36:G38) -> 26.733767 | H35: =SUM(H36:H38) -> 73.629785 | I35: =SUM(I36:I38) -> 104.84862
B36: Powietrzne | C36: 2.926563 | D36: 6.0806406 | E36: 38.482314 | F36: 62.199361 | G36: 0 | H36: 20.763015 | I36: 28.629312
B37: Wodne | C37: 5.6555653 | D37: 20.741183 | E37: 63.318585 | F37: 91.057089 | G37: 9.708311 | H37: 26.990013 | I37: 43.905239
B38: Kolejowe | C38: 0 | D38: 0 | E38: 82.10738 | F38: 82.10738 | G38: 17.025456 | H38: 25.876758 | I38: 32.314068
B39: Inne ruchomości | C39: 18.892744 | D39: 30.850784 | E39: 75.453359 | F39: 107.17428 | G39: 12.94471 | H39: 17.816676 | I39: 69.51919
B40: RUCHOMOŚCI | C40: =SUM(C39,C35,C31,C17,C8) -> 2799.5166 | D40: =SUM(D39,D35,D31,D17,D8) -> 6029.2579 | E40: =SUM(E39,E35,E31,E17,E8) -> 9703.6882 | F40: =SUM(F39,F35,F31,F17,F8) -> 13315.315 | G40: =SUM(G39,G35,G31,G17,G8) -> 2837.9176 | H40: =SUM(H39,H35,H31,H17,H8) -> 6313.7728 | I40: =SUM(I39,I35,I31,I17,I8) -> 9792.3236
B41: NIERUCHOMOŚCI | C41: 5.3970783 | D41: 14.609391 | E41: 21.165663 | F41: 32.551844 | G41: 6.7137936 | H41: 12.987701 | I41: 51.650384
B42: budynki przemysłowe | C42: b.d. | D42: b.d. | E42: b.d. | F42: b.d. | G42: b.d. | H42: b.d. | I42: b.d.
B43: obiekty handlowe i usługowe | C43: b.d. | D43: b.d. | E43: b.d. | F43: b.d. | G43: b.d. | H43: b.d. | I43: b.d.
B44: obiekty biurowe | C44: b.d. | D44: b.d. | E44: b.d. | F44: b.d. | G44: b.d. | H44: b.d. | I44: b.d.
B45: hotele i obiekty rekreacyjne | C45: b.d. | D45: b.d. | E45: b.d. | F45: b.d. | G45: b.d. | H45: b.d. | I45: b.d.
B46: inne | C46: b.d. | D46: b.d. | E46: b.d. | F46: b.d. | G46: b.d. | H46: b.d. | I46: b.d.
B47: OGÓŁEM RUCHOMOŚCI I NIERUCHOMOŚCI | C47: =C40+C41 -> 2804.9137 | D47: =D40+D41 -> 6043.8673 | E47: =E40+E41 -> 9724.8539 | F47: =F40+F41 -> 13347.866 | G47: =G40+G41 -> 2844.6314 | H47: =H40+H41 -> 6326.7605 | I47: =I40+I41 -> 9843.974

Sheet leasing+pożyczki
B2: Związek Polskiego Leasingu, dnia 03-12-2024
B4: Zaktualizowany szacunek rynku Leasingu
B6: finansowanie leasingiem i pożyczką mPLN | C6: Q1 2023 | D6: H1 2023 | E6: Q1-Q3 2023 | F6: Q1-Q4 2023 | G6: Q1 2024 | H6: H1 2024 | I6: Q1-Q3 2024
B8: POJAZDY | C8: =Leasing!C8+pożyczki!C8 -> 16117.287 | D8: =Leasing!D8+pożyczki!D8 -> 33363.387 | E8: =Leasing!E8+pożyczki!E8 -> 50469.549 | F8: =Leasing!F8+pożyczki!F8 -> 71159.107 | G8: =Leasing!G8+pożyczki!G8 -> 19239.393 | H8: =Leasing!H8+pożyczki!H8 -> 39437.538 | I8: =Leasing!I8+pożyczki!I8 -> 56945.149
B9: osobowe | C9: =Leasing!C9+pożyczki!C9 -> 9198.7735 | D9: =Leasing!D9+pożyczki!D9 -> 19306.987 | E9: =Leasing!E9+pożyczki!E9 -> 29043.256 | F9: =Leasing!F9+pożyczki!F9 -> 41490.981 | G9: =Leasing!G9+pożyczki!G9 -> 12339.256 | H9: =Leasing!H9+pożyczki!H9 -> 25316.325 | I9: =Leasing!I9+pożyczki!I9 -> 36645.771
B10: ciężarowe do 3,5 t | C10: =Leasing!C10+pożyczki!C10 -> 1468.3932 | D10: =Leasing!D10+pożyczki!D10 -> 3070.4781 | E10: =Leasing!E10+pożyczki!E10 -> 4847.393 | F10: =Leasing!F10+pożyczki!F10 -> 6989.8885 | G10: =Leasing!G10+pożyczki!G10 -> 2019.7261 | H10: =Leasing!H10+pożyczki!H10 -> 4125.9513 | I10: =Leasing!I10+pożyczki!I10 -> 6073.2907
B11: pojazdy ciężkie | C11: =Leasing!C11+pożyczki!C11 -> 5263.482 | D11: =Leasing!D11+pożyczki!D11 -> 10553.012 | E11: =Leasing!E11+pożyczki!E11 -> 15961.569 | F11: =Leasing!F11+pożyczki!F11 -> 21850.494 | G11: =Leasing!G11+pożyczki!G11 -> 4650.7786 | H11: =Leasing!H11+pożyczki!H11 -> 9484.3869 | I11: =Leasing!I11+pożyczki!I11 -> 13500.009
B12: ciężarowe pow. 3,5 t | C12: =Leasing!C12+pożyczki!C12 -> 922.28919 | D12: =Leasing!D12+pożyczki!D12 -> 1923.2064 | E12: =Leasing!E12+pożyczki!E12 -> 3020.0883 | F12: =Leasing!F12+pożyczki!F12 -> 4490.3044 | G12: =Leasing!G12+pożyczki!G12 -> 990.88451 | H12: =Leasing!H12+pożyczki!H12 -> 2130.1682 | I12: =Leasing!I12+pożyczki!I12 -> 3256.364
B13: ciągniki siodłowe | C13: =Leasing!C13+pożyczki!C13 -> 2836.6756 | D13: =Leasing!D13+pożyczki!D13 -> 5570.8632 | E13: =Leasing!E13+pożyczki!E13 -> 8525.1876 | F13: =Leasing!F13+pożyczki!F13 -> 11668.375 | G13: =Leasing!G13+pożyczki!G13 -> 2447.2204 | H13: =Leasing!H13+pożyczki!H13 -> 4812.4169 | I13: =Leasing!I13+pożyczki!I13 -> 6468.8385
B14: naczepy / przyczepy | C14: =Leasing!C14+pożyczki!C14 -> 1321.4891 | D14: =Leasing!D14+pożyczki!D14 -> 2541.1193 | E14: =Leasing!E14+pożyczki!E14 -> 3636.4679 | F14: =Leasing!F14+pożyczki!F14 -> 4720.1278 | G14: =Leasing!G14+pożyczki!G14 -> 905.65049 | H14: =Leasing!H14+pożyczki!H14 -> 1894.6209 | I14: =Leasing!I14+pożyczki!I14 -> 2736.8655
B15: autobusy | C15: =Leasing!C15+pożyczki!C15 -> 183.0281 | D15: =Leasing!D15+pożyczki!D15 -> 517.82266 | E15: =Leasing!E15+pożyczki!E15 -> 779.82539 | F15: =Leasing!F15+pożyczki!F15 -> 971.68711 | G15: =Leasing!G15+pożyczki!G15 -> 307.02324 | H15: =Leasing!H15+pożyczki!H15 -> 647.18081 | I15: =Leasing!I15+pożyczki!I15 -> 1037.9406
B16: inne | C16: =Leasing!C16+pożyczki!C16 -> 186.63859 | D16: =Leasing!D16+pożyczki!D16 -> 432.91039 | E16: =Leasing!E16+pożyczki!E16 -> 617.33069 | F16: =Leasing!F16+pożyczki!F16 -> 827.74363 | G16: =Leasing!G16+pożyczki!G16 -> 229.63206 | H16: =Leasing!H16+pożyczki!H16 -> 510.87528 | I16: =Leasing!I16+pożyczki!I16 -> 726.07904
B17: MiU | C17: =Leasing!C17+pożyczki!C17 -> 5727.1669 | D17: =Leasing!D17+pożyczki!D17 -> 12032.429 | E17: =Leasing!E17+pożyczki!E17 -> 18101.781 | F17: =Leasing!F17+pożyczki!F17 -> 25031.758 | G17: =Leasing!G17+pożyczki!G17 -> 5890.582 | H17: =Leasing!H17+pożyczki!H17 -> 12580.633 | I17: =Leasing!I17+pożyczki!I17 -> 19236.857
B18: Sprzęt Budowlany | C18: =Leasing!C18+pożyczki!C18 -> 878.46936 | D18: =Leasing!D18+pożyczki!D18 -> 1987.322 | E18: =Leasing!E18+pożyczki!E18 -> 3031.5478 | F18: =Leasing!F18+pożyczki!F18 -> 4370.4372 | G18: =Leasing!G18+pożyczki!G18 -> 1197.4787 | H18: =Leasing!H18+pożyczki!H18 -> 2644.9659 | I18: =Leasing!I18+pożyczki!I18 -> 3857.6591
B19: Maszyny Rolnicze | C19: =Leasing!C19+pożyczki!C19 -> 1371.9357 | D19: =Leasing!D19+pożyczki!D19 -> 3006.7721 | E19: =Leasing!E19+pożyczki!E19 -> 4682.8643 | F19: =Leasing!F19+pożyczki!F19 -> 6191.5727 | G19: =Leasing!G19+pożyczki!G19 -> 1322.9768 | H19: =Leasing!H19+pożyczki!H19 -> 2894.3954 | I19: =Leasing!I19+pożyczki!I19 -> 4621.7439
... B41: NIERUCHOMOŚCI | C41: =Leasing!C41+pożyczki!C41 -> 218.50298 | D41: =Leasing!D41+pożyczki!D41 -> 295.83901 | E41: =Leasing!E41+pożyczki!E41 -> 549.89537 | F41: =Leasing!F41+pożyczki!F41 -> 690.52977 | G41: =Leasing!G41+pożyczki!G41 -> 219.43938 | H41: =Leasing!H41+pożyczki!H41 -> 297.82812 | I41: =Leasing!I41+pożyczki!I41 -> 442.5385
B42: budynki przemysłowe | C42: 0.79703876 | D42: 1.0444447 | E42: 35.874853 | F42: 71.786557 | G42: 9.5654101 | H42: 13.225869 | I42: 16.12795
B43: obiekty handlowe i usługowe | C43: 145.23674 | D43: 176.03543 | E43: 392.17809 | F43: 461.33787 | G43: 174.10698 | H43: 243.58042 | I43: 382.54676
B44: obiekty biurowe | C44: 0 | D44: 37.662378 | E44: 34.568618 | F44: 40.054647 | G44: 28.618263 | H44: 28.637918 | I44: 28.74884
B45: hotele i obiekty rekreacyjne | C45: 0 | D45: 0.49651331 | E45: 0.49622795 | F45: 14.023365 | G45: 0 | H45: 0 | I45: 0
B46: inne | C46: 72.469195 | D46: 80.600243 | E46: 86.777579 | F46: 103.32732 | G46: 7.1487247 | H46: 12.383915 | I46: 15.114958
B47: OGÓŁEM RUCHOMOŚCI I NIERUCHOMOŚCI | C47: =Leasing!C47+pożyczki!C47 -> 22723.308 | D47: =Leasing!D47+pożyczki!D47 -> 47154.026 | E47: =Leasing!E47+pożyczki!E47 -> 71504.962 | F47: =Leasing!F47+pożyczki!F47 -> 100090.67 | G47: =Leasing!G47+pożyczki!G47 -> 25992.237 | H47: =Leasing!H47+pożyczki!H47 -> 53699.976 | I47: =Leasing!I47+pożyczki!I47 -> 78990.794
