Workbook
Name cx: '[1]Dane Le'!#REF!
Name cx: '[1]Dane Le'!#REF!
Name cx: '[1]Dane Le'!#REF!
Name Excel_BuiltIn_Print_Area_2: #REF!
Name Excel_BuiltIn_Print_Area_2: #REF!
Name Excel_BuiltIn_Print_Area_2: #REF!
Name Excel_BuiltIn_Print_Area_4: #REF!
Name Excel_BuiltIn_Print_Area_4: #REF!
Name Excel_BuiltIn_Print_Area_4: #REF!
Name v: #REF!
Name v: #REF!
Name v: #REF!

Sheet summary_01 2025
B2: Związek Polskiego Leasingu, Warszawa, dnia 17-02-2025
C5: FINANSOWANIE POJAZDÓW LEKKICH | T5: FINANSOWANIE POJAZDÓW LEKKICH - styczeń 2025r. Łączne finansowanie leasingiem i pożyczką
J10: 01 2025 | N10: 01 2025
I11: leasing | J11: =('szacunek rynku_01 2025'!D9+'szacunek rynku_01 2025'!D10)/('szacunek rynku_01 2025'!D64+'szacunek rynku_01 2025'!D65) -> 0.9394679 | M11: osobowe | N11: ='szacunek rynku_01 2025'!D64/SUM('szacunek rynku_01 2025'!D64:D65) -> 0.86664839
I12: pożyczka | J12: =1-J11 -> 0.060532097 | M12: dostawcze | N12: =1-N11 -> 0.13335161
I14: leasing | J14: =('szacunek rynku_01 2025'!D9+'szacunek rynku_01 2025'!D10)/('szacunek rynku_01 2025'!C9+'szacunek rynku_01 2025'!C10)-1 -> 0.032938815
I15: pożyczka | J15: =('szacunek rynku_01 2025'!D36+'szacunek rynku_01 2025'!D37)/('szacunek rynku_01 2025'!C36+'szacunek rynku_01 2025'!C37)-1 -> 0.4862079
I16: L+P | J16: =('szacunek rynku_01 2025'!D65+'szacunek rynku_01 2025'!D64)/('szacunek rynku_01 2025'!C64+'szacunek rynku_01 2025'!C65)-1 -> 0.052366875
C38: FINANSOWANIE POJAZDÓW CIĘŻKICH | T38: FINANSOWANIE POJAZDÓW CIĘŻKICH - styczeń 2025r. Łączne finansowanie leasingiem i pożyczką
J43: 01/2025 | N43: 01/2025
I44: leasing | J44: ='szacunek rynku_01 2025'!D11/'szacunek rynku_01 2025'!D66 -> 0.91240095 | M44: ciężarowe pow. 3.5t | N44: ='szacunek rynku_01 2025'!D67/'szacunek rynku_01 2025'!$D$66 -> 0.23594714
I45: pożyczka | J45: =1-J44 -> 0.087599051 | M45: ciągniki siodłowe | N45: ='szacunek rynku_01 2025'!D68/'szacunek rynku_01 2025'!$D$66 -> 0.43481262
M46: przyczepy/naczepy | N46: ='szacunek rynku_01 2025'!D69/'szacunek rynku_01 2025'!$D$66 -> 0.18532691
M47: autobusy | N47: ='szacunek rynku_01 2025'!D70/'szacunek rynku_01 2025'!$D$66 -> 0.14391333
C71: FINANSOWANIE MASZYN | T71: FINANSOWANIE MASZYN - styczeń 2025r. Łączne finansowanie leasingiem i pożyczką
J76: 01/2025 | N76: 01/2025
I77: leasing | J77: ='szacunek rynku_01 2025'!D17/'szacunek rynku_01 2025'!D72 -> 0.68416023 | M77: sprzęt budowlany | N77: ='szacunek rynku_01 2025'!D73/'szacunek rynku_01 2025'!$D$72 -> 0.19618347
I78: pożyczka | J78: =1-J77 -> 0.31583977 | M78: maszyny rolnicze | N78: ='szacunek rynku_01 2025'!D74/'szacunek rynku_01 2025'!$D$72 -> 0.23760325
M79: pozostałe maszyny | N79: ='szacunek rynku_01 2025'!D75/'szacunek rynku_01 2025'!$D$72 -> 0.56621328
C104: FINANSOWANIE RUCHOMOŚCI
J109: 01/2025 | N109: 01/2025
I110: leasing | J110: ='szacunek rynku_01 2025'!D25/'szacunek rynku_01 2025'!D80 -> 0.87715062 | M110: OSD | N110: =('szacunek rynku_01 2025'!D64+'szacunek rynku_01 2025'!D65)/'szacunek rynku_01 2025'!D80 -> 0.58089531
I111: pożyczka | J111: =1-J110 -> 0.12284938 | M111: TRK | N111: ='szacunek rynku_01 2025'!D66/'szacunek rynku_01 2025'!D80 -> 0.16293908
M112: maszyny | N112: ='szacunek rynku_01 2025'!D72/'szacunek rynku_01 2025'!D80 -> 0.21701735
M113: IT | N113: ='szacunek rynku_01 2025'!D76/'szacunek rynku_01 2025'!D80 -> 0.014056738
M114: pozostałe | N114: =('szacunek rynku_01 2025'!D71+'szacunek rynku_01 2025'!D77+'szacunek rynku_01 2025'!D78)/'szacunek rynku_01 2025'!D80 -> 0.025091526

Sheet szacunek rynku_01 2025
B2: Związek Polskiego Leasingu, Warszawa, dnia 17-02-2025
B4: Finansowanie leasingiem
C5: I 2025 vs I 2024
C7: I 2024 | D7: I 2025 | F7: I 25 / I 24
B8: pojazdy | C8: 5428.7309 | D8: 5471.4428 | F8: =IF(C8,D8/C8-1,"") -> 0.0078677486
B9: osobowe | C9: 3526.0755 | D9: 3699.9676 | F9: =IF(C9,D9/C9-1,"") -> 0.049316043
B10: ciężarowe do 3,5 t | C10: 596.79262 | D10: 558.70292 | F10: =IF(C10,D10/C10-1,"") -> -0.063824012
B11: pojazdy ciężkie | C11: 1247.7581 | D11: 1160.1261 | F11: =IF(C11,D11/C11-1,"") -> -0.070231524
B12: ciężarowe pow. 3,5 t | C12: 291.89533 | D12: 285.7861 | F12: =IF(C12,D12/C12-1,"") -> -0.02092952
B13: ciągniki siodłowe | C13: 635.21185 | D13: 492.46487 | F13: =IF(C13,D13/C13-1,"") -> -0.22472342
B14: naczepy / przyczepy | C14: 226.21529 | D14: 213.87706 | F14: =IF(C14,D14/C14-1,"") -> -0.054541991
B15: autobusy | C15: 94.435605 | D15: 167.9981 | F15: =IF(C15,D15/C15-1,"") -> 0.77896986
B16: inne | C16: 58.104707 | D16: 52.646157 | F16: =IF(C16,D16/C16-1,"") -> -0.093943334
B17: maszyny | C17: 1192.1847 | D17: 1158.6346 | F17: =IF(C17,D17/C17-1,"") -> -0.028141676
B18: sprzęt budowlany | C18: 275.23265 | D18: 289.2604 | F18: =IF(C18,D18/C18-1,"") -> 0.050966879
B19: maszyny rolnicze | C19: 124.75364 | D19: 84.024729 | F19: =IF(C19,D19/C19-1,"") -> -0.32647473
... B25: ruchomości - leasing | C25: 6792.2794 | D25: 6844.9203 | F25: =IF(C25,D25/C25-1,"") -> 0.0077501077
B32: Finasowanie pożyczką
C33: =C$5 -> I 2025 vs I 2024
C34: =C$7 -> I 2024 | D34: =D$7 -> I 2025 | F34: =F$7 -> I 25 / I 24
B35: pojazdy | C35: 278.59541 | D35: 387.07222 | F35: =IF(C35,D35/C35-1,"") -> 0.38937042
B36: osobowe | C36: 143.37118 | D36: 228.60721 | F36: =IF(C36,D36/C36-1,"") -> 0.59451308
B37: ciężarowe do 3,5 t | C37: 41.257114 | D37: 45.788807 | F37: =IF(C37,D37/C37-1,"") -> 0.1098403
B38: pojazdy ciężkie | C38: 92.692279 | D38: 111.38299 | F38: =IF(C38,D38/C38-1,"") -> 0.20164261
B39: ciężarowe pow. 3,5 t | C39: 10.597281 | D39: 14.222843 | F39: =IF(C39,D39/C39-1,"") -> 0.34212187
B40: ciągniki siodłowe | C40: 53.737027 | D40: 60.403342 | F40: =IF(C40,D40/C40-1,"") -> 0.12405441
B41: naczepy / przyczepy | C41: 27.939524 | D41: 21.767794 | F41: =IF(C41,D41/C41-1,"") -> -0.22089605
B42: autobusy | C42: 0.41844757 | D42: 14.989014 | F42: =IF(C42,D42/C42-1,"") -> 34.820531
B43: inne | C43: 1.2748418 | D43: 1.2932081 | F43: =IF(C43,D43/C43-1,"") -> 0.01440672
B44: maszyny | C44: 573.36614 | D44: 534.87893 | F44: =IF(C44,D44/C44-1,"") -> -0.067125007
B45: sprzęt budowlany | C45: 70.356963 | D45: 42.97897 | F45: =IF(C45,D45/C45-1,"") -> -0.38912983
B46: maszyny rolnicze | C46: 272.78032 | D46: 318.3596 | F46: =IF(C46,D46/C46-1,"") -> 0.16709151
... B52: ruchomości - pożyczka | C52: 875.97078 | D52: 958.66572 | F52: =IF(C52,D52/C52-1,"") -> 0.094403771
B59: Łączne finansowanie leasingiem i pożyczką
C61: =C$5 -> I 2025 vs I 2024
C62: =C$7 -> I 2024 | D62: =D$7 -> I 2025 | F62: =F$7 -> I 25 / I 24
B63: pojazdy | C63: 5707.3263 | D63: 5858.515 | F63: =IF(C63,D63/C63-1,"") -> 0.026490285
B64: osobowe | C64: 3669.4467 | D64: 3928.5748 | F64: =IF(C64,D64/C64-1,"") -> 0.070617767
B65: ciężarowe do 3,5 t | C65: 638.04973 | D65: 604.49172 | F65: =IF(C65,D65/C65-1,"") -> -0.052594655
B66: pojazdy ciężkie | C66: 1340.4504 | D66: 1271.5091 | F66: =IF(C66,D66/C66-1,"") -> -0.0514314
...
