Workbook
Name cx: '[1]Dane Le'!#REF!
Name cx: '[1]Dane Le'!#REF!
Name cx: '[1]Dane Le'!#REF!
Name Excel_BuiltIn_Print_Area_2: #REF!
Name Excel_BuiltIn_Print_Area_2: #REF!
Name Excel_BuiltIn_Print_Area_2: #REF!
Name Excel_BuiltIn_Print_Area_4: #REF!
Name Excel_BuiltIn_Print_Area_4: #REF!
Name Excel_BuiltIn_Print_Area_4: #REF!
Name v: #REF!
Name v: #REF!
Name v: #REF!

Sheet summary_03 2025
B2: Związek Polskiego Leasingu, Warszawa, dnia 25-04-2025
C5: FINANSOWANIE POJAZDÓW LEKKICH | T5: FINANSOWANIE POJAZDÓW LEKKICH - I kw. 2025r. Łączne finansowanie leasingiem i pożyczką
J10: 01-03 2025 | N10: 01-03 2025
I11: leasing | J11: =('szacunek rynku_03 2025'!N9+'szacunek rynku_03 2025'!N10)/('szacunek rynku_03 2025'!N58+'szacunek rynku_03 2025'!N59) -> 0.94507298 | M11: osobowe | N11: ='szacunek rynku_03 2025'!N58/SUM('szacunek rynku_03 2025'!I58:N59) -> 0.37237061
I12: pożyczka | J12: =1-J11 -> 0.054927016 | M12: dostawcze | N12: =1-N11 -> 0.62762939
I14: leasing | J14: =('szacunek rynku_03 2025'!I9+'szacunek rynku_03 2025'!I10)/('szacunek rynku_03 2025'!H9+'szacunek rynku_03 2025'!H10)-1 -> 0.071860206 | K14: =('szacunek rynku_03 2025'!N9+'szacunek rynku_03 2025'!N10)/('szacunek rynku_03 2025'!M9+'szacunek rynku_03 2025'!M10)-1 -> 0.031615152
I15: pożyczka | J15: =('szacunek rynku_03 2025'!I33+'szacunek rynku_03 2025'!I34)/('szacunek rynku_03 2025'!H33+'szacunek rynku_03 2025'!H34)-1 -> 0.23326283 | K15: =('szacunek rynku_03 2025'!N33+'szacunek rynku_03 2025'!N34)/('szacunek rynku_03 2025'!M33+'szacunek rynku_03 2025'!M34)-1 -> 0.35340266
I16: L+P | J16: =('szacunek rynku_03 2025'!I59+'szacunek rynku_03 2025'!I58)/('szacunek rynku_03 2025'!H58+'szacunek rynku_03 2025'!H59)-1 -> 0.079186019 | K16: =('szacunek rynku_03 2025'!N59+'szacunek rynku_03 2025'!N58)/('szacunek rynku_03 2025'!M58+'szacunek rynku_03 2025'!M59)-1 -> 0.045265852
C38: FINANSOWANIE POJAZDÓW CIĘŻKICH | T38: FINANSOWANIE POJAZDÓW CIĘŻKICH - I kw. 2025r. Łączne finansowanie leasingiem i pożyczką
J43: I kw. 2025 | N43: I kw. 2025
I44: leasing | J44: ='szacunek rynku_03 2025'!N11/'szacunek rynku_03 2025'!N60 -> 0.90691836 | M44: ciężarowe pow. 3.5t | N44: ='szacunek rynku_03 2025'!N61/'szacunek rynku_03 2025'!$N$60 -> 0.22281299
I45: pożyczka | J45: =1-J44 -> 0.093081639 | M45: ciągniki siodłowe | N45: ='szacunek rynku_03 2025'!N62/'szacunek rynku_03 2025'!$N$60 -> 0.4522358
M46: przyczepy/naczepy | N46: ='szacunek rynku_03 2025'!N63/'szacunek rynku_03 2025'!$N$60 -> 0.22431033
M47: autobusy | N47: ='szacunek rynku_03 2025'!N64/'szacunek rynku_03 2025'!$N$60 -> 0.10064088
C71: FINANSOWANIE MASZYN | T71: FINANSOWANIE MASZYN - I kw. 2025r. Łączne finansowanie leasingiem i pożyczką
J76: I kw. 2025 | N76: I kw. 2025
I77: leasing | J77: ='szacunek rynku_03 2025'!N17/'szacunek rynku_03 2025'!N66 -> 0.62314309 | M77: sprzęt budowlany | N77: ='szacunek rynku_03 2025'!F93/'szacunek rynku_03 2025'!F92 -> 0.19042458
I78: pożyczka | J78: =1-J77 -> 0.37685691 | M78: maszyny rolnicze | N78: ='szacunek rynku_03 2025'!F94/'szacunek rynku_03 2025'!F92 -> 0.28727863
M79: pozostałe maszyny | N79: =1-N78-N77 -> 0.52229679
C104: FINANSOWANIE RUCHOMOŚCI
J109: 02/2025 | N109: 02/2025
I110: leasing | J110: ='szacunek rynku_03 2025'!N22/'szacunek rynku_03 2025'!N71 -> 0.8654378 | M110: OSD | N110: =('szacunek rynku_03 2025'!N58+'szacunek rynku_03 2025'!N59)/'szacunek rynku_03 2025'!N71 -> 0.57265168
I111: pożyczka | J111: =1-J110 -> 0.1345622 | M111: TRK | N111: ='szacunek rynku_03 2025'!N60/'szacunek rynku_03 2025'!N71 -> 0.17171219
M112: maszyny | N112: ='szacunek rynku_03 2025'!N66/'szacunek rynku_03 2025'!N71 -> 0.22275132
M113: IT | N113: ='szacunek rynku_03 2025'!N67/'szacunek rynku_03 2025'!N71 -> 0.010121033
M114: pozostałe | N114: =('szacunek rynku_03 2025'!N65+'szacunek rynku_03 2025'!N68+'szacunek rynku_03 2025'!N69)/'szacunek rynku_03 2025'!N71 -> 0.02276378

Sheet szacunek rynku_03 2025
B2: Związek Polskiego Leasingu, Warszawa, dnia 25-04-2025
B4: Finansowanie leasingiem
C5: I-II 2025 vs I-II 2024 | H5: III 2025 vs III 2024 | M5: I-III 2025 vs I-III 2024
C7: I-II 2024 | D7: I-II 2025 | F7: I-II 25 / I-II 24 | H7: III 2024 | I7: III 2025 | K7: III 25 / III 24 | M7: I-III 2024 | N7: I-III 2025 | P7: I-III 25 / I-III 24
B8: pojazdy | C8: 11551.745 | D8: 11376.151 | F8: =IF(C8,D8/C8-1,"") -> -0.015200645 | H8: =M8-C8 -> 6734.0153 | I8: =N8-D8 -> 7077.6199 | K8: =IF(H8,I8/H8-1,"") -> 0.051025224 | M8: 18285.76 | N8: 18453.771 | P8: =IF(M8,N8/M8-1,"") -> 0.0091880599
B9: osobowe | C9: 7503.6016 | D9: 7619.0207 | F9: =IF(C9,D9/C9-1,"") -> 0.015381822 | H9: =M9-C9 -> 4333.391 | I9: =N9-D9 -> 4712.3279 | K9: =IF(H9,I9/H9-1,"") -> 0.087445808 | M9: 11836.993 | N9: 12331.349 | P9: =IF(M9,N9/M9-1,"") -> 0.041763644
B10: ciężarowe do 3,5 t | C10: 1219.2919 | D10: 1177.3381 | F10: =IF(C10,D10/C10-1,"") -> -0.034408266 | H10: =M10-C10 -> 693.56836 | I10: =N10-D10 -> 675.86981 | K10: =IF(H10,I10/H10-1,"") -> -0.025518094 | M10: 1912.8602 | N10: 1853.208 | P10: =IF(M10,N10/M10-1,"") -> -0.031184851
B11: pojazdy ciężkie | C11: 2713.424 | D11: 2474.8269 | F11: =IF(C11,D11/C11-1,"") -> -0.087932103 | H11: =M11-C11 -> 1601.9714 | I11: =N11-D11 -> 1606.7614 | K11: =IF(H11,I11/H11-1,"") -> 0.0029900421 | M11: 4315.3954 | N11: 4081.5883 | P11: =IF(M11,N11/M11-1,"") -> -0.054179767
B12: ciężarowe pow. 3,5 t | C12: 598.10035 | D12: 560.39391 | F12: =IF(C12,D12/C12-1,"") -> -0.063043675 | H12: =M12-C12 -> 359.13036 | I12: =N12-D12 -> 394.10597 | K12: =IF(H12,I12/H12-1,"") -> 0.097389722 | M12: 957.23072 | N12: 954.49988 | P12: =IF(M12,N12/M12-1,"") -> -0.0028528529
B13: ciągniki siodłowe | C13: 1403.5968 | D13: 1124.041 | F13: =IF(C13,D13/C13-1,"") -> -0.19917104 | H13: =M13-C13 -> 829.60689 | I13: =N13-D13 -> 681.14061 | K13: =IF(H13,I13/H13-1,"") -> -0.17895979 | M13: 2233.2037 | N13: 1805.1816 | P13: =IF(M13,N13/M13-1,"") -> -0.19166282
B14: naczepy / przyczepy | C14: 523.68251 | D14: 514.36684 | F14: =IF(C14,D14/C14-1,"") -> -0.017788783 | H14: =M14-C14 -> 302.53597 | I14: =N14-D14 -> 388.8204 | K14: =IF(H14,I14/H14-1,"") -> 0.28520386 | M14: 826.21848 | N14: 903.18723 | P14: =IF(M14,N14/M14-1,"") -> 0.093157866
B15: autobusy | C15: 188.04434 | D15: 276.02521 | F15: =IF(C15,D15/C15-1,"") -> 0.46787303 | H15: =M15-C15 -> 110.69819 | I15: =N15-D15 -> 142.6944 | K15: =IF(H15,I15/H15-1,"") -> 0.28904002 | M15: 298.74253 | N15: 418.71961 | P15: =IF(M15,N15/M15-1,"") -> 0.40160697
B16: inne | C16: 115.42745 | D16: 104.96521 | F16: =IF(C16,D16/C16-1,"") -> -0.090639139 | H16: =M16-C16 -> 105.08452 | I16: =N16-D16 -> 82.660853 | K16: =IF(H16,I16/H16-1,"") -> -0.21338693 | M16: 220.51197 | N16: 187.62606 | P16: =IF(M16,N16/M16-1,"") -> -0.14913434
B17: maszyny | C17: 2541.4239 | D17: 2334.2724 | F17: =IF(C17,D17/C17-1,"") -> -0.081510001 | H17: =M17-C17 -> 1539.5901 | I17: =N17-D17 -> 1303.7716 | K17: =IF(H17,I17/H17-1,"") -> -0.15316967 | M17: 4081.0139 | N17: 3638.044 | P17: =IF(M17,N17/M17-1,"") -> -0.1085441
B18: IT | C18: 122.772 | D18: 160.18388 | F18: =IF(C18,D18/C18-1,"") -> 0.30472647 | H18: =M18-C18 -> 50.681178 | I18: =N18-D18 -> 65.398053 | K18: =IF(H18,I18/H18-1,"") -> 0.29038147 | M18: 173.45318 | N18: 225.58193 | P18: =IF(M18,N18/M18-1,"") -> 0.30053502
B19: statki, samoloty, kolej | C19: 241.59623 | D19: 204.02396 | F19: =IF(C19,D19/C19-1,"") -> -0.15551679 | H19: =M19-C19 -> 41.935515 | I19: =N19-D19 -> 59.847417 | K19: =IF(H19,I19/H19-1,"") -> 0.42712965 | M19: 283.53174 | N19: 263.87138 | P19: =IF(M19,N19/M19-1,"") -> -0.069340973
... B22: ruchomości - leasing | C22: 14527.451 | D22: 14128.578 | F22: =IF(C22,D22/C22-1,"") -> -0.027456555 | H22: =M22-C22 -> 8407.4288 | I22: =N22-D22 -> 8554.1741 | K22: =IF(H22,I22/H22-1,"") -> 0.017454242 | M22: 22934.88 | N22: 22682.752 | P22: =IF(M22,N22/M22-1,"") -> -0.010993233
B24: nieruchomości | M24: 212.72559 | N24: 118.40735 | P24: =IF(M24,N24/M24-1,"") -> -0.44337985
B26: łączne finansowanie - leasing | M26: 23147.606 | N26: 22801.159 | P26: =IF(M26,N26/M26-1,"") -> -0.014966849
B29: Finasowanie pożyczką
C30: =C$5 -> I-II 2025 vs I-II 2024 | H30: =H$5 -> III 2025 vs III 2024 | M30: =M$5 -> I-III 2025 vs I-III 2024
C31: =C$7 -> I-II 2024 | D31: =D$7 -> I-II 2025 | F31: =F$7 -> I-II 25 / I-II 24 | H31: =H$7 -> III 2024 | I31: =I$7 -> III 2025 | K31: =K$7 -> III 25 / III 24 | M31: =M$7 -> I-III 2024 | N31: =N$7 -> I-III 2025 | P31: =P$7 -> I-III 25 / I-III 24
B32: pojazdy | C32: 569.80798 | D32: 760.49161 | F32: =IF(C32,D32/C32-1,"") -> 0.33464541 | H32: =M32-C32 -> 383.82452 | I32: =N32-D32 -> 489.20779 | K32: =IF(H32,I32/H32-1,"") -> 0.27456108 | M32: 953.6325 | N32: 1249.6994 | P32: =IF(M32,N32/M32-1,"") -> 0.31046226
B33: osobowe | C33: 302.01055 | D33: 460.30753 | F33: =IF(C33,D33/C33-1,"") -> 0.52414388 | H33: =M33-C33 -> 200.25275 | I33: =N33-D33 -> 260.29414 | K33: =IF(H33,I33/H33-1,"") -> 0.29982803 | M33: 502.2633 | N33: 720.60167 | P33: =IF(M33,N33/M33-1,"") -> 0.43470899
B34: ciężarowe do 3,5 t | C34: 68.104279 | D34: 69.322007 | F34: =IF(C34,D34/C34-1,"") -> 0.017880344 | H34: =M34-C34 -> 38.761587 | I34: =N34-D34 -> 34.47336 | K34: =IF(H34,I34/H34-1,"") -> -0.11063085 | M34: 106.86587 | N34: 103.79537 | P34: =IF(M34,N34/M34-1,"") -> -0.028732276
B35: pojazdy ciężkie | C35: 195.18034 | D35: 228.5609 | F35: =IF(C35,D35/C35-1,"") -> 0.17102418 | H35: =M35-C35 -> 140.20289 | I35: =N35-D35 -> 190.35324 | K35: =IF(H35,I35/H35-1,"") -> 0.35769835 | M35: 335.38324 | N35: 418.91414 | P35: =IF(M35,N35/M35-1,"") -> 0.24906105
B36: ciężarowe pow. 3,5 t | C36: 21.372872 | D36: 24.448101 | F36: =IF(C36,D36/C36-1,"") -> 0.1438847 | H36: =M36-C36 -> 12.280918 | I36: =N36-D36 -> 23.822407 | K36: =IF(H36,I36/H36-1,"") -> 0.93979048 | M36: 33.65379 | N36: 48.270508 | P36: =IF(M36,N36/M36-1,"") -> 0.43432609
B37: ciągniki siodłowe | C37: 117.69812 | D37: 132.47784 | F37: =IF(C37,D37/C37-1,"") -> 0.12557314 | H37: =M37-C37 -> 96.318611 | I37: =N37-D37 -> 97.628922 | K37: =IF(H37,I37/H37-1,"") -> 0.013603922 | M37: 214.01673 | N37: 230.10677 | P37: =IF(M37,N37/M37-1,"") -> 0.075181194
B38: naczepy / przyczepy | C38: 52.936251 | D38: 54.069388 | F38: =IF(C38,D38/C38-1,"") -> 0.021405686 | H38: =M38-C38 -> 26.495759 | I38: =N38-D38 -> 52.252549 | K38: =IF(H38,I38/H38-1,"") -> 0.97210994 | M38: 79.43201 | N38: 106.32194 | P38: =IF(M38,N38/M38-1,"") -> 0.33852759
B39: autobusy | C39: 3.1730998 | D39: 17.56557 | F39: =IF(C39,D39/C39-1,"") -> 4.5357762 | H39: =M39-C39 -> 5.1076066 | I39: =N39-D39 -> 16.64936 | K39: =IF(H39,I39/H39-1,"") -> 2.2597185 | M39: 8.2807064 | N39: 34.21493 | P39: =IF(M39,N39/M39-1,"") -> 3.1318854
B40: inne | C40: 4.5128112 | D40: 2.3011678 | F40: =IF(C40,D40/C40-1,"") -> -0.4900811 | H40: =M40-C40 -> 4.6072882 | I40: =N40-D40 -> 4.0870576 | K40: =IF(H40,I40/H40-1,"") -> -0.1129147 | M40: 9.1200994 | N40: 6.3882254 | P40: =IF(M40,N40/M40-1,"") -> -0.29954433
B41: maszyny | C41: 1071.2542 | D41: 1197.6998 | F41: =IF(C41,D41/C41-1,"") -> 0.11803508 | H41: =M41-C41 -> 738.31384 | I41: =N41-D41 -> 1002.4723 | K41: =IF(H41,I41/H41-1,"") -> 0.35778607 | M41: 1809.568 | N41: 2200.172 | P41: =IF(M41,N41/M41-1,"") -> 0.21585482
B42: IT | C42: 27.586329 | D42: 24.919802 | F42: =IF(C42,D42/C42-1,"") -> -0.09666119 | H42: =M42-C42 -> 7.4522392 | I42: =N42-D42 -> 14.766167 | K42: =IF(H42,I42/H42-1,"") -> 0.98144028 | M42: 35.038568 | N42: 39.685968 | P42: =IF(M42,N42/M42-1,"") -> 0.13263671
B43: statki, samoloty, kolej | C43: 8.6731617 | D43: 19.278458 | F43: =IF(C43,D43/C43-1,"") -> 1.2227717 | H43: =M43-C43 -> 18.060605 | I43: =N43-D43 -> 5.1427068 | K43: =IF(H43,I43/H43-1,"") -> -0.71525279 | M43: 26.733767 | N43: 24.421165 | P43: =IF(M43,N43/M43-1,"") -> -0.086504894
... B46: ruchomości - pożyczka | C46: 1688.1518 | D46: 2010.4916 | F46: =IF(C46,D46/C46-1,"") -> 0.19094245 | H46: =M46-C46 -> 1149.7658 | I46: =N46-D46 -> 1516.3255 | K46: =IF(H46,I46/H46-1,"") -> 0.31881252 | M46: 2837.9176 | N46: 3526.8171 | P46: =IF(M46,N46/M46-1,"") -> 0.24274826
B48: nieruchomości | M48: 6.7137936 | N48: 14.09473 | P48: =IF(M48,N48/M48-1,"") -> 1.0993689
B50: łączne finansowanie - pożyczka | M50: =M48+M46 -> 2844.6314 | N50: =N48+N46 -> 3540.9119 | P50: =IF(M50,N50/M50-1,"") -> 0.24477003
B53: Łączne finansowanie leasingiem i pożyczką
C55: =C$5 -> I-II 2025 vs I-II 2024 | H55: =H$5 -> III 2025 vs III 2024 | M55: =M$5 -> I-III 2025 vs I-III 2024
C56: =C$7 -> I-II 2024 | D56: =D$7 -> I-II 2025 | F56: =F$7 -> I-II 25 / I-II 24 | H56: =H$7 -> III 2024 | I56: =I$7 -> III 2025 | K56: =K$7 -> III 25 / III 24 | M56: =M$7 -> I-III 2024 | N56: =N$7 -> I-III 2025 | P56: =P$7 -> I-III 25 / I-III 24
B57: pojazdy | C57: 12121.553 | D57: 12136.643 | F57: =IF(C57,D57/C57-1,"") -> 0.0012448609 | H57: =M57-C57 -> 7117.8398 | I57: =N57-D57 -> 7566.8277 | K57: =IF(H57,I57/H57-1,"") -> 0.063079238 | M57: 19239.393 | N57: 19703.47 | P57: =IF(M57,N57/M57-1,"") -> 0.024121217
B58: osobowe | C58: 7805.6122 | D58: 8079.3282 | F58: =IF(C58,D58/C58-1,"") -> 0.03506657 | H58: =M58-C58 -> 4533.6438 | I58: =N58-D58 -> 4972.622 | K58: =IF(H58,I58/H58-1,"") -> 0.096826811 | M58: 12339.256 | N58: 13051.95 | P58: =IF(M58,N58/M58-1,"") -> 0.057758289
B59: ciężarowe do 3,5 t | C59: 1287.3961 | D59: 1246.6601 | F59: =IF(C59,D59/C59-1,"") -> -0.031642157 | H59: =M59-C59 -> 732.32994 | I59: =N59-D59 -> 710.34317 | K59: =IF(H59,I59/H59-1,"") -> -0.030023039 | M59: 2019.7261 | N59: 1957.0033 | P59: =IF(M59,N59/M59-1,"") -> -0.031055083
B60: pojazdy ciężkie | C60: 2908.6043 | D60: 2703.3878 | F60: =IF(C60,D60/C60-1,"") -> -0.07055498 | H60: =M60-C60 -> 1742.1743 | I60: =N60-D60 -> 1797.1146 | K60: =IF(H60,I60/H60-1,"") -> 0.031535482 | M60: 4650.7786 | N60: 4500.5024 | P60: =IF(M60,N60/M60-1,"") -> -0.032312055
B61: ciężarowe pow. 3,5 t | C61: 619.47323 | D61: 584.84201 | F61: =IF(C61,D61/C61-1,"") -> -0.055904297 | H61: =M61-C61 -> 371.41128 | I61: =N61-D61 -> 417.92838 | K61: =IF(H61,I61/H61-1,"") -> 0.12524416 | M61: 990.88451 | N61: 1002.7704 | P61: =IF(M61,N61/M61-1,"") -> 0.011995223
B62: ciągniki siodłowe | C62: 1521.2949 | D62: 1256.5188 | F62: =IF(C62,D62/C62-1,"") -> -0.17404654 | H62: =M62-C62 -> 925.9255 | I62: =N62-D62 -> 778.76953 | K62: =IF(H62,I62/H62-1,"") -> -0.15892852 | M62: 2447.2204 | N62: 2035.2883 | P62: =IF(M62,N62/M62-1,"") -> -0.16832651
B63: naczepy / przyczepy | C63: 576.61876 | D63: 568.43622 | F63: =IF(C63,D63/C63-1,"") -> -0.014190551 | H63: =M63-C63 -> 329.03173 | I63: =N63-D63 -> 441.07294 | K63: =IF(H63,I63/H63-1,"") -> 0.34051797 | M63: 905.65049 | N63: 1009.5092 | P63: =IF(M63,N63/M63-1,"") -> 0.11467854
B64: autobusy | C64: 191.21744 | D64: 293.59078 | F64: =IF(C64,D64/C64-1,"") -> 0.53537662 | H64: =M64-C64 -> 115.8058 | I64: =N64-D64 -> 159.34376 | K64: =IF(H64,I64/H64-1,"") -> 0.37595666 | M64: 307.02324 | N64: 452.93454 | P64: =IF(M64,N64/M64-1,"") -> 0.47524516
B65: inne | C65: 119.94026 | D65: 107.26637 | F65: =IF(C65,D65/C65-1,"") -> -0.10566834 | H65: =M65-C65 -> 109.6918 | I65: =N65-D65 -> 86.747911 | K65: =IF(H65,I65/H65-1,"") -> -0.20916688 | M65: 229.63206 | N65: 194.01428 | P65: =IF(M65,N65/M65-1,"") -> -0.15510804
B66: maszyny | C66: 3612.678 | D66: 3531.9721 | F66: =IF(C66,D66/C66-1,"") -> -0.02233963 | H66: =M66-C66 -> 2277.9039 | I66: =N66-D66 -> 2306.2438 | K66: =IF(H66,I66/H66-1,"") -> 0.012441219 | M66: 5890.582 | N66: 5838.216 | P66: =IF(M66,N66/M66-1,"") -> -0.0088897821
B67: IT | C67: 150.35833 | D67: 185.10368 | F67: =IF(C67,D67/C67-1,"") -> 0.23108365 | H67: =M67-C67 -> 58.133418 | I67: =N67-D67 -> 80.16422 | K67: =IF(H67,I67/H67-1,"") -> 0.37896968 | M67: 208.49175 | N67: 265.2679 | P67: =IF(M67,N67/M67-1,"") -> 0.27231847
B68: statki, samoloty, kolej | C68: 250.26939 | D68: 223.30242 | F68: =IF(C68,D68/C68-1,"") -> -0.10775178 | H68: =M68-C68 -> 59.99612 | I68: =N68-D68 -> 64.990124 | K68: =IF(H68,I68/H68-1,"") -> 0.083238778 | M68: 310.26551 | N68: 288.29254 | P68: =IF(M68,N68/M68-1,"") -> -0.070819888
... B71: ruchomości - leasing + pożyczka | C71: 16215.603 | D71: 16139.069 | F71: =IF(C71,D71/C71-1,"") -> -0.0047197707 | H71: =M71-C71 -> 9557.1946 | I71: =N71-D71 -> 10070.5 | K71: =IF(H71,I71/H71-1,"") -> 0.053708755 | M71: 25772.798 | N71: 26209.569 | P71: =IF(M71,N71/M71-1,"") -> 0.01694698
B73: nieruchomości | M73: 219.43938 | N73: 132.50208 | P73: =IF(M73,N73/M73-1,"") -> -0.39617913
B75: łączne finansowanie - leasing + pożyczka | M75: =M73+M71 -> 25992.237 | N75: =N73+N71 -> 26342.071 | P75: =IF(M75,N75/M75-1,"") -> 0.013459164
C79: =N7 -> I-III 2025 | H79: =M7 -> I-III 2024 | M79: zmiana r/r
C81: Leasing | D81: Pożyczka | F81: Leasing + Pożyczka | H81: Leasing | I81: Pożyczka | K81: Leasing + Pożyczka | M81: Leasing | N81: Pożyczka | P81: Leasing + Pożyczka
B83: POJAZDY | C83: 18453.771 | D83: 1249.6994 | F83: =SUM(F84:F85,F87:F91) -> 19703.47 | H83: =M8 -> 18285.76 | I83: =M32 -> 953.6325 | K83: =SUM(K84:K85,K87:K91) -> 19239.393 | M83: =IFERROR(C83/H83-1,"") -> 0.0091880599 | N83: =IFERROR(D83/I83-1,"") -> 0.31046226 | P83: =IFERROR(F83/K83-1,"") -> 0.024121217
B84: osobowe | C84: 12331.349 | D84: 720.60167 | F84: =C84+D84 -> 13051.95 | H84: =M9 -> 11836.993 | I84: =M33 -> 502.2633 | K84: =H84+I84 -> 12339.256 | M84: =IFERROR(C84/H84-1,"") -> 0.041763644 | N84: =IFERROR(D84/I84-1,"") -> 0.43470899 | P84: =IFERROR(F84/K84-1,"") -> 0.057758289
B85: ciężarowe do 3,5 t | C85: 1853.208 | D85: 103.79537 | F85: =C85+D85 -> 1957.0033 | H85: =M10 -> 1912.8602 | I85: =M34 -> 106.86587 | K85: =H85+I85 -> 2019.7261 | M85: =IFERROR(C85/H85-1,"") -> -0.031184851 | N85: =IFERROR(D85/I85-1,"") -> -0.028732276 | P85: =IFERROR(F85/K85-1,"") -> -0.031055083
B86: pojazdy ciężkie | C86: 4081.5883 | D86: 418.91414 | F86: =SUM(F87:F90) -> 4500.5024 | H86: =M11 -> 4315.3954 | I86: =M35 -> 335.38324 | K86: =SUM(K87:K90) -> 4650.7786 | M86: =IFERROR(C86/H86-1,"") -> -0.054179767 | N86: =IFERROR(D86/I86-1,"") -> 0.24906105 | P86: =IFERROR(F86/K86-1,"") -> -0.032312055
B87: ciężarowe pow. 3,5 t | C87: 954.49988 | D87: 48.270508 | F87: =C87+D87 -> 1002.7704 | H87: =M12 -> 957.23072 | I87: =M36 -> 33.65379 | K87: =H87+I87 -> 990.88451 | M87: =IFERROR(C87/H87-1,"") -> -0.0028528529 | N87: =IFERROR(D87/I87-1,"") -> 0.43432609 | P87: =IFERROR(F87/K87-1,"") -> 0.011995223
B88: ciągniki siodłowe | C88: 1805.1816 | D88: 230.10677 | F88: =C88+D88 -> 2035.2883 | H88: =M13 -> 2233.2037 | I88: =M37 -> 214.01673 | K88: =H88+I88 -> 2447.2204 | M88: =IFERROR(C88/H88-1,"") -> -0.19166282 | N88: =IFERROR(D88/I88-1,"") -> 0.075181194 | P88: =IFERROR(F88/K88-1,"") -> -0.16832651
B89: naczepy / przyczepy | C89: 903.18723 | D89: 106.32194 | F89: =C89+D89 -> 1009.5092 | H89: =M14 -> 826.21848 | I89: =M38 -> 79.43201 | K89: =H89+I89 -> 905.65049 | M89: =IFERROR(C89/H89-1,"") -> 0.093157866 | N89: =IFERROR(D89/I89-1,"") -> 0.33852759 | P89: =IFERROR(F89/K89-1,"") -> 0.11467854
B90: autobusy | C90: 418.71961 | D90: 34.21493 | F90: =C90+D90 -> 452.93454 | H90: =M15 -> 298.74253 | I90: =M39 -> 8.2807064 | K90: =H90+I90 -> 307.02324 | M90: =IFERROR(C90/H90-1,"") -> 0.40160697 | N90: =IFERROR(D90/I90-1,"") -> 3.1318854 | P90: =IFERROR(F90/K90-1,"") -> 0.47524516
B91: inne | C91: 187.62606 | D91: 6.3882254 | F91: =C91+D91 -> 194.01428 | H91: =M16 -> 220.51197 | I91: =M40 -> 9.1200994 | K91: =H91+I91 -> 229.63206 | M91: =IFERROR(C91/H91-1,"") -> -0.14913434 | N91: =IFERROR(D91/I91-1,"") -> -0.29954433 | P91: =IFERROR(F91/K91-1,"") -> -0.15510804
B92: MiU | C92: 3638.044 | D92: 2200.172 | F92: =SUM(F93:F107) -> 5838.216 | H92: =M17 -> 4081.0139 | I92: =M41 -> 1809.568 | K92: =SUM(K93:K107) -> 5890.582 | M92: =IFERROR(C92/H92-1,"") -> -0.1085441 | N92: =IFERROR(D92/I92-1,"") -> 0.21585482 | P92: =IFERROR(F92/K92-1,"") -> -0.0088897821
B93: Sprzęt Budowlany | C93: 962.40156 | D93: 149.33825 | F93: =C93+D93 -> 1111.7398 | H93: 976.53231 | I93: 220.9464 | K93: =H93+I93 -> 1197.4787 | M93: =IFERROR(C93/H93-1,"") -> -0.014470328 | N93: =IFERROR(D93/I93-1,"") -> -0.32409739 | P93: =IFERROR(F93/K93-1,"") -> -0.071599515
B94: Maszyny Rolnicze | C94: 270.55064 | D94: 1406.644 | F94: =C94+D94 -> 1677.1947 | H94: 349.40774 | I94: 973.56905 | K94: =H94+I94 -> 1322.9768 | M94: =IFERROR(C94/H94-1,"") -> -0.2256879 | N94: =IFERROR(D94/I94-1,"") -> 0.44483232 | P94: =IFERROR(F94/K94-1,"") -> 0.26774308
B95: Maszyny Poligraf. | C95: 83.475057 | D95: 47.151922 | F95: =C95+D95 -> 130.62698 | H95: 123.62952 | I95: 36.212205 | K95: =H95+I95 -> 159.84172 | M95: =IFERROR(C95/H95-1,"") -> -0.32479672 | N95: =IFERROR(D95/I95-1,"") -> 0.30210026 | P95: =IFERROR(F95/K95-1,"") -> -0.18277296
B96: maszyny do produkcji tworzyw sztucznych | C96: 176.26854 | D96: 18.889114 | F96: =C96+D96 -> 195.15766 | H96: 196.53751 | I96: 33.684245 | K96: =H96+I96 -> 230.22175 | M96: =IFERROR(C96/H96-1,"") -> -0.10313026 | N96: =IFERROR(D96/I96-1,"") -> -0.43923 | P96: =IFERROR(F96/K96-1,"") -> -0.15230575
B97: maszyny i urządzenia do obróbki metali | C97: 329.92733 | D97: 48.11168 | F97: =C97+D97 -> 378.03901 | H97: 369.53362 | I97: 66.815809 | K97: =H97+I97 -> 436.34943 | M97: =IFERROR(C97/H97-1,"") -> -0.10717912 | N97: =IFERROR(D97/I97-1,"") -> -0.27993568 | P97: =IFERROR(F97/K97-1,"") -> -0.13363239
B98: maszyny dla przemysłu spożywczego | C98: 146.48007 | D98: 69.656496 | F98: =C98+D98 -> 216.13657 | H98: 161.75892 | I98: 23.4959 | K98: =H98+I98 -> 185.25482 | M98: =IFERROR(C98/H98-1,"") -> -0.094454424 | N98: =IFERROR(D98/I98-1,"") -> 1.9646235 | P98: =IFERROR(F98/K98-1,"") -> 0.16669878
B99: Sprzęt Medyczny | C99: 143.45162 | D99: 215.01416 | F99: =C99+D99 -> 358.46578 | H99: 115.35634 | I99: 228.78737 | K99: =H99+I99 -> 344.14371 | M99: =IFERROR(C99/H99-1,"") -> 0.24355213 | N99: =IFERROR(D99/I99-1,"") -> -0.060200911 | P99: =IFERROR(F99/K99-1,"") -> 0.041616548
B100: Sprzęt Gastronom. | C100: 53.930463 | D100: 6.4767845 | F100: =C100+D100 -> 60.407248 | H100: 43.405278 | I100: 1.5676522 | K100: =H100+I100 -> 44.97293 | M100: =IFERROR(C100/H100-1,"") -> 0.24248631 | N100: =IFERROR(D100/I100-1,"") -> 3.1315188 | P100: =IFERROR(F100/K100-1,"") -> 0.34319129
B101: Wózki Widłowe | C101: 249.51964 | D101: 6.9319647 | F101: =C101+D101 -> 256.45161 | H101: 338.73644 | I101: 5.024472 | K101: =H101+I101 -> 343.76091 | M101: =IFERROR(C101/H101-1,"") -> -0.26338115 | N101: =IFERROR(D101/I101-1,"") -> 0.37964043 | P101: =IFERROR(F101/K101-1,"") -> -0.25398263
B102: magazyny energii | C102: 0.78351812 | D102: 0.96874105 | F102: =C102+D102 -> 1.7522592 | H102: 0.3372234 | I102: 1.6774918 | K102: =H102+I102 -> 2.0147152 | M102: =IFERROR(C102/H102-1,"") -> 1.3234393 | N102: =IFERROR(D102/I102-1,"") -> -0.42250625 | P102: =IFERROR(F102/K102-1,"") -> -0.13026956
B103: pompy ciepła | C103: 2.7362619 | D103: 0.27401274 | F103: =C103+D103 -> 3.0102747 | H103: 2.8350317 | I103: 0.44891731 | K103: =H103+I103 -> 3.283949 | M103: =IFERROR(C103/H103-1,"") -> -0.034839021 | N103: =IFERROR(D103/I103-1,"") -> -0.38961422 | P103: =IFERROR(F103/K103-1,"") -> -0.083336952
B104: fotowoltaika | C104: 46.746578 | D104: 43.084593 | F104: =C104+D104 -> 89.831171 | H104: 71.880824 | I104: 48.347009 | K104: =H104+I104 -> 120.22783 | M104: =IFERROR(C104/H104-1,"") -> -0.34966552 | N104: =IFERROR(D104/I104-1,"") -> -0.10884678 | P104: =IFERROR(F104/K104-1,"") -> -0.2528255
... B106: stacje ładowania pojazdów elektrycznych (na użytek własny i komercyjny) | C106: 6.4390242 | D106: 0.0039237169 | F106: =C106+D106 -> 6.4429479 | H106: 2.3498544 | I106: 1.4791498 | K106: =H106+I106 -> 3.8290042 | M106: =IFERROR(C106/H106-1,"") -> 1.7401801 | N106: =IFERROR(D106/I106-1,"") -> -0.99734732 | P106: =IFERROR(F106/K106-1,"") -> 0.6826693
B107: inne MiU | C107: =C92-SUM(C93:C106) -> 1165.2603 | D107: =D92-SUM(D93:D106) -> 187.62633 | F107: =C107+D107 -> 1352.8867 | H107: =H92-SUM(H93:H106) -> 1328.7133 | I107: =I92-SUM(I93:I106) -> 167.51236 | K107: =H107+I107 -> 1496.2257 | M107: =IFERROR(C107/H107-1,"") -> -0.123016 | N107: =IFERROR(D107/I107-1,"") -> 0.12007458 | P107: =IFERROR(F107/K107-1,"") -> -0.0958004
B108: IT | C108: 225.58193 | D108: 39.685968 | F108: =SUM(F109:F111) -> 265.2679 | H108: 173.45318 | I108: 35.038568 | K108: =SUM(K109:K111) -> 208.49175 | M108: =IFERROR(C108/H108-1,"") -> 0.30053502 | N108: =IFERROR(D108/I108-1,"") -> 0.13263671 | P108: =IFERROR(F108/K108-1,"") -> 0.27231847
B109: Sprzęt | C109: 180.28744 | D109: 31.942352 | F109: =C109+D109 -> 212.22979 | H109: 128.72448 | I109: 23.988173 | K109: =H109+I109 -> 152.71265 | M109: =IFERROR(C109/H109-1,"") -> 0.40056846 | N109: =IFERROR(D109/I109-1,"") -> 0.33158752 | P109: =IFERROR(F109/K109-1,"") -> 0.38973291
B110: Oprogram. | C110: 16.72934 | D110: 6.7128609 | F110: =C110+D110 -> 23.442201 | H110: 10.047638 | I110: 9.4385966 | K110: =H110+I110 -> 19.486235 | M110: =IFERROR(C110/H110-1,"") -> 0.66500222 | N110: =IFERROR(D110/I110-1,"") -> -0.28878612 | P110: =IFERROR(F110/K110-1,"") -> 0.20301336
B111: inne IT | C111: 28.565153 | D111: 1.0307553 | F111: =C111+D111 -> 29.595908 | H111: 34.681066 | I111: 1.6117981 | K111: =H111+I111 -> 36.292864 | M111: =IFERROR(C111/H111-1,"") -> -0.17634732 | N111: =IFERROR(D111/I111-1,"") -> -0.36049355 | P111: =IFERROR(F111/K111-1,"") -> -0.18452542
B112: POZOSTAŁE ŚRODKI TRANSPORTU | C112: 263.87138 | D112: 24.421165 | F112: =SUM(F113:F115) -> 288.29254 | H112: 283.53174 | I112: 26.733767 | K112: =SUM(K113:K115) -> 310.26551 | M112: =IFERROR(C112/H112-1,"") -> -0.069340973 | N112: =IFERROR(D112/I112-1,"") -> -0.086504894 | P112: =IFERROR(F112/K112-1,"") -> -0.070819888
B113: Powietrzne | C113: 41.583568 | D113: 0.066058699 | F113: =C113+D113 -> 41.649627 | H113: 155.56084 | I113: 0 | K113: =H113+I113 -> 155.56084 | M113: =IFERROR(C113/H113-1,"") -> -0.73268614 | N113: =IFERROR(D113/I113-1,"") | P113: =IFERROR(F113/K113-1,"") -> -0.73226149
B114: Wodne | C114: 61.938786 | D114: 8.6998939 | F114: =C114+D114 -> 70.63868 | H114: 44.459023 | I114: 9.708311 | K114: =H114+I114 -> 54.167334 | M114: =IFERROR(C114/H114-1,"") -> 0.39316572 | N114: =IFERROR(D114/I114-1,"") -> -0.10387153 | P114: =IFERROR(F114/K114-1,"") -> 0.30408266
B115: Kolejowe | C115: 160.34902 | D115: 15.655212 | F115: =C115+D115 -> 176.00423 | H115: 83.511884 | I115: 17.025456 | K115: =H115+I115 -> 100.53734 | M115: =IFERROR(C115/H115-1,"") -> 0.92007431 | N115: =IFERROR(D115/I115-1,"") -> -0.080482031 | P115: =IFERROR(F115/K115-1,"") -> 0.75063549
B116: INNE RUCHOMOŚCI | C116: 101.48345 | D116: 12.838594 | F116: =C116+D116 -> 114.32204 | H116: 111.12099 | I116: 12.94471 | K116: =H116+I116 -> 124.0657 | M116: =IFERROR(C116/H116-1,"") -> -0.086730209 | N116: =IFERROR(D116/I116-1,"") -> -0.0081976473 | P116: =IFERROR(F116/K116-1,"") -> -0.078536315
B117: RUCHOMOŚCI | C117: 22682.752 | D117: 3526.8171 | F117: =SUM(F116,F112,F108,F92,F83) -> 26209.569 | H117: =H116+H112+H108+H92+H83 -> 22934.88 | I117: =I116+I112+I108+I92+I83 -> 2837.9176 | K117: =SUM(K116,K112,K108,K92,K83) -> 25772.798 | M117: =IFERROR(C117/H117-1,"") -> -0.010993233 | N117: =IFERROR(D117/I117-1,"") -> 0.24274826 | P117: =IFERROR(F117/K117-1,"") -> 0.01694698
B118: NIERUCHOMOŚCI | C118: 118.40735 | D118: 14.09473 | F118: =SUM(F119:F123) -> 132.50208 | H118: 212.72559 | I118: 6.7137936 | K118: =SUM(K119:K123) -> 219.43938 | M118: =IFERROR(C118/H118-1,"") -> -0.44337985 | N118: =IFERROR(D118/I118-1,"") -> 1.0993689 | P118: =IFERROR(F118/K118-1,"") -> -0.39617913
B119: budynki przemysłowe | F119: 12.976015 | K119: 9.5654101 | M119: =IFERROR(C119/H119-1,"") | N119: =IFERROR(D119/I119-1,"") | P119: =IFERROR(F119/K119-1,"") -> 0.35655604
B120: obiekty handlowe i usługowe | F120: 99.115572 | K120: 174.10698 | M120: =IFERROR(C120/H120-1,"") | N120: =IFERROR(D120/I120-1,"") | P120: =IFERROR(F120/K120-1,"") -> -0.4307203
B121: obiekty biurowe | F121: 2.2442178 | K121: 28.618263 | M121: =IFERROR(C121/H121-1,"") | N121: =IFERROR(D121/I121-1,"") | P121: =IFERROR(F121/K121-1,"") -> -0.92158092
B122: hotele i obiekty rekreacyjne | F122: 0 | K122: 0 | M122: =IFERROR(C122/H122-1,"") | N122: =IFERROR(D122/I122-1,"") | P122: =IFERROR(F122/K122-1,"")
B123: inne | F123: 18.166274 | K123: 7.1487247 | M123: =IFERROR(C123/H123-1,"") | N123: =IFERROR(D123/I123-1,"") | P123: =IFERROR(F123/K123-1,"") -> 1.5411909
B124: OGÓŁEM RUCHOMOŚCI I NIERUCHOMOŚCI | C124: 22801.159 | D124: 3540.9119 | F124: =F118+F117 -> 26342.071 | H124: =H117+H118 -> 23147.606 | I124: =I117+I118 -> 2844.6314 | K124: =K117+K118 -> 25992.237 | M124: =IFERROR(C124/H124-1,"") -> -0.014966849 | N124: =IFERROR(D124/I124-1,"") -> 0.24477003 | P124: =IFERROR(F124/K124-1,"") -> 0.013459164
