Workbook
Name cx: '[1]Dane Le'!#REF!
Name cx: '[1]Dane Le'!#REF!
Name cx: '[1]Dane Le'!#REF!
Name Excel_BuiltIn_Print_Area_2: #REF!
Name Excel_BuiltIn_Print_Area_2: #REF!
Name Excel_BuiltIn_Print_Area_2: #REF!
Name Excel_BuiltIn_Print_Area_4: #REF!
Name Excel_BuiltIn_Print_Area_4: #REF!
Name Excel_BuiltIn_Print_Area_4: #REF!
Name v: #REF!
Name v: #REF!
Name v: #REF!

Sheet summary_03 2025
B2: Związek Polskiego Leasingu, Warszawa, dnia 25-04-2025
C5: FINANSOWANIE POJAZDÓW LEKKICH | T5: FINANSOWANIE POJAZDÓW LEKKICH - I kw. 2025r. Łączne finansowanie leasingiem i pożyczką
J10: 01-03 2025 | N10: 01-03 2025
I11: leasing | J11: =('szacunek rynku_03 2025'!N9+'szacunek rynku_03 2025'!N10)/('szacunek rynku_03 2025'!N58+'szacunek rynku_03 2025'!N59) -> 0.94507298 | M11: osobowe | N11: ='szacunek rynku_03 2025'!N58/SUM('szacunek rynku_03 2025'!I58:N59) -> 0.37237061
I12: pożyczka | J12: =1-J11 -> 0.054927016 | M12: dostawcze | N12: =1-N11 -> 0.62762939
I14: leasing | J14: =('szacunek rynku_03 2025'!I9+'szacunek rynku_03 2025'!I10)/('szacunek rynku_03 2025'!H9+'szacunek rynku_03 2025'!H10)-1 -> 0.071860206 | K14: =('szacunek rynku_03 2025'!N9+'szacunek rynku_03 2025'!N10)/('szacunek rynku_03 2025'!M9+'szacunek rynku_03 2025'!M10)-1 -> 0.031615152
I15: pożyczka | J15: =('szacunek rynku_03 2025'!I33+'szacunek rynku_03 2025'!I34)/('szacunek rynku_03 2025'!H33+'szacunek rynku_03 2025'!H34)-1 -> 0.23326283 | K15: =('szacunek rynku_03 2025'!N33+'szacunek rynku_03 2025'!N34)/('szacunek rynku_03 2025'!M33+'szacunek rynku_03 2025'!M34)-1 -> 0.35340266
I16: L+P | J16: =('szacunek rynku_03 2025'!I59+'szacunek rynku_03 2025'!I58)/('szacunek rynku_03 2025'!H58+'szacunek rynku_03 2025'!H59)-1 -> 0.079186019 | K16: =('szacunek rynku_03 2025'!N59+'szacunek rynku_03 2025'!N58)/('szacunek rynku_03 2025'!M58+'szacunek rynku_03 2025'!M59)-1 -> 0.045265852
C38: FINANSOWANIE POJAZDÓW CIĘŻKICH | T38: FINANSOWANIE POJAZDÓW CIĘŻKICH - I kw. 2025r. Łączne finansowanie leasingiem i pożyczką
J43: I kw. 2025 | N43: I kw. 2025
I44: leasing | J44: ='szacunek rynku_03 2025'!N11/'szacunek rynku_03 2025'!N60 -> 0.90691836 | M44: ciężarowe pow. 3.5t | N44: ='szacunek rynku_03 2025'!N61/'szacunek rynku_03 2025'!$N$60 -> 0.22281299
I45: pożyczka | J45: =1-J44 -> 0.093081639 | M45: ciągniki siodłowe | N45: ='szacunek rynku_03 2025'!N62/'szacunek rynku_03 2025'!$N$60 -> 0.4522358
M46: przyczepy/naczepy | N46: ='szacunek rynku_03 2025'!N63/'szacunek rynku_03 2025'!$N$60 -> 0.22431033
M47: autobusy | N47: ='szacunek rynku_03 2025'!N64/'szacunek rynku_03 2025'!$N$60 -> 0.10064088
C71: FINANSOWANIE MASZYN | T71: FINANSOWANIE MASZYN - I kw. 2025r. Łączne finansowanie leasingiem i pożyczką
J76: I kw. 2025 | N76: I kw. 2025
I77: leasing | J77: ='szacunek rynku_03 2025'!N17/'szacunek rynku_03 2025'!N66 -> 0.62314309 | M77: sprzęt budowlany | N77: ='szacunek rynku_03 2025'!F93/'szacunek rynku_03 2025'!F92 -> 0.19042458
I78: pożyczka | J78: =1-J77 -> 0.37685691 | M78: maszyny rolnicze | N78: ='szacunek rynku_03 2025'!F94/'szacunek rynku_03 2025'!F92 -> 0.28727863
M79: pozostałe maszyny | N79: =1-N78-N77 -> 0.52229679
C104: FINANSOWANIE RUCHOMOŚCI
J109: 02/2025 | N109: 02/2025
I110: leasing | J110: ='szacunek rynku_03 2025'!N22/'szacunek rynku_03 2025'!N71 -> 0.8654378 | M110: OSD | N110: =('szacunek rynku_03 2025'!N58+'szacunek rynku_03 2025'!N59)/'szacunek rynku_03 2025'!N71 -> 0.57265168
I111: pożyczka | J111: =1-J110 -> 0.1345622 | M111: TRK | N111: ='szacunek rynku_03 2025'!N60/'szacunek rynku_03 2025'!N71 -> 0.17171219
M112: maszyny | N112: ='szacunek rynku_03 2025'!N66/'szacunek rynku_03 2025'!N71 -> 0.22275132
M113: IT | N113: ='szacunek rynku_03 2025'!N67/'szacunek rynku_03 2025'!N71 -> 0.010121033
M114: pozostałe | N114: =('szacunek rynku_03 2025'!N65+'szacunek rynku_03 2025'!N68+'szacunek rynku_03 2025'!N69)/'szacunek rynku_03 2025'!N71 -> 0.02276378

Sheet szacunek rynku_03 2025
B2: Związek Polskiego Leasingu, Warszawa, dnia 25-04-2025
B4: Finansowanie leasingiem
C5: I-II 2025 vs I-II 2024 | H5: III 2025 vs III 2024 | M5: I-III 2025 vs I-III 2024
C7: I-II 2024 | D7: I-II 2025 | F7: I-II 25 / I-II 24 | H7: III 2024 | I7: III 2025 | K7: III 25 / III 24 | M7: I-III 2024 | N7: I-III 2025 | P7: I-III 25 / I-III 24
B8: pojazdy | C8: 11551.745 | D8: 11376.151 | F8: =IF(C8,D8/C8-1,"") -> -0.015200645 | H8: =M8-C8 -> 6734.0153 | I8: =N8-D8 -> 7077.6199 | K8: =IF(H8,I8/H8-1,"") -> 0.051025224 | M8: 18285.76 | N8: 18453.771 | P8: =IF(M8,N8/M8-1,"") -> 0.0091880599
B9: osobowe | C9: 7503.6016 | D9: 7619.0207 | F9: =IF(C9,D9/C9-1,"") -> 0.015381822 | H9: =M9-C9 -> 4333.391 | I9: =N9-D9 -> 4712.3279 | K9: =IF(H9,I9/H9-1,"") -> 0.087445808 | M9: 11836.993 | N9: 12331.349 | P9: =IF(M9,N9/M9-1,"") -> 0.041763644
B10: ciężarowe do 3,5 t | C10: 1219.2919 | D10: 1177.3381 | F10: =IF(C10,D10/C10-1,"") -> -0.034408266 | H10: =M10-C10 -> 693.56836 | I10: =N10-D10 -> 675.86981 | K10: =IF(H10,I10/H10-1,"") -> -0.025518094 | M10: 1912.8602 | N10: 1853.208 | P10: =IF(M10,N10/M10-1,"") -> -0.031184851
B11: pojazdy ciężkie | C11: 2713.424 | D11: 2474.8269 | F11: =IF(C11,D11/C11-1,"") -> -0.087932103 | H11: =M11-C11 -> 1601.9714 | I11: =N11-D11 -> 1606.7614 | K11: =IF(H11,I11/H11-1,"") -> 0.0029900421 | M11: 4315.3954 | N11: 4081.5883 | P11: =IF(M11,N11/M11-1,"") -> -0.054179767
B12: ciężarowe pow. 3,5 t | C12: 598.10035 | D12: 560.39391 | F12: =IF(C12,D12/C12-1,"") -> -0.063043675 | H12: =M12-C12 -> 359.13036 | I12: =N12-D12 -> 394.10597 | K12: =IF(H12,I12/H12-1,"") -> 0.097389722 | M12: 957.23072 | N12: 954.49988 | P12: =IF(M12,N12/M12-1,"") -> -0.0028528529
B13: ciągniki siodłowe | C13: 1403.5968 | D13: 1124.041 | F13: =IF(C13,D13/C13-1,"") -> -0.19917104 | H13: =M13-C13 -> 829.60689 | I13: =N13-D13 -> 681.14061 | K13: =IF(H13,I13/H13-1,"") -> -0.17895979 | M13: 2233.2037 | N13: 1805.1816 | P13: =IF(M13,N13/M13-1,"") -> -0.19166282
B14: naczepy / przyczepy | C14: 523.68251 | D14: 514.36684 | F14: =IF(C14,D14/C14-1,"") -> -0.017788783 | H14: =M14-C14 -> 302.53597 | I14: =N14-D14 -> 388.8204 | K14: =IF(H14,I14/H14-1,"") -> 0.28520386 | M14: 826.21848 | N14: 903.18723 | P14: =IF(M14,N14/M14-1,"") -> 0.093157866
B15: autobusy | C15: 188.04434 | D15: 276.02521 | F15: =IF(C15,D15/C15-1,"") -> 0.46787303 | H15: =M15-C15 -> 110.69819 | I15: =N15-D15 -> 142.6944 | K15: =IF(H15,I15/H15-1,"") -> 0.28904002 | M15: 298.74253 | N15: 418.71961 | P15: =IF(M15,N15/M15-1,"") -> 0.40160697
B16: inne | C16: 115.42745 | D16: 104.96521 | F16: =IF(C16,D16/C16-1,"") -> -0.090639139 | H16: =M16-C16 -> 105.08452 | I16: =N16-D16 -> 82.660853 | K16: =IF(H16,I16/H16-1,"") -> -0.21338693 | M16: 220.51197 | N16: 187.62606 | P16: =IF(M16,N16/M16-1,"") -> -0.14913434
B17: maszyny | C17: 2541.4239 | D17: 2334.2724 | F17: =IF(C17,D17/C17-1,"") -> -0.081510001 | H17: =M17-C17 -> 1539.5901 | I17: =N17-D17 -> 1303.7716 | K17: =IF(H17,I17/H17-1,"") -> -0.15316967 | M17: 4081.0139 | N17: 3638.044 | P17: =IF(M17,N17/M17-1,"") -> -0.1085441
B18: IT | C18: 122.772 | D18: 160.18388 | F18: =IF(C18,D18/C18-1,"") -> 0.30472647 | H18: =M18-C18 -> 50.681178 | I18: =N18-D18 -> 65.398053 | K18: =IF(H18,I18/H18-1,"") -> 0.29038147 | M18: 173.45318 | N18: 225.58193 | P18: =IF(M18,N18/M18-1,"") -> 0.30053502
B19: statki, samoloty, kolej | C19: 241.59623 | D19: 204.02396 | F19: =IF(C19,D19/C19-1,"") -> -0.15551679 | H19: =M19-C19 -> 41.935515 | I19: =N19-D19 -> 59.847417 | K19: =IF(H19,I19/H19-1,"") -> 0.42712965 | M19: 283.53174 | N19: 263.87138 | P19: =IF(M19,N19/M19-1,"") -> -0.069340973
... B22: ruchomości - leasing | C22: 14527.451 | D22: 14128.578 | F22: =IF(C22,D22/C22-1,"") -> -0.027456555 | H22: =M22-C22 -> 8407.4288 | I22: =N22-D22 -> 8554.1741 | K22: =IF(H22,I22/H22-1,"") -> 0.017454242 | M22: 22934.88 | N22: 22682.752 | P22: =IF(M22,N22/M22-1,"") -> -0.010993233
B24: nieruchomości | M24: 212.72559 | N24: 118.40735 | P24: =IF(M24,N24/M24-1,"") -> -0.44337985
B26: łączne finansowanie - leasing | M26: 23147.606 | N26: 22801.159 | P26: =IF(M26,N26/M26-1,"") -> -0.014966849
B29: Finasowanie pożyczką
C30: =C$5 -> I-II 2025 vs I-II 2024 | H30: =H$5 -> III 2025 vs III 2024 | M30: =M$5 -> I-III 2025 vs I-III 2024
C31: =C$7 -> I-II 2024 | D31: =D$7 -> I-II 2025 | F31: =F$7 -> I-II 25 / I-II 24 | H31: =H$7 -> III 2024 | I31: =I$7 -> III 2025 | K31: =K$7 -> III 25 / III 24 | M31: =M$7 -> I-III 2024 | N31: =N$7 -> I-III 2025 | P31: =P$7 -> I-III 25 / I-III 24
B32: pojazdy | C32: 569.80798 | D32: 760.49161 | F32: =IF(C32,D32/C32-1,"") -> 0.33464541 | H32: =M32-C32 -> 383.82452 | I32: =N32-D32 -> 489.20779 | K32: =IF(H32,I32/H32-1,"") -> 0.27456108 | M32: 953.6325 | N32: 1249.6994 | P32: =IF(M32,N32/M32-1,"") -> 0.31046226
B33: osobowe | C33: 302.01055 | D33: 460.30753 | F33: =IF(C33,D33/C33-1,"") -> 0.52414388 | H33: =M33-C33 -> 200.25275 | I33: =N33-D33 -> 260.29414 | K33: =IF(H33,I33/H33-1,"") -> 0.29982803 | M33: 502.2633 | N33: 720.60167 | P33: =IF(M33,N33/M33-1,"") -> 0.43470899
B34: ciężarowe do 3,5 t | C34: 68.104279 | D34: 69.322007 | F34: =IF(C34,D34/C34-1,"") -> 0.017880344 | H34: =M34-C34 -> 38.761587 | I34: =N34-D34 -> 34.47336 | K34: =IF(H34,I34/H34-1,"") -> -0.11063085 | M34: 106.86587 | N34: 103.79537 | P34: =IF(M34,N34/M34-1,"") -> -0.028732276
B35: pojazdy ciężkie | C35: 195.18034 | D35: 228.5609 | F35: =IF(C35,D35/C35-1,"") -> 0.17102418 | H35: =M35-C35 -> 140.20289 | I35: =N35-D35 -> 190.35324 | K35: =IF(H35,I35/H35-1,"") -> 0.35769835 | M35: 335.38324 | N35: 418.91414 | P35: =IF(M35,N35/M35-1,"") -> 0.24906105
B36: ciężarowe pow. 3,5 t | C36: 21.372872 | D36: 24.448101 | F36: =IF(C36,D36/C36-1,"") -> 0.1438847 | H36: =M36-C36 -> 12.280918 | I36: =N36-D36 -> 23.822407 | K36: =IF(H36,I36/H36-1,"") -> 0.93979048 | M36: 33.65379 | N36: 48.270508 | P36: =IF(M36,N36/M36-1,"") -> 0.43432609
B37: ciągniki siodłowe | C37: 117.69812 | D37: 132.47784 | F37: =IF(C37,D37/C37-1,"") -> 0.12557314 | H37: =M37-C37 -> 96.318611 | I37: =N37-D37 -> 97.628922 | K37: =IF(H37,I37/H37-1,"") -> 0.013603922 | M37: 214.01673 | N37: 230.10677 | P37: =IF(M37,N37/M37-1,"") -> 0.075181194
B38: naczepy / przyczepy | C38: 52.936251 | D38: 54.069388 | F38: =IF(C38,D38/C38-1,"") -> 0.021405686 | H38: =M38-C38 -> 26.495759 | I38: =N38-D38 -> 52.252549 | K38: =IF(H38,I38/H38-1,"") -> 0.97210994 | M38: 79.43201 | N38: 106.32194 | P38: =IF(M38,N38/M38-1,"") -> 0.33852759
B39: autobusy | C39: 3.1730998 | D39: 17.56557 | F39: =IF(C39,D39/C39-1,"") -> 4.5357762 | H39: =M39-C39 -> 5.1076066 | I39: =N39-D39 -> 16.64936 | K39: =IF(H39,I39/H39-1,"") -> 2.2597185 | M39: 8.2807064 | N39: 34.21493 | P39: =IF(M39,N39/M39-1,"") -> 3.1318854
B40: inne | C40: 4.5128112 | D40: 2.3011678 | F40: =IF(C40,D40/C40-1,"") -> -0.4900811 | H40: =M40-C40 -> 4.6072882 | I40: =N40-D40 -> 4.0870576 | K40: =IF(H40,I40/H40-1,"") -> -0.1129147 | M40: 9.1200994 | N40: 6.3882254 | P40: =IF(M40,N40/M40-1,"") -> -0.29954433
B41: maszyny | C41: 1071.2542 | D41: 1197.6998 | F41: =IF(C41,D41/C41-1,"") -> 0.11803508 | H41: =M41-C41 -> 738.31384 | I41: =N41-D41 -> 1002.4723 | K41: =IF(H41,I41/H41-1,"") -> 0.35778607 | M41: 1809.568 | N41: 2200.172 | P41: =IF(M41,N41/M41-1,"") -> 0.21585482
B42: IT | C42: 27.586329 | D42: 24.919802 | F42: =IF(C42,D42/C42-1,"") -> -0.09666119 | H42: =M42-C42 -> 7.4522392 | I42: =N42-D42 -> 14.766167 | K42: =IF(H42,I42/H42-1,"") -> 0.98144028 | M42: 35.038568 | N42: 39.685968 | P42: =IF(M42,N42/M42-1,"") -> 0.13263671
B43: statki, samoloty, kolej | C43: 8.6731617 | D43: 19.278458 | F43: =IF(C43,D43/C43-1,"") -> 1.2227717 | H43: =M43-C43 -> 18.060605 | I43: =N43-D43 -> 5.1427068 | K43: =IF(H43,I43/H43-1,"") -> -0.71525279 | M43: 26.733767 | N43: 24.421165 | P43: =IF(M43,N43/M43-1,"") -> -0.086504894
... B46: ruchomości - pożyczka | C46: 1688.1518 | D46: 2010.4916 | F46: =IF(C46,D46/C46-1,"") -> 0.19094245 | H46: =M46-C46 -> 1149.7658 | I46: =N46-D46 -> 1516.3255 | K46: =IF(H46,I46/H46-1,"") -> 0.31881252 | M46: 2837.9176 | N46: 3526.8171 | P46: =IF(M46,N46/M46-1,"") -> 0.24274826
B48: nieruchomości | M48: 6.7137936 | N48: 14.09473 | P48: =IF(M48,N48/M48-1,"") -> 1.0993689
B50: łączne finansowanie - pożyczka | M50: =M48+M46 -> 2844.6314 | N50: =N48+N46 -> 3540.9119 | P50: =IF(M50,N50/M50-1,"") -> 0.24477003
B53: Łączne finansowanie leasingiem i pożyczką
C55: =C$5 -> I-II 2025 vs I-II 2024 | H55: =H$5 -> III 2025 vs III 2024 | M55: =M$5 -> I-III 2025 vs I-III 2024
C56: =C$7 -> I-II 2024 | D56: =D$7 -> I-II 2025 | F56: =F$7 -> I-II 25 / I-II 24 | H56: =H$7 -> III 2024 | I56: =I$7 -> III 2025 | K56: =K$7 -> III 25 / III 24 | M56: =M$7 -> I-III 2024 | N56: =N$7 -> I-III 2025 | P56: =P$7 -> I-III 25 / I-III 24
...
