Workbook
Name cx: '[1]Dane Le'!#REF!
Name cx: '[1]Dane Le'!#REF!
Name cx: '[1]Dane Le'!#REF!
Name Excel_BuiltIn_Print_Area_2: #REF!
Name Excel_BuiltIn_Print_Area_2: #REF!
Name Excel_BuiltIn_Print_Area_2: #REF!
Name Excel_BuiltIn_Print_Area_4: #REF!
Name Excel_BuiltIn_Print_Area_4: #REF!
Name Excel_BuiltIn_Print_Area_4: #REF!
Name v: #REF!
Name v: #REF!
Name v: #REF!

Sheet summary_02 2025
C4: FINANSOWANIE POJAZDÓW LEKKICH | T4: FINANSOWANIE POJAZDÓW LEKKICH - luty 2025r. Łączne finansowanie leasingiem i pożyczką
J9: 02 2025 | N9: 02 2025
I10: leasing | J10: =('szacunek rynku_02 2025'!I9+'szacunek rynku_02 2025'!I10)/('szacunek rynku_02 2025'!I64+'szacunek rynku_02 2025'!I65) -> 0.94674782 | M10: osobowe | N10: ='szacunek rynku_02 2025'!I64/SUM('szacunek rynku_02 2025'!I64:I65) -> 0.86601734
I11: pożyczka | J11: =1-J10 -> 0.053252175 | M11: dostawcze | N11: =1-N10 -> 0.13398266
I13: leasing | J13: =('szacunek rynku_02 2025'!I9+'szacunek rynku_02 2025'!I10)/('szacunek rynku_02 2025'!H9+'szacunek rynku_02 2025'!H10)-1 -> -0.013551457 | K13: =('szacunek rynku_02 2025'!N9+'szacunek rynku_02 2025'!N10)/('szacunek rynku_02 2025'!M9+'szacunek rynku_02 2025'!M10)-1 -> 0.0084221304
I14: pożyczka | J14: =('szacunek rynku_02 2025'!I36+'szacunek rynku_02 2025'!I37)/('szacunek rynku_02 2025'!H36+'szacunek rynku_02 2025'!H37)-1 -> 0.37602177 | K14: =('szacunek rynku_02 2025'!N36+'szacunek rynku_02 2025'!N37)/('szacunek rynku_02 2025'!M36+'szacunek rynku_02 2025'!M37)-1 -> 0.43098708
I15: L+P | J15: =('szacunek rynku_02 2025'!I65+'szacunek rynku_02 2025'!I64)/('szacunek rynku_02 2025'!H64+'szacunek rynku_02 2025'!H65)-1 -> 0.0015484094 | K15: =('szacunek rynku_02 2025'!N65+'szacunek rynku_02 2025'!N64)/('szacunek rynku_02 2025'!M64+'szacunek rynku_02 2025'!M65)-1 -> 0.02562189
C37: FINANSOWANIE POJAZDÓW CIĘŻKICH | T37: FINANSOWANIE POJAZDÓW CIĘŻKICH - luty 2025r. Łączne finansowanie leasingiem i pożyczką
J42: 01/2025 | N42: 01/2025
I43: leasing | J43: ='szacunek rynku_02 2025'!I11/'szacunek rynku_02 2025'!I66 -> 0.91816492 | M43: ciężarowe pow. 3.5t | N43: ='szacunek rynku_02 2025'!I67/'szacunek rynku_02 2025'!$I$66 -> 0.19892262
I44: pożyczka | J44: =1-J43 -> 0.081835082 | M44: ciągniki siodłowe | N44: ='szacunek rynku_02 2025'!I68/'szacunek rynku_02 2025'!$I$66 -> 0.49141773
M45: przyczepy/naczepy | N45: ='szacunek rynku_02 2025'!I69/'szacunek rynku_02 2025'!$I$66 -> 0.2324159
M46: autobusy | N46: ='szacunek rynku_02 2025'!I70/'szacunek rynku_02 2025'!$I$66 -> 0.077243746
C70: FINANSOWANIE MASZYN | T70: FINANSOWANIE MASZYN - luty 2025r. Łączne finansowanie leasingiem i pożyczką
J75: 01/2025 | N75: 01/2025
I76: leasing | J76: ='szacunek rynku_02 2025'!I17/'szacunek rynku_02 2025'!I72 -> 0.63946927 | M76: sprzęt budowlany | N76: ='szacunek rynku_02 2025'!I73/'szacunek rynku_02 2025'!$I$72 -> 0.18140786
I77: pożyczka | J77: =1-J76 -> 0.36053073 | M77: maszyny rolnicze | N77: ='szacunek rynku_02 2025'!I74/'szacunek rynku_02 2025'!$I$72 -> 0.26985539
M78: pozostałe maszyny | N78: ='szacunek rynku_02 2025'!I75/'szacunek rynku_02 2025'!$I$72 -> 0.54873675
C103: FINANSOWANIE RUCHOMOŚCI
J108: 02/2025 | N108: 02/2025
I109: leasing | J109: ='szacunek rynku_02 2025'!I25/'szacunek rynku_02 2025'!I80 -> 0.87381344 | M109: OSD | N109: =('szacunek rynku_02 2025'!I64+'szacunek rynku_02 2025'!I65)/'szacunek rynku_02 2025'!I80 -> 0.57500229
I110: pożyczka | J110: =1-J109 -> 0.12618656 | M110: TRK | N110: ='szacunek rynku_02 2025'!I66/'szacunek rynku_02 2025'!I80 -> 0.17178113
M111: maszyny | N111: ='szacunek rynku_02 2025'!I72/'szacunek rynku_02 2025'!I80 -> 0.22055813
M112: IT | N112: ='szacunek rynku_02 2025'!I76/'szacunek rynku_02 2025'!I80 -> 0.0090469519
M113: pozostałe | N113: =('szacunek rynku_02 2025'!I71+'szacunek rynku_02 2025'!I77+'szacunek rynku_02 2025'!I78)/'szacunek rynku_02 2025'!I80 -> 0.023611501

Sheet szacunek rynku_02 2025
B4: Finansowanie leasingiem
C5: I 2025 vs I 2024 | H5: II 2025 vs II 2024 | M5: I-II 2025 vs I-II 2024
C7: I 2024 | D7: I 2025 | F7: I 25 / I 24 | H7: II 2024 | I7: II 2025 | K7: II 25 / II 24 | M7: I-II 2024 | N7: I-II 2025 | P7: I-II 25 / I-II 24
B8: pojazdy | C8: 5428.7309 | D8: 5471.4428 | F8: =IF(C8,D8/C8-1,"") -> 0.0078677486 | H8: 6123.014 | I8: 5904.7082 | K8: =IF(H8,I8/H8-1,"") -> -0.035653334 | M8: 11551.745 | N8: 11376.151 | P8: =IF(M8,N8/M8-1,"") -> -0.015200645
B9: osobowe | C9: 3526.0755 | D9: 3699.9676 | F9: =IF(C9,D9/C9-1,"") -> 0.049316043 | H9: 3977.5261 | I9: 3919.0531 | K9: =IF(H9,I9/H9-1,"") -> -0.014700853 | M9: 7503.6016 | N9: 7619.0207 | P9: =IF(M9,N9/M9-1,"") -> 0.015381822
B10: ciężarowe do 3,5 t | C10: 596.79262 | D10: 558.70292 | F10: =IF(C10,D10/C10-1,"") -> -0.063824012 | H10: 622.49924 | I10: 618.63522 | K10: =IF(H10,I10/H10-1,"") -> -0.0062072674 | M10: 1219.2919 | N10: 1177.3381 | P10: =IF(M10,N10/M10-1,"") -> -0.034408266
B11: pojazdy ciężkie | C11: 1247.7581 | D11: 1160.1261 | F11: =IF(C11,D11/C11-1,"") -> -0.070231524 | H11: 1465.6659 | I11: 1314.7008 | K11: =IF(H11,I11/H11-1,"") -> -0.10300105 | M11: 2713.424 | N11: 2474.8269 | P11: =IF(M11,N11/M11-1,"") -> -0.087932103
B12: ciężarowe pow. 3,5 t | C12: 291.89533 | D12: 285.7861 | F12: =IF(C12,D12/C12-1,"") -> -0.02092952 | H12: 306.20502 | I12: 274.60781 | K12: =IF(H12,I12/H12-1,"") -> -0.10318973 | M12: 598.10035 | N12: 560.39391 | P12: =IF(M12,N12/M12-1,"") -> -0.063043675
B13: ciągniki siodłowe | C13: 635.21185 | D13: 492.46487 | F13: =IF(C13,D13/C13-1,"") -> -0.22472342 | H13: 768.38494 | I13: 631.57609 | K13: =IF(H13,I13/H13-1,"") -> -0.17804729 | M13: 1403.5968 | N13: 1124.041 | P13: =IF(M13,N13/M13-1,"") -> -0.19917104
B14: naczepy / przyczepy | C14: 226.21529 | D14: 213.87706 | F14: =IF(C14,D14/C14-1,"") -> -0.054541991 | H14: 297.46722 | I14: 300.48978 | K14: =IF(H14,I14/H14-1,"") -> 0.010160978 | M14: 523.68251 | N14: 514.36684 | P14: =IF(M14,N14/M14-1,"") -> -0.017788783
B15: autobusy | C15: 94.435605 | D15: 167.9981 | F15: =IF(C15,D15/C15-1,"") -> 0.77896986 | H15: 93.608734 | I15: 108.02712 | K15: =IF(H15,I15/H15-1,"") -> 0.1540282 | M15: 188.04434 | N15: 276.02521 | P15: =IF(M15,N15/M15-1,"") -> 0.46787303
B16: inne | C16: 58.104707 | D16: 52.646157 | F16: =IF(C16,D16/C16-1,"") -> -0.093943334 | H16: 57.322743 | I16: 52.319048 | K16: =IF(H16,I16/H16-1,"") -> -0.087289869 | M16: 115.42745 | N16: 104.96521 | P16: =IF(M16,N16/M16-1,"") -> -0.090639139
B17: maszyny | C17: 1192.1847 | D17: 1158.6346 | F17: =IF(C17,D17/C17-1,"") -> -0.028141676 | H17: 1349.2391 | I17: 1175.6378 | K17: =IF(H17,I17/H17-1,"") -> -0.12866613 | M17: 2541.4239 | N17: 2334.2724 | P17: =IF(M17,N17/M17-1,"") -> -0.081510001
B18: sprzęt budowlany | C18: 275.23265 | D18: 289.2604 | F18: =IF(C18,D18/C18-1,"") -> 0.050966879 | H18: 316.30837 | I18: 285.05372 | K18: =IF(H18,I18/H18-1,"") -> -0.098810697 | M18: 591.54102 | N18: 574.31412 | P18: =IF(M18,N18/M18-1,"") -> -0.029122074
B19: maszyny rolnicze | C19: 124.75364 | D19: 84.024729 | F19: =IF(C19,D19/C19-1,"") -> -0.32647473 | H19: 109.87847 | I19: 101.64944 | K19: =IF(H19,I19/H19-1,"") -> -0.07489215 | M19: 234.63211 | N19: 185.67417 | P19: =IF(M19,N19/M19-1,"") -> -0.20865834
... B25: ruchomości - leasing | C25: 6792.2794 | D25: 6844.9203 | F25: =IF(C25,D25/C25-1,"") -> 0.0077501077 | H25: 7735.1719 | I25: 7283.6572 | K25: =IF(H25,I25/H25-1,"") -> -0.05837164 | M25: 14527.451 | N25: 14128.578 | P25: =IF(M25,N25/M25-1,"") -> -0.027456555
B32: Finasowanie pożyczką
C33: =C$5 -> I 2025 vs I 2024 | H33: =H$5 -> II 2025 vs II 2024 | M33: =M$5 -> I-II 2025 vs I-II 2024
C34: =C$7 -> I 2024 | D34: =D$7 -> I 2025 | F34: =F$7 -> I 25 / I 24 | H34: =H$7 -> II 2024 | I34: =I$7 -> II 2025 | K34: =K$7 -> II 25 / II 24 | M34: =M$7 -> I-II 2024 | N34: =N$7 -> I-II 2025 | P34: =P$7 -> I-II 25 / I-II 24
B35: pojazdy | C35: 278.59541 | D35: 387.07222 | F35: =IF(C35,D35/C35-1,"") -> 0.38937042 | H35: 291.21257 | I35: 373.41939 | K35: =IF(H35,I35/H35-1,"") -> 0.28229143 | M35: 569.80798 | N35: 760.49161 | P35: =IF(M35,N35/M35-1,"") -> 0.33464541
B36: osobowe | C36: 143.37118 | D36: 228.60721 | F36: =IF(C36,D36/C36-1,"") -> 0.59451308 | H36: 158.63937 | I36: 231.70032 | K36: =IF(H36,I36/H36-1,"") -> 0.46054735 | M36: 302.01055 | N36: 460.30753 | P36: =IF(M36,N36/M36-1,"") -> 0.52414388
B37: ciężarowe do 3,5 t | C37: 41.257114 | D37: 45.788807 | F37: =IF(C37,D37/C37-1,"") -> 0.1098403 | H37: 26.847166 | I37: 23.5332 | K37: =IF(H37,I37/H37-1,"") -> -0.1234382 | M37: 68.104279 | N37: 69.322007 | P37: =IF(M37,N37/M37-1,"") -> 0.017880344
B38: pojazdy ciężkie | C38: 92.692279 | D38: 111.38299 | F38: =IF(C38,D38/C38-1,"") -> 0.20164261 | H38: 102.48807 | I38: 117.17791 | K38: =IF(H38,I38/H38-1,"") -> 0.14333226 | M38: 195.18034 | N38: 228.5609 | P38: =IF(M38,N38/M38-1,"") -> 0.17102418
B39: ciężarowe pow. 3,5 t | C39: 10.597281 | D39: 14.222843 | F39: =IF(C39,D39/C39-1,"") -> 0.34212187 | H39: 10.775591 | I39: 10.225259 | K39: =IF(H39,I39/H39-1,"") -> -0.051072119 | M39: 21.372872 | N39: 24.448101 | P39: =IF(M39,N39/M39-1,"") -> 0.1438847
B40: ciągniki siodłowe | C40: 53.737027 | D40: 60.403342 | F40: =IF(C40,D40/C40-1,"") -> 0.12405441 | H40: 63.961094 | I40: 72.074502 | K40: =IF(H40,I40/H40-1,"") -> 0.12684911 | M40: 117.69812 | N40: 132.47784 | P40: =IF(M40,N40/M40-1,"") -> 0.12557314
B41: naczepy / przyczepy | C41: 27.939524 | D41: 21.767794 | F41: =IF(C41,D41/C41-1,"") -> -0.22089605 | H41: 24.996728 | I41: 32.301595 | K41: =IF(H41,I41/H41-1,"") -> 0.29223294 | M41: 52.936251 | N41: 54.069388 | P41: =IF(M41,N41/M41-1,"") -> 0.021405686
B42: autobusy | C42: 0.41844757 | D42: 14.989014 | F42: =IF(C42,D42/C42-1,"") -> 34.820531 | H42: 2.7546522 | I42: 2.5765559 | K42: =IF(H42,I42/H42-1,"") -> -0.064652928 | M42: 3.1730998 | N42: 17.56557 | P42: =IF(M42,N42/M42-1,"") -> 4.5357762
B43: inne | C43: 1.2748418 | D43: 1.2932081 | F43: =IF(C43,D43/C43-1,"") -> 0.01440672 | H43: 3.2379695 | I43: 1.0079597 | K43: =IF(H43,I43/H43-1,"") -> -0.68870624 | M43: 4.5128112 | N43: 2.3011678 | P43: =IF(M43,N43/M43-1,"") -> -0.4900811
B44: maszyny | C44: 573.36614 | D44: 534.87893 | F44: =IF(C44,D44/C44-1,"") -> -0.067125007 | H44: 497.88804 | I44: 662.82082 | K44: =IF(H44,I44/H44-1,"") -> 0.33126478 | M44: 1071.2542 | N44: 1197.6998 | P44: =IF(M44,N44/M44-1,"") -> 0.11803508
B45: sprzęt budowlany | C45: 70.356963 | D45: 42.97897 | F45: =IF(C45,D45/C45-1,"") -> -0.38912983 | H45: 57.908357 | I45: 48.457117 | K45: =IF(H45,I45/H45-1,"") -> -0.16321031 | M45: 128.26532 | N45: 91.436087 | P45: =IF(M45,N45/M45-1,"") -> -0.28713321
B46: maszyny rolnicze | C46: 272.78032 | D46: 318.3596 | F46: =IF(C46,D46/C46-1,"") -> 0.16709151 | H46: 286.83492 | I46: 394.46852 | K46: =IF(H46,I46/H46-1,"") -> 0.37524582 | M46: 559.61524 | N46: 712.82812 | P46: =IF(M46,N46/M46-1,"") -> 0.27378253
... B52: ruchomości - pożyczka | C52: 875.97078 | D52: 958.66572 | F52: =IF(C52,D52/C52-1,"") -> 0.094403771 | H52: 812.18102 | I52: 1051.8259 | K52: =IF(H52,I52/H52-1,"") -> 0.2950634 | M52: 1688.1518 | N52: 2010.4916 | P52: =IF(M52,N52/M52-1,"") -> 0.19094245
B59: Łączne finansowanie leasingiem i pożyczką
C61: =C$5 -> I 2025 vs I 2024 | H61: =H$5 -> II 2025 vs II 2024 | M61: =M$5 -> I-II 2025 vs I-II 2024
C62: =C$7 -> I 2024 | D62: =D$7 -> I 2025 | F62: =F$7 -> I 25 / I 24 | H62: =H$7 -> II 2024 | I62: =I$7 -> II 2025 | K62: =K$7 -> II 25 / II 24 | M62: =M$7 -> I-II 2024 | N62: =N$7 -> I-II 2025 | P62: =P$7 -> I-II 25 / I-II 24
B63: pojazdy | C63: 5707.3263 | D63: 5858.515 | F63: =IF(C63,D63/C63-1,"") -> 0.026490285 | H63: 6414.2266 | I63: 6278.1276 | K63: =IF(H63,I63/H63-1,"") -> -0.021218311 | M63: 12121.553 | N63: 12136.643 | P63: =IF(M63,N63/M63-1,"") -> 0.0012448609
B64: osobowe | C64: 3669.4467 | D64: 3928.5748 | F64: =IF(C64,D64/C64-1,"") -> 0.070617767 | H64: 4136.1655 | I64: 4150.7534 | K64: =IF(H64,I64/H64-1,"") -> 0.003526918 | M64: 7805.6122 | N64: 8079.3282 | P64: =IF(M64,N64/M64-1,"") -> 0.03506657
B65: ciężarowe do 3,5 t | C65: 638.04973 | D65: 604.49172 | F65: =IF(C65,D65/C65-1,"") -> -0.052594655 | H65: 649.34641 | I65: 642.16842 | K65: =IF(H65,I65/H65-1,"") -> -0.011054169 | M65: 1287.3961 | N65: 1246.6601 | P65: =IF(M65,N65/M65-1,"") -> -0.031642157
B66: pojazdy ciężkie | C66: 1340.4504 | D66: 1271.5091 | F66: =IF(C66,D66/C66-1,"") -> -0.0514314 | H66: 1568.154 | I66: 1431.8787 | K66: =IF(H66,I66/H66-1,"") -> -0.086901722 | M66: 2908.6043 | N66: 2703.3878 | P66: =IF(M66,N66/M66-1,"") -> -0.07055498
B67: ciężarowe pow. 3,5 t | C67: 302.49261 | D67: 300.00894 | F67: =IF(C67,D67/C67-1,"") -> -0.008210672 | H67: 316.98062 | I67: 284.83307 | K67: =IF(H67,I67/H67-1,"") -> -0.10141802 | M67: 619.47323 | N67: 584.84201 | P67: =IF(M67,N67/M67-1,"") -> -0.055904297
B68: ciągniki siodłowe | C68: 688.94888 | D68: 552.86821 | F68: =IF(C68,D68/C68-1,"") -> -0.19751925 | H68: 832.34604 | I68: 703.65059 | K68: =IF(H68,I68/H68-1,"") -> -0.15461772 | M68: 1521.2949 | N68: 1256.5188 | P68: =IF(M68,N68/M68-1,"") -> -0.17404654
B69: naczepy / przyczepy | C69: 254.15482 | D69: 235.64485 | F69: =IF(C69,D69/C69-1,"") -> -0.072829479 | H69: 322.46395 | I69: 332.79137 | K69: =IF(H69,I69/H69-1,"") -> 0.032026603 | M69: 576.61876 | N69: 568.43622 | P69: =IF(M69,N69/M69-1,"") -> -0.014190551
B70: autobusy | C70: 94.854053 | D70: 182.98711 | F70: =IF(C70,D70/C70-1,"") -> 0.92914383 | H70: 96.363386 | I70: 110.60367 | K70: =IF(H70,I70/H70-1,"") -> 0.14777696 | M70: 191.21744 | N70: 293.59078 | P70: =IF(M70,N70/M70-1,"") -> 0.53537662
B71: inne | C71: 59.379549 | D71: 53.939365 | F71: =IF(C71,D71/C71-1,"") -> -0.091617126 | H71: 60.560712 | I71: 53.327008 | K71: =IF(H71,I71/H71-1,"") -> -0.1194455 | M71: 119.94026 | N71: 107.26637 | P71: =IF(M71,N71/M71-1,"") -> -0.10566834
B72: maszyny | C72: 1765.5508 | D72: 1693.5136 | F72: =IF(C72,D72/C72-1,"") -> -0.04080159 | H72: 1847.1272 | I72: 1838.4586 | K72: =IF(H72,I72/H72-1,"") -> -0.0046930228 | M72: 3612.678 | N72: 3531.9721 | P72: =IF(M72,N72/M72-1,"") -> -0.02233963
B73: sprzęt budowlany | C73: 345.58961 | D73: 332.23937 | F73: =IF(C73,D73/C73-1,"") -> -0.038630339 | H73: 374.21673 | I73: 333.51084 | K73: =IF(H73,I73/H73-1,"") -> -0.10877625 | M73: 719.80634 | N73: 665.75021 | P73: =IF(M73,N73/M73-1,"") -> -0.075098165
B74: maszyny rolnicze | C74: 397.53396 | D74: 402.38433 | F74: =IF(C74,D74/C74-1,"") -> 0.012201131 | H74: 396.71339 | I74: 496.11796 | K74: =IF(H74,I74/H74-1,"") -> 0.25057023 | M74: 794.24735 | N74: 898.50229 | P74: =IF(M74,N74/M74-1,"") -> 0.13126255
... B80: ruchomości - leasing + pożyczka | C80: 7668.2502 | D80: 7803.586 | F80: =IF(C80,D80/C80-1,"") -> 0.017648856 | H80: 8547.3529 | I80: 8335.4831 | K80: =IF(H80,I80/H80-1,"") -> -0.024787764 | M80: 16215.603 | N80: 16139.069 | P80: =IF(M80,N80/M80-1,"") -> -0.0047197707
