Workbook
Name cx: '[1]Dane Le'!#REF!
Name cx: '[1]Dane Le'!#REF!
Name cx: '[1]Dane Le'!#REF!
Name Excel_BuiltIn_Print_Area_2: #REF!
Name Excel_BuiltIn_Print_Area_2: #REF!
Name Excel_BuiltIn_Print_Area_2: #REF!
Name Excel_BuiltIn_Print_Area_4: #REF!
Name Excel_BuiltIn_Print_Area_4: #REF!
Name Excel_BuiltIn_Print_Area_4: #REF!
Name v: #REF!
Name v: #REF!
Name v: #REF!

Sheet summary_04 2025
B2: Związek Polskiego Leasingu, Warszawa, dnia 15-05-2025
C5: FINANSOWANIE POJAZDÓW LEKKICH | T5: FINANSOWANIE POJAZDÓW LEKKICH - kwiecień 2025r. Łączne finansowanie leasingiem i pożyczką
J10: 04 2025 | N10: 04 2025
I11: leasing | J11: =('szacunek rynku_04 2025'!I9+'szacunek rynku_04 2025'!I10)/('szacunek rynku_04 2025'!I64+'szacunek rynku_04 2025'!I65) -> 0.93893537 | M11: osobowe | N11: ='szacunek rynku_04 2025'!I64/SUM('szacunek rynku_04 2025'!I64:I65) -> 0.88386734
I12: pożyczka | J12: =1-J11 -> 0.061064625 | M12: dostawcze | N12: =1-N11 -> 0.11613266
I14: leasing | J14: =('szacunek rynku_04 2025'!I9+'szacunek rynku_04 2025'!I10)/('szacunek rynku_04 2025'!H9+'szacunek rynku_04 2025'!H10)-1 -> 0.11081212 | K14: =('szacunek rynku_04 2025'!N9+'szacunek rynku_04 2025'!N10)/('szacunek rynku_04 2025'!M9+'szacunek rynku_04 2025'!M10)-1 -> 0.051793238
I15: pożyczka | J15: =('szacunek rynku_04 2025'!I36+'szacunek rynku_04 2025'!I37)/('szacunek rynku_04 2025'!H36+'szacunek rynku_04 2025'!H37)-1 -> 0.20104336 | K15: =('szacunek rynku_04 2025'!N36+'szacunek rynku_04 2025'!N37)/('szacunek rynku_04 2025'!M36+'szacunek rynku_04 2025'!M37)-1 -> 0.30509907
I16: L+P | J16: =('szacunek rynku_04 2025'!I65+'szacunek rynku_04 2025'!I64)/('szacunek rynku_04 2025'!H64+'szacunek rynku_04 2025'!H65)-1 -> 0.1159316 | K16: =('szacunek rynku_04 2025'!N65+'szacunek rynku_04 2025'!N64)/('szacunek rynku_04 2025'!M64+'szacunek rynku_04 2025'!M65)-1 -> 0.06347317
C38: FINANSOWANIE POJAZDÓW CIĘŻKICH | T38: FINANSOWANIE POJAZDÓW CIĘŻKICH - kwiecień 2025r. Łączne finansowanie leasingiem i pożyczką
J43: 04/2025 | N43: 04/2025
I44: leasing | J44: ='szacunek rynku_04 2025'!I11/'szacunek rynku_04 2025'!I66 -> 0.91421749 | M44: ciężarowe pow. 3.5t | N44: ='szacunek rynku_04 2025'!I67/'szacunek rynku_04 2025'!$I$66 -> 0.23853728
I45: pożyczka | J45: =1-J44 -> 0.085782508 | M45: ciągniki siodłowe | N45: ='szacunek rynku_04 2025'!I68/'szacunek rynku_04 2025'!$I$66 -> 0.44929119
M46: przyczepy/naczepy | N46: ='szacunek rynku_04 2025'!I69/'szacunek rynku_04 2025'!$I$66 -> 0.21159918
M47: autobusy | N47: ='szacunek rynku_04 2025'!I70/'szacunek rynku_04 2025'!$I$66 -> 0.10057235
C71: FINANSOWANIE MASZYN | T71: FINANSOWANIE MASZYN - kwiecień 2025r. Łączne finansowanie leasingiem i pożyczką
J76: 04/2025 | N76: 04/2025
I77: leasing | J77: ='szacunek rynku_04 2025'!I17/'szacunek rynku_04 2025'!I72 -> 0.622716 | M77: sprzęt budowlany | N77: ='szacunek rynku_04 2025'!I73/'szacunek rynku_04 2025'!$I$72 -> 0.17739021
I78: pożyczka | J78: =1-J77 -> 0.377284 | M78: maszyny rolnicze | N78: ='szacunek rynku_04 2025'!I74/'szacunek rynku_04 2025'!$I$72 -> 0.30312711
M79: pozostałe maszyny | N79: ='szacunek rynku_04 2025'!I75/'szacunek rynku_04 2025'!$I$72 -> 0.51948268
C104: FINANSOWANIE RUCHOMOŚCI
J109: 04/2025 | N109: 04/2025
I110: leasing | J110: ='szacunek rynku_04 2025'!I25/'szacunek rynku_04 2025'!I80 -> 0.85540921 | M110: OSD | N110: =('szacunek rynku_04 2025'!I64+'szacunek rynku_04 2025'!I65)/'szacunek rynku_04 2025'!I80 -> 0.55830426
I111: pożyczka | J111: =1-J110 -> 0.14459079 | M111: TRK | N111: ='szacunek rynku_04 2025'!I66/'szacunek rynku_04 2025'!I80 -> 0.17068304
M112: maszyny | N112: ='szacunek rynku_04 2025'!I72/'szacunek rynku_04 2025'!I80 -> 0.22938905
M113: IT | N113: ='szacunek rynku_04 2025'!I76/'szacunek rynku_04 2025'!I80 -> 0.011655847
M114: pozostałe | N114: =('szacunek rynku_04 2025'!I71+'szacunek rynku_04 2025'!I77+'szacunek rynku_04 2025'!I78)/'szacunek rynku_04 2025'!I80 -> 0.029967798

Sheet szacunek rynku_04 2025
B2: Związek Polskiego Leasingu, Warszawa, dnia 15-05-2025
B4: Finansowanie leasingiem
C5: I-III 2025 vs I-III 2024 | H5: IV 2025 vs IV 2024 | M5: I-IV 2025 vs I-IV 2024
C7: I-III 2024 | D7: I-III 2025 | F7: I-III 25 / I-III 24 | H7: IV 2024 | I7: IV 2025 | K7: IV 25 / IV 24 | M7: I-IV 2024 | N7: I-IV 2025 | P7: I-IV 25 / I-IV 24
B8: pojazdy | C8: 18285.76 | D8: 18453.771 | F8: =IF(C8,D8/C8-1,"") -> 0.0091880599 | H8: 6315.9447 | I8: 6888.2772 | K8: =IF(H8,I8/H8-1,"") -> 0.090617077 | M8: =SUM(M9:M10,M12:M16) -> 24601.705 | N8: =SUM(N9:N10,N12:N16) -> 25342.048 | P8: =IF(M8,N8/M8-1,"") -> 0.030093163
B9: osobowe | C9: 11836.993 | D9: 12331.349 | F9: =IF(C9,D9/C9-1,"") -> 0.041763644 | H9: 4075.4753 | I9: 4603.7195 | K9: =IF(H9,I9/H9-1,"") -> 0.12961534 | M9: =C9+H9 -> 15912.468 | N9: =D9+I9 -> 16935.068 | P9: =IF(M9,N9/M9-1,"") -> 0.064264078
B10: ciężarowe do 3,5 t | C10: 1912.8602 | D10: 1853.208 | F10: =IF(C10,D10/C10-1,"") -> -0.031184851 | H10: 625.48977 | I10: 618.16954 | K10: =IF(H10,I10/H10-1,"") -> -0.011703191 | M10: =C10+H10 -> 2538.35 | N10: =D10+I10 -> 2471.3775 | P10: =IF(M10,N10/M10-1,"") -> -0.026384261
B11: pojazdy ciężkie | C11: 4315.3954 | D11: 4081.5883 | F11: =IF(C11,D11/C11-1,"") -> -0.054179767 | H11: 1523.6641 | I11: 1554.3932 | K11: =IF(H11,I11/H11-1,"") -> 0.020167936 | M11: =M12+M13+M14+M15 -> 5839.0595 | N11: =N12+N13+N14+N15 -> 5635.9815 | P11: =IF(M11,N11/M11-1,"") -> -0.034779224
B12: ciężarowe pow. 3,5 t | C12: 957.23072 | D12: 954.49988 | F12: =IF(C12,D12/C12-1,"") -> -0.0028528529 | H12: 349.1366 | I12: 389.14382 | K12: =IF(H12,I12/H12-1,"") -> 0.11458901 | M12: =C12+H12 -> 1306.3673 | N12: =D12+I12 -> 1343.6437 | P12: =IF(M12,N12/M12-1,"") -> 0.028534377
B13: ciągniki siodłowe | C13: 2233.2037 | D13: 1805.1816 | F13: =IF(C13,D13/C13-1,"") -> -0.19166282 | H13: 724.0207 | I13: 689.62423 | K13: =IF(H13,I13/H13-1,"") -> -0.047507577 | M13: =C13+H13 -> 2957.2244 | N13: =D13+I13 -> 2494.8058 | P13: =IF(M13,N13/M13-1,"") -> -0.15636912
B14: naczepy / przyczepy | C14: 826.21848 | D14: 903.18723 | F14: =IF(C14,D14/C14-1,"") -> 0.093157866 | H14: 308.60526 | I14: 325.16496 | K14: =IF(H14,I14/H14-1,"") -> 0.053659788 | M14: =C14+H14 -> 1134.8237 | N14: =D14+I14 -> 1228.3522 | P14: =IF(M14,N14/M14-1,"") -> 0.082416714
B15: autobusy | C15: 298.74253 | D15: 418.71961 | F15: =IF(C15,D15/C15-1,"") -> 0.40160697 | H15: 141.9015 | I15: 150.46022 | K15: =IF(H15,I15/H15-1,"") -> 0.060314507 | M15: =C15+H15 -> 440.64403 | N15: =D15+I15 -> 569.17983 | P15: =IF(M15,N15/M15-1,"") -> 0.29169986
B16: inne | C16: 220.51197 | D16: 187.62606 | F16: =IF(C16,D16/C16-1,"") -> -0.14913434 | H16: 91.315563 | I16: 111.99494 | K16: =IF(H16,I16/H16-1,"") -> 0.22646056 | M16: =C16+H16 -> 311.82753 | N16: =D16+I16 -> 299.621 | P16: =IF(M16,N16/M16-1,"") -> -0.039145141
B17: maszyny | C17: 4081.0139 | D17: 3638.044 | F17: =IF(C17,D17/C17-1,"") -> -0.1085441 | H17: 1572.6769 | I17: 1422.9306 | K17: =IF(H17,I17/H17-1,"") -> -0.09521749 | M17: =SUM(M18:M20) -> 5653.6908 | N17: =SUM(N18:N20) -> 5060.9745 | P17: =IF(M17,N17/M17-1,"") -> -0.10483706
B18: sprzęt budowlany | C18: 976.53231 | D18: 962.40156 | F18: =IF(C18,D18/C18-1,"") -> -0.014470328 | H18: 388.32718 | I18: 352.64242 | K18: =IF(H18,I18/H18-1,"") -> -0.091893552 | M18: =C18+H18 -> 1364.8595 | N18: =D18+I18 -> 1315.044 | P18: =IF(M18,N18/M18-1,"") -> -0.036498634
B19: maszyny rolnicze | C19: 349.40774 | D19: 270.55064 | F19: =IF(C19,D19/C19-1,"") -> -0.2256879 | H19: 138.34645 | I19: 122.92595 | K19: =IF(H19,I19/H19-1,"") -> -0.11146292 | M19: =C19+H19 -> 487.75419 | N19: =D19+I19 -> 393.47659 | P19: =IF(M19,N19/M19-1,"") -> -0.19328916
B20: inne MiU | C20: 2755.0739 | D20: 2405.0918 | F20: =IF(C20,D20/C20-1,"") -> -0.12703185 | H20: 1046.0033 | I20: 947.36219 | K20: =IF(H20,I20/H20-1,"") -> -0.094302845 | M20: =C20+H20 -> 3801.0772 | N20: =D20+I20 -> 3352.454 | P20: =IF(M20,N20/M20-1,"") -> -0.11802528
B21: IT | C21: 173.45318 | D21: 225.58193 | F21: =IF(C21,D21/C21-1,"") -> 0.30053502 | H21: 65.859081 | I21: 85.481615 | K21: =IF(H21,I21/H21-1,"") -> 0.29794728 | M21: =C21+H21 -> 239.31226 | N21: =D21+I21 -> 311.06355 | P21: =IF(M21,N21/M21-1,"") -> 0.29982287
B22: statki, samoloty, kolej | C22: 283.53174 | D22: 263.87138 | F22: =IF(C22,D22/C22-1,"") -> -0.069340973 | H22: 96.733711 | I22: 99.501055 | K22: =IF(H22,I22/H22-1,"") -> 0.028607853 | M22: =C22+H22 -> 380.26546 | N22: =D22+I22 -> 363.37243 | P22: =IF(M22,N22/M22-1,"") -> -0.044424291
B23: inne | C23: 111.12099 | D23: 101.48345 | F23: =IF(C23,D23/C23-1,"") -> -0.086730209 | H23: 28.867363 | I23: 24.894953 | K23: =IF(H23,I23/H23-1,"") -> -0.13760904 | M23: =C23+H23 -> 139.98836 | N23: =D23+I23 -> 126.3784 | P23: =IF(M23,N23/M23-1,"") -> -0.097222066
B25: ruchomości - leasing | C25: 22934.88 | D25: 22682.752 | F25: =IF(C25,D25/C25-1,"") -> -0.010993233 | H25: 8080.0818 | I25: 8521.0854 | K25: =IF(H25,I25/H25-1,"") -> 0.054579097 | M25: =SUM(M8,M18:M23) -> 31014.962 | N25: =SUM(N8,N18:N23) -> 31203.837 | P25: =IF(M25,N25/M25-1,"") -> 0.0060898058
B32: Finasowanie pożyczką
C33: =C$5 -> I-III 2025 vs I-III 2024 | H33: =H$5 -> IV 2025 vs IV 2024 | M33: =M$5 -> I-IV 2025 vs I-IV 2024
C34: =C$7 -> I-III 2024 | D34: =D$7 -> I-III 2025 | F34: =F$7 -> I-III 25 / I-III 24 | H34: =H$7 -> IV 2024 | I34: =I$7 -> IV 2025 | K34: =K$7 -> IV 25 / IV 24 | M34: =M$7 -> I-IV 2024 | N34: =N$7 -> I-IV 2025 | P34: =P$7 -> I-IV 25 / I-IV 24
B35: pojazdy | C35: 953.6325 | D35: 1249.6994 | F35: =IF(C35,D35/C35-1,"") -> 0.31046226 | H35: 429.6123 | I35: 491.07553 | K35: =IF(H35,I35/H35-1,"") -> 0.14306674 | M35: =SUM(M36:M37,M39:M43) -> 1383.2448 | N35: =SUM(N36:N37,N39:N43) -> 1740.7749 | P35: =IF(M35,N35/M35-1,"") -> 0.25847206
B36: osobowe | C36: 502.2633 | D36: 720.60167 | F36: =IF(C36,D36/C36-1,"") -> 0.43470899 | H36: 240.97774 | I36: 311.90866 | K36: =IF(H36,I36/H36-1,"") -> 0.29434635 | M36: =C36+H36 -> 743.24104 | N36: =D36+I36 -> 1032.5103 | P36: =IF(M36,N36/M36-1,"") -> 0.38919983
B37: ciężarowe do 3,5 t | C37: 106.86587 | D37: 103.79537 | F37: =IF(C37,D37/C37-1,"") -> -0.028732276 | H37: 41.785493 | I37: 27.702245 | K37: =IF(H37,I37/H37-1,"") -> -0.33703678 | M37: =C37+H37 -> 148.65136 | N37: =D37+I37 -> 131.49761 | P37: =IF(M37,N37/M37-1,"") -> -0.11539583
B38: pojazdy ciężkie | C38: 335.38324 | D38: 418.91414 | F38: =IF(C38,D38/C38-1,"") -> 0.24906105 | H38: 143.14851 | I38: 145.85123 | K38: =IF(H38,I38/H38-1,"") -> 0.01888058 | M38: =M39+M40+M41+M42 -> 478.53174 | N38: =N39+N40+N41+N42 -> 564.76537 | P38: =IF(M38,N38/M38-1,"") -> 0.18020462
B39: ciężarowe pow. 3,5 t | C39: 33.65379 | D39: 48.270508 | F39: =IF(C39,D39/C39-1,"") -> 0.43432609 | H39: 23.491773 | I39: 16.427868 | K39: =IF(H39,I39/H39-1,"") -> -0.30069698 | M39: =C39+H39 -> 57.145562 | N39: =D39+I39 -> 64.698376 | P39: =IF(M39,N39/M39-1,"") -> 0.13216799
B40: ciągniki siodłowe | C40: 214.01673 | D40: 230.10677 | F40: =IF(C40,D40/C40-1,"") -> 0.075181194 | H40: 76.742503 | I40: 74.280622 | K40: =IF(H40,I40/H40-1,"") -> -0.032079767 | M40: =C40+H40 -> 290.75924 | N40: =D40+I40 -> 304.38739 | P40: =IF(M40,N40/M40-1,"") -> 0.046870916
B41: naczepy / przyczepy | C41: 79.43201 | D41: 106.32194 | F41: =IF(C41,D41/C41-1,"") -> 0.33852759 | H41: 41.367944 | I41: 34.605375 | K41: =IF(H41,I41/H41-1,"") -> -0.16347364 | M41: =C41+H41 -> 120.79995 | N41: =D41+I41 -> 140.92731 | P41: =IF(M41,N41/M41-1,"") -> 0.16661727
B42: autobusy | C42: 8.2807064 | D42: 34.21493 | F42: =IF(C42,D42/C42-1,"") -> 3.1318854 | H42: 1.5462869 | I42: 20.537369 | K42: =IF(H42,I42/H42-1,"") -> 12.281733 | M42: =C42+H42 -> 9.8269933 | N42: =D42+I42 -> 54.752299 | P42: =IF(M42,N42/M42-1,"") -> 4.5716227
B43: inne | C43: 9.1200994 | D43: 6.3882254 | F43: =IF(C43,D43/C43-1,"") -> -0.29954433 | H43: 3.7005536 | I43: 5.613385 | K43: =IF(H43,I43/H43-1,"") -> 0.51690413 | M43: =C43+H43 -> 12.820653 | N43: =D43+I43 -> 12.00161 | P43: =IF(M43,N43/M43-1,"") -> -0.063884627
B44: maszyny | C44: 1809.568 | D44: 2200.172 | F44: =IF(C44,D44/C44-1,"") -> 0.21585482 | H44: 728.02591 | I44: 862.10879 | K44: =IF(H44,I44/H44-1,"") -> 0.18417323 | M44: =SUM(M45:M47) -> 2537.5939 | N44: =SUM(N45:N47) -> 3062.2808 | P44: =IF(M44,N44/M44-1,"") -> 0.20676549
B45: sprzęt budowlany | C45: 220.9464 | D45: 149.33825 | F45: =IF(C45,D45/C45-1,"") -> -0.32409739 | H45: 91.270246 | I45: 52.701185 | K45: =IF(H45,I45/H45-1,"") -> -0.42258088 | M45: =C45+H45 -> 312.21665 | N45: =D45+I45 -> 202.03944 | P45: =IF(M45,N45/M45-1,"") -> -0.35288705
B46: maszyny rolnicze | C46: 973.56905 | D46: 1406.644 | F46: =IF(C46,D46/C46-1,"") -> 0.44483232 | H46: 406.23926 | I46: 569.73143 | K46: =IF(H46,I46/H46-1,"") -> 0.40245293 | M46: =C46+H46 -> 1379.8083 | N46: =D46+I46 -> 1976.3755 | P46: =IF(M46,N46/M46-1,"") -> 0.4323551
B47: inne MiU | C47: 615.05258 | D47: 644.18972 | F47: =IF(C47,D47/C47-1,"") -> 0.047373427 | H47: 230.5164 | I47: 239.67617 | K47: =IF(H47,I47/H47-1,"") -> 0.039735859 | M47: =C47+H47 -> 845.56898 | N47: =D47+I47 -> 883.8659 | P47: =IF(M47,N47/M47-1,"") -> 0.045291297
B48: IT | C48: 35.038568 | D48: 39.685968 | F48: =IF(C48,D48/C48-1,"") -> 0.13263671 | H48: 7.1653795 | I48: 30.627105 | K48: =IF(H48,I48/H48-1,"") -> 3.2743172 | M48: =C48+H48 -> 42.203948 | N48: =D48+I48 -> 70.313073 | P48: =IF(M48,N48/M48-1,"") -> 0.66603072
B49: statki, samoloty, kolej | C49: 26.733767 | D49: 24.421165 | F49: =IF(C49,D49/C49-1,"") -> -0.086504894 | H49: 17.530331 | I49: 52.532901 | K49: =IF(H49,I49/H49-1,"") -> 1.9966862 | M49: =C49+H49 -> 44.264098 | N49: =D49+I49 -> 76.954066 | P49: =IF(M49,N49/M49-1,"") -> 0.73852105
B50: inne | C50: 12.94471 | D50: 12.838594 | F50: =IF(C50,D50/C50-1,"") -> -0.0081976473 | H50: 0.067215325 | I50: 3.9844165 | K50: =IF(H50,I50/H50-1,"") -> 58.278394 | M50: =C50+H50 -> 13.011925 | N50: =D50+I50 -> 16.82301 | P50: =IF(M50,N50/M50-1,"") -> 0.2928917
...
