Workbook
Name cx: '[1]Dane Le'!#REF!
Name cx: '[1]Dane Le'!#REF!
Name cx: '[1]Dane Le'!#REF!
Name Excel_BuiltIn_Print_Area_2: #REF!
Name Excel_BuiltIn_Print_Area_2: #REF!
Name Excel_BuiltIn_Print_Area_2: #REF!
Name Excel_BuiltIn_Print_Area_4: #REF!
Name Excel_BuiltIn_Print_Area_4: #REF!
Name Excel_BuiltIn_Print_Area_4: #REF!
Name v: #REF!
Name v: #REF!
Name v: #REF!

Sheet summary_05 2025
B2: Związek Polskiego Leasingu, Warszawa, dnia 16-06-2025
C5: FINANSOWANIE POJAZDÓW LEKKICH | T5: FINANSOWANIE POJAZDÓW LEKKICH - maj 2025r. Łączne finansowanie leasingiem i pożyczką
J10: 04 2025 | N10: 04 2025
I11: leasing | J11: =('szacunek rynku_05 2025'!I39+'szacunek rynku_05 2025'!I40)/('szacunek rynku_05 2025'!I11+'szacunek rynku_05 2025'!I12) -> 0.92790599 | M11: osobowe | N11: ='szacunek rynku_05 2025'!I11/SUM('szacunek rynku_05 2025'!I11:I12) -> 0.88356564
I12: pożyczka | J12: =1-J11 -> 0.072094007 | M12: dostawcze | N12: =1-N11 -> 0.11643436
I14: leasing | J14: =('szacunek rynku_05 2025'!I39+'szacunek rynku_05 2025'!I40)/('szacunek rynku_05 2025'!H39+'szacunek rynku_05 2025'!H40)-1 -> 0.1111787 | K14: =('szacunek rynku_05 2025'!N39+'szacunek rynku_05 2025'!N40)/('szacunek rynku_05 2025'!M39+'szacunek rynku_05 2025'!M40)-1 -> 0.063457797
I15: pożyczka | J15: =('szacunek rynku_05 2025'!I66+'szacunek rynku_05 2025'!I67)/('szacunek rynku_05 2025'!H66+'szacunek rynku_05 2025'!H67)-1 -> 0.74902609 | K15: =('szacunek rynku_05 2025'!N66+'szacunek rynku_05 2025'!N67)/('szacunek rynku_05 2025'!M66+'szacunek rynku_05 2025'!M67)-1 -> 0.39377096
I16: L+P | J16: =('szacunek rynku_05 2025'!I12+'szacunek rynku_05 2025'!I11)/('szacunek rynku_05 2025'!H11+'szacunek rynku_05 2025'!H12)-1 -> 0.1411824 | K16: =('szacunek rynku_05 2025'!N12+'szacunek rynku_05 2025'!N11)/('szacunek rynku_05 2025'!M11+'szacunek rynku_05 2025'!M12)-1 -> 0.078748858
C38: FINANSOWANIE POJAZDÓW CIĘŻKICH | T38: FINANSOWANIE POJAZDÓW CIĘŻKICH - maj 2025r. Łączne finansowanie leasingiem i pożyczką
J43: 04/2025 | N43: 04/2025
I44: leasing | J44: ='szacunek rynku_05 2025'!I41/'szacunek rynku_05 2025'!I13 -> 0.90012018 | M44: ciężarowe pow. 3.5t | N44: ='szacunek rynku_05 2025'!I14/'szacunek rynku_05 2025'!$I$13 -> 0.21247695
I45: pożyczka | J45: =1-J44 -> 0.099879817 | M45: ciągniki siodłowe | N45: ='szacunek rynku_05 2025'!I15/'szacunek rynku_05 2025'!$I$13 -> 0.48581269
M46: przyczepy/naczepy | N46: ='szacunek rynku_05 2025'!I16/'szacunek rynku_05 2025'!$I$13 -> 0.22283947
M47: autobusy | N47: ='szacunek rynku_05 2025'!I17/'szacunek rynku_05 2025'!$I$13 -> 0.078870887
C72: FINANSOWANIE MASZYN | T72: FINANSOWANIE MASZYN - maj 2025r. Łączne finansowanie leasingiem i pożyczką
J77: 04/2025 | N77: 04/2025
I78: leasing | J78: ='szacunek rynku_05 2025'!I47/'szacunek rynku_05 2025'!I19 -> 0.62701669 | M78: sprzęt budowlany | N78: ='szacunek rynku_05 2025'!I20/'szacunek rynku_05 2025'!$I$19 -> 0.17222836
I79: pożyczka | J79: =1-J78 -> 0.37298331 | M79: maszyny rolnicze | N79: ='szacunek rynku_05 2025'!I21/'szacunek rynku_05 2025'!$I$19 -> 0.30177814
M80: pozostałe maszyny | N80: ='szacunek rynku_05 2025'!I22/'szacunek rynku_05 2025'!$I$19 -> 0.52599351
C106: FINANSOWANIE RUCHOMOŚCI
J111: 04/2025 | N111: 04/2025
I112: leasing | J112: ='szacunek rynku_05 2025'!I55/'szacunek rynku_05 2025'!I27 -> 0.85456203 | M112: OSD | N112: =('szacunek rynku_05 2025'!I11+'szacunek rynku_05 2025'!I12)/'szacunek rynku_05 2025'!I27 -> 0.56639801
I113: pożyczka | J113: =1-J112 -> 0.14543797 | M113: TRK | N113: ='szacunek rynku_05 2025'!I13/'szacunek rynku_05 2025'!I27 -> 0.16418895
M114: maszyny | N114: ='szacunek rynku_05 2025'!I19/'szacunek rynku_05 2025'!I27 -> 0.22528974
M115: IT | N115: ='szacunek rynku_05 2025'!I23/'szacunek rynku_05 2025'!I27 -> 0.010944713
M116: pozostałe | N116: =('szacunek rynku_05 2025'!I18+'szacunek rynku_05 2025'!I24+'szacunek rynku_05 2025'!I25)/'szacunek rynku_05 2025'!I27 -> 0.033178589

Sheet szacunek rynku_05 2025
B2: Związek Polskiego Leasingu, Warszawa, dnia 16-06-2025
B4: Łączne finansowanie leasingiem i pożyczką
C7: =C$35 -> I-IV 2025 vs I-IV 2024 | H7: =H$35 -> V 2025 vs V 2024 | M7: =M$35 -> I-V 2025 vs I-V 2024
C9: =C$37 -> I-IV 2024 | D9: =D$37 -> I-IV 2025 | F9: =F$37 -> I-IV 25/ I-IV 24 | H9: =H$37 -> V 2024 | I9: =I$37 -> V 2025 | K9: =K$37 -> V 2025/ V 2024 | M9: =M$37 -> I-V 2024 | N9: =N$37 -> I-V 2025 | P9: =P$37 -> I-V 25/ I-V 24
B10: pojazdy | C10: =C38+C65 -> 25984.95 | D10: =D38+D65 -> 27082.823 | F10: =IF(C10,D10/C10-1,"") -> 0.04225035 | H10: =H38+H65 -> 6381.2551 | I10: =I38+I65 -> 7065.7001 | K10: =IF(H10,I10/H10-1,"") -> 0.10725868 | M10: =SUM(M11:M12,M14:M18) -> 32366.205 | N10: =SUM(N11:N12,N14:N18) -> 34148.523 | P10: =IF(M10,N10/M10-1,"") -> 0.05506726
B11: osobowe | C11: =C39+C66 -> 16655.709 | D11: =D39+D66 -> 17967.578 | F11: =IF(C11,D11/C11-1,"") -> 0.078763946 | H11: =H39+H66 -> 4080.0822 | I11: =I39+I66 -> 4771.9297 | K11: =IF(H11,I11/H11-1,"") -> 0.16956707 | M11: =C11+H11 -> 20735.791 | N11: =D11+I11 -> 22739.508 | P11: =IF(M11,N11/M11-1,"") -> 0.09663084
B12: ciężarowe do 3,5 t | C12: =C40+C67 -> 2687.0013 | D12: =D40+D67 -> 2602.8751 | F12: =IF(C12,D12/C12-1,"") -> -0.031308594 | H12: =H40+H67 -> 652.52173 | I12: =I40+I67 -> 628.83453 | K12: =IF(H12,I12/H12-1,"") -> -0.036301014 | M12: =C12+H12 -> 3339.5231 | N12: =D12+I12 -> 3231.7096 | P12: =IF(M12,N12/M12-1,"") -> -0.032284082
B13: pojazdy ciężkie | C13: =C41+C68 -> 6317.5912 | D13: =D41+D68 -> 6200.7469 | F13: =IF(C13,D13/C13-1,"") -> -0.018495076 | H13: =H41+H68 -> 1563.6082 | I13: =I41+I68 -> 1565.5878 | K13: =IF(H13,I13/H13-1,"") -> 0.0012660404 | M13: =M14+M15+M16+M17 -> 7881.1994 | N13: =N14+N15+N16+N17 -> 7766.3346 | P13: =IF(M13,N13/M13-1,"") -> -0.014574525
B14: ciężarowe pow. 3,5 t | C14: =C42+C69 -> 1363.5129 | D14: =D42+D69 -> 1408.3421 | F14: =IF(C14,D14/C14-1,"") -> 0.032877718 | H14: =H42+H69 -> 357.78192 | I14: =I42+I69 -> 332.6513 | K14: =IF(H14,I14/H14-1,"") -> -0.070240042 | M14: =C14+H14 -> 1721.2948 | N14: =D14+I14 -> 1740.9934 | P14: =IF(M14,N14/M14-1,"") -> 0.011444045
B15: ciągniki siodłowe | C15: =C43+C70 -> 3247.9836 | D15: =D43+D70 -> 2799.1932 | F15: =IF(C15,D15/C15-1,"") -> -0.13817509 | H15: =H43+H70 -> 806.06694 | I15: =I43+I70 -> 760.5824 | K15: =IF(H15,I15/H15-1,"") -> -0.056427738 | M15: =C15+H15 -> 4054.0506 | N15: =D15+I15 -> 3559.7756 | P15: =IF(M15,N15/M15-1,"") -> -0.12192126
B16: naczepy / przyczepy | C16: =C44+C71 -> 1255.6237 | D16: =D44+D71 -> 1369.2795 | F16: =IF(C16,D16/C16-1,"") -> 0.090517408 | H16: =H44+H71 -> 308.91512 | I16: =I44+I71 -> 348.87475 | K16: =IF(H16,I16/H16-1,"") -> 0.12935473 | M16: =C16+H16 -> 1564.5388 | N16: =D16+I16 -> 1718.1543 | P16: =IF(M16,N16/M16-1,"") -> 0.09818576
B17: autobusy | C17: =C45+C72 -> 450.47102 | D17: =D45+D72 -> 623.93213 | F17: =IF(C17,D17/C17-1,"") -> 0.38506607 | H17: =H45+H72 -> 90.844184 | I17: =I45+I72 -> 123.47929 | K17: =IF(H17,I17/H17-1,"") -> 0.35924272 | M17: =C17+H17 -> 541.3152 | N17: =D17+I17 -> 747.41142 | P17: =IF(M17,N17/M17-1,"") -> 0.38073237
B18: inne | C18: =C46+C73 -> 324.64818 | D18: =D46+D73 -> 311.62261 | F18: =IF(C18,D18/C18-1,"") -> -0.040122126 | H18: =H46+H73 -> 85.04302 | I18: =I46+I73 -> 99.348066 | K18: =IF(H18,I18/H18-1,"") -> 0.16820952 | M18: =C18+H18 -> 409.6912 | N18: =D18+I18 -> 410.97067 | P18: =IF(M18,N18/M18-1,"") -> 0.0031230127
B19: maszyny | C19: =C47+C74 -> 8191.2848 | D19: =D47+D74 -> 8123.2553 | F19: =IF(C19,D19/C19-1,"") -> -0.0083051019 | H19: =H47+H74 -> 2027.272 | I19: =I47+I74 -> 2148.201 | K19: =IF(H19,I19/H19-1,"") -> 0.059651124 | M19: =SUM(M20:M22) -> 10218.557 | N19: =SUM(N20:N22) -> 10271.456 | P19: =IF(M19,N19/M19-1,"") -> 0.005176817
B20: sprzęt budowlany | C20: =C48+C75 -> 1677.0761 | D20: =D48+D75 -> 1517.0834 | F20: =IF(C20,D20/C20-1,"") -> -0.095399795 | H20: =H48+H75 -> 459.09752 | I20: =I48+I75 -> 369.98114 | K20: =IF(H20,I20/H20-1,"") -> -0.1941121 | M20: =C20+H20 -> 2136.1737 | N20: =D20+I20 -> 1887.0646 | P20: =IF(M20,N20/M20-1,"") -> -0.11661463
B21: maszyny rolnicze | C21: =C49+C76 -> 1867.5625 | D21: =D49+D76 -> 2369.8521 | F21: =IF(C21,D21/C21-1,"") -> 0.26895462 | H21: =H49+H76 -> 483.49672 | I21: =I49+I76 -> 648.28011 | K21: =IF(H21,I21/H21-1,"") -> 0.34081594 | M21: =C21+H21 -> 2351.0592 | N21: =D21+I21 -> 3018.1322 | P21: =IF(M21,N21/M21-1,"") -> 0.28373294
B22: inne MiU | C22: =C50+C77 -> 4646.6461 | D22: =D50+D77 -> 4236.3198 | F22: =IF(C22,D22/C22-1,"") -> -0.088305906 | H22: =H50+H77 -> 1084.6777 | I22: =I50+I77 -> 1129.9398 | K22: =IF(H22,I22/H22-1,"") -> 0.04172857 | M22: =C22+H22 -> 5731.3239 | N22: =D22+I22 -> 5366.2596 | P22: =IF(M22,N22/M22-1,"") -> -0.063696321
B23: IT | C23: =C51+C78 -> 281.51621 | D23: =D51+D78 -> 381.37662 | F23: =IF(C23,D23/C23-1,"") -> 0.3547235 | H23: =H51+H78 -> 88.657549 | I23: =I51+I78 -> 104.36092 | K23: =IF(H23,I23/H23-1,"") -> 0.17712386 | M23: =C23+H23 -> 370.17376 | N23: =D23+I23 -> 485.73754 | P23: =IF(M23,N23/M23-1,"") -> 0.31218794
B24: statki, samoloty, kolej | C24: =C52+C79 -> 424.52955 | D24: =D52+D79 -> 440.3265 | F24: =IF(C24,D24/C24-1,"") -> 0.037210471 | H24: =H52+H79 -> 60.949458 | I24: =I52+I79 -> 170.51181 | K24: =IF(H24,I24/H24-1,"") -> 1.7975935 | M24: =C24+H24 -> 485.47901 | N24: =D24+I24 -> 610.8383 | P24: =IF(M24,N24/M24-1,"") -> 0.25821774
B25: inne | C25: =C53+C80 -> 153.00028 | D25: =D53+D80 -> 143.20141 | F25: =IF(C25,D25/C25-1,"") -> -0.064044799 | H25: =H53+H80 -> 47.121342 | I25: =I53+I80 -> 46.5073 | K25: =IF(H25,I25/H25-1,"") -> -0.01303109 | M25: =C25+H25 -> 200.12163 | N25: =D25+I25 -> 189.70871 | P25: =IF(M25,N25/M25-1,"") -> -0.052032931
B27: ruchomości - leasing + pożyczka | C27: =SUM(C10,C20:C25) -> 35035.281 | D27: =SUM(D10,D20:D25) -> 36170.983 | F27: =IF(C27,D27/C27-1,"") -> 0.03241596 | H27: =SUM(H10,H20:H25) -> 8605.2554 | I27: =SUM(I10,I20:I25) -> 9535.2811 | K27: =IF(H27,I27/H27-1,"") -> 0.10807648 | M27: =SUM(M10,M20:M25) -> 43640.536 | N27: =SUM(N10,N20:N25) -> 45706.264 | P27: =IF(M27,N27/M27-1,"") -> 0.047335074
B34: Finansowanie leasingiem
C35: I-IV 2025 vs I-IV 2024 | H35: V 2025 vs V 2024 | M35: I-V 2025 vs I-V 2024
C37: I-IV 2024 | D37: I-IV 2025 | F37: I-IV 25/ I-IV 24 | H37: V 2024 | I37: V 2025 | K37: V 2025/ V 2024 | M37: I-V 2024 | N37: I-V 2025 | P37: I-V 25/ I-V 24
B38: pojazdy | C38: 24601.705 | D38: 25342.048 | F38: =IF(C38,D38/C38-1,"") -> 0.030093163 | H38: 6035.6276 | I38: 6514.7363 | K38: =IF(H38,I38/H38-1,"") -> 0.079380098 | M38: =SUM(M39:M40,M42:M46) -> 30637.333 | N38: =SUM(N39:N40,N42:N46) -> 31856.784 | P38: =IF(M38,N38/M38-1,"") -> 0.039802806
B39: osobowe | C39: 15912.468 | D39: 16935.068 | F39: =IF(C39,D39/C39-1,"") -> 0.064264078 | H39: 3886.759 | I39: 4402.3502 | K39: =IF(H39,I39/H39-1,"") -> 0.13265325 | M39: =C39+H39 -> 19799.227 | N39: =D39+I39 -> 21337.418 | P39: =IF(M39,N39/M39-1,"") -> 0.077689462
B40: ciężarowe do 3,5 t | C40: 2538.35 | D40: 2471.3775 | F40: =IF(C40,D40/C40-1,"") -> -0.026384261 | H40: 623.22799 | I40: 609.05129 | K40: =IF(H40,I40/H40-1,"") -> -0.022747222 | M40: =C40+H40 -> 3161.578 | N40: =D40+I40 -> 3080.4288 | P40: =IF(M40,N40/M40-1,"") -> -0.025667307
B41: pojazdy ciężkie | C41: 5839.0595 | D41: 5635.9815 | F41: =IF(C41,D41/C41-1,"") -> -0.034779224 | H41: 1442.7789 | I41: 1409.2171 | K41: =IF(H41,I41/H41-1,"") -> -0.023261901 | M41: =M42+M43+M44+M45 -> 7281.8384 | N41: =N42+N43+N44+N45 -> 7045.1986 | P41: =IF(M41,N41/M41-1,"") -> -0.032497252
B42: ciężarowe pow. 3,5 t | C42: 1306.3673 | D42: 1343.6437 | F42: =IF(C42,D42/C42-1,"") -> 0.028534377 | H42: 340.54921 | I42: 308.87078 | K42: =IF(H42,I42/H42-1,"") -> -0.0930216 | M42: =C42+H42 -> 1646.9165 | N42: =D42+I42 -> 1652.5145 | P42: =IF(M42,N42/M42-1,"") -> 0.003399046
B43: ciągniki siodłowe | C43: 2957.2244 | D43: 2494.8058 | F43: =IF(C43,D43/C43-1,"") -> -0.15636912 | H43: 723.0533 | I43: 665.70778 | K43: =IF(H43,I43/H43-1,"") -> -0.079310217 | M43: =C43+H43 -> 3680.2777 | N43: =D43+I43 -> 3160.5136 | P43: =IF(M43,N43/M43-1,"") -> -0.14122959
B44: naczepy / przyczepy | C44: 1134.8237 | D44: 1228.3522 | F44: =IF(C44,D44/C44-1,"") -> 0.082416714 | H44: 288.96802 | I44: 318.88782 | K44: =IF(H44,I44/H44-1,"") -> 0.10354021 | M44: =C44+H44 -> 1423.7918 | N44: =D44+I44 -> 1547.24 | P44: =IF(M44,N44/M44-1,"") -> 0.086703867
B45: autobusy | C45: 440.64403 | D45: 569.17983 | F45: =IF(C45,D45/C45-1,"") -> 0.29169986 | H45: 90.208389 | I45: 115.75075 | K45: =IF(H45,I45/H45-1,"") -> 0.28314837 | M45: =C45+H45 -> 530.85242 | N45: =D45+I45 -> 684.93058 | P45: =IF(M45,N45/M45-1,"") -> 0.2902467
B46: inne | C46: 311.82753 | D46: 299.621 | F46: =IF(C46,D46/C46-1,"") -> -0.039145141 | H46: 82.861645 | I46: 94.117629 | K46: =IF(H46,I46/H46-1,"") -> 0.1358407 | M46: =C46+H46 -> 394.68917 | N46: =D46+I46 -> 393.73863 | P46: =IF(M46,N46/M46-1,"") -> -0.0024083482
B47: maszyny | C47: 5653.6908 | D47: 5060.9745 | F47: =IF(C47,D47/C47-1,"") -> -0.10483706 | H47: 1333.8148 | I47: 1346.9579 | K47: =IF(H47,I47/H47-1,"") -> 0.0098537646 | M47: =SUM(M48:M50) -> 6987.5057 | N47: =SUM(N48:N50) -> 6407.9324 | P47: =IF(M47,N47/M47-1,"") -> -0.082944222
B48: sprzęt budowlany | C48: 1364.8595 | D48: 1315.044 | F48: =IF(C48,D48/C48-1,"") -> -0.036498634 | H48: 382.86609 | I48: 321.33323 | K48: =IF(H48,I48/H48-1,"") -> -0.16071642 | M48: =C48+H48 -> 1747.7256 | N48: =D48+I48 -> 1636.3772 | P48: =IF(M48,N48/M48-1,"") -> -0.063710445
B49: maszyny rolnicze | C49: 487.75419 | D49: 393.47659 | F49: =IF(C49,D49/C49-1,"") -> -0.19328916 | H49: 101.91594 | I49: 120.36732 | K49: =IF(H49,I49/H49-1,"") -> 0.1810451 | M49: =C49+H49 -> 589.67012 | N49: =D49+I49 -> 513.84391 | P49: =IF(M49,N49/M49-1,"") -> -0.12859091
B50: inne MiU | C50: 3801.0772 | D50: 3352.454 | F50: =IF(C50,D50/C50-1,"") -> -0.11802528 | H50: 849.03278 | I50: 905.25737 | K50: =IF(H50,I50/H50-1,"") -> 0.066221924 | M50: =C50+H50 -> 4650.1099 | N50: =D50+I50 -> 4257.7113 | P50: =IF(M50,N50/M50-1,"") -> -0.084384807
B51: IT | C51: 239.31226 | D51: 311.06355 | F51: =IF(C51,D51/C51-1,"") -> 0.29982287 | H51: 74.804492 | I51: 85.770128 | K51: =IF(H51,I51/H51-1,"") -> 0.1465906 | M51: =C51+H51 -> 314.11675 | N51: =D51+I51 -> 396.83368 | P51: =IF(M51,N51/M51-1,"") -> 0.26333178
B52: statki, samoloty, kolej | C52: 380.26546 | D52: 363.37243 | F52: =IF(C52,D52/C52-1,"") -> -0.044424291 | H52: 36.771799 | I52: 162.47855 | K52: =IF(H52,I52/H52-1,"") -> 3.418564 | M52: =C52+H52 -> 417.03725 | N52: =D52+I52 -> 525.85098 | P52: =IF(M52,N52/M52-1,"") -> 0.26092087
B53: inne | C53: 139.98836 | D53: 126.3784 | F53: =IF(C53,D53/C53-1,"") -> -0.097222066 | H53: 43.964207 | I53: 38.5463 | K53: =IF(H53,I53/H53-1,"") -> -0.1232345 | M53: =C53+H53 -> 183.95256 | N53: =D53+I53 -> 164.9247 | P53: =IF(M53,N53/M53-1,"") -> -0.10343897
...
