Workbook

Sheet pozyczki_I-IV kw 2024
B2: Ziązek Polskiego Leasingu, WARSZAWA - 01-07-2025
B4: Wartość środków oddanych w leasing (netto w tys.PLN) | D4: I - IV kwartał 2024
A6: Lp. | B6: Spółka | C6: POJAZDY | D6: Osobowe | E6: osobowe - zeroemisyjne | F6: osobowe - hybryda plug-in | G6: Cięzarowe: | H6: o masie do 3,5 tony | I6: o masie do 3,5 tony - zeroemisyjne | J6: o masie do 3,5 tony - hybryda plug-in | K6: o masie powyzej 3,5 tony | L6: o masie powyżej 3,5 tony - zeroemisyjne | M6: o masie powyżej 3,5 tony - hybryda plug-in | N6: ciagniki siodlowe | O6: ciągniki siodłowe - zeroemisyjne | P6: ciągniki siodłowe - hybryda plug-in | Q6: naczepy / przyczepy | R6: autobusy | S6: autobusy - zeroemisyjne | T6: autobusy - hybryda plug-in | U6: inne | V6: inne - zeroemisyjne | W6: inne - hybryda plug-in | X6: MiU | Y6: Sprzęt Budowlany | Z6: Maszyny Rolnicze | AA6: Maszyny Poligraf. | AB6: maszyny do produkcji tworzyw sztucznych | AC6: maszyny i urządzenia do obróbki metali | AD6: maszyny dla przemysłu spożywczego | AE6: Sprzęt Medyczny | AF6: Sprzęt Gastronom. | AG6: Wózki Widłowe | AH6: Magazyny energii | AI6: Pompy ciepła | AJ6: fotowoltaika | AK6: wiatraki i turbiny wiatrowe | AL6: stacje ładowania pojazdów elektrycznych (na użytek własny i komercyjny) | AM6: inne MiU | AN6: IT | AO6: Sprzęt | AP6: Oprogram. | AQ6: inne IT | AR6: POZOSTAŁE ŚRODKI TRANSPORTU | AS6: Powietrzne | AT6: Wodne | AU6: Kolejowe | AV6: Inne ruchomości | AW6: RUCHOMOŚCI | AX6: Nieruchomości | AY6: budynki przemysłowe | AZ6: obiekty handlowe i usługowe | BA6: obiekty biurowe | BB6: hotele i obiekty rekreacyjne | BC6: inne | BD6: OGÓŁEM
A7: 1 | B7: Alior Leasing Sp. z o. o. | C7: 222029.24 | D7: 109243.38 | G7: 30109.306 | H7: 18092.452 | K7: 12016.854 | N7: 54004.848 | Q7: 24210.272 | R7: 622.43089 | U7: 3839.0112 | X7: 98826.516 | Y7: 22336.512 | Z7: 20197.748 | AA7: 6312.5187 | AB7: 3665.3107 | AC7: 10862.328 | AD7: 1906.7253 | AE7: 17485.853 | AG7: 944.536 | AJ7: 2376.5154 | AM7: 12738.468 | AN7: 2430.2361 | AO7: 2430.2361 | AR7: 4575.8763 | AT7: 4352.8783 | AU7: 222.998 | AW7: 327861.87 | AX7: 0 | BD7: 327861.87
A8: 2 | B8: BNP Paribas Lease Group Sp. z o. o. | C8: 153111.36 | D8: 9486.9984 | E8: 0 | F8: 0 | G8: 112515.05 | H8: 60597.054 | I8: 0 | J8: 0 | K8: 51918 | L8: 0 | M8: 0 | N8: 15421.992 | O8: 0 | P8: 0 | Q8: 15632.848 | R8: 0 | S8: 0 | T8: 0 | U8: 54.47154 | V8: 0 | W8: 0 | X8: 1704837.2 | Y8: 103207.45 | Z8: 1444438.8 | AA8: 0 | AB8: 3935.1916 | AC8: 2263.8633 | AD8: 1798.198 | AE8: 73057.016 | AF8: 0 | AG8: 806.06715 | AH8: 732.03158 | AI8: 0 | AJ8: 7535.4643 | AK8: 0 | AL8: 0 | AM8: 67063.199 | AN8: 24267.124 | AO8: 2049.932 | AP8: 22180.911 | AQ8: 36.28077 | AR8: 91.86992 | AS8: 0 | AT8: 91.86992 | AU8: 0 | AV8: 0 | AW8: 1882307.6 | AX8: 0 | AY8: 0 | AZ8: 0 | BA8: 0 | BB8: 0 | BC8: 0 | BD8: 1882307.6
A9: 3 | B9: BOŚ LEASING - EKO PROFIT S.A. | C9: 0 | G9: 0 | X9: 2054.3574 | Y9: 1598.0784 | Z9: 127.5 | AJ9: 328.779 | AN9: 0 | AR9: 0 | AW9: 2054.3574 | AX9: 0 | BD9: 2054.3574
A10: 4 | B10: BPS Leasing S.A. | C10: 4104.82 | D10: 1201.41 | F10: 320.02 | G10: 0 | N10: 1180.81 | Q10: 1640.6 | U10: 82 | X10: 2007.03 | Z10: 1682.34 | AE10: 145 | AG10: 29.52 | AJ10: 150.17 | AN10: 0 | AR10: 0 | AW10: 6111.85 | AX10: 0 | BD10: 6111.85
A11: 5 | B11: Caterpillar Financial Services Poland Sp. z o.o. | C11: 0 | G11: 0 | X11: 184316.47 | Y11: 184316.47 | AN11: 0 | AR11: 0 | AW11: 184316.47 | AX11: 0 | BD11: 184316.47
A12: 6 | B12: DE LAGE Landen Leasing Polska S.A. | C12: 19205 | D12: 1000 | G12: 0 | N12: 3577 | Q12: 14628 | X12: 867229 | Y12: 15435 | Z12: 804789 | AE12: 43772 | AJ12: 1270 | AM12: 1963 | AN12: 19363 | AO12: 7055 | AP12: 12308 | AR12: 0 | AW12: 905797 | AX12: 0 | BD12: 905797
A13: 7 | B13: Deutsche Leasing Polska S.A. | C13: 24776 | D13: 143 | G13: 0 | N13: 381 | Q13: 24252 | R13: 0 | X13: 37391 | Y13: 936 | Z13: 16963 | AA13: 5554 | AB13: 0 | AC13: 2853 | AD13: 0 | AE13: 3924 | AF13: 0 | AG13: 0 | AM13: 7161 | AN13: 0 | AR13: 0 | AW13: 62167 | AX13: 0 | BD13: 62167
A14: 8 | B14: Europejski Fundusz Leasingowy S.A. | C14: 244458.5 | D14: 88831.868 | E14: 2671.437 | F14: 185 | G14: 41670.816 | H14: 37516.274 | I14: 218 | J14: 0 | K14: 4154.5422 | N14: 70382.705 | Q14: 38726.164 | R14: 3839.3684 | U14: 1007.5829 | X14: 848071.89 | Y14: 88711.832 | Z14: 677883.18 | AA14: 1399.936 | AB14: 362.3152 | AC14: 1555.3405 | AD14: 6157.696 | AE14: 22860.683 | AF14: 8292.4147 | AG14: 1535.5338 | AH14: 53.73411 | AI14: 327 | AJ14: 3910.0047 | AM14: 35022.222 | AN14: 3522.1487 | AO14: 46.72638 | AP14: 2249.0453 | AQ14: 1226.3771 | AR14: 11023.308 | AS14: 41.4626 | AT14: 10981.846 | AW14: 1107075.9 | AX14: 0 | BD14: 1107075.9
A15: 9 | B15: Impuls-Leasing Polska Sp. z o. o. | C15: 129336.37 | D15: 43611.96 | E15: 2970.56 | F15: 493.88 | G15: 21717.04 | H15: 17035.98 | I15: 830.35 | K15: 4681.06 | N15: 32600.82 | Q15: 26911.92 | R15: 290 | U15: 4204.63 | X15: 59541.19 | Y15: 30341.1 | Z15: 10162.09 | AC15: 4515.51 | AE15: 6509.02 | AF15: 3241.43 | AG15: 95.82 | AJ15: 440.82 | AM15: 4235.4 | AN15: 21.18 | AO15: 21.18 | AR15: 762 | AT15: 762 | AW15: 189660.74 | AX15: 0 | BD15: 189660.74
A16: 10 | B16: ING Lease (Polska) Sp. z o. o. | C16: 27451 | D16: 6750 | G16: 1058 | H16: 1058 | K16: 0 | N16: 10324 | Q16: 9319 | R16: 0 | U16: 0 | X16: 182104 | Y16: 15699 | Z16: 1043 | AA16: 14328 | AB16: 29449 | AC16: 41434 | AD16: 14540 | AE16: 19290 | AF16: 3449 | AG16: 221 | AJ16: 822 | AM16: 41829 | AN16: 0 | AO16: 0 | AP16: 0 | AQ16: 0 | AR16: 0 | AS16: 0 | AT16: 0 | AU16: 0 | AV16: 1096 | AW16: 210651 | AX16: 0 | AY16: 0 | AZ16: 0 | BA16: 0 | BB16: 0 | BC16: 0 | BD16: 210651
A17: 11 | B17: Leasing Polski Sp. z o. o. | C17: 0 | G17: 0 | X17: 0 | AN17: 0 | AR17: 0 | AW17: 0 | AX17: 0 | BD17: 0
A18: 12 | B18: Mercedes-Benz Leasing Polska Sp. z o.o. | C18: 447150.14 | D18: 369436.18 | E18: 2415.164 | F18: 8956.079 | G18: 54316.84 | H18: 50205.027 | I18: 422.761 | K18: 4111.8129 | N18: 21911.062 | R18: 1486.0621 | X18: 0 | AN18: 0 | AR18: 0 | AW18: 447150.14 | AX18: 0 | BD18: 447150.14
A19: 13 | B19: Millennium Leasing Sp. z o. o. | C19: 0 | G19: 0 | X19: 0 | AN19: 0 | AR19: 0 | AW19: 0 | AX19: 0 | BD19: 0
A20: 14 | B20: mLeasing Sp. z o. o. | C20: 162744.58 | D20: 39799.822 | E20: 196.49 | F20: 1720.7861 | G20: 19097.597 | K20: 19097.597 | N20: 62509.708 | Q20: 32898.948 | R20: 7206.8339 | U20: 1231.674 | X20: 420402.38 | Y20: 39380.864 | Z20: 5212.1428 | AA20: 17472.332 | AB20: 25214.577 | AC20: 41839.037 | AD20: 24591.058 | AE20: 221560.92 | AF20: 520.78501 | AG20: 1761.3383 | AJ20: 12441.793 | AM20: 30407.532 | AN20: 1490.2432 | AO20: 1490.2432 | AR20: 2990.3643 | AS20: 2169.5482 | AT20: 820.81615 | AV20: 21105.229 | AW20: 608732.8 | AX20: 11730.492 | AZ20: 11730.492 | BD20: 620463.29
A21: 15 | B21: NEST LEASING SPÓŁKA AKCYJNA | C21: 24795.596 | D21: 5795.7846 | G21: 5030.54 | H21: 873.29856 | K21: 4157.2415 | N21: 8338.8986 | Q21: 4870.142 | R21: 664.6305 | U21: 95.60021 | X21: 37615.797 | Y21: 6317.9068 | Z21: 25631.539 | AD21: 109.59299 | AE21: 4848.137 | AF21: 0 | AG21: 81.5855 | AJ21: 359.79963 | AM21: 267.2355 | AN21: 0 | AR21: 169.248 | AT21: 169.248 | AW21: 62580.641 | AX21: 0 | BD21: 62580.641
A22: 16 | B22: PEAC (Poland) Sp. z o. o. | C22: 3644.2 | D22: 263.8 | G22: 156.9 | H22: 90.4 | K22: 66.5 | Q22: 3023.5 | R22: 200 | X22: 31504 | Y22: 2328 | Z22: 15496.1 | AA22: 662.2 | AB22: 924.8 | AC22: 1331.6 | AD22: 3412.1 | AE22: 768.8 | AH22: 393.1 | AJ22: 466.2 | AM22: 5721.1 | AN22: 0 | AR22: 0 | AW22: 35148.2 | AX22: 0 | BD22: 35148.2
A23: 17 | B23: PEKAO Leasing Sp. z o. o. | C23: 181539.29 | D23: 51478.919 | E23: 568.41463 | F23: 0 | G23: 18577.747 | H23: 11102.233 | I23: 0 | J23: 0 | K23: 7475.5137 | L23: 0 | M23: 0 | N23: 65390.001 | O23: 0 | P23: 0 | Q23: 32708.815 | R23: 9876.1224 | S23: 0 | T23: 0 | U23: 3507.6829 | V23: 0 | W23: 0 | X23: 554065.35 | Y23: 57549.008 | Z23: 103916.78 | AA23: 3369.0197 | AB23: 5955.6037 | AC23: 32556.507 | AD23: 61355.406 | AE23: 43300.35 | AF23: 2680.7524 | AG23: 3079.4709 | AH23: 5005.555 | AI23: 0 | AJ23: 28240.379 | AK23: 0 | AL23: 0 | AM23: 207056.51 | AN23: 23243.958 | AO23: 20380.893 | AP23: 2470.8053 | AQ23: 392.26 | AR23: 70354.898 | AS23: 6260.0361 | AT23: 35284.269 | AU23: 28810.593 | AV23: 5943.7605 | AW23: 835147.25 | AX23: 20487.109 | AY23: 0 | AZ23: 20487.109 | BA23: 0 | BB23: 0 | BC23: 0 | BD23: 855634.36
A24: 18 | B24: PKO Leasing S.A. | C24: 626147.36 | D24: 307400 | E24: 8761.1481 | F24: 731.1745 | G24: 65969.798 | H24: 45005.928 | I24: 1316.5503 | K24: 20963.87 | L24: 2613.0764 | N24: 142587.1 | Q24: 67876.301 | R24: 40032.817 | S24: 28911.899 | U24: 2281.3399 | X24: 1024380.3 | Y24: 191007.21 | Z24: 316904.4 | AA24: 4252.5863 | AB24: 52125.26 | AC24: 25536.832 | AD24: 43012.459 | AE24: 113658.38 | AF24: 252.63422 | AG24: 2535.836 | AI24: 1022.418 | AJ24: 115325.43 | AL24: 4237.1332 | AM24: 154509.71 | AN24: 7847.9621 | AO24: 3434.2955 | AP24: 3636.5227 | AQ24: 777.144 | AR24: 136379.55 | AS24: 133256.76 | AT24: 3122.7926 | AW24: 1794755.2 | AX24: 0 | BD24: 1794755.2
A25: 19 | B25: Santander Consumer Multirent Sp. z o.o. | C25: 398259.24 | D25: 376492.29 | G25: 19288.301 | H25: 19288.301 | U25: 2478.6487 | X25: 0 | AN25: 0 | AR25: 0 | AW25: 398259.24 | AX25: 0 | BD25: 398259.24
A26: 20 | B26: Santander Leasing S.A. | C26: 717094.31 | D26: 489311.8 | E26: 5529.1317 | F26: 9611.749 | G26: 80391.448 | H26: 56221.279 | I26: 424.6464 | J26: 0 | K26: 24170.169 | L26: 0 | M26: 0 | N26: 110707.11 | O26: 0 | P26: 0 | Q26: 28136.231 | R26: 1901.7 | S26: 0 | T26: 0 | U26: 6646.0111 | V26: 0 | W26: 0 | X26: 1488868.6 | Y26: 78158.088 | Z26: 965645.15 | AA26: 32593.123 | AB26: 17505.901 | AC26: 38374.57 | AD26: 2902.9529 | AE26: 123604.63 | AF26: 836.6243 | AG26: 1691.8452 | AH26: 2382.6522 | AI26: 1079.084 | AJ26: 78074.547 | AK26: 0 | AL26: 0 | AM26: 146019.41 | AN26: 50064.499 | AO26: 50064.499 | AP26: 0 | AQ26: 0 | AR26: 30321.757 | AS26: 17157.184 | AT26: 13164.573 | AU26: 0 | AV26: 158872.78 | AW26: 2445221.9 | AX26: 11486.027 | AY26: 0 | AZ26: 0 | BA26: 0 | BB26: 0 | BC26: 11486.027 | BD26: 2456708
A27: 21 | B27: Scania Finance Polska Sp. z o. o. | C27: 108788 | D27: 1743 | G27: 38614 | K27: 38614 | N27: 59607 | Q27: 8824 | X27: 0 | AN27: 0 | AR27: 0 | AW27: 108788 | AX27: 0 | BD27: 108788
A28: 22 | B28: SG Equipment Leasing Polska Sp. z o. o. | C28: 12398.825 | G28: 570.68343 | K28: 570.68343 | N28: 3845.326 | Q28: 7982.8157 | X28: 166845.83 | Y28: 76928.792 | Z28: 84141.814 | AJ28: 2394.3013 | AM28: 3380.9232 | AN28: 10455.02 | AO28: 2057.743 | AP28: 8397.2772 | AR28: 0 | AW28: 189699.68 | AX28: 0 | BD28: 189699.68
A29: 23 | B29: SGB Leasing Sp. z o.o. | C29: 8465 | D29: 4112 | F29: 380 | G29: 2948 | H29: 2591 | K29: 357 | Q29: 495 | U29: 910 | X29: 66876 | Y29: 4088 | Z29: 29888 | AE29: 2384 | AG29: 30 | AJ29: 8746 | AM29: 21740 | AN29: 35 | AO29: 35 | AR29: 3328 | AU29: 3328 | AW29: 78704 | AX29: 16758 | AY29: 6032 | BC29: 10726 | BD29: 95462
A30: 24 | B30: Siemens Finance Sp. z o. o. | C30: 0 | G30: 0 | X30: 0 | AN30: 0 | AR30: 0 | AW30: 0 | AX30: 0 | BD30: 0
A31: 25 | B31: VEHIS FINANSE Sp. z o.o. | C31: 0 | G31: 0 | X31: 0 | AN31: 0 | AR31: 0 | AW31: 0 | AX31: 0 | BD31: 0
A32: 26 | B32: VELOLEASING SPÓŁKA AKCYJNA | C32: 73634.309 | D32: 72517.689 | G32: 0 | U32: 1116.6206 | X32: 0 | AN32: 0 | AR32: 0 | AW32: 73634.309 | AX32: 0 | BD32: 73634.309
A33: 27 | B33: Razem | C33: 3589133.2 | D33: 1978619.9 | E33: 23112.345 | F33: 22398.689 | G33: 512032.07 | H33: 319677.23 | I33: 3212.3077 | J33: 0 | K33: 192354.84 | L33: 2613.0764 | M33: 0 | N33: 662769.38 | O33: 0 | P33: 0 | Q33: 342136.56 | R33: 66119.965 | S33: 28911.899 | T33: 0 | U33: 27455.273 | V33: 0 | W33: 0 | X33: 7776936.9 | Y33: 918339.31 | Z33: 4524122.5 | AA33: 85943.716 | AB33: 139137.96 | AC33: 203122.59 | AD33: 159786.19 | AE33: 697168.79 | AF33: 19273.641 | AG33: 12812.553 | AH33: 8567.0729 | AI33: 2428.502 | AJ33: 262882.2 | AK33: 0 | AL33: 4237.1332 | AM33: 739114.71 | AN33: 142740.37 | AO33: 89065.748 | AP33: 51242.562 | AQ33: 2432.0618 | AR33: 259996.88 | AS33: 158884.99 | AT33: 68750.293 | AU33: 32361.591 | AV33: 187017.77 | AW33: 11955825 | AX33: 60461.628 | AY33: 6032 | AZ33: 32217.601 | BA33: 0 | BB33: 0 | BC33: 22212.027 | BD33: 12016287
B35: Ilość środków oddanych w leasing (szt) | D35: I - IV kwartał 2024
A38: Lp. | B38: Spółka | C38: POJAZDY | D38: Osobowe | E38: osobowe - zeroemisyjne | F38: osobowe - hybryda plug-in | G38: Cięzarowe: | H38: o masie do 3,5 tony | I38: o masie do 3,5 tony - zeroemisyjne | J38: o masie do 3,5 tony - hybryda plug-in | K38: o masie powyzej 3,5 tony | L38: o masie powyżej 3,5 tony - zeroemisyjne | M38: o masie powyżej 3,5 tony - hybryda plug-in | N38: ciagniki siodlowe | O38: ciągniki siodłowe - zeroemisyjne | P38: ciągniki siodłowe - hybryda plug-in | Q38: naczepy / przyczepy | R38: autobusy | S38: autobusy - zeroemisyjne | T38: autobusy - hybryda plug-in | U38: inne | V38: inne - zeroemisyjne | W38: inne - hybryda plug-in | X38: MiU | Y38: Sprzęt Budowlany | Z38: Maszyny Rolnicze | AA38: Maszyny Poligraf. | AB38: maszyny do produkcji tworzyw sztucznych | AC38: maszyny i urządzenia do obróbki metali | AD38: maszyny dla przemysłu spożywczego | AE38: Sprzęt Medyczny | AF38: Sprzęt Gastronom. | AG38: Wózki Widłowe | AH38: Magazyny energii | AI38: Pompy ciepła | AJ38: fotowoltaika | AK38: wiatraki i turbiny wiatrowe | AL38: stacje ładowania pojazdów elektrycznych (na użytek własny i komercyjny) | AM38: inne MiU | AN38: IT | AO38: Sprzęt | AP38: Oprogram. | AQ38: inne IT | AR38: POZOSTAŁE ŚRODKI TRANSPORTU | AS38: Powietrzne | AT38: Wodne | AU38: Kolejowe | AV38: Inne ruchomości | AW38: RUCHOMOŚCI | AX38: Nieruchomości | AY38: budynki przemysłowe | AZ38: obiekty handlowe i usługowe | BA38: obiekty biurowe | BB38: hotele i obiekty rekreacyjne | BC38: inne | BD38: OGÓŁEM
A39: 1 | B39: Alior Leasing Sp. z o. o. | C39: 1842 | D39: 987 | G39: 304 | H39: 233 | K39: 71 | N39: 280 | Q39: 244 | R39: 4 | U39: 23 | X39: 528 | Y39: 90 | Z39: 139 | AA39: 5 | AB39: 6 | AC39: 35 | AD39: 17 | AE39: 155 | AG39: 5 | AJ39: 5 | AM39: 71 | AN39: 5 | AO39: 5 | AR39: 29 | AT39: 28 | AU39: 1 | AW39: 2404 | AX39: 0 | BD39: 2404
A40: 2 | B40: BNP Paribas Lease Group Sp. z o. o. | C40: 734 | D40: 78 | E40: 0 | F40: 0 | G40: 507 | H40: 313 | I40: 0 | J40: 0 | K40: 194 | L40: 0 | M40: 0 | N40: 49 | O40: 0 | P40: 0 | Q40: 99 | R40: 0 | S40: 0 | T40: 0 | U40: 1 | V40: 0 | W40: 0 | X40: 5212 | Y40: 262 | Z40: 3792 | AA40: 0 | AB40: 2 | AC40: 6 | AD40: 13 | AE40: 1000 | AF40: 0 | AG40: 10 | AH40: 12 | AI40: 0 | AJ40: 43 | AK40: 0 | AL40: 0 | AM40: 72 | AN40: 459 | AO40: 19 | AP40: 436 | AQ40: 4 | AR40: 1 | AS40: 0 | AT40: 1 | AU40: 0 | AV40: 0 | AW40: 6406 | AX40: 0 | AY40: 0 | AZ40: 0 | BA40: 0 | BB40: 0 | BC40: 0 | BD40: 6406
A41: 3 | B41: BOŚ LEASING - EKO PROFIT S.A. | C41: 0 | G41: 0 | X41: 4 | Y41: 2 | Z41: 1 | AJ41: 1 | AN41: 0 | AR41: 0 | AW41: 4 | AX41: 0 | BD41: 4
A42: 4 | B42: BPS Leasing S.A. | C42: 34 | D42: 14 | F42: 3 | G42: 0 | N42: 4 | Q42: 15 | U42: 1 | X42: 10 | Z42: 6 | AE42: 1 | AG42: 1 | AJ42: 2 | AN42: 0 | AR42: 0 | AW42: 44 | AX42: 0 | BD42: 44
A43: 5 | B43: Caterpillar Financial Services Poland Sp. z o.o. | C43: 0 | G43: 0 | X43: 385 | Y43: 385 | AN43: 0 | AR43: 0 | AW43: 385 | AX43: 0 | BD43: 385
A44: 6 | B44: DE LAGE Landen Leasing Polska S.A. | C44: 92 | D44: 4 | G44: 0 | N44: 15 | Q44: 73 | X44: 1844 | Y44: 25 | Z44: 1703 | AE44: 93 | AJ44: 9 | AM44: 14 | AN44: 16 | AO44: 7 | AP44: 9 | AR44: 0 | AW44: 1952 | AX44: 0 | BD44: 1952
A45: 7 | B45: Deutsche Leasing Polska S.A. | C45: 157 | D45: 1 | G45: 0 | N45: 1 | Q45: 155 | R45: 0 | X45: 68 | Y45: 2 | Z45: 49 | AA45: 2 | AB45: 0 | AC45: 3 | AD45: 0 | AE45: 3 | AF45: 0 | AG45: 0 | AM45: 9 | AN45: 0 | AR45: 0 | AW45: 225 | AX45: 0 | BD45: 225
A46: 8 | B46: Europejski Fundusz Leasingowy S.A. | C46: 1437 | D46: 542 | E46: 14 | F46: 1 | G46: 234 | H46: 215 | I46: 1 | J46: 0 | K46: 19 | N46: 322 | Q46: 311 | R46: 9 | U46: 19 | X46: 2197 | Y46: 272 | Z46: 1344 | AA46: 1 | AB46: 4 | AC46: 12 | AD46: 19 | AE46: 199 | AF46: 51 | AG46: 15 | AH46: 1 | AI46: 1 | AJ46: 38 | AM46: 240 | AN46: 58 | AO46: 7 | AP46: 29 | AQ46: 22 | AR46: 83 | AS46: 1 | AT46: 82 | AW46: 3775 | AX46: 0 | BD46: 3775
...

Sheet leasing_I-IV kw 2024
B2: Ziązek Polskiego Leasingu, WARSZAWA - 01-07-2025
B4: Wartość środków oddanych w leasing (netto w tys.PLN) | E4: I - IV kwartał 2024
A6: Lp. | B6: Spółka | C6: POJAZDY | D6: Osobowe | E6: osobowe - zeroemisyjne | F6: osobowe - hybryda plug-in | G6: Cięzarowe: | H6: o masie do 3,5 tony | I6: o masie do 3,5 tony - zeroemisyjne | J6: o masie do 3,5 tony - hybryda plug-in | K6: o masie powyzej 3,5 tony | L6: o masie powyżej 3,5 tony - zeroemisyjne | M6: o masie powyżej 3,5 tony - hybryda plug-in | N6: ciagniki siodlowe | O6: ciągniki siodłowe - zeroemisyjne | P6: ciągniki siodłowe - hybryda plug-in | Q6: naczepy / przyczepy | R6: autobusy | S6: autobusy - zeroemisyjne | T6: autobusy - hybryda plug-in | U6: inne | V6: inne - zeroemisyjne | W6: inne - hybryda plug-in | X6: MiU | Y6: Sprzęt Budowlany | Z6: Maszyny Rolnicze | AA6: Maszyny Poligraf. | AB6: maszyny do produkcji tworzyw sztucznych | AC6: maszyny i urządzenia do obróbki metali | AD6: maszyny dla przemysłu spożywczego | AE6: Sprzęt Medyczny | AF6: Sprzęt Gastronom. | AG6: Wózki Widłowe | AH6: Magazyny energii | AI6: Pompy ciepła | AJ6: fotowoltaika | AK6: wiatraki i turbiny wiatrowe | AL6: stacje ładowania pojazdów elektrycznych (na użytek własny i komercyjny) | AM6: inne MiU | AN6: IT | AO6: Sprzęt | AP6: Oprogram. | AQ6: inne IT | AR6: POZOSTAŁE ŚRODKI TRANSPORTU | AS6: Powietrzne | AT6: Wodne | AU6: Kolejowe | AV6: Inne ruchomości | AW6: RUCHOMOŚCI | AX6: Nieruchomości | AY6: budynki przemysłowe | AZ6: obiekty handlowe i usługowe | BA6: obiekty biurowe | BB6: hotele i obiekty rekreacyjne | BC6: inne | BD6: OGÓŁEM
A7: 1 | B7: Alior Leasing Sp. z o. o. | C7: 2610864.9 | D7: 1205801.6 | G7: 503922.87 | H7: 308902 | K7: 195020.87 | N7: 403017.9 | Q7: 250052.61 | R7: 191081.98 | U7: 56987.97 | X7: 549508.64 | Y7: 217576.36 | Z7: 95175.7 | AA7: 14403.7 | AB7: 8053.47 | AC7: 48421.95 | AD7: 25051.35 | AE7: 20177.17 | AF7: 2662.94 | AG7: 7289.37 | AH7: 29.47 | AI7: 134.98 | AJ7: 7540.61 | AM7: 102991.57 | AN7: 6181.88 | AO7: 6181.88 | AR7: 25472.7 | AS7: 8313.39 | AT7: 12032.3 | AU7: 5127.01 | AW7: 3192028.1 | AX7: 0 | BD7: 3192028.1
A8: 2 | B8: BNP Paribas Lease Group Sp. z o. o. | C8: 2868133.3 | D8: 1975676.7 | E8: 32715.618 | F8: 14020.979 | G8: 669670.48 | H8: 421610.92 | I8: 2845.0491 | J8: 0 | K8: 248059.56 | L8: 298.7718 | M8: 0 | N8: 134615.02 | O8: 0 | P8: 0 | Q8: 58224.293 | R8: 7995.3419 | S8: 0 | T8: 0 | U8: 21951.417 | V8: 58.3011 | W8: 0 | X8: 1216233 | Y8: 199307.41 | Z8: 165631.1 | AA8: 4613.4572 | AB8: 3894.9976 | AC8: 25462.2 | AD8: 7499.8063 | AE8: 26758.946 | AF8: 480.061 | AG8: 215228.38 | AH8: 743.81362 | AI8: 742.26968 | AJ8: 22770.432 | AK8: 0 | AL8: 438.90939 | AM8: 542661.21 | AN8: 84386.534 | AO8: 52394.013 | AP8: 18382.438 | AQ8: 13610.083 | AR8: 227.2287 | AS8: 0 | AT8: 227.2287 | AU8: 0 | AV8: 0 | AW8: 4168980 | AX8: 238121.93 | AY8: 3280.9495 | AZ8: 234840.98 | BA8: 0 | BB8: 0 | BC8: 0 | BD8: 4407101.9
A9: 3 | B9: BOŚ LEASING - EKO PROFIT S.A. | C9: 26497.673 | D9: 5208.718 | G9: 1068.352 | H9: 669.352 | K9: 399 | N9: 5391.3845 | Q9: 5436.3327 | R9: 3830.4704 | U9: 5562.4155 | X9: 63632.215 | Y9: 7965.2109 | Z9: 5856.6155 | AB9: 130.464 | AC9: 14495.971 | AD9: 674.93766 | AE9: 211.93124 | AG9: 1384.57 | AJ9: 7908.3805 | AL9: 300 | AM9: 24704.134 | AN9: 0 | AR9: 7412.0051 | AT9: 137.00506 | AU9: 7275 | AW9: 97541.893 | AX9: 0 | BD9: 97541.893
A10: 4 | B10: BPS Leasing S.A. | C10: 285006.46 | D10: 88472.63 | E10: 2775.01 | F10: 33539.92 | G10: 48197.09 | H10: 18475.77 | I10: 230 | K10: 29721.32 | N10: 86195.74 | Q10: 32645.11 | R10: 23500.77 | S10: 520 | U10: 5995.12 | X10: 50249.36 | Y10: 13338.94 | Z10: 11568.66 | AA10: 80.2 | AB10: 5498.27 | AC10: 749.71 | AD10: 3087.08 | AE10: 1393.18 | AG10: 1854.2 | AH10: 63 | AJ10: 1091.53 | AM10: 11524.59 | AN10: 1327.3 | AO10: 1327.3 | AR10: 8326.54 | AS10: 2651.43 | AT10: 650 | AU10: 5025.11 | AV10: 9354.5 | AW10: 354264.16 | AX10: 0 | BD10: 354264.16
A11: 5 | B11: Caterpillar Financial Services Poland Sp. z o.o. | C11: 0 | G11: 0 | X11: 429797.69 | Y11: 429797.69 | AN11: 0 | AR11: 0 | AW11: 429797.69 | AX11: 0 | BD11: 429797.69
A12: 6 | B12: DE LAGE Landen Leasing Polska S.A. | C12: 16894 | D12: 730 | G12: 1077 | H12: 1077 | N12: 13112 | Q12: 1661 | U12: 314 | X12: 91114 | Y12: 25821 | Z12: 60934 | AE12: 1176 | AG12: 2756 | AJ12: 222 | AM12: 205 | AN12: 29260 | AO12: 29260 | AR12: 0 | AW12: 137268 | AX12: 0 | BD12: 137268
A13: 7 | B13: Deutsche Leasing Polska S.A. | C13: 89347 | D13: 1828 | G13: 7440 | H13: 460 | K13: 6980 | N13: 20450 | Q13: 56461 | R13: 0 | U13: 3168 | X13: 701274 | Y13: 11297 | Z13: 26776 | AA13: 2015 | AB13: 1744 | AC13: 37731 | AD13: 813 | AE13: 169 | AF13: 0 | AG13: 374878 | AM13: 245851 | AN13: 0 | AR13: 0 | AW13: 790621 | AX13: 0 | BD13: 790621
A14: 8 | B14: Europejski Fundusz Leasingowy S.A. | C14: 6668447.8 | D14: 2798893.1 | E14: 90411.923 | F14: 60451.528 | G14: 1711491.3 | H14: 845189.83 | I14: 18437.463 | K14: 866301.47 | L14: 2256 | N14: 1311658.8 | Q14: 646980.61 | R14: 139629.22 | S14: 3478.9753 | U14: 59794.754 | V14: 48.77235 | X14: 2456828.2 | Y14: 972245.45 | Z14: 357167.51 | AA14: 33541.451 | AB14: 26906.727 | AC14: 131683.84 | AD14: 47521.087 | AE14: 24548.296 | AF14: 109072 | AG14: 62016.644 | AH14: 1274.4189 | AI14: 2406.5248 | AJ14: 50111.386 | AL14: 2562.7776 | AM14: 635770.05 | AN14: 85529.074 | AO14: 40571.313 | AP14: 18985.843 | AQ14: 25971.918 | AR14: 18824.247 | AS14: 6106.5683 | AT14: 12717.678 | AW14: 9229629.3 | AX14: 0 | BD14: 9229629.3
A15: 9 | B15: Impuls-Leasing Polska Sp. z o. o. | C15: 892840.74 | D15: 475717.13 | E15: 16352.78 | F15: 17289.32 | G15: 161488.27 | H15: 112305.57 | I15: 509.79 | K15: 49182.7 | N15: 153217.11 | Q15: 72703.7 | R15: 10568.66 | U15: 19145.87 | V15: 23 | X15: 216829.48 | Y15: 64405.1 | Z15: 23540.24 | AA15: 8483.86 | AB15: 2495.34 | AC15: 15016.39 | AE15: 4228.35 | AF15: 13870.97 | AG15: 17689.67 | AJ15: 1313.88 | AM15: 65785.68 | AN15: 5007.69 | AO15: 5007.69 | AR15: 2052.17 | AT15: 2052.17 | AW15: 1116730.1 | AX15: 0 | BD15: 1116730.1
A16: 10 | B16: ING Lease (Polska) Sp. z o. o. | C16: 3481681 | D16: 1681689 | E16: 49582 | F16: 43432 | G16: 676910 | H16: 393480 | I16: 4153 | J16: 0 | K16: 283430 | L16: 0 | M16: 0 | N16: 561345 | O16: 1204 | P16: 0 | Q16: 350749 | R16: 106757 | S16: 895 | T16: 0 | U16: 104231 | V16: 1379 | W16: 0 | X16: 2000056 | Y16: 274878 | Z16: 39670 | AA16: 82946 | AB16: 190109 | AC16: 321437 | AD16: 201129 | AE16: 46154 | AF16: 41254 | AG16: 145376 | AH16: 726 | AI16: 878 | AJ16: 47794 | AK16: 0 | AL16: 456 | AM16: 607249 | AN16: 35530 | AO16: 35530 | AP16: 0 | AQ16: 0 | AR16: 168512 | AS16: 0 | AT16: 9087 | AU16: 159425 | AV16: 258933 | AW16: 5944712 | AX16: 8595 | AY16: 8595 | AZ16: 0 | BA16: 0 | BB16: 0 | BC16: 0 | BD16: 5953307
A17: 11 | B17: Leasing Polski Sp. z o. o. | C17: 174341.89 | D17: 31321.055 | F17: 4409.2654 | G17: 38567.074 | H17: 20194.941 | K17: 18372.134 | N17: 44518.838 | Q17: 23771.562 | R17: 13584.833 | U17: 22578.529 | X17: 39059.789 | Y17: 22408.645 | Z17: 4836.2415 | AG17: 829.073 | AM17: 10985.83 | AN17: 0 | AR17: 538.38 | AS17: 538.38 | AV17: 131.09 | AW17: 214071.15 | AX17: 31 | AZ17: 31 | BD17: 214102.15
A18: 12 | B18: Mercedes-Benz Leasing Polska Sp. z o.o. | C18: 3492374.4 | D18: 2892216.7 | E18: 306238.39 | F18: 244483.45 | G18: 347144.17 | H18: 312936.51 | I18: 27162.88 | K18: 34207.66 | L18: 1194.1895 | N18: 192059.47 | Q18: 1992.4791 | R18: 53664.431 | U18: 5297.1636 | X18: 0 | AN18: 0 | AR18: 0 | AW18: 3492374.4 | AX18: 0 | BD18: 3492374.4
A19: 13 | B19: Millennium Leasing Sp. z o. o. | C19: 2542927.3 | D19: 1004144.7 | E19: 45773.351 | F19: 5630.0018 | G19: 474445.02 | H19: 257115.72 | I19: 3735.7802 | K19: 217329.31 | N19: 561515.77 | Q19: 279282.84 | R19: 134703.53 | T19: 690 | U19: 88835.417 | V19: 971.21626 | X19: 1106709.7 | Y19: 254227.07 | Z19: 14279.924 | AA19: 47622.934 | AB19: 204631.92 | AD19: 86924.277 | AE19: 36184.433 | AF19: 0 | AG19: 76928.426 | AH19: 1143.1776 | AI19: 1718.4944 | AJ19: 58301.082 | AL19: 277.4 | AM19: 324470.59 | AN19: 31512.453 | AO19: 31512.453 | AR19: 180350 | AT19: 7562.8333 | AU19: 172787.17 | AW19: 3861499.4 | AX19: 35638.447 | BA19: 33158.447 | BC19: 2480 | BD19: 3897137.9
A20: 14 | B20: mLeasing Sp. z o. o. | C20: 4863680.1 | D20: 3753112 | E20: 223662.19 | F20: 375251.51 | G20: 529406.62 | H20: 272244.45 | I20: 4801.6467 | J20: 209.55203 | K20: 257162.18 | N20: 265156.41 | Q20: 136300.61 | R20: 80141.106 | S20: 7085.9824 | U20: 99563.386 | V20: 484.30427 | X20: 1212756.1 | Y20: 265010.58 | Z20: 71671.13 | AA20: 73181.522 | AB20: 31590.913 | AC20: 171673.23 | AD20: 66879.348 | AE20: 27587.485 | AF20: 4059.41 | AG20: 59459.769 | AH20: 2103.6277 | AI20: 547.98217 | AJ20: 14296.573 | AL20: 627.14838 | AM20: 424067.33 | AN20: 57587.675 | AO20: 57587.675 | AR20: 243943.08 | AS20: 136856.65 | AT20: 87394.545 | AU20: 19691.889 | AV20: 71258.615 | AW20: 6449225.5 | AX20: 74931.53 | AZ20: 74931.53 | BD20: 6524157.1
A21: 15 | B21: NEST LEASING SPÓŁKA AKCYJNA | C21: 136722.98 | D21: 35809.57 | G21: 26591.711 | H21: 8162.5044 | K21: 18429.207 | N21: 36679.826 | Q21: 18938.405 | R21: 13495.994 | U21: 5207.4741 | X21: 38682.464 | Y21: 14561.886 | Z21: 9887.7571 | AA21: 946.23015 | AB21: 707.05 | AC21: 968.73783 | AD21: 82.5 | AE21: 1431.2443 | AF21: 0 | AG21: 1293.4024 | AJ21: 696.8 | AM21: 8106.8557 | AN21: 0 | AR21: 93.82114 | AT21: 93.82114 | AW21: 175499.27 | AX21: 0 | BD21: 175499.27
A22: 16 | B22: PEAC (Poland) Sp. z o. o. | C22: 27813.7 | D22: 4961 | G22: 5030.1 | H22: 1818.1 | K22: 3212 | N22: 2017.7 | Q22: 5796.8 | R22: 7680.1 | U22: 2328 | X22: 115187.4 | Y22: 5528.1 | Z22: 15535.2 | AA22: 1259.9 | AB22: 9807.9 | AC22: 13557.4 | AD22: 1544.5 | AE22: 2192 | AF22: 135.5 | AG22: 1852.7 | AH22: 22.4 | AI22: 74.4 | AJ22: 521.1 | AM22: 63156.3 | AN22: 6260.2 | AO22: 6260.2 | AR22: 95.9 | AS22: 35.9 | AT22: 60 | AW22: 149357.2 | AX22: 0 | BD22: 149357.2
A23: 17 | B23: PEKAO Leasing Sp. z o. o. | C23: 3589075.4 | D23: 1694517.2 | E23: 29706.169 | F23: 40283.868 | G23: 628686.21 | H23: 275588.57 | I23: 3141.6684 | J23: 141.46341 | K23: 353097.64 | L23: 2392.9 | M23: 0 | N23: 647243.79 | O23: 0 | P23: 0 | Q23: 313636.21 | R23: 208712.8 | S23: 270 | T23: 0 | U23: 96279.138 | V23: 404.77998 | W23: 0 | X23: 2042104.1 | Y23: 316809.24 | Z23: 71649.116 | AA23: 81308.997 | AB23: 110077.14 | AC23: 361995.44 | AD23: 117457.22 | AE23: 32185.969 | AF23: 8591.7899 | AG23: 87860.925 | AH23: 2060 | AI23: 595.06341 | AJ23: 117827.49 | AK23: 109.7561 | AL23: 381.16367 | AM23: 733194.81 | AN23: 61815.801 | AO23: 36052.946 | AP23: 1294.5157 | AQ23: 24468.339 | AR23: 303419.57 | AS23: 137285.76 | AT23: 102595.81 | AU23: 63538 | AV23: 126666.71 | AW23: 6123081.6 | AX23: 36895.519 | AY23: 0 | AZ23: 666.173 | BA23: 32130.172 | BB23: 0 | BC23: 4099.1735 | BD23: 6159977.1
A24: 18 | B24: PKO Leasing S.A. | C24: 9663209.7 | D24: 5949976.3 | E24: 236701.67 | F24: 122300.72 | G24: 1574018.3 | H24: 979476.28 | I24: 22185.262 | J24: 231.62602 | K24: 594542 | L24: 7558.9047 | N24: 1208552.3 | O24: 2582.7946 | Q24: 591603.06 | R24: 238830.56 | U24: 100229.24 | V24: 1573.8049 | X24: 2667745.3 | Y24: 668872.98 | Z24: 198283.77 | AA24: 72062.926 | AB24: 74521.316 | AC24: 296117.39 | AD24: 123621.6 | AE24: 72893.069 | AF24: 17737.216 | AG24: 151657.31 | AI24: 1572.8417 | AJ24: 27487.346 | AK24: 67.048681 | AL24: 1400 | AM24: 961450.5 | AN24: 109481.85 | AO24: 63679.024 | AP24: 551.07483 | AQ24: 45251.75 | AR24: 406141.93 | AS24: 111745.38 | AT24: 14081.694 | AU24: 280314.85 | AW24: 12846579 | AX24: 0 | BD24: 12846579
A25: 19 | B25: Santander Consumer Multirent Sp. z o.o. | C25: 1219690.5 | D25: 982887.97 | G25: 181026.82 | H25: 181026.82 | U25: 55775.68 | X25: 0 | AN25: 0 | AR25: 0 | AW25: 1219690.5 | AX25: 0 | BD25: 1219690.5
A26: 20 | B26: Santander Leasing S.A. | C26: 4634556.4 | D26: 2948177.3 | E26: 125494.96 | F26: 88775.148 | G26: 829795.53 | H26: 562386.45 | I26: 5377.1199 | J26: 184.0488 | K26: 267409.07 | L26: 0 | M26: 0 | N26: 528934.95 | O26: 0 | P26: 0 | Q26: 243734.12 | R26: 52894.03 | S26: 0 | T26: 0 | U26: 31020.491 | V26: 503.71 | W26: 0 | X26: 1603456.5 | Y26: 204978.46 | Z26: 148920.02 | AA26: 64367.389 | AB26: 109809.27 | AC26: 118262.23 | AD26: 44981.049 | AE26: 48126.928 | AF26: 19335.487 | AG26: 126201.63 | AH26: 995.1026 | AI26: 1317.6426 | AJ26: 41324.048 | AK26: 0 | AL26: 177.417 | AM26: 674659.78 | AN26: 43617.105 | AO26: 43617.105 | AP26: 0 | AQ26: 0 | AR26: 89460.14 | AS26: 82341.809 | AT26: 4532.7725 | AU26: 2585.5576 | AV26: 0 | AW26: 6371090.1 | AX26: 0 | AY26: 0 | AZ26: 0 | BA26: 0 | BB26: 0 | BC26: 0 | BD26: 6371090.1
A27: 21 | B27: Scania Finance Polska Sp. z o. o. | C27: 1229793 | D27: 2660 | G27: 144184 | K27: 144184 | N27: 752908 | Q27: 63669 | R27: 266137 | S27: 6056 | U27: 235 | X27: 0 | AN27: 0 | AR27: 0 | AW27: 1229793 | AX27: 0 | BD27: 1229793
A28: 22 | B28: SG Equipment Leasing Polska Sp. z o. o. | C28: 138013.94 | D28: 4124.7889 | G28: 49244.924 | H28: 6213.3156 | K28: 43031.608 | L28: 791.78731 | N28: 43699.898 | Q28: 33998.642 | R28: 335 | U28: 6610.6905 | X28: 219799.81 | Y28: 148079.58 | Z28: 16662.617 | AA28: 3821.5854 | AB28: 888.5429 | AC28: 17270.879 | AD28: 3897.6383 | AG28: 4293.7011 | AJ28: 4300 | AM28: 20585.265 | AN28: 16041.612 | AO28: 16041.612 | AR28: 40103.724 | AS28: 40103.724 | AW28: 413959.09 | AX28: 0 | BD28: 413959.09
A29: 23 | B29: SGB Leasing Sp. z o.o. | C29: 73832 | D29: 42388 | E29: 436 | F29: 2655 | G29: 12745 | H29: 8119 | I29: 117 | K29: 4626 | N29: 9486 | Q29: 4584 | R29: 1838 | U29: 2791 | X29: 62889 | Y29: 14374 | Z29: 9218 | AA29: 663 | AB29: 1141 | AC29: 732 | AD29: 1268 | AE29: 751 | AF29: 460 | AG29: 1263 | AH29: 207 | AJ29: 2729 | AK29: 36 | AM29: 30047 | AN29: 218 | AO29: 205 | AP29: 13 | AR29: 18190 | AU29: 18190 | AW29: 155129 | AX29: 0 | BD29: 155129
A30: 24 | B30: Siemens Finance Sp. z o. o. | C30: 16780 | D30: 2471 | E30: 225 | F30: 275 | G30: 4426 | H30: 808 | K30: 3618 | N30: 6378 | Q30: 3005 | U30: 500 | X30: 774091 | Y30: 94216 | Z30: 25931 | AA30: 17079 | AB30: 4574 | AC30: 55850 | AE30: 472442 | AG30: 27881 | AJ30: 131 | AM30: 75987 | AN30: 102570 | AO30: 94618 | AP30: 7952 | AR30: 0 | AW30: 893441 | AX30: 0 | BD30: 893441
A31: 25 | B31: VEHIS FINANSE Sp. z o.o. | C31: 1092247.9 | D31: 889588.52 | E31: 16338.22 | F31: 41455.63 | G31: 202659.36 | H31: 202659.36 | I31: 449.21 | X31: 0 | AN31: 0 | AR31: 0 | AW31: 1092247.9 | AX31: 0 | BD31: 1092247.9
A32: 26 | B32: VELOLEASING SPÓŁKA AKCYJNA | C32: 144095.33 | D32: 126620.77 | G32: 5458.0213 | K32: 5458.0213 | N32: 4213.9 | Q32: 3291.6766 | U32: 4510.9568 | X32: 0 | AN32: 0 | AR32: 0 | AW32: 144095.33 | AX32: 0 | BD32: 144095.33
A33: 27 | B33: Razem | C33: 49978867 | D33: 28598994 | E33: 1176413.3 | F33: 1094253.3 | G33: 8834694.2 | H33: 5190920.5 | I33: 93145.869 | J33: 766.69026 | K33: 3643773.7 | L33: 14492.553 | M33: 0 | N33: 6992367.8 | O33: 3786.7946 | P33: 0 | Q33: 3198518.1 | R33: 1555380.8 | S33: 18305.958 | T33: 690 | U33: 798912.71 | V33: 5446.8889 | W33: 0 | X33: 17658004 | Y33: 4225698.7 | Z33: 1373194.6 | AA33: 508397.15 | AB33: 786581.32 | AC33: 1631425.4 | AD33: 732432.39 | AE33: 818611 | AF33: 217659.37 | AG33: 1367993.8 | AH33: 9368.0104 | AI33: 9988.1988 | AJ33: 406366.66 | AK33: 212.80478 | AL33: 6620.8161 | AM33: 5563453.5 | AN33: 676327.17 | AO33: 519846.21 | AP33: 47178.872 | AQ33: 109302.09 | AR33: 1513163.4 | AS33: 525978.99 | AT33: 253224.86 | AU33: 733959.59 | AV33: 466343.92 | AW33: 70292706 | AX33: 394213.43 | AY33: 11875.95 | AZ33: 310469.68 | BA33: 65288.619 | BB33: 0 | BC33: 6579.1735 | BD33: 70686919
B35: Ilość środków oddanych w leasing (szt.) | D35: I - IV kwartał 2024
A38: Lp. | B38: Spółka | C38: POJAZDY | D38: Osobowe | E38: osobowe - zeroemisyjne | F38: osobowe - hybryda plug-in | G38: Cięzarowe: | H38: o masie do 3,5 tony | I38: o masie do 3,5 tony - zeroemisyjne | J38: o masie do 3,5 tony - hybryda plug-in | K38: o masie powyzej 3,5 tony | L38: o masie powyżej 3,5 tony - zeroemisyjne | M38: o masie powyżej 3,5 tony - hybryda plug-in | N38: ciagniki siodlowe | O38: ciągniki siodłowe - zeroemisyjne | P38: ciągniki siodłowe - hybryda plug-in | Q38: naczepy / przyczepy | R38: autobusy | S38: autobusy - zeroemisyjne | T38: autobusy - hybryda plug-in | U38: inne | V38: inne - zeroemisyjne | W38: inne - hybryda plug-in | X38: MiU | Y38: Sprzęt Budowlany | Z38: Maszyny Rolnicze | AA38: Maszyny Poligraf. | AB38: maszyny do produkcji tworzyw sztucznych | AC38: maszyny i urządzenia do obróbki metali | AD38: maszyny dla przemysłu spożywczego | AE38: Sprzęt Medyczny | AF38: Sprzęt Gastronom. | AG38: Wózki Widłowe | AH38: Magazyny energii | AI38: Pompy ciepła | AJ38: fotowoltaika | AK38: wiatraki i turbiny wiatrowe | AL38: stacje ładowania pojazdów elektrycznych (na użytek własny i komercyjny) | AM38: inne MiU | AN38: IT | AO38: Sprzęt | AP38: Oprogram. | AQ38: inne IT | AR38: POZOSTAŁE ŚRODKI TRANSPORTU | AS38: Powietrzne | AT38: Wodne | AU38: Kolejowe | AV38: Inne ruchomości | AW38: RUCHOMOŚCI | AX38: Nieruchomości | AY38: budynki przemysłowe | AZ38: obiekty handlowe i usługowe | BA38: obiekty biurowe | BB38: hotele i obiekty rekreacyjne | BC38: inne | BD38: OGÓŁEM
A39: 1 | B39: Alior Leasing Sp. z o. o. | C39: 18549 | D39: 9234 | G39: 4116 | H39: 3315 | K39: 801 | N39: 2191 | Q39: 2222 | R39: 458 | U39: 328 | X39: 4010 | Y39: 1133 | Z39: 836 | AA39: 126 | AB39: 41 | AC39: 285 | AD39: 210 | AE39: 312 | AF39: 7 | AG39: 86 | AH39: 1 | AI39: 2 | AJ39: 61 | AM39: 910 | AN39: 39 | AO39: 39 | AR39: 64 | AS39: 3 | AT39: 59 | AU39: 2 | AW39: 22662 | AX39: 0 | BD39: 22662
A40: 2 | B40: BNP Paribas Lease Group Sp. z o. o. | C40: 19688 | D40: 15035 | E40: 188 | F40: 81 | G40: 3653 | H40: 2811 | I40: 16 | J40: 0 | K40: 842 | L40: 1 | M40: 0 | N40: 343 | O40: 0 | P40: 0 | Q40: 256 | R40: 12 | S40: 0 | T40: 0 | U40: 389 | V40: 3 | W40: 0 | X40: 4377 | Y40: 830 | Z40: 396 | AA40: 19 | AB40: 9 | AC40: 49 | AD40: 8 | AE40: 365 | AF40: 4 | AG40: 1772 | AH40: 22 | AI40: 4 | AJ40: 69 | AK40: 0 | AL40: 6 | AM40: 824 | AN40: 533 | AO40: 435 | AP40: 85 | AQ40: 13 | AR40: 4 | AS40: 0 | AT40: 4 | AU40: 0 | AV40: 0 | AW40: 24602 | AX40: 14 | AY40: 1 | AZ40: 13 | BA40: 0 | BB40: 0 | BC40: 0 | BD40: 24616
A41: 3 | B41: BOŚ LEASING - EKO PROFIT S.A. | C41: 120 | D41: 38 | G41: 7 | H41: 5 | K41: 2 | N41: 25 | Q41: 28 | R41: 7 | U41: 15 | X41: 159 | Y41: 28 | Z41: 15 | AB41: 3 | AC41: 17 | AD41: 2 | AE41: 2 | AG41: 8 | AJ41: 13 | AL41: 15 | AM41: 56 | AN41: 0 | AR41: 3 | AT41: 2 | AU41: 1 | AW41: 282 | AX41: 0 | BD41: 282
A42: 4 | B42: BPS Leasing S.A. | C42: 1329 | D42: 580 | E42: 7 | F42: 221 | G42: 224 | H42: 133 | I42: 1 | K42: 91 | N42: 268 | Q42: 190 | R42: 40 | S42: 1 | U42: 27 | X42: 151 | Y42: 46 | Z42: 20 | AA42: 1 | AB42: 7 | AC42: 4 | AD42: 6 | AE42: 8 | AG42: 13 | AH42: 1 | AJ42: 8 | AM42: 37 | AN42: 9 | AO42: 9 | AR42: 8 | AS42: 3 | AT42: 1 | AU42: 4 | AV42: 42 | AW42: 1539 | AX42: 0 | BD42: 1539
A43: 5 | B43: Caterpillar Financial Services Poland Sp. z o.o. | C43: 0 | G43: 0 | X43: 926 | Y43: 926 | AN43: 0 | AR43: 0 | AW43: 926 | AX43: 0 | BD43: 926
A44: 6 | B44: DE LAGE Landen Leasing Polska S.A. | C44: 48 | D44: 8 | G44: 6 | H44: 6 | N44: 26 | Q44: 6 | U44: 2 | X44: 428 | Y44: 167 | Z44: 225 | AE44: 16 | AG44: 14 | AJ44: 4 | AM44: 2 | AN44: 257 | AO44: 257 | AR44: 0 | AW44: 733 | AX44: 0 | BD44: 733
A45: 7 | B45: Deutsche Leasing Polska S.A. | C45: 351 | D45: 11 | G45: 11 | H45: 3 | K45: 8 | N45: 48 | Q45: 276 | R45: 0 | U45: 5 | X45: 3157 | Y45: 7 | Z45: 27 | AA45: 2 | AB45: 2 | AC45: 38 | AD45: 2 | AE45: 1 | AF45: 0 | AG45: 2986 | AM45: 92 | AN45: 0 | AR45: 0 | AW45: 3508 | AX45: 0 | BD45: 3508
A46: 8 | B46: Europejski Fundusz Leasingowy S.A. | C46: 38812 | D46: 18717 | E46: 471 | F46: 284 | G46: 9283 | H46: 6658 | I46: 119 | K46: 2625 | L46: 3 | N46: 4624 | Q46: 4617 | R46: 227 | S46: 2 | U46: 1344 | V46: 1 | X46: 15926 | Y46: 4679 | Z46: 1936 | AA46: 181 | AB46: 136 | AC46: 568 | AD46: 270 | AE46: 325 | AF46: 1775 | AG46: 691 | AH46: 12 | AI46: 33 | AJ46: 422 | AL46: 20 | AM46: 4878 | AN46: 1317 | AO46: 685 | AP46: 279 | AQ46: 353 | AR46: 64 | AS46: 15 | AT46: 49 | AW46: 56119 | AX46: 0 | BD46: 56119
...

Sheet suma pożyczka + leasing I-IV
B2: Ziązek Polskiego Leasingu, WARSZAWA - 01-07-2025
B4: Wartość środków oddanych w leasing + pożyczka (netto w tys.PLN) | E4: I - IV kwartał 2024
A6: Lp. | B6: Spółka | C6: POJAZDY | D6: Osobowe | E6: osobowe - zeroemisyjne | F6: osobowe - hybryda plug-in | G6: Cięzarowe: | H6: o masie do 3,5 tony | I6: o masie do 3,5 tony - zeroemisyjne | J6: o masie do 3,5 tony - hybryda plug-in | K6: o masie powyzej 3,5 tony | L6: o masie powyżej 3,5 tony - zeroemisyjne | M6: o masie powyżej 3,5 tony - hybryda plug-in | N6: ciagniki siodlowe | O6: ciągniki siodłowe - zeroemisyjne | P6: ciągniki siodłowe - hybryda plug-in | Q6: naczepy / przyczepy | R6: autobusy | S6: autobusy - zeroemisyjne | T6: autobusy - hybryda plug-in | U6: inne | V6: inne - zeroemisyjne | W6: inne - hybryda plug-in | X6: MiU | Y6: Sprzęt Budowlany | Z6: Maszyny Rolnicze | AA6: Maszyny Poligraf. | AB6: maszyny do produkcji tworzyw sztucznych | AC6: maszyny i urządzenia do obróbki metali | AD6: maszyny dla przemysłu spożywczego | AE6: Sprzęt Medyczny | AF6: Sprzęt Gastronom. | AG6: Wózki Widłowe | AH6: Magazyny energii | AI6: Pompy ciepła | AJ6: fotowoltaika | AK6: wiatraki i turbiny wiatrowe | AL6: stacje ładowania pojazdów elektrycznych (na użytek własny i komercyjny) | AM6: inne MiU | AN6: IT | AO6: Sprzęt | AP6: Oprogram. | AQ6: inne IT | AR6: POZOSTAŁE ŚRODKI TRANSPORTU | AS6: Powietrzne | AT6: Wodne | AU6: Kolejowe | AV6: Inne ruchomości | AW6: RUCHOMOŚCI | AX6: Nieruchomości | AY6: budynki przemysłowe | AZ6: obiekty handlowe i usługowe | BA6: obiekty biurowe | BB6: hotele i obiekty rekreacyjne | BC6: inne | BD6: OGÓŁEM
A7: 1 | B7: Alior Leasing Sp. z o. o. | C7: ='pozyczki_I-IV kw 2024'!C7+'leasing_I-IV kw 2024'!C7 -> 2832894.2 | D7: ='pozyczki_I-IV kw 2024'!D7+'leasing_I-IV kw 2024'!D7 -> 1315045 | E7: ='pozyczki_I-IV kw 2024'!E7+'leasing_I-IV kw 2024'!E7 -> 0 | F7: ='pozyczki_I-IV kw 2024'!F7+'leasing_I-IV kw 2024'!F7 -> 0 | G7: ='pozyczki_I-IV kw 2024'!G7+'leasing_I-IV kw 2024'!G7 -> 534032.18 | H7: ='pozyczki_I-IV kw 2024'!H7+'leasing_I-IV kw 2024'!H7 -> 326994.45 | I7: ='pozyczki_I-IV kw 2024'!I7+'leasing_I-IV kw 2024'!I7 -> 0 | J7: ='pozyczki_I-IV kw 2024'!J7+'leasing_I-IV kw 2024'!J7 -> 0 | ... BD7: ='pozyczki_I-IV kw 2024'!BD7+'leasing_I-IV kw 2024'!BD7 -> 3519890
A8: 2 | B8: BNP Paribas Lease Group Sp. z o. o. | C8: ='pozyczki_I-IV kw 2024'!C8+'leasing_I-IV kw 2024'!C8 -> 3021244.6 | D8: ='pozyczki_I-IV kw 2024'!D8+'leasing_I-IV kw 2024'!D8 -> 1985163.7 | E8: ='pozyczki_I-IV kw 2024'!E8+'leasing_I-IV kw 2024'!E8 -> 32715.618 | F8: ='pozyczki_I-IV kw 2024'!F8+'leasing_I-IV kw 2024'!F8 -> 14020.979 | G8: ='pozyczki_I-IV kw 2024'!G8+'leasing_I-IV kw 2024'!G8 -> 782185.54 | H8: ='pozyczki_I-IV kw 2024'!H8+'leasing_I-IV kw 2024'!H8 -> 482207.97 | I8: ='pozyczki_I-IV kw 2024'!I8+'leasing_I-IV kw 2024'!I8 -> 2845.0491 | J8: ='pozyczki_I-IV kw 2024'!J8+'leasing_I-IV kw 2024'!J8 -> 0 | ... BD8: ='pozyczki_I-IV kw 2024'!BD8+'leasing_I-IV kw 2024'!BD8 -> 6289409.5
A9: 3 | B9: BOŚ LEASING - EKO PROFIT S.A. | C9: ='pozyczki_I-IV kw 2024'!C9+'leasing_I-IV kw 2024'!C9 -> 26497.673 | D9: ='pozyczki_I-IV kw 2024'!D9+'leasing_I-IV kw 2024'!D9 -> 5208.718 | E9: ='pozyczki_I-IV kw 2024'!E9+'leasing_I-IV kw 2024'!E9 -> 0 | F9: ='pozyczki_I-IV kw 2024'!F9+'leasing_I-IV kw 2024'!F9 -> 0 | G9: ='pozyczki_I-IV kw 2024'!G9+'leasing_I-IV kw 2024'!G9 -> 1068.352 | H9: ='pozyczki_I-IV kw 2024'!H9+'leasing_I-IV kw 2024'!H9 -> 669.352 | I9: ='pozyczki_I-IV kw 2024'!I9+'leasing_I-IV kw 2024'!I9 -> 0 | J9: ='pozyczki_I-IV kw 2024'!J9+'leasing_I-IV kw 2024'!J9 -> 0 | ... BD9: ='pozyczki_I-IV kw 2024'!BD9+'leasing_I-IV kw 2024'!BD9 -> 99596.251
A10: 4 | B10: BPS Leasing S.A. | C10: ='pozyczki_I-IV kw 2024'!C10+'leasing_I-IV kw 2024'!C10 -> 289111.28 | D10: ='pozyczki_I-IV kw 2024'!D10+'leasing_I-IV kw 2024'!D10 -> 89674.04 | E10: ='pozyczki_I-IV kw 2024'!E10+'leasing_I-IV kw 2024'!E10 -> 2775.01 | F10: ='pozyczki_I-IV kw 2024'!F10+'leasing_I-IV kw 2024'!F10 -> 33859.94 | G10: ='pozyczki_I-IV kw 2024'!G10+'leasing_I-IV kw 2024'!G10 -> 48197.09 | H10: ='pozyczki_I-IV kw 2024'!H10+'leasing_I-IV kw 2024'!H10 -> 18475.77 | I10: ='pozyczki_I-IV kw 2024'!I10+'leasing_I-IV kw 2024'!I10 -> 230 | J10: ='pozyczki_I-IV kw 2024'!J10+'leasing_I-IV kw 2024'!J10 -> 0 | ... BD10: ='pozyczki_I-IV kw 2024'!BD10+'leasing_I-IV kw 2024'!BD10 -> 360376.01
A11: 5 | B11: Caterpillar Financial Services Poland Sp. z o.o. | C11: ='pozyczki_I-IV kw 2024'!C11+'leasing_I-IV kw 2024'!C11 -> 0 | D11: ='pozyczki_I-IV kw 2024'!D11+'leasing_I-IV kw 2024'!D11 -> 0 | E11: ='pozyczki_I-IV kw 2024'!E11+'leasing_I-IV kw 2024'!E11 -> 0 | F11: ='pozyczki_I-IV kw 2024'!F11+'leasing_I-IV kw 2024'!F11 -> 0 | G11: ='pozyczki_I-IV kw 2024'!G11+'leasing_I-IV kw 2024'!G11 -> 0 | H11: ='pozyczki_I-IV kw 2024'!H11+'leasing_I-IV kw 2024'!H11 -> 0 | I11: ='pozyczki_I-IV kw 2024'!I11+'leasing_I-IV kw 2024'!I11 -> 0 | J11: ='pozyczki_I-IV kw 2024'!J11+'leasing_I-IV kw 2024'!J11 -> 0 | ... BD11: ='pozyczki_I-IV kw 2024'!BD11+'leasing_I-IV kw 2024'!BD11 -> 614114.16
A12: 6 | B12: DE LAGE Landen Leasing Polska S.A. | C12: ='pozyczki_I-IV kw 2024'!C12+'leasing_I-IV kw 2024'!C12 -> 36099 | D12: ='pozyczki_I-IV kw 2024'!D12+'leasing_I-IV kw 2024'!D12 -> 1730 | E12: ='pozyczki_I-IV kw 2024'!E12+'leasing_I-IV kw 2024'!E12 -> 0 | F12: ='pozyczki_I-IV kw 2024'!F12+'leasing_I-IV kw 2024'!F12 -> 0 | G12: ='pozyczki_I-IV kw 2024'!G12+'leasing_I-IV kw 2024'!G12 -> 1077 | H12: ='pozyczki_I-IV kw 2024'!H12+'leasing_I-IV kw 2024'!H12 -> 1077 | I12: ='pozyczki_I-IV kw 2024'!I12+'leasing_I-IV kw 2024'!I12 -> 0 | J12: ='pozyczki_I-IV kw 2024'!J12+'leasing_I-IV kw 2024'!J12 -> 0 | ... BD12: ='pozyczki_I-IV kw 2024'!BD12+'leasing_I-IV kw 2024'!BD12 -> 1043065
A13: 7 | B13: Deutsche Leasing Polska S.A. | C13: ='pozyczki_I-IV kw 2024'!C13+'leasing_I-IV kw 2024'!C13 -> 114123 | D13: ='pozyczki_I-IV kw 2024'!D13+'leasing_I-IV kw 2024'!D13 -> 1971 | E13: ='pozyczki_I-IV kw 2024'!E13+'leasing_I-IV kw 2024'!E13 -> 0 | F13: ='pozyczki_I-IV kw 2024'!F13+'leasing_I-IV kw 2024'!F13 -> 0 | G13: ='pozyczki_I-IV kw 2024'!G13+'leasing_I-IV kw 2024'!G13 -> 7440 | H13: ='pozyczki_I-IV kw 2024'!H13+'leasing_I-IV kw 2024'!H13 -> 460 | I13: ='pozyczki_I-IV kw 2024'!I13+'leasing_I-IV kw 2024'!I13 -> 0 | J13: ='pozyczki_I-IV kw 2024'!J13+'leasing_I-IV kw 2024'!J13 -> 0 | ... BD13: ='pozyczki_I-IV kw 2024'!BD13+'leasing_I-IV kw 2024'!BD13 -> 852788
A14: 8 | B14: Europejski Fundusz Leasingowy S.A. | C14: ='pozyczki_I-IV kw 2024'!C14+'leasing_I-IV kw 2024'!C14 -> 6912906.3 | D14: ='pozyczki_I-IV kw 2024'!D14+'leasing_I-IV kw 2024'!D14 -> 2887725 | E14: ='pozyczki_I-IV kw 2024'!E14+'leasing_I-IV kw 2024'!E14 -> 93083.36 | F14: ='pozyczki_I-IV kw 2024'!F14+'leasing_I-IV kw 2024'!F14 -> 60636.528 | G14: ='pozyczki_I-IV kw 2024'!G14+'leasing_I-IV kw 2024'!G14 -> 1753162.1 | H14: ='pozyczki_I-IV kw 2024'!H14+'leasing_I-IV kw 2024'!H14 -> 882706.1 | I14: ='pozyczki_I-IV kw 2024'!I14+'leasing_I-IV kw 2024'!I14 -> 18655.463 | J14: ='pozyczki_I-IV kw 2024'!J14+'leasing_I-IV kw 2024'!J14 -> 0 | ... BD14: ='pozyczki_I-IV kw 2024'!BD14+'leasing_I-IV kw 2024'!BD14 -> 10336705
A15: 9 | B15: Impuls-Leasing Polska Sp. z o. o. | C15: ='pozyczki_I-IV kw 2024'!C15+'leasing_I-IV kw 2024'!C15 -> 1022177.1 | D15: ='pozyczki_I-IV kw 2024'!D15+'leasing_I-IV kw 2024'!D15 -> 519329.09 | E15: ='pozyczki_I-IV kw 2024'!E15+'leasing_I-IV kw 2024'!E15 -> 19323.34 | F15: ='pozyczki_I-IV kw 2024'!F15+'leasing_I-IV kw 2024'!F15 -> 17783.2 | G15: ='pozyczki_I-IV kw 2024'!G15+'leasing_I-IV kw 2024'!G15 -> 183205.31 | H15: ='pozyczki_I-IV kw 2024'!H15+'leasing_I-IV kw 2024'!H15 -> 129341.55 | I15: ='pozyczki_I-IV kw 2024'!I15+'leasing_I-IV kw 2024'!I15 -> 1340.14 | J15: ='pozyczki_I-IV kw 2024'!J15+'leasing_I-IV kw 2024'!J15 -> 0 | ... BD15: ='pozyczki_I-IV kw 2024'!BD15+'leasing_I-IV kw 2024'!BD15 -> 1306390.8
A16: 10 | B16: ING Lease (Polska) Sp. z o. o. | C16: ='pozyczki_I-IV kw 2024'!C16+'leasing_I-IV kw 2024'!C16 -> 3509132 | D16: ='pozyczki_I-IV kw 2024'!D16+'leasing_I-IV kw 2024'!D16 -> 1688439 | E16: ='pozyczki_I-IV kw 2024'!E16+'leasing_I-IV kw 2024'!E16 -> 49582 | F16: ='pozyczki_I-IV kw 2024'!F16+'leasing_I-IV kw 2024'!F16 -> 43432 | G16: ='pozyczki_I-IV kw 2024'!G16+'leasing_I-IV kw 2024'!G16 -> 677968 | H16: ='pozyczki_I-IV kw 2024'!H16+'leasing_I-IV kw 2024'!H16 -> 394538 | I16: ='pozyczki_I-IV kw 2024'!I16+'leasing_I-IV kw 2024'!I16 -> 4153 | J16: ='pozyczki_I-IV kw 2024'!J16+'leasing_I-IV kw 2024'!J16 -> 0 | ... BD16: ='pozyczki_I-IV kw 2024'!BD16+'leasing_I-IV kw 2024'!BD16 -> 6163958
A17: 11 | B17: Leasing Polski Sp. z o. o. | C17: ='pozyczki_I-IV kw 2024'!C17+'leasing_I-IV kw 2024'!C17 -> 174341.89 | D17: ='pozyczki_I-IV kw 2024'!D17+'leasing_I-IV kw 2024'!D17 -> 31321.055 | E17: ='pozyczki_I-IV kw 2024'!E17+'leasing_I-IV kw 2024'!E17 -> 0 | F17: ='pozyczki_I-IV kw 2024'!F17+'leasing_I-IV kw 2024'!F17 -> 4409.2654 | G17: ='pozyczki_I-IV kw 2024'!G17+'leasing_I-IV kw 2024'!G17 -> 38567.074 | H17: ='pozyczki_I-IV kw 2024'!H17+'leasing_I-IV kw 2024'!H17 -> 20194.941 | I17: ='pozyczki_I-IV kw 2024'!I17+'leasing_I-IV kw 2024'!I17 -> 0 | J17: ='pozyczki_I-IV kw 2024'!J17+'leasing_I-IV kw 2024'!J17 -> 0 | ... BD17: ='pozyczki_I-IV kw 2024'!BD17+'leasing_I-IV kw 2024'!BD17 -> 214102.15
A18: 12 | B18: Mercedes-Benz Leasing Polska Sp. z o.o. | C18: ='pozyczki_I-IV kw 2024'!C18+'leasing_I-IV kw 2024'!C18 -> 3939524.6 | D18: ='pozyczki_I-IV kw 2024'!D18+'leasing_I-IV kw 2024'!D18 -> 3261652.9 | E18: ='pozyczki_I-IV kw 2024'!E18+'leasing_I-IV kw 2024'!E18 -> 308653.55 | F18: ='pozyczki_I-IV kw 2024'!F18+'leasing_I-IV kw 2024'!F18 -> 253439.53 | G18: ='pozyczki_I-IV kw 2024'!G18+'leasing_I-IV kw 2024'!G18 -> 401461.01 | H18: ='pozyczki_I-IV kw 2024'!H18+'leasing_I-IV kw 2024'!H18 -> 363141.54 | I18: ='pozyczki_I-IV kw 2024'!I18+'leasing_I-IV kw 2024'!I18 -> 27585.641 | J18: ='pozyczki_I-IV kw 2024'!J18+'leasing_I-IV kw 2024'!J18 -> 0 | ... BD18: ='pozyczki_I-IV kw 2024'!BD18+'leasing_I-IV kw 2024'!BD18 -> 3939524.6
... A33: 27 | B33: Razem | C33: ='pozyczki_I-IV kw 2024'!C33+'leasing_I-IV kw 2024'!C33 -> 53568000 | D33: ='pozyczki_I-IV kw 2024'!D33+'leasing_I-IV kw 2024'!D33 -> 30577614 | E33: ='pozyczki_I-IV kw 2024'!E33+'leasing_I-IV kw 2024'!E33 -> 1199525.6 | F33: ='pozyczki_I-IV kw 2024'!F33+'leasing_I-IV kw 2024'!F33 -> 1116652 | G33: ='pozyczki_I-IV kw 2024'!G33+'leasing_I-IV kw 2024'!G33 -> 9346726.3 | H33: ='pozyczki_I-IV kw 2024'!H33+'leasing_I-IV kw 2024'!H33 -> 5510597.7 | I33: ='pozyczki_I-IV kw 2024'!I33+'leasing_I-IV kw 2024'!I33 -> 96358.177 | J33: ='pozyczki_I-IV kw 2024'!J33+'leasing_I-IV kw 2024'!J33 -> 766.69026 | ... BD33: ='pozyczki_I-IV kw 2024'!BD33+'leasing_I-IV kw 2024'!BD33 -> 82703206
B35: Ilość środków oddanych w leasing + pożyczak (szt) | D35: I - IV kwartał 2024
A38: Lp. | B38: Spółka | C38: POJAZDY | D38: Osobowe | E38: osobowe - zeroemisyjne | F38: osobowe - hybryda plug-in | G38: Cięzarowe: | H38: o masie do 3,5 tony | I38: o masie do 3,5 tony - zeroemisyjne | J38: o masie do 3,5 tony - hybryda plug-in | K38: o masie powyzej 3,5 tony | L38: o masie powyżej 3,5 tony - zeroemisyjne | M38: o masie powyżej 3,5 tony - hybryda plug-in | N38: ciagniki siodlowe | O38: ciągniki siodłowe - zeroemisyjne | P38: ciągniki siodłowe - hybryda plug-in | Q38: naczepy / przyczepy | R38: autobusy | S38: autobusy - zeroemisyjne | T38: autobusy - hybryda plug-in | U38: inne | V38: inne - zeroemisyjne | W38: inne - hybryda plug-in | X38: MiU | Y38: Sprzęt Budowlany | Z38: Maszyny Rolnicze | AA38: Maszyny Poligraf. | AB38: maszyny do produkcji tworzyw sztucznych | AC38: maszyny i urządzenia do obróbki metali | AD38: maszyny dla przemysłu spożywczego | AE38: Sprzęt Medyczny | AF38: Sprzęt Gastronom. | AG38: Wózki Widłowe | AH38: Magazyny energii | AI38: Pompy ciepła | AJ38: fotowoltaika | AK38: wiatraki i turbiny wiatrowe | AL38: stacje ładowania pojazdów elektrycznych (na użytek własny i komercyjny) | AM38: inne MiU | AN38: IT | AO38: Sprzęt | AP38: Oprogram. | AQ38: inne IT | AR38: POZOSTAŁE ŚRODKI TRANSPORTU | AS38: Powietrzne | AT38: Wodne | AU38: Kolejowe | AV38: Inne ruchomości | AW38: RUCHOMOŚCI | AX38: Nieruchomości | AY38: budynki przemysłowe | AZ38: obiekty handlowe i usługowe | BA38: obiekty biurowe | BB38: hotele i obiekty rekreacyjne | BC38: inne | BD38: OGÓŁEM
A39: 1 | B39: Alior Leasing Sp. z o. o. | C39: ='pozyczki_I-IV kw 2024'!C39+'leasing_I-IV kw 2024'!C39 -> 20391 | D39: ='pozyczki_I-IV kw 2024'!D39+'leasing_I-IV kw 2024'!D39 -> 10221 | E39: ='pozyczki_I-IV kw 2024'!E39+'leasing_I-IV kw 2024'!E39 -> 0 | F39: ='pozyczki_I-IV kw 2024'!F39+'leasing_I-IV kw 2024'!F39 -> 0 | G39: ='pozyczki_I-IV kw 2024'!G39+'leasing_I-IV kw 2024'!G39 -> 4420 | H39: ='pozyczki_I-IV kw 2024'!H39+'leasing_I-IV kw 2024'!H39 -> 3548 | I39: ='pozyczki_I-IV kw 2024'!I39+'leasing_I-IV kw 2024'!I39 -> 0 | J39: ='pozyczki_I-IV kw 2024'!J39+'leasing_I-IV kw 2024'!J39 -> 0 | ... BD39: ='pozyczki_I-IV kw 2024'!BD39+'leasing_I-IV kw 2024'!BD39 -> 25066
A40: 2 | B40: BNP Paribas Lease Group Sp. z o. o. | C40: ='pozyczki_I-IV kw 2024'!C40+'leasing_I-IV kw 2024'!C40 -> 20422 | D40: ='pozyczki_I-IV kw 2024'!D40+'leasing_I-IV kw 2024'!D40 -> 15113 | E40: ='pozyczki_I-IV kw 2024'!E40+'leasing_I-IV kw 2024'!E40 -> 188 | F40: ='pozyczki_I-IV kw 2024'!F40+'leasing_I-IV kw 2024'!F40 -> 81 | G40: ='pozyczki_I-IV kw 2024'!G40+'leasing_I-IV kw 2024'!G40 -> 4160 | H40: ='pozyczki_I-IV kw 2024'!H40+'leasing_I-IV kw 2024'!H40 -> 3124 | I40: ='pozyczki_I-IV kw 2024'!I40+'leasing_I-IV kw 2024'!I40 -> 16 | J40: ='pozyczki_I-IV kw 2024'!J40+'leasing_I-IV kw 2024'!J40 -> 0 | ... BD40: ='pozyczki_I-IV kw 2024'!BD40+'leasing_I-IV kw 2024'!BD40 -> 31022
A41: 3 | B41: BOŚ LEASING - EKO PROFIT S.A. | C41: ='pozyczki_I-IV kw 2024'!C41+'leasing_I-IV kw 2024'!C41 -> 120 | D41: ='pozyczki_I-IV kw 2024'!D41+'leasing_I-IV kw 2024'!D41 -> 38 | E41: ='pozyczki_I-IV kw 2024'!E41+'leasing_I-IV kw 2024'!E41 -> 0 | F41: ='pozyczki_I-IV kw 2024'!F41+'leasing_I-IV kw 2024'!F41 -> 0 | G41: ='pozyczki_I-IV kw 2024'!G41+'leasing_I-IV kw 2024'!G41 -> 7 | H41: ='pozyczki_I-IV kw 2024'!H41+'leasing_I-IV kw 2024'!H41 -> 5 | I41: ='pozyczki_I-IV kw 2024'!I41+'leasing_I-IV kw 2024'!I41 -> 0 | J41: ='pozyczki_I-IV kw 2024'!J41+'leasing_I-IV kw 2024'!J41 -> 0 | ... BD41: ='pozyczki_I-IV kw 2024'!BD41+'leasing_I-IV kw 2024'!BD41 -> 286
A42: 4 | B42: BPS Leasing S.A. | C42: ='pozyczki_I-IV kw 2024'!C42+'leasing_I-IV kw 2024'!C42 -> 1363 | D42: ='pozyczki_I-IV kw 2024'!D42+'leasing_I-IV kw 2024'!D42 -> 594 | E42: ='pozyczki_I-IV kw 2024'!E42+'leasing_I-IV kw 2024'!E42 -> 7 | F42: ='pozyczki_I-IV kw 2024'!F42+'leasing_I-IV kw 2024'!F42 -> 224 | G42: ='pozyczki_I-IV kw 2024'!G42+'leasing_I-IV kw 2024'!G42 -> 224 | H42: ='pozyczki_I-IV kw 2024'!H42+'leasing_I-IV kw 2024'!H42 -> 133 | I42: ='pozyczki_I-IV kw 2024'!I42+'leasing_I-IV kw 2024'!I42 -> 1 | J42: ='pozyczki_I-IV kw 2024'!J42+'leasing_I-IV kw 2024'!J42 -> 0 | ... BD42: ='pozyczki_I-IV kw 2024'!BD42+'leasing_I-IV kw 2024'!BD42 -> 1583
A43: 5 | B43: Caterpillar Financial Services Poland Sp. z o.o. | C43: ='pozyczki_I-IV kw 2024'!C43+'leasing_I-IV kw 2024'!C43 -> 0 | D43: ='pozyczki_I-IV kw 2024'!D43+'leasing_I-IV kw 2024'!D43 -> 0 | E43: ='pozyczki_I-IV kw 2024'!E43+'leasing_I-IV kw 2024'!E43 -> 0 | F43: ='pozyczki_I-IV kw 2024'!F43+'leasing_I-IV kw 2024'!F43 -> 0 | G43: ='pozyczki_I-IV kw 2024'!G43+'leasing_I-IV kw 2024'!G43 -> 0 | H43: ='pozyczki_I-IV kw 2024'!H43+'leasing_I-IV kw 2024'!H43 -> 0 | I43: ='pozyczki_I-IV kw 2024'!I43+'leasing_I-IV kw 2024'!I43 -> 0 | J43: ='pozyczki_I-IV kw 2024'!J43+'leasing_I-IV kw 2024'!J43 -> 0 | ... BD43: ='pozyczki_I-IV kw 2024'!BD43+'leasing_I-IV kw 2024'!BD43 -> 1311
A44: 6 | B44: DE LAGE Landen Leasing Polska S.A. | C44: ='pozyczki_I-IV kw 2024'!C44+'leasing_I-IV kw 2024'!C44 -> 140 | D44: ='pozyczki_I-IV kw 2024'!D44+'leasing_I-IV kw 2024'!D44 -> 12 | E44: ='pozyczki_I-IV kw 2024'!E44+'leasing_I-IV kw 2024'!E44 -> 0 | F44: ='pozyczki_I-IV kw 2024'!F44+'leasing_I-IV kw 2024'!F44 -> 0 | G44: ='pozyczki_I-IV kw 2024'!G44+'leasing_I-IV kw 2024'!G44 -> 6 | H44: ='pozyczki_I-IV kw 2024'!H44+'leasing_I-IV kw 2024'!H44 -> 6 | I44: ='pozyczki_I-IV kw 2024'!I44+'leasing_I-IV kw 2024'!I44 -> 0 | J44: ='pozyczki_I-IV kw 2024'!J44+'leasing_I-IV kw 2024'!J44 -> 0 | ... BD44: ='pozyczki_I-IV kw 2024'!BD44+'leasing_I-IV kw 2024'!BD44 -> 2685
A45: 7 | B45: Deutsche Leasing Polska S.A. | C45: ='pozyczki_I-IV kw 2024'!C45+'leasing_I-IV kw 2024'!C45 -> 508 | D45: ='pozyczki_I-IV kw 2024'!D45+'leasing_I-IV kw 2024'!D45 -> 12 | E45: ='pozyczki_I-IV kw 2024'!E45+'leasing_I-IV kw 2024'!E45 -> 0 | F45: ='pozyczki_I-IV kw 2024'!F45+'leasing_I-IV kw 2024'!F45 -> 0 | G45: ='pozyczki_I-IV kw 2024'!G45+'leasing_I-IV kw 2024'!G45 -> 11 | H45: ='pozyczki_I-IV kw 2024'!H45+'leasing_I-IV kw 2024'!H45 -> 3 | I45: ='pozyczki_I-IV kw 2024'!I45+'leasing_I-IV kw 2024'!I45 -> 0 | J45: ='pozyczki_I-IV kw 2024'!J45+'leasing_I-IV kw 2024'!J45 -> 0 | ... BD45: ='pozyczki_I-IV kw 2024'!BD45+'leasing_I-IV kw 2024'!BD45 -> 3733
A46: 8 | B46: Europejski Fundusz Leasingowy S.A. | C46: ='pozyczki_I-IV kw 2024'!C46+'leasing_I-IV kw 2024'!C46 -> 40249 | D46: ='pozyczki_I-IV kw 2024'!D46+'leasing_I-IV kw 2024'!D46 -> 19259 | E46: ='pozyczki_I-IV kw 2024'!E46+'leasing_I-IV kw 2024'!E46 -> 485 | F46: ='pozyczki_I-IV kw 2024'!F46+'leasing_I-IV kw 2024'!F46 -> 285 | G46: ='pozyczki_I-IV kw 2024'!G46+'leasing_I-IV kw 2024'!G46 -> 9517 | H46: ='pozyczki_I-IV kw 2024'!H46+'leasing_I-IV kw 2024'!H46 -> 6873 | I46: ='pozyczki_I-IV kw 2024'!I46+'leasing_I-IV kw 2024'!I46 -> 120 | J46: ='pozyczki_I-IV kw 2024'!J46+'leasing_I-IV kw 2024'!J46 -> 0 | ... BD46: ='pozyczki_I-IV kw 2024'!BD46+'leasing_I-IV kw 2024'!BD46 -> 59894
A47: 9 | B47: Impuls-Leasing Polska Sp. z o. o. | C47: ='pozyczki_I-IV kw 2024'!C47+'leasing_I-IV kw 2024'!C47 -> 5675 | D47: ='pozyczki_I-IV kw 2024'!D47+'leasing_I-IV kw 2024'!D47 -> 3183 | E47: ='pozyczki_I-IV kw 2024'!E47+'leasing_I-IV kw 2024'!E47 -> 107 | F47: ='pozyczki_I-IV kw 2024'!F47+'leasing_I-IV kw 2024'!F47 -> 76 | G47: ='pozyczki_I-IV kw 2024'!G47+'leasing_I-IV kw 2024'!G47 -> 983 | H47: ='pozyczki_I-IV kw 2024'!H47+'leasing_I-IV kw 2024'!H47 -> 843 | I47: ='pozyczki_I-IV kw 2024'!I47+'leasing_I-IV kw 2024'!I47 -> 7 | J47: ='pozyczki_I-IV kw 2024'!J47+'leasing_I-IV kw 2024'!J47 -> 0 | ... BD47: ='pozyczki_I-IV kw 2024'!BD47+'leasing_I-IV kw 2024'!BD47 -> 7180
A48: 10 | B48: ING Lease (Polska) Sp. z o. o. | C48: ='pozyczki_I-IV kw 2024'!C48+'leasing_I-IV kw 2024'!C48 -> 20081 | D48: ='pozyczki_I-IV kw 2024'!D48+'leasing_I-IV kw 2024'!D48 -> 11828 | E48: ='pozyczki_I-IV kw 2024'!E48+'leasing_I-IV kw 2024'!E48 -> 286 | F48: ='pozyczki_I-IV kw 2024'!F48+'leasing_I-IV kw 2024'!F48 -> 224 | G48: ='pozyczki_I-IV kw 2024'!G48+'leasing_I-IV kw 2024'!G48 -> 4014 | H48: ='pozyczki_I-IV kw 2024'!H48+'leasing_I-IV kw 2024'!H48 -> 3349 | I48: ='pozyczki_I-IV kw 2024'!I48+'leasing_I-IV kw 2024'!I48 -> 26 | J48: ='pozyczki_I-IV kw 2024'!J48+'leasing_I-IV kw 2024'!J48 -> 0 | ... BD48: ='pozyczki_I-IV kw 2024'!BD48+'leasing_I-IV kw 2024'!BD48 -> 27293
A49: 11 | B49: Leasing Polski Sp. z o. o. | C49: ='pozyczki_I-IV kw 2024'!C49+'leasing_I-IV kw 2024'!C49 -> 1669 | D49: ='pozyczki_I-IV kw 2024'!D49+'leasing_I-IV kw 2024'!D49 -> 355 | E49: ='pozyczki_I-IV kw 2024'!E49+'leasing_I-IV kw 2024'!E49 -> 0 | F49: ='pozyczki_I-IV kw 2024'!F49+'leasing_I-IV kw 2024'!F49 -> 35 | G49: ='pozyczki_I-IV kw 2024'!G49+'leasing_I-IV kw 2024'!G49 -> 435 | H49: ='pozyczki_I-IV kw 2024'!H49+'leasing_I-IV kw 2024'!H49 -> 309 | I49: ='pozyczki_I-IV kw 2024'!I49+'leasing_I-IV kw 2024'!I49 -> 0 | J49: ='pozyczki_I-IV kw 2024'!J49+'leasing_I-IV kw 2024'!J49 -> 0 | ... BD49: ='pozyczki_I-IV kw 2024'!BD49+'leasing_I-IV kw 2024'!BD49 -> 1815
A50: 12 | B50: Mercedes-Benz Leasing Polska Sp. z o.o. | C50: ='pozyczki_I-IV kw 2024'!C50+'leasing_I-IV kw 2024'!C50 -> 17945 | D50: ='pozyczki_I-IV kw 2024'!D50+'leasing_I-IV kw 2024'!D50 -> 14909 | E50: ='pozyczki_I-IV kw 2024'!E50+'leasing_I-IV kw 2024'!E50 -> 1287 | F50: ='pozyczki_I-IV kw 2024'!F50+'leasing_I-IV kw 2024'!F50 -> 1085 | G50: ='pozyczki_I-IV kw 2024'!G50+'leasing_I-IV kw 2024'!G50 -> 2403 | H50: ='pozyczki_I-IV kw 2024'!H50+'leasing_I-IV kw 2024'!H50 -> 2311 | I50: ='pozyczki_I-IV kw 2024'!I50+'leasing_I-IV kw 2024'!I50 -> 187 | J50: ='pozyczki_I-IV kw 2024'!J50+'leasing_I-IV kw 2024'!J50 -> 0 | ... BD50: ='pozyczki_I-IV kw 2024'!BD50+'leasing_I-IV kw 2024'!BD50 -> 17945
... A65: 27 | B65: Razem | C65: ='pozyczki_I-IV kw 2024'!C65+'leasing_I-IV kw 2024'!C65 -> 312276 | D65: ='pozyczki_I-IV kw 2024'!D65+'leasing_I-IV kw 2024'!D65 -> 199841 | E65: ='pozyczki_I-IV kw 2024'!E65+'leasing_I-IV kw 2024'!E65 -> 6340 | F65: ='pozyczki_I-IV kw 2024'!F65+'leasing_I-IV kw 2024'!F65 -> 4865 | G65: ='pozyczki_I-IV kw 2024'!G65+'leasing_I-IV kw 2024'!G65 -> 53276 | H65: ='pozyczki_I-IV kw 2024'!H65+'leasing_I-IV kw 2024'!H65 -> 42606 | I65: ='pozyczki_I-IV kw 2024'!I65+'leasing_I-IV kw 2024'!I65 -> 615 | J65: ='pozyczki_I-IV kw 2024'!J65+'leasing_I-IV kw 2024'!J65 -> 5 | ... BD65: ='pozyczki_I-IV kw 2024'!BD65+'leasing_I-IV kw 2024'!BD65 -> 454522

Sheet outstanding_na dzień 31.12.2024
B2: Związek Polskiego Leasingu, WARSZAWA - 01-07-2025
B4: ILOŚĆ ŚRODKÓW TRWAŁYCH (szt.) | E4: według stanu na 31-12-2024
B6: WARTOŚĆ CAŁEGO PORTFELA LEASINGU
A8: Lp. | B8: Spółka | C8: Środki transportu drogowego | D8: w tym samochody osobowe | E8: Maszyny i urządzenia przemysłowe | F8: Komputery i sprzet biurowy | G8: Pozostałe środki transportu | H8: Inne ruchomości | I8: Razem ruchomości | J8: Razem nieruchomości | K8: Ogółem
A9: 1 | B9: Alior Leasing Sp. z o. o. | C9: 75082 | D9: 37769 | E9: 13639 | F9: 82 | G9: 180 | I9: 88983 | K9: 88983
A10: 2 | B10: BNP Paribas Lease Group Sp. z o. o. | I10: 0 | K10: 0
A11: 3 | B11: BOŚ LEASING - EKO PROFIT S.A. | I11: 0 | K11: 0
A12: 4 | B12: BPS Leasing S.A. | C12: 3965 | D12: 1630 | E12: 589 | F12: 24 | G12: 27 | H12: 181 | I12: 4786 | J12: 20 | K12: 4806
A13: 5 | B13: Caterpillar Financial Services Poland Sp. z o.o. | C13: 0 | D13: 0 | E13: 3951 | F13: 0 | G13: 0 | H13: 0 | I13: 3951 | J13: 0 | K13: 3951
A14: 6 | B14: DE LAGE Landen Leasing Polska S.A. | C14: 1372 | D14: 49 | E14: 12710 | F14: 724 | I14: 14806 | K14: 14806
A15: 7 | B15: Deutsche Leasing Polska S.A. | I15: 0 | K15: 0
A16: 8 | B16: Europejski Fundusz Leasingowy S.A. | C16: 116658 | D16: 59165 | E16: 63016 | F16: 3901 | G16: 0 | H16: 0 | I16: 183575 | J16: 14 | K16: 183589
A17: 9 | B17: Impuls-Leasing Polska Sp. z o. o. | I17: 0 | K17: 0
A18: 10 | B18: ING Lease (Polska) Sp. z o. o. | C18: 74638 | D18: 38594 | E18: 25030 | F18: 831 | G18: 920 | H18: 2835 | I18: 104254 | J18: 42 | K18: 104296
A19: 11 | B19: Leasing Polski Sp. z o. o. | I19: 0 | K19: 0
A20: 12 | B20: Mercedes-Benz Leasing Polska Sp. z o.o. | C20: 47118 | D20: 34201 | I20: 47118 | K20: 47118
A21: 13 | B21: Millennium Leasing Sp. z o. o. | C21: 44422 | D21: 19995 | E21: 19671 | F21: 333 | G21: 229 | H21: 0 | I21: 64655 | J21: 37 | K21: 64692
A22: 14 | B22: mLeasing Sp. z o. o. | C22: 90109 | D22: 68962 | E22: 29598 | F22: 3943 | G22: 1029 | H22: 7336 | I22: 132015 | J22: 124 | K22: 132139
A23: 15 | B23: NEST LEASING SPÓŁKA AKCYJNA | C23: 0 | D23: 0 | E23: 199 | F23: 324 | G23: 0 | H23: 232 | I23: 755 | K23: 755
