Workbook

Sheet pozyczki_I-IV kw 2024
B2: Ziązek Polskiego Leasingu, WARSZAWA - 01-07-2025
B4: Wartość środków oddanych w leasing (netto w tys.PLN) | D4: I - IV kwartał 2024
A6: Lp. | B6: Spółka | C6: POJAZDY | D6: Osobowe | E6: osobowe - zeroemisyjne | F6: osobowe - hybryda plug-in | G6: Cięzarowe: | H6: o masie do 3,5 tony | I6: o masie do 3,5 tony - zeroemisyjne | J6: o masie do 3,5 tony - hybryda plug-in | K6: o masie powyzej 3,5 tony | L6: o masie powyżej 3,5 tony - zeroemisyjne | M6: o masie powyżej 3,5 tony - hybryda plug-in | N6: ciagniki siodlowe | O6: ciągniki siodłowe - zeroemisyjne | P6: ciągniki siodłowe - hybryda plug-in | Q6: naczepy / przyczepy | R6: autobusy | S6: autobusy - zeroemisyjne | T6: autobusy - hybryda plug-in | U6: inne | V6: inne - zeroemisyjne | W6: inne - hybryda plug-in | X6: MiU | Y6: Sprzęt Budowlany | Z6: Maszyny Rolnicze | AA6: Maszyny Poligraf. | AB6: maszyny do produkcji tworzyw sztucznych | AC6: maszyny i urządzenia do obróbki metali | AD6: maszyny dla przemysłu spożywczego | AE6: Sprzęt Medyczny | AF6: Sprzęt Gastronom. | AG6: Wózki Widłowe | AH6: Magazyny energii | AI6: Pompy ciepła | AJ6: fotowoltaika | AK6: wiatraki i turbiny wiatrowe | AL6: stacje ładowania pojazdów elektrycznych (na użytek własny i komercyjny) | AM6: inne MiU | AN6: IT | AO6: Sprzęt | AP6: Oprogram. | AQ6: inne IT | AR6: POZOSTAŁE ŚRODKI TRANSPORTU | AS6: Powietrzne | AT6: Wodne | AU6: Kolejowe | AV6: Inne ruchomości | AW6: RUCHOMOŚCI | AX6: Nieruchomości | AY6: budynki przemysłowe | AZ6: obiekty handlowe i usługowe | BA6: obiekty biurowe | BB6: hotele i obiekty rekreacyjne | BC6: inne | BD6: OGÓŁEM
A7: 1 | B7: Alior Leasing Sp. z o. o. | C7: 222029.24 | D7: 109243.38 | G7: 30109.306 | H7: 18092.452 | K7: 12016.854 | N7: 54004.848 | Q7: 24210.272 | R7: 622.43089 | U7: 3839.0112 | X7: 98826.516 | Y7: 22336.512 | Z7: 20197.748 | AA7: 6312.5187 | AB7: 3665.3107 | AC7: 10862.328 | AD7: 1906.7253 | AE7: 17485.853 | AG7: 944.536 | AJ7: 2376.5154 | AM7: 12738.468 | AN7: 2430.2361 | AO7: 2430.2361 | AR7: 4575.8763 | AT7: 4352.8783 | AU7: 222.998 | AW7: 327861.87 | AX7: 0 | BD7: 327861.87
A8: 2 | B8: BNP Paribas Lease Group Sp. z o. o. | C8: 153111.36 | D8: 9486.9984 | E8: 0 | F8: 0 | G8: 112515.05 | H8: 60597.054 | I8: 0 | J8: 0 | K8: 51918 | L8: 0 | M8: 0 | N8: 15421.992 | O8: 0 | P8: 0 | Q8: 15632.848 | R8: 0 | S8: 0 | T8: 0 | U8: 54.47154 | V8: 0 | W8: 0 | X8: 1704837.2 | Y8: 103207.45 | Z8: 1444438.8 | AA8: 0 | AB8: 3935.1916 | AC8: 2263.8633 | AD8: 1798.198 | AE8: 73057.016 | AF8: 0 | AG8: 806.06715 | AH8: 732.03158 | AI8: 0 | AJ8: 7535.4643 | AK8: 0 | AL8: 0 | AM8: 67063.199 | AN8: 24267.124 | AO8: 2049.932 | AP8: 22180.911 | AQ8: 36.28077 | AR8: 91.86992 | AS8: 0 | AT8: 91.86992 | AU8: 0 | AV8: 0 | AW8: 1882307.6 | AX8: 0 | AY8: 0 | AZ8: 0 | BA8: 0 | BB8: 0 | BC8: 0 | BD8: 1882307.6
A9: 3 | B9: BOŚ LEASING - EKO PROFIT S.A. | C9: 0 | G9: 0 | X9: 2054.3574 | Y9: 1598.0784 | Z9: 127.5 | AJ9: 328.779 | AN9: 0 | AR9: 0 | AW9: 2054.3574 | AX9: 0 | BD9: 2054.3574
A10: 4 | B10: BPS Leasing S.A. | C10: 4104.82 | D10: 1201.41 | F10: 320.02 | G10: 0 | N10: 1180.81 | Q10: 1640.6 | U10: 82 | X10: 2007.03 | Z10: 1682.34 | AE10: 145 | AG10: 29.52 | AJ10: 150.17 | AN10: 0 | AR10: 0 | AW10: 6111.85 | AX10: 0 | BD10: 6111.85
A11: 5 | B11: Caterpillar Financial Services Poland Sp. z o.o. | C11: 0 | G11: 0 | X11: 184316.47 | Y11: 184316.47 | AN11: 0 | AR11: 0 | AW11: 184316.47 | AX11: 0 | BD11: 184316.47
A12: 6 | B12: DE LAGE Landen Leasing Polska S.A. | C12: 19205 | D12: 1000 | G12: 0 | N12: 3577 | Q12: 14628 | X12: 867229 | Y12: 15435 | Z12: 804789 | AE12: 43772 | AJ12: 1270 | AM12: 1963 | AN12: 19363 | AO12: 7055 | AP12: 12308 | AR12: 0 | AW12: 905797 | AX12: 0 | BD12: 905797
A13: 7 | B13: Deutsche Leasing Polska S.A. | C13: 24776 | D13: 143 | G13: 0 | N13: 381 | Q13: 24252 | R13: 0 | X13: 37391 | Y13: 936 | Z13: 16963 | AA13: 5554 | AB13: 0 | AC13: 2853 | AD13: 0 | AE13: 3924 | AF13: 0 | AG13: 0 | AM13: 7161 | AN13: 0 | AR13: 0 | AW13: 62167 | AX13: 0 | BD13: 62167
A14: 8 | B14: Europejski Fundusz Leasingowy S.A. | C14: 244458.5 | D14: 88831.868 | E14: 2671.437 | F14: 185 | G14: 41670.816 | H14: 37516.274 | I14: 218 | J14: 0 | K14: 4154.5422 | N14: 70382.705 | Q14: 38726.164 | R14: 3839.3684 | U14: 1007.5829 | X14: 848071.89 | Y14: 88711.832 | Z14: 677883.18 | AA14: 1399.936 | AB14: 362.3152 | AC14: 1555.3405 | AD14: 6157.696 | AE14: 22860.683 | AF14: 8292.4147 | AG14: 1535.5338 | AH14: 53.73411 | AI14: 327 | AJ14: 3910.0047 | AM14: 35022.222 | AN14: 3522.1487 | AO14: 46.72638 | AP14: 2249.0453 | AQ14: 1226.3771 | AR14: 11023.308 | AS14: 41.4626 | AT14: 10981.846 | AW14: 1107075.9 | AX14: 0 | BD14: 1107075.9
A15: 9 | B15: Impuls-Leasing Polska Sp. z o. o. | C15: 129336.37 | D15: 43611.96 | E15: 2970.56 | F15: 493.88 | G15: 21717.04 | H15: 17035.98 | I15: 830.35 | K15: 4681.06 | N15: 32600.82 | Q15: 26911.92 | R15: 290 | U15: 4204.63 | X15: 59541.19 | Y15: 30341.1 | Z15: 10162.09 | AC15: 4515.51 | AE15: 6509.02 | AF15: 3241.43 | AG15: 95.82 | AJ15: 440.82 | AM15: 4235.4 | AN15: 21.18 | AO15: 21.18 | AR15: 762 | AT15: 762 | AW15: 189660.74 | AX15: 0 | BD15: 189660.74
A16: 10 | B16: ING Lease (Polska) Sp. z o. o. | C16: 27451 | D16: 6750 | G16: 1058 | H16: 1058 | K16: 0 | N16: 10324 | Q16: 9319 | R16: 0 | U16: 0 | X16: 182104 | Y16: 15699 | Z16: 1043 | AA16: 14328 | AB16: 29449 | AC16: 41434 | AD16: 14540 | AE16: 19290 | AF16: 3449 | AG16: 221 | AJ16: 822 | AM16: 41829 | AN16: 0 | AO16: 0 | AP16: 0 | AQ16: 0 | AR16: 0 | AS16: 0 | AT16: 0 | AU16: 0 | AV16: 1096 | AW16: 210651 | AX16: 0 | AY16: 0 | AZ16: 0 | BA16: 0 | BB16: 0 | BC16: 0 | BD16: 210651
A17: 11 | B17: Leasing Polski Sp. z o. o. | C17: 0 | G17: 0 | X17: 0 | AN17: 0 | AR17: 0 | AW17: 0 | AX17: 0 | BD17: 0
A18: 12 | B18: Mercedes-Benz Leasing Polska Sp. z o.o. | C18: 447150.14 | D18: 369436.18 | E18: 2415.164 | F18: 8956.079 | G18: 54316.84 | H18: 50205.027 | I18: 422.761 | K18: 4111.8129 | N18: 21911.062 | R18: 1486.0621 | X18: 0 | AN18: 0 | AR18: 0 | AW18: 447150.14 | AX18: 0 | BD18: 447150.14
A19: 13 | B19: Millennium Leasing Sp. z o. o. | C19: 0 | G19: 0 | X19: 0 | AN19: 0 | AR19: 0 | AW19: 0 | AX19: 0 | BD19: 0
A20: 14 | B20: mLeasing Sp. z o. o. | C20: 162744.58 | D20: 39799.822 | E20: 196.49 | F20: 1720.7861 | G20: 19097.597 | K20: 19097.597 | N20: 62509.708 | Q20: 32898.948 | R20: 7206.8339 | U20: 1231.674 | X20: 420402.38 | Y20: 39380.864 | Z20: 5212.1428 | AA20: 17472.332 | AB20: 25214.577 | AC20: 41839.037 | AD20: 24591.058 | AE20: 221560.92 | AF20: 520.78501 | AG20: 1761.3383 | AJ20: 12441.793 | AM20: 30407.532 | AN20: 1490.2432 | AO20: 1490.2432 | AR20: 2990.3643 | AS20: 2169.5482 | AT20: 820.81615 | AV20: 21105.229 | AW20: 608732.8 | AX20: 11730.492 | AZ20: 11730.492 | BD20: 620463.29
A21: 15 | B21: NEST LEASING SPÓŁKA AKCYJNA | C21: 24795.596 | D21: 5795.7846 | G21: 5030.54 | H21: 873.29856 | K21: 4157.2415 | N21: 8338.8986 | Q21: 4870.142 | R21: 664.6305 | U21: 95.60021 | X21: 37615.797 | Y21: 6317.9068 | Z21: 25631.539 | AD21: 109.59299 | AE21: 4848.137 | AF21: 0 | AG21: 81.5855 | AJ21: 359.79963 | AM21: 267.2355 | AN21: 0 | AR21: 169.248 | AT21: 169.248 | AW21: 62580.641 | AX21: 0 | BD21: 62580.641
A22: 16 | B22: PEAC (Poland) Sp. z o. o. | C22: 3644.2 | D22: 263.8 | G22: 156.9 | H22: 90.4 | K22: 66.5 | Q22: 3023.5 | R22: 200 | X22: 31504 | Y22: 2328 | Z22: 15496.1 | AA22: 662.2 | AB22: 924.8 | AC22: 1331.6 | AD22: 3412.1 | AE22: 768.8 | AH22: 393.1 | AJ22: 466.2 | AM22: 5721.1 | AN22: 0 | AR22: 0 | AW22: 35148.2 | AX22: 0 | BD22: 35148.2
A23: 17 | B23: PEKAO Leasing Sp. z o. o. | C23: 181539.29 | D23: 51478.919 | E23: 568.41463 | F23: 0 | G23: 18577.747 | H23: 11102.233 | I23: 0 | J23: 0 | K23: 7475.5137 | L23: 0 | M23: 0 | N23: 65390.001 | O23: 0 | P23: 0 | Q23: 32708.815 | R23: 9876.1224 | S23: 0 | T23: 0 | U23: 3507.6829 | V23: 0 | W23: 0 | X23: 554065.35 | Y23: 57549.008 | Z23: 103916.78 | AA23: 3369.0197 | AB23: 5955.6037 | AC23: 32556.507 | AD23: 61355.406 | AE23: 43300.35 | AF23: 2680.7524 | AG23: 3079.4709 | AH23: 5005.555 | AI23: 0 | AJ23: 28240.379 | AK23: 0 | AL23: 0 | AM23: 207056.51 | AN23: 23243.958 | AO23: 20380.893 | AP23: 2470.8053 | AQ23: 392.26 | AR23: 70354.898 | AS23: 6260.0361 | AT23: 35284.269 | AU23: 28810.593 | AV23: 5943.7605 | AW23: 835147.25 | AX23: 20487.109 | AY23: 0 | AZ23: 20487.109 | BA23: 0 | BB23: 0 | BC23: 0 | BD23: 855634.36
A24: 18 | B24: PKO Leasing S.A. | C24: 626147.36 | D24: 307400 | E24: 8761.1481 | F24: 731.1745 | G24: 65969.798 | H24: 45005.928 | I24: 1316.5503 | K24: 20963.87 | L24: 2613.0764 | N24: 142587.1 | Q24: 67876.301 | R24: 40032.817 | S24: 28911.899 | U24: 2281.3399 | X24: 1024380.3 | Y24: 191007.21 | Z24: 316904.4 | AA24: 4252.5863 | AB24: 52125.26 | AC24: 25536.832 | AD24: 43012.459 | AE24: 113658.38 | AF24: 252.63422 | AG24: 2535.836 | AI24: 1022.418 | AJ24: 115325.43 | AL24: 4237.1332 | AM24: 154509.71 | AN24: 7847.9621 | AO24: 3434.2955 | AP24: 3636.5227 | AQ24: 777.144 | AR24: 136379.55 | AS24: 133256.76 | AT24: 3122.7926 | AW24: 1794755.2 | AX24: 0 | BD24: 1794755.2
A25: 19 | B25: Santander Consumer Multirent Sp. z o.o. | C25: 398259.24 | D25: 376492.29 | G25: 19288.301 | H25: 19288.301 | U25: 2478.6487 | X25: 0 | AN25: 0 | AR25: 0 | AW25: 398259.24 | AX25: 0 | BD25: 398259.24
A26: 20 | B26: Santander Leasing S.A. | C26: 717094.31 | D26: 489311.8 | E26: 5529.1317 | F26: 9611.749 | G26: 80391.448 | H26: 56221.279 | I26: 424.6464 | J26: 0 | K26: 24170.169 | L26: 0 | M26: 0 | N26: 110707.11 | O26: 0 | P26: 0 | Q26: 28136.231 | R26: 1901.7 | S26: 0 | T26: 0 | U26: 6646.0111 | V26: 0 | W26: 0 | X26: 1488868.6 | Y26: 78158.088 | Z26: 965645.15 | AA26: 32593.123 | AB26: 17505.901 | AC26: 38374.57 | AD26: 2902.9529 | AE26: 123604.63 | AF26: 836.6243 | AG26: 1691.8452 | AH26: 2382.6522 | AI26: 1079.084 | AJ26: 78074.547 | AK26: 0 | AL26: 0 | AM26: 146019.41 | AN26: 50064.499 | AO26: 50064.499 | AP26: 0 | AQ26: 0 | AR26: 30321.757 | AS26: 17157.184 | AT26: 13164.573 | AU26: 0 | AV26: 158872.78 | AW26: 2445221.9 | AX26: 11486.027 | AY26: 0 | AZ26: 0 | BA26: 0 | BB26: 0 | BC26: 11486.027 | BD26: 2456708
A27: 21 | B27: Scania Finance Polska Sp. z o. o. | C27: 108788 | D27: 1743 | G27: 38614 | K27: 38614 | N27: 59607 | Q27: 8824 | X27: 0 | AN27: 0 | AR27: 0 | AW27: 108788 | AX27: 0 | BD27: 108788
A28: 22 | B28: SG Equipment Leasing Polska Sp. z o. o. | C28: 12398.825 | G28: 570.68343 | K28: 570.68343 | N28: 3845.326 | Q28: 7982.8157 | X28: 166845.83 | Y28: 76928.792 | Z28: 84141.814 | AJ28: 2394.3013 | AM28: 3380.9232 | AN28: 10455.02 | AO28: 2057.743 | AP28: 8397.2772 | AR28: 0 | AW28: 189699.68 | AX28: 0 | BD28: 189699.68
A29: 23 | B29: SGB Leasing Sp. z o.o. | C29: 8465 | D29: 4112 | F29: 380 | G29: 2948 | H29: 2591 | K29: 357 | Q29: 495 | U29: 910 | X29: 66876 | Y29: 4088 | Z29: 29888 | AE29: 2384 | AG29: 30 | AJ29: 8746 | AM29: 21740 | AN29: 35 | AO29: 35 | AR29: 3328 | AU29: 3328 | AW29: 78704 | AX29: 16758 | AY29: 6032 | BC29: 10726 | BD29: 95462
A30: 24 | B30: Siemens Finance Sp. z o. o. | C30: 0 | G30: 0 | X30: 0 | AN30: 0 | AR30: 0 | AW30: 0 | AX30: 0 | BD30: 0
A31: 25 | B31: VEHIS FINANSE Sp. z o.o. | C31: 0 | G31: 0 | X31: 0 | AN31: 0 | AR31: 0 | AW31: 0 | AX31: 0 | BD31: 0
A32: 26 | B32: VELOLEASING SPÓŁKA AKCYJNA | C32: 73634.309 | D32: 72517.689 | G32: 0 | U32: 1116.6206 | X32: 0 | AN32: 0 | AR32: 0 | AW32: 73634.309 | AX32: 0 | BD32: 73634.309
A33: 27 | B33: Razem | C33: 3589133.2 | D33: 1978619.9 | E33: 23112.345 | F33: 22398.689 | G33: 512032.07 | H33: 319677.23 | I33: 3212.3077 | J33: 0 | K33: 192354.84 | L33: 2613.0764 | M33: 0 | N33: 662769.38 | O33: 0 | P33: 0 | Q33: 342136.56 | R33: 66119.965 | S33: 28911.899 | T33: 0 | U33: 27455.273 | V33: 0 | W33: 0 | X33: 7776936.9 | Y33: 918339.31 | Z33: 4524122.5 | AA33: 85943.716 | AB33: 139137.96 | AC33: 203122.59 | AD33: 159786.19 | AE33: 697168.79 | AF33: 19273.641 | AG33: 12812.553 | AH33: 8567.0729 | AI33: 2428.502 | AJ33: 262882.2 | AK33: 0 | AL33: 4237.1332 | AM33: 739114.71 | AN33: 142740.37 | AO33: 89065.748 | AP33: 51242.562 | AQ33: 2432.0618 | AR33: 259996.88 | AS33: 158884.99 | AT33: 68750.293 | AU33: 32361.591 | AV33: 187017.77 | AW33: 11955825 | AX33: 60461.628 | AY33: 6032 | AZ33: 32217.601 | BA33: 0 | BB33: 0 | BC33: 22212.027 | BD33: 12016287
B35: Ilość środków oddanych w leasing (szt) | D35: I - IV kwartał 2024
A38: Lp. | B38: Spółka | C38: POJAZDY | D38: Osobowe | E38: osobowe - zeroemisyjne | F38: osobowe - hybryda plug-in | G38: Cięzarowe: | H38: o masie do 3,5 tony | I38: o masie do 3,5 tony - zeroemisyjne | J38: o masie do 3,5 tony - hybryda plug-in | K38: o masie powyzej 3,5 tony | L38: o masie powyżej 3,5 tony - zeroemisyjne | M38: o masie powyżej 3,5 tony - hybryda plug-in | N38: ciagniki siodlowe | O38: ciągniki siodłowe - zeroemisyjne | P38: ciągniki siodłowe - hybryda plug-in | Q38: naczepy / przyczepy | R38: autobusy | S38: autobusy - zeroemisyjne | T38: autobusy - hybryda plug-in | U38: inne | V38: inne - zeroemisyjne | W38: inne - hybryda plug-in | X38: MiU | Y38: Sprzęt Budowlany | Z38: Maszyny Rolnicze | AA38: Maszyny Poligraf. | AB38: maszyny do produkcji tworzyw sztucznych | AC38: maszyny i urządzenia do obróbki metali | AD38: maszyny dla przemysłu spożywczego | AE38: Sprzęt Medyczny | AF38: Sprzęt Gastronom. | AG38: Wózki Widłowe | AH38: Magazyny energii | AI38: Pompy ciepła | AJ38: fotowoltaika | AK38: wiatraki i turbiny wiatrowe | AL38: stacje ładowania pojazdów elektrycznych (na użytek własny i komercyjny) | AM38: inne MiU | AN38: IT | AO38: Sprzęt | AP38: Oprogram. | AQ38: inne IT | AR38: POZOSTAŁE ŚRODKI TRANSPORTU | AS38: Powietrzne | AT38: Wodne | AU38: Kolejowe | AV38: Inne ruchomości | AW38: RUCHOMOŚCI | AX38: Nieruchomości | AY38: budynki przemysłowe | AZ38: obiekty handlowe i usługowe | BA38: obiekty biurowe | BB38: hotele i obiekty rekreacyjne | BC38: inne | BD38: OGÓŁEM
A39: 1 | B39: Alior Leasing Sp. z o. o. | C39: 1842 | D39: 987 | G39: 304 | H39: 233 | K39: 71 | N39: 280 | Q39: 244 | R39: 4 | U39: 23 | X39: 528 | Y39: 90 | Z39: 139 | AA39: 5 | AB39: 6 | AC39: 35 | AD39: 17 | AE39: 155 | AG39: 5 | AJ39: 5 | AM39: 71 | AN39: 5 | AO39: 5 | AR39: 29 | AT39: 28 | AU39: 1 | AW39: 2404 | AX39: 0 | BD39: 2404
A40: 2 | B40: BNP Paribas Lease Group Sp. z o. o. | C40: 734 | D40: 78 | E40: 0 | F40: 0 | G40: 507 | H40: 313 | I40: 0 | J40: 0 | K40: 194 | L40: 0 | M40: 0 | N40: 49 | O40: 0 | P40: 0 | Q40: 99 | R40: 0 | S40: 0 | T40: 0 | U40: 1 | V40: 0 | W40: 0 | X40: 5212 | Y40: 262 | Z40: 3792 | AA40: 0 | AB40: 2 | AC40: 6 | AD40: 13 | AE40: 1000 | AF40: 0 | AG40: 10 | AH40: 12 | AI40: 0 | AJ40: 43 | AK40: 0 | AL40: 0 | AM40: 72 | AN40: 459 | AO40: 19 | AP40: 436 | AQ40: 4 | AR40: 1 | AS40: 0 | AT40: 1 | AU40: 0 | AV40: 0 | AW40: 6406 | AX40: 0 | AY40: 0 | AZ40: 0 | BA40: 0 | BB40: 0 | BC40: 0 | BD40: 6406
A41: 3 | B41: BOŚ LEASING - EKO PROFIT S.A. | C41: 0 | G41: 0 | X41: 4 | Y41: 2 | Z41: 1 | AJ41: 1 | AN41: 0 | AR41: 0 | AW41: 4 | AX41: 0 | BD41: 4
A42: 4 | B42: BPS Leasing S.A. | C42: 34 | D42: 14 | F42: 3 | G42: 0 | N42: 4 | Q42: 15 | U42: 1 | X42: 10 | Z42: 6 | AE42: 1 | AG42: 1 | AJ42: 2 | AN42: 0 | AR42: 0 | AW42: 44 | AX42: 0 | BD42: 44
A43: 5 | B43: Caterpillar Financial Services Poland Sp. z o.o. | C43: 0 | G43: 0 | X43: 385 | Y43: 385 | AN43: 0 | AR43: 0 | AW43: 385 | AX43: 0 | BD43: 385
A44: 6 | B44: DE LAGE Landen Leasing Polska S.A. | C44: 92 | D44: 4 | G44: 0 | N44: 15 | Q44: 73 | X44: 1844 | Y44: 25 | Z44: 1703 | AE44: 93 | AJ44: 9 | AM44: 14 | AN44: 16 | AO44: 7 | AP44: 9 | AR44: 0 | AW44: 1952 | AX44: 0 | BD44: 1952
A45: 7 | B45: Deutsche Leasing Polska S.A. | C45: 157 | D45: 1 | G45: 0 | N45: 1 | Q45: 155 | R45: 0 | X45: 68 | Y45: 2 | Z45: 49 | AA45: 2 | AB45: 0 | AC45: 3 | AD45: 0 | AE45: 3 | AF45: 0 | AG45: 0 | AM45: 9 | AN45: 0 | AR45: 0 | AW45: 225 | AX45: 0 | BD45: 225
A46: 8 | B46: Europejski Fundusz Leasingowy S.A. | C46: 1437 | D46: 542 | E46: 14 | F46: 1 | G46: 234 | H46: 215 | I46: 1 | J46: 0 | K46: 19 | N46: 322 | Q46: 311 | R46: 9 | U46: 19 | X46: 2197 | Y46: 272 | Z46: 1344 | AA46: 1 | AB46: 4 | AC46: 12 | AD46: 19 | AE46: 199 | AF46: 51 | AG46: 15 | AH46: 1 | AI46: 1 | AJ46: 38 | AM46: 240 | AN46: 58 | AO46: 7 | AP46: 29 | AQ46: 22 | AR46: 83 | AS46: 1 | AT46: 82 | AW46: 3775 | AX46: 0 | BD46: 3775
A47: 9 | B47: Impuls-Leasing Polska Sp. z o. o. | C47: 605 | D47: 236 | E47: 14 | F47: 2 | G47: 101 | H47: 86 | I47: 3 | K47: 15 | N47: 106 | Q47: 145 | R47: 1 | U47: 16 | X47: 186 | Y47: 47 | Z47: 30 | AC47: 5 | AE47: 65 | AF47: 4 | AG47: 1 | AJ47: 3 | AM47: 31 | AN47: 2 | AO47: 2 | AR47: 2 | AT47: 2 | AW47: 795 | AX47: 0 | BD47: 795
A48: 10 | B48: ING Lease (Polska) Sp. z o. o. | C48: 226 | D48: 72 | G48: 20 | H48: 20 | K48: 0 | N48: 74 | Q48: 60 | R48: 0 | U48: 0 | X48: 66 | Y48: 8 | Z48: 1 | AA48: 4 | AB48: 13 | AC48: 18 | AD48: 4 | AE48: 5 | AF48: 1 | AG48: 1 | AJ48: 2 | AM48: 9 | AN48: 0 | AO48: 0 | AP48: 0 | AQ48: 0 | AR48: 0 | AS48: 0 | AT48: 0 | AU48: 0 | AV48: 2 | AW48: 294 | AX48: 0 | AY48: 0 | AZ48: 0 | BA48: 0 | BB48: 0 | BC48: 0 | BD48: 294
A49: 11 | B49: Leasing Polski Sp. z o. o. | C49: 0 | G49: 0 | X49: 0 | AN49: 0 | AR49: 0 | AW49: 0 | AX49: 0 | BD49: 0
A50: 12 | B50: Mercedes-Benz Leasing Polska Sp. z o.o. | C50: 2049 | D50: 1670 | E50: 14 | F50: 33 | G50: 311 | H50: 294 | I50: 2 | K50: 17 | N50: 67 | R50: 1 | X50: 0 | AN50: 0 | AR50: 0 | AW50: 2049 | AX50: 0 | BD50: 2049
A51: 13 | B51: Millennium Leasing Sp. z o. o. | C51: 0 | G51: 0 | X51: 0 | AN51: 0 | AR51: 0 | AW51: 0 | AX51: 0 | BD51: 0
A52: 14 | B52: mLeasing Sp. z o. o. | C52: 612 | D52: 241 | E52: 1 | F52: 10 | G52: 40 | K52: 40 | N52: 148 | Q52: 174 | R52: 7 | U52: 2 | X52: 1775 | Y52: 39 | Z52: 19 | AA52: 12 | AB52: 27 | AC52: 41 | AD52: 20 | AE52: 1479 | AF52: 3 | AG52: 11 | AJ52: 8 | AM52: 116 | AN52: 16 | AO52: 16 | AR52: 2 | AS52: 1 | AT52: 1 | AV52: 85 | AW52: 2490 | AX52: 1 | AZ52: 1 | BD52: 2491
A53: 15 | B53: NEST LEASING SPÓŁKA AKCYJNA | C53: 138 | D53: 37 | G53: 16 | H53: 8 | K53: 8 | N53: 42 | Q53: 39 | R53: 2 | U53: 2 | X53: 158 | Y53: 18 | Z53: 90 | AD53: 1 | AE53: 42 | AF53: 0 | AG53: 1 | AJ53: 2 | AM53: 4 | AN53: 0 | AR53: 1 | AT53: 1 | AW53: 297 | AX53: 0 | BD53: 297
A54: 16 | B54: PEAC (Poland) Sp. z o. o. | C54: 33 | D54: 3 | G54: 3 | H54: 2 | K54: 1 | Q54: 26 | R54: 1 | X54: 150 | Y54: 9 | Z54: 63 | AA54: 1 | AB54: 11 | AC54: 1 | AD54: 4 | AE54: 6 | AH54: 2 | AJ54: 2 | AM54: 51 | AN54: 0 | AR54: 0 | AW54: 183 | AX54: 0 | BD54: 183
A55: 17 | B55: PEKAO Leasing Sp. z o. o. | C55: 735 | D55: 357 | E55: 3 | F55: 0 | G55: 66 | H55: 52 | I55: 0 | J55: 0 | K55: 14 | L55: 0 | M55: 0 | N55: 146 | O55: 0 | P55: 0 | Q55: 151 | R55: 12 | S55: 0 | T55: 0 | U55: 3 | V55: 0 | W55: 0 | X55: 725 | Y55: 73 | Z55: 234 | AA55: 3 | AB55: 15 | AC55: 19 | AD55: 23 | AE55: 158 | AF55: 3 | AG55: 15 | AH55: 3 | AI55: 0 | AJ55: 11 | AK55: 0 | AL55: 0 | AM55: 168 | AN55: 37 | AO55: 33 | AP55: 3 | AQ55: 1 | AR55: 93 | AS55: 1 | AT55: 56 | AU55: 36 | AV55: 16 | AW55: 1606 | AX55: 9 | AY55: 0 | AZ55: 9 | BA55: 0 | BB55: 0 | BC55: 0 | BD55: 1615
A56: 18 | B56: PKO Leasing S.A. | C56: 3672 | D56: 2002 | E56: 44 | F56: 4 | G56: 322 | H56: 251 | I56: 7 | K56: 71 | L56: 1 | N56: 536 | Q56: 732 | R56: 50 | S56: 10 | U56: 30 | X56: 3048 | Y56: 370 | Z56: 1149 | AA56: 6 | AB56: 32 | AC56: 49 | AD56: 59 | AE56: 768 | AF56: 8 | AG56: 23 | AI56: 5 | AJ56: 46 | AL56: 24 | AM56: 509 | AN56: 32 | AO56: 12 | AP56: 17 | AQ56: 3 | AR56: 12 | AS56: 4 | AT56: 8 | AW56: 6764 | AX56: 0 | BD56: 6764
A57: 19 | B57: Santander Consumer Multirent Sp. z o.o. | C57: 4678 | D57: 4474 | G57: 155 | H57: 155 | U57: 49 | X57: 0 | AN57: 0 | AR57: 0 | AW57: 4678 | AX57: 0 | BD57: 4678
A58: 20 | B58: Santander Leasing S.A. | C58: 5769 | D58: 4689 | E58: 32 | F58: 43 | G58: 347 | H58: 278 | I58: 2 | J58: 0 | K58: 69 | L58: 0 | M58: 0 | N58: 288 | O58: 0 | P58: 0 | Q58: 221 | R58: 4 | S58: 0 | T58: 0 | U58: 220 | V58: 0 | W58: 0 | X58: 8292 | Y58: 189 | Z58: 5265 | AA58: 27 | AB58: 12 | AC58: 31 | AD58: 12 | AE58: 1675 | AF58: 24 | AG58: 16 | AH58: 32 | AI58: 23 | AJ58: 273 | AK58: 0 | AL58: 0 | AM58: 713 | AN58: 122 | AO58: 122 | AP58: 0 | AQ58: 0 | AR58: 16 | AS58: 3 | AT58: 13 | AU58: 0 | AV58: 2882 | AW58: 17081 | AX58: 24 | AY58: 0 | AZ58: 0 | BA58: 0 | BB58: 0 | BC58: 24 | BD58: 17105
A59: 21 | B59: Scania Finance Polska Sp. z o. o. | C59: 314 | D59: 4 | G59: 76 | K59: 76 | N59: 150 | Q59: 84 | X59: 0 | AN59: 0 | AR59: 0 | AW59: 314 | AX59: 0 | BD59: 314
A60: 22 | B60: SG Equipment Leasing Polska Sp. z o. o. | C60: 69 | G60: 3 | K60: 3 | N60: 9 | Q60: 57 | X60: 390 | Y60: 121 | Z60: 255 | AJ60: 1 | AM60: 13 | AN60: 13 | AO60: 7 | AP60: 6 | AR60: 0 | AW60: 472 | AX60: 0 | BD60: 472
A61: 23 | B61: SGB Leasing Sp. z o.o. | C61: 44 | D61: 24 | F61: 1 | G61: 17 | H61: 15 | K61: 2 | Q61: 2 | U61: 1 | X61: 108 | Y61: 7 | Z61: 63 | AE61: 16 | AG61: 1 | AJ61: 6 | AM61: 15 | AN61: 1 | AO61: 1 | AR61: 3 | AU61: 3 | AW61: 156 | AX61: 12 | AY61: 8 | BC61: 4 | BD61: 168
A62: 24 | B62: Siemens Finance Sp. z o. o. | C62: 0 | G62: 0 | X62: 0 | AN62: 0 | AR62: 0 | AW62: 0 | AX62: 0 | BD62: 0
A63: 25 | B63: VEHIS FINANSE Sp. z o.o. | C63: 0 | G63: 0 | X63: 0 | AN63: 0 | AR63: 0 | AW63: 0 | AX63: 0 | BD63: 0
A64: 26 | B64: VELOLEASING SPÓŁKA AKCYJNA | C64: 676 | D64: 661 | G64: 0 | U64: 15 | X64: 0 | AN64: 0 | AR64: 0 | AW64: 676 | AX64: 0 | BD64: 676
A65: 27 | B65: Razem | C65: 23916 | D65: 16096 | E65: 122 | F65: 97 | G65: 2522 | H65: 1922 | I65: 15 | J65: 0 | K65: 600 | L65: 1 | M65: 0 | N65: 2237 | O65: 0 | P65: 0 | Q65: 2588 | R65: 91 | S65: 10 | T65: 0 | U65: 382 | V65: 0 | W65: 0 | X65: 25146 | Y65: 1919 | Z65: 14203 | AA65: 61 | AB65: 122 | AC65: 220 | AD65: 172 | AE65: 5665 | AF65: 94 | AG65: 100 | AH65: 50 | AI65: 29 | AJ65: 452 | AK65: 0 | AL65: 24 | AM65: 2035 | AN65: 761 | AO65: 231 | AP65: 500 | AQ65: 30 | AR65: 242 | AS65: 10 | AT65: 192 | AU65: 40 | AV65: 2985 | AW65: 53050 | AX65: 46 | AY65: 8 | AZ65: 10 | BA65: 0 | BB65: 0 | BC65: 28 | BD65: 53096
B67: Średnia wartość środków oddanych w leasing (tys. PLN) | D67: I - IV kwartał 2024
A70: Lp. | B70: Spółka | C70: POJAZDY | D70: Osobowe | E70: osobowe - zeroemisyjne | F70: osobowe - hybryda plug-in | G70: Cięzarowe: | H70: o masie do 3,5 tony | I70: o masie do 3,5 tony - zeroemisyjne | J70: o masie do 3,5 tony - hybryda plug-in | K70: o masie powyzej 3,5 tony | L70: o masie powyżej 3,5 tony - zeroemisyjne | M70: o masie powyżej 3,5 tony - hybryda plug-in | N70: ciagniki siodlowe | O70: ciągniki siodłowe - zeroemisyjne | P70: ciągniki siodłowe - hybryda plug-in | Q70: naczepy / przyczepy | R70: autobusy | S70: autobusy - zeroemisyjne | T70: autobusy - hybryda plug-in | U70: inne | V70: inne - zeroemisyjne | W70: inne - hybryda plug-in | X70: MiU | Y70: Sprzęt Budowlany | Z70: Maszyny Rolnicze | AA70: Maszyny Poligraf. | AB70: maszyny do produkcji tworzyw sztucznych | AC70: maszyny i urządzenia do obróbki metali | AD70: maszyny dla przemysłu spożywczego | AE70: Sprzęt Medyczny | AF70: Sprzęt Gastronom. | AG70: Wózki Widłowe | AH70: Magazyny energii | AI70: Pompy ciepła | AJ70: fotowoltaika | AK70: wiatraki i turbiny wiatrowe | AL70: stacje ładowania pojazdów elektrycznych (na użytek własny i komercyjny) | AM70: inne MiU | AN70: IT | AO70: Sprzęt | AP70: Oprogram. | AQ70: inne IT | AR70: POZOSTAŁE ŚRODKI TRANSPORTU | AS70: Powietrzne | AT70: Wodne | AU70: Kolejowe | AV70: Inne ruchomości | AW70: RUCHOMOŚCI | AX70: Nieruchomości | AY70: budynki przemysłowe | AZ70: obiekty handlowe i usługowe | BA70: obiekty biurowe | BB70: hotele i obiekty rekreacyjne | BC70: inne | BD70: OGÓŁEM
A71: 1 | B71: Alior Leasing Sp. z o. o. | C71: 120.53705 | D71: 110.68225 | G71: 99.043769 | H71: 77.650009 | K71: 169.25146 | N71: 192.87446 | Q71: 99.222425 | R71: 155.60772 | U71: 166.91353 | X71: 187.17143 | Y71: 248.18347 | Z71: 145.30754 | AA71: 1262.5037 | AB71: 610.88512 | AC71: 310.35224 | AD71: 112.16031 | AE71: 112.81196 | AG71: 188.9072 | AJ71: 475.30308 | AM71: 179.41504 | AN71: 486.04723 | AO71: 486.04723 | AR71: 157.78884 | AT71: 155.45994 | AU71: 222.998 | AW71: 136.38181 | BD71: 136.38181
A72: 2 | B72: BNP Paribas Lease Group Sp. z o. o. | C72: 208.59859 | D72: 121.62818 | G72: 221.92318 | H72: 193.60081 | K72: 267.61856 | N72: 314.73454 | Q72: 157.90755 | U72: 54.47154 | X72: 327.09847 | Y72: 393.92157 | Z72: 380.91739 | AB72: 1967.5958 | AC72: 377.31056 | AD72: 138.32292 | AE72: 73.057016 | AG72: 80.606715 | AH72: 61.002632 | AJ72: 175.24336 | AM72: 931.43332 | AN72: 52.869551 | AO72: 107.89116 | AP72: 50.87365 | AQ72: 9.0701925 | AR72: 91.86992 | AT72: 91.86992 | AW72: 293.83509 | BD72: 293.83509
A73: 3 | B73: BOŚ LEASING - EKO PROFIT S.A. | X73: 513.58935 | Y73: 799.03921 | Z73: 127.5 | AJ73: 328.779 | AW73: 513.58935 | BD73: 513.58935
A74: 4 | B74: BPS Leasing S.A. | C74: 120.73 | D74: 85.815 | F74: 106.67333 | N74: 295.2025 | Q74: 109.37333 | U74: 82 | X74: 200.703 | Z74: 280.39 | AE74: 145 | AG74: 29.52 | AJ74: 75.085 | AW74: 138.90568 | BD74: 138.90568
A75: 5 | B75: Caterpillar Financial Services Poland Sp. z o.o. | X75: 478.74408 | Y75: 478.74408 | AW75: 478.74408 | BD75: 478.74408
A76: 6 | B76: DE LAGE Landen Leasing Polska S.A. | C76: 208.75 | D76: 250 | N76: 238.46667 | Q76: 200.38356 | X76: 470.29772 | Y76: 617.4 | Z76: 472.57134 | AE76: 470.66667 | AJ76: 141.11111 | AM76: 140.21429 | AN76: 1210.1875 | AO76: 1007.8571 | AP76: 1367.5556 | AW76: 464.03535 | BD76: 464.03535
A77: 7 | B77: Deutsche Leasing Polska S.A. | C77: 157.80892 | D77: 143 | N77: 381 | Q77: 156.46452 | X77: 549.86765 | Y77: 468 | Z77: 346.18367 | AA77: 2777 | AC77: 951 | AE77: 1308 | AM77: 795.66667 | AW77: 276.29778 | BD77: 276.29778
A78: 8 | B78: Europejski Fundusz Leasingowy S.A. | C78: 170.11726 | D78: 163.89643 | E78: 190.81693 | F78: 185 | G78: 178.08041 | H78: 174.4943 | I78: 218 | K78: 218.66012 | N78: 218.57983 | Q78: 124.52143 | R78: 426.59649 | U78: 53.030679 | X78: 386.01361 | Y78: 326.14644 | Z78: 504.37737 | AA78: 1399.936 | AB78: 90.5788 | AC78: 129.61171 | AD78: 324.08926 | AE78: 114.8778 | AF78: 162.59637 | AG78: 102.36892 | AH78: 53.73411 | AI78: 327 | AJ78: 102.89486 | AM78: 145.92593 | AN78: 60.726702 | AO78: 6.6751971 | AP78: 77.553285 | AQ78: 55.744412 | AR78: 132.81094 | AS78: 41.4626 | AT78: 133.92495 | AW78: 293.26513 | BD78: 293.26513
A79: 9 | B79: Impuls-Leasing Polska Sp. z o. o. | C79: 213.77912 | D79: 184.79644 | E79: 212.18286 | F79: 246.94 | G79: 215.0202 | H79: 198.09279 | I79: 276.78333 | K79: 312.07067 | N79: 307.55491 | Q79: 185.59945 | R79: 290 | U79: 262.78938 | X79: 320.11392 | Y79: 645.55532 | Z79: 338.73633 | AC79: 903.102 | AE79: 100.13877 | AF79: 810.3575 | AG79: 95.82 | AJ79: 146.94 | AM79: 136.62581 | AN79: 10.59 | AO79: 10.59 | AR79: 381 | AT79: 381 | AW79: 238.56697 | BD79: 238.56697
A80: 10 | B80: ING Lease (Polska) Sp. z o. o. | C80: 121.4646 | D80: 93.75 | G80: 52.9 | H80: 52.9 | N80: 139.51351 | Q80: 155.31667 | X80: 2759.1515 | Y80: 1962.375 | Z80: 1043 | AA80: 3582 | AB80: 2265.3077 | AC80: 2301.8889 | AD80: 3635 | AE80: 3858 | AF80: 3449 | AG80: 221 | AJ80: 411 | AM80: 4647.6667 | AV80: 548 | AW80: 716.5 | BD80: 716.5
A81: 11 | B81: Leasing Polski Sp. z o. o.
A82: 12 | B82: Mercedes-Benz Leasing Polska Sp. z o.o. | C82: 218.22847 | D82: 221.21927 | E82: 172.51171 | F82: 271.39633 | G82: 174.65222 | H82: 170.7654 | I82: 211.3805 | K82: 241.87135 | N82: 327.03078 | R82: 1486.0621 | AW82: 218.22847 | BD82: 218.22847
A83: 13 | B83: Millennium Leasing Sp. z o. o.
A84: 14 | B84: mLeasing Sp. z o. o. | C84: 265.92252 | D84: 165.14449 | E84: 196.49 | F84: 172.07861 | G84: 477.43992 | K84: 477.43992 | N84: 422.36289 | Q84: 189.07441 | R84: 1029.5477 | U84: 615.83698 | X84: 236.84641 | Y84: 1009.7658 | Z84: 274.3233 | AA84: 1456.0277 | AB84: 933.87324 | AC84: 1020.4643 | AD84: 1229.5529 | AE84: 149.80454 | AF84: 173.595 | AG84: 160.12166 | AJ84: 1555.2241 | AM84: 262.13389 | AN84: 93.140199 | AO84: 93.140199 | AR84: 1495.1822 | AS84: 2169.5482 | AT84: 820.81615 | AV84: 248.29682 | AW84: 244.471 | AX84: 11730.492 | AZ84: 11730.492 | BD84: 249.08201
A85: 15 | B85: NEST LEASING SPÓŁKA AKCYJNA | C85: 179.67823 | D85: 156.64283 | G85: 314.40875 | H85: 109.16232 | K85: 519.65518 | N85: 198.54521 | Q85: 124.87544 | R85: 332.31525 | U85: 47.800105 | X85: 238.07466 | Y85: 350.99482 | Z85: 284.79488 | AD85: 109.59299 | AE85: 115.43183 | AG85: 81.5855 | AJ85: 179.89981 | AM85: 66.808875 | AR85: 169.248 | AT85: 169.248 | AW85: 210.70923 | BD85: 210.70923
A86: 16 | B86: PEAC (Poland) Sp. z o. o. | C86: 110.4303 | D86: 87.933333 | G86: 52.3 | H86: 45.2 | K86: 66.5 | Q86: 116.28846 | R86: 200 | X86: 210.02667 | Y86: 258.66667 | Z86: 245.96984 | AA86: 662.2 | AB86: 84.072727 | AC86: 1331.6 | AD86: 853.025 | AE86: 128.13333 | AH86: 196.55 | AJ86: 233.1 | AM86: 112.17843 | AW86: 192.06667 | BD86: 192.06667
A87: 17 | B87: PEKAO Leasing Sp. z o. o. | C87: 246.99223 | D87: 144.19865 | E87: 189.47154 | G87: 281.48101 | H87: 213.50448 | K87: 533.96527 | N87: 447.87672 | Q87: 216.61467 | R87: 823.0102 | U87: 1169.2276 | X87: 764.22806 | Y87: 788.34258 | Z87: 444.0888 | AA87: 1123.0066 | AB87: 397.04024 | AC87: 1713.5004 | AD87: 2667.6264 | AE87: 274.05285 | AF87: 893.58413 | AG87: 205.29806 | AH87: 1668.5183 | AJ87: 2567.3071 | AM87: 1232.4792 | AN87: 628.21509 | AO87: 617.60282 | AP87: 823.60175 | AQ87: 392.26 | AR87: 756.50428 | AS87: 6260.0361 | AT87: 630.07623 | AU87: 800.29425 | AV87: 371.48503 | AW87: 520.01697 | AX87: 2276.3454 | AZ87: 2276.3454 | BD87: 529.80456
A88: 18 | B88: PKO Leasing S.A. | C88: 170.51943 | D88: 153.54646 | E88: 199.117 | F88: 182.79362 | G88: 204.87515 | H88: 179.30649 | I88: 188.07862 | K88: 295.26578 | L88: 2613.0764 | N88: 266.0207 | Q88: 92.727187 | R88: 800.65634 | S88: 2891.1899 | U88: 76.044662 | X88: 336.08277 | Y88: 516.23569 | Z88: 275.80888 | AA88: 708.76439 | AB88: 1628.9144 | AC88: 521.15985 | AD88: 729.02473 | AE88: 147.99268 | AF88: 31.579277 | AG88: 110.25374 | AI88: 204.48359 | AJ88: 2507.0746 | AL88: 176.54722 | AM88: 303.55542 | AN88: 245.24882 | AO88: 286.19129 | AP88: 213.9131 | AQ88: 259.048 | AR88: 11364.963 | AS88: 33314.191 | AT88: 390.34908 | AW88: 265.33932 | BD88: 265.33932
A89: 19 | B89: Santander Consumer Multirent Sp. z o.o. | C89: 85.134511 | D89: 84.151161 | G89: 124.44065 | H89: 124.44065 | U89: 50.584668 | AW89: 85.134511 | BD89: 85.134511
A90: 20 | B90: Santander Leasing S.A. | C90: 124.30132 | D90: 104.35312 | E90: 172.78537 | F90: 223.52905 | G90: 231.67564 | H90: 202.23482 | I90: 212.3232 | K90: 350.29231 | N90: 384.3997 | Q90: 127.31326 | R90: 475.425 | U90: 30.209141 | X90: 179.55482 | Y90: 413.53486 | Z90: 183.40839 | AA90: 1207.1527 | AB90: 1458.8251 | AC90: 1237.8893 | AD90: 241.91274 | AE90: 73.79381 | AF90: 34.859346 | AG90: 105.74032 | AH90: 74.457881 | AI90: 46.916696 | AJ90: 285.98735 | AM90: 204.79581 | AN90: 410.36475 | AO90: 410.36475 | AR90: 1895.1098 | AS90: 5719.0613 | AT90: 1012.6594 | AV90: 55.125879 | AW90: 143.1545 | AX90: 478.58447 | BC90: 478.58447 | BD90: 143.62514
A91: 21 | B91: Scania Finance Polska Sp. z o. o. | C91: 346.4586 | D91: 435.75 | G91: 508.07895 | K91: 508.07895 | N91: 397.38 | Q91: 105.04762 | AW91: 346.4586 | BD91: 346.4586
A92: 22 | B92: SG Equipment Leasing Polska Sp. z o. o. | C92: 179.69312 | G92: 190.22781 | K92: 190.22781 | N92: 427.25845 | Q92: 140.0494 | X92: 427.80982 | Y92: 635.77514 | Z92: 329.9679 | AJ92: 2394.3013 | AM92: 260.07101 | AN92: 804.23233 | AO92: 293.96329 | AP92: 1399.5462 | AW92: 401.90609 | BD92: 401.90609
A93: 23 | B93: SGB Leasing Sp. z o.o. | C93: 192.38636 | D93: 171.33333 | F93: 380 | G93: 173.41176 | H93: 172.73333 | K93: 178.5 | Q93: 247.5 | U93: 910 | X93: 619.22222 | Y93: 584 | Z93: 474.4127 | AE93: 149 | AG93: 30 | AJ93: 1457.6667 | AM93: 1449.3333 | AN93: 35 | AO93: 35 | AR93: 1109.3333 | AU93: 1109.3333 | AW93: 504.51282 | AX93: 1396.5 | AY93: 754 | BC93: 2681.5 | BD93: 568.22619
A94: 24 | B94: Siemens Finance Sp. z o. o.
A95: 25 | B95: VEHIS FINANSE Sp. z o.o.
A96: 26 | B96: VELOLEASING SPÓŁKA AKCYJNA | C96: 108.92649 | D96: 109.70906 | U96: 74.441376 | AW96: 108.92649 | BD96: 108.92649
A97: 27 | B97: Razem | C97: 150.07247 | D97: 122.92619 | E97: 189.44545 | F97: 230.91432 | G97: 203.0262 | H97: 166.3253 | I97: 214.15385 | K97: 320.59141 | L97: 2613.0764 | N97: 296.27599 | Q97: 132.20114 | R97: 726.59302 | S97: 2891.1899 | U97: 71.872443 | X97: 309.27133 | Y97: 478.55097 | Z97: 318.53288 | AA97: 1408.9134 | AB97: 1140.4751 | AC97: 923.28449 | AD97: 928.98947 | AE97: 123.06598 | AF97: 205.03873 | AG97: 128.12553 | AH97: 171.34146 | AI97: 83.741447 | AJ97: 581.59779 | AL97: 176.54722 | AM97: 363.20133 | AN97: 187.56948 | AO97: 385.56601 | AP97: 102.48512 | AQ97: 81.068728 | AR97: 1074.3673 | AS97: 15888.499 | AT97: 358.07444 | AU97: 809.03977 | AV97: 62.652521 | AW97: 225.36899 | AX97: 1314.3832 | AY97: 754 | AZ97: 3221.7601 | BC97: 793.28669 | BD97: 226.31247
B99: Struktura wartościowa umów (ruchomości) | D99: I - IV kwartał 2024
A102: Lp. | B102: Spółka | C102: POJAZDY | D102: Osobowe | E102: osobowe - zeroemisyjne | F102: osobowe - hybryda plug-in | G102: Cięzarowe: | H102: o masie do 3,5 tony | I102: o masie do 3,5 tony - zeroemisyjne | J102: o masie do 3,5 tony - hybryda plug-in | K102: o masie powyzej 3,5 tony | L102: o masie powyżej 3,5 tony - zeroemisyjne | M102: o masie powyżej 3,5 tony - hybryda plug-in | N102: ciagniki siodlowe | O102: ciągniki siodłowe - zeroemisyjne | P102: ciągniki siodłowe - hybryda plug-in | Q102: naczepy / przyczepy | R102: autobusy | S102: autobusy - zeroemisyjne | T102: autobusy - hybryda plug-in | U102: inne | V102: inne - zeroemisyjne | W102: inne - hybryda plug-in | X102: MiU | Y102: Sprzęt Budowlany | Z102: Maszyny Rolnicze | AA102: Maszyny Poligraf. | AB102: maszyny do produkcji tworzyw sztucznych | AC102: maszyny i urządzenia do obróbki metali | AD102: maszyny dla przemysłu spożywczego | AE102: Sprzęt Medyczny | AF102: Sprzęt Gastronom. | AG102: Wózki Widłowe | AH102: Magazyny energii | AI102: Pompy ciepła | AJ102: fotowoltaika | AK102: wiatraki i turbiny wiatrowe | AL102: stacje ładowania pojazdów elektrycznych (na użytek własny i komercyjny) | AM102: inne MiU | AN102: IT | AO102: Sprzęt | AP102: Oprogram. | AQ102: inne IT | AR102: POZOSTAŁE ŚRODKI TRANSPORTU | AS102: Powietrzne | AT102: Wodne | AU102: Kolejowe | AV102: Inne ruchomości | AW102: RUCHOMOŚCI | AX102: Nieruchomości | AY102: budynki przemysłowe | AZ102: obiekty handlowe i usługowe | BA102: obiekty biurowe | BB102: hotele i obiekty rekreacyjne | BC102: inne | BD102: OGÓŁEM
A103: 1 | B103: Alior Leasing Sp. z o. o. | C103: 0.67720361 | D103: 0.33319939 | G103: 0.091835337 | H103: 0.055183153 | K103: 0.036652184 | N103: 0.16471829 | Q103: 0.073842901 | R103: 0.0018984546 | U103: 0.011709233 | X103: 0.30142729 | Y103: 0.068127813 | Z103: 0.061604443 | AA103: 0.019253592 | AB103: 0.011179436 | AC103: 0.033130807 | AD103: 0.005815636 | AE103: 0.053332988 | AG103: 0.0028808961 | AJ103: 0.0072485263 | AM103: 0.038853154 | AN103: 0.007412378 | AO103: 0.007412378 | AR103: 0.01395672 | AT103: 0.013276561 | AU103: 0.00068015838 | AW103: 1 | AX103: 0 | BD103: 1
A104: 2 | B104: BNP Paribas Lease Group Sp. z o. o. | C104: 0.081342371 | D104: 0.0050400893 | E104: 0 | F104: 0 | G104: 0.059775062 | H104: 0.03219296 | I104: 0 | J104: 0 | K104: 0.027582102 | L104: 0 | M104: 0 | N104: 0.0081931308 | O104: 0 | P104: 0 | Q104: 0.0083051504 | R104: 0 | S104: 0 | T104: 0 | U104: 2.8938703e-05 | V104: 0 | W104: 0 | X104: 0.9057166 | Y104: 0.054830279 | Z104: 0.76737658 | AA104: 0 | AB104: 0.0020906209 | AC104: 0.0012027064 | AD104: 0.00095531568 | AE104: 0.038812475 | AF104: 0 | AG104: 0.00042823349 | AH104: 0.00038890114 | AI104: 0 | AJ104: 0.0040033118 | AK104: 0 | AL104: 0 | AM104: 0.035628183 | AN104: 0.01289222 | AO104: 0.0010890526 | AP104: 0.011783893 | AQ104: 1.9274623e-05 | AR104: 4.8807071e-05 | AS104: 0 | AT104: 4.8807071e-05 | AU104: 0 | AV104: 0 | AW104: 1 | AX104: 0 | AY104: 0 | AZ104: 0 | BA104: 0 | BB104: 0 | BC104: 0 | BD104: 1
A105: 3 | B105: BOŚ LEASING - EKO PROFIT S.A. | C105: 0 | G105: 0 | X105: 1 | Y105: 0.77789697 | Z105: 0.062063202 | AJ105: 0.16003982 | AN105: 0 | AR105: 0 | AW105: 1 | AX105: 0 | BD105: 1
A106: 4 | B106: BPS Leasing S.A. | C106: 0.67161661 | D106: 0.1965706 | F106: 0.052360578 | G106: 0 | N106: 0.19320009 | Q106: 0.26842936 | U106: 0.01341656 | X106: 0.32838339 | Z106: 0.27525872 | AE106: 0.023724404 | AG106: 0.0048299615 | AJ106: 0.024570302 | AN106: 0 | AR106: 0 | AW106: 1 | AX106: 0 | BD106: 1
A107: 5 | B107: Caterpillar Financial Services Poland Sp. z o.o. | C107: 0 | G107: 0 | X107: 1 | Y107: 1 | AN107: 0 | AR107: 0 | AW107: 1 | AX107: 0 | BD107: 1
A108: 6 | B108: DE LAGE Landen Leasing Polska S.A. | C108: 0.021202322 | D108: 0.0011040001 | G108: 0 | N108: 0.0039490084 | Q108: 0.016149314 | X108: 0.95742092 | Y108: 0.017040242 | Z108: 0.88848716 | AE108: 0.048324293 | AJ108: 0.0014020802 | AM108: 0.0021671522 | AN108: 0.021376754 | AO108: 0.0077887209 | AP108: 0.013588034 | AR108: 0 | AW108: 1 | AX108: 0 | BD108: 1
A109: 7 | B109: Deutsche Leasing Polska S.A. | C109: 0.39853942 | D109: 0.0023002558 | G109: 0 | N109: 0.0061286535 | Q109: 0.39011051 | R109: 0 | X109: 0.60146058 | Y109: 0.01505622 | Z109: 0.27286181 | AA109: 0.089340004 | AB109: 0 | AC109: 0.045892515 | AD109: 0 | AE109: 0.063120305 | AF109: 0 | AG109: 0 | AM109: 0.11518973 | AN109: 0 | AR109: 0 | AW109: 1 | AX109: 0 | BD109: 1
A110: 8 | B110: Europejski Fundusz Leasingowy S.A. | C110: 0.22081459 | D110: 0.080240091 | E110: 0.0024130569 | F110: 0.00016710689 | G110: 0.037640434 | H110: 0.033887717 | I110: 0.00019691514 | J110: 0 | K110: 0.0037527169 | N110: 0.063575323 | Q110: 0.034980588 | R110: 0.0034680265 | U110: 0.00091012996 | X110: 0.76604678 | Y110: 0.080131666 | Z110: 0.61231864 | AA110: 0.0012645349 | AB110: 0.00032727225 | AC110: 0.0014049087 | AD110: 0.0055621265 | AE110: 0.020649609 | AF110: 0.0074903763 | AG110: 0.0013870177 | AH110: 4.8536972e-05 | AI110: 0.00029537271 | AJ110: 0.0035318309 | AM110: 0.031634889 | AN110: 0.0031814882 | AO110: 4.2207027e-05 | AP110: 0.0020315187 | AQ110: 0.0011077625 | AR110: 0.0099571391 | AS110: 3.7452357e-05 | AT110: 0.0099196868 | AW110: 1 | AX110: 0 | BD110: 1
A111: 9 | B111: Impuls-Leasing Polska Sp. z o. o. | C111: 0.68193539 | D111: 0.22994722 | E111: 0.015662493 | F111: 0.0026040181 | G111: 0.11450467 | H111: 0.089823439 | I111: 0.0043780806 | K111: 0.024681228 | N111: 0.17189019 | Q111: 0.14189505 | R111: 0.001529046 | U111: 0.022169216 | X111: 0.31393524 | Y111: 0.15997565 | Z111: 0.053580356 | AC111: 0.023808354 | AE111: 0.03431928 | AF111: 0.017090675 | AG111: 0.0005052179 | AJ111: 0.0023242554 | AM111: 0.022331454 | AN111: 0.00011167309 | AO111: 0.00011167309 | AR111: 0.0040177002 | AT111: 0.0040177002 | AW111: 1 | AX111: 0 | BD111: 1
A112: 10 | B112: ING Lease (Polska) Sp. z o. o. | C112: 0.13031507 | D112: 0.032043522 | G112: 0.0050225254 | H112: 0.0050225254 | K112: 0 | N112: 0.049009974 | Q112: 0.044239049 | R112: 0 | U112: 0 | X112: 0.86448201 | Y112: 0.074526112 | Z112: 0.0049513176 | AA112: 0.068017717 | AB112: 0.13979995 | AC112: 0.19669501 | AD112: 0.06902412 | AE112: 0.091573266 | AF112: 0.016373053 | AG112: 0.0010491287 | AJ112: 0.0039021889 | AM112: 0.19857015 | AN112: 0 | AO112: 0 | AP112: 0 | AQ112: 0 | AR112: 0 | AS112: 0 | AT112: 0 | AU112: 0 | AV112: 0.0052029186 | AW112: 1 | AX112: 0 | AY112: 0 | AZ112: 0 | BA112: 0 | BB112: 0 | BC112: 0 | BD112: 1
...

Sheet leasing_I-IV kw 2024
B2: Ziązek Polskiego Leasingu, WARSZAWA - 01-07-2025
B4: Wartość środków oddanych w leasing (netto w tys.PLN) | E4: I - IV kwartał 2024
A6: Lp. | B6: Spółka | C6: POJAZDY | D6: Osobowe | E6: osobowe - zeroemisyjne | F6: osobowe - hybryda plug-in | G6: Cięzarowe: | H6: o masie do 3,5 tony | I6: o masie do 3,5 tony - zeroemisyjne | J6: o masie do 3,5 tony - hybryda plug-in | K6: o masie powyzej 3,5 tony | L6: o masie powyżej 3,5 tony - zeroemisyjne | M6: o masie powyżej 3,5 tony - hybryda plug-in | N6: ciagniki siodlowe | O6: ciągniki siodłowe - zeroemisyjne | P6: ciągniki siodłowe - hybryda plug-in | Q6: naczepy / przyczepy | R6: autobusy | S6: autobusy - zeroemisyjne | T6: autobusy - hybryda plug-in | U6: inne | V6: inne - zeroemisyjne | W6: inne - hybryda plug-in | X6: MiU | Y6: Sprzęt Budowlany | Z6: Maszyny Rolnicze | AA6: Maszyny Poligraf. | AB6: maszyny do produkcji tworzyw sztucznych | AC6: maszyny i urządzenia do obróbki metali | AD6: maszyny dla przemysłu spożywczego | AE6: Sprzęt Medyczny | AF6: Sprzęt Gastronom. | AG6: Wózki Widłowe | AH6: Magazyny energii | AI6: Pompy ciepła | AJ6: fotowoltaika | AK6: wiatraki i turbiny wiatrowe | AL6: stacje ładowania pojazdów elektrycznych (na użytek własny i komercyjny) | AM6: inne MiU | AN6: IT | AO6: Sprzęt | AP6: Oprogram. | AQ6: inne IT | AR6: POZOSTAŁE ŚRODKI TRANSPORTU | AS6: Powietrzne | AT6: Wodne | AU6: Kolejowe | AV6: Inne ruchomości | AW6: RUCHOMOŚCI | AX6: Nieruchomości | AY6: budynki przemysłowe | AZ6: obiekty handlowe i usługowe | BA6: obiekty biurowe | BB6: hotele i obiekty rekreacyjne | BC6: inne | BD6: OGÓŁEM
A7: 1 | B7: Alior Leasing Sp. z o. o. | C7: 2610864.9 | D7: 1205801.6 | G7: 503922.87 | H7: 308902 | K7: 195020.87 | N7: 403017.9 | Q7: 250052.61 | R7: 191081.98 | U7: 56987.97 | X7: 549508.64 | Y7: 217576.36 | Z7: 95175.7 | AA7: 14403.7 | AB7: 8053.47 | AC7: 48421.95 | AD7: 25051.35 | AE7: 20177.17 | AF7: 2662.94 | AG7: 7289.37 | AH7: 29.47 | AI7: 134.98 | AJ7: 7540.61 | AM7: 102991.57 | AN7: 6181.88 | AO7: 6181.88 | AR7: 25472.7 | AS7: 8313.39 | AT7: 12032.3 | AU7: 5127.01 | AW7: 3192028.1 | AX7: 0 | BD7: 3192028.1
A8: 2 | B8: BNP Paribas Lease Group Sp. z o. o. | C8: 2868133.3 | D8: 1975676.7 | E8: 32715.618 | F8: 14020.979 | G8: 669670.48 | H8: 421610.92 | I8: 2845.0491 | J8: 0 | K8: 248059.56 | L8: 298.7718 | M8: 0 | N8: 134615.02 | O8: 0 | P8: 0 | Q8: 58224.293 | R8: 7995.3419 | S8: 0 | T8: 0 | U8: 21951.417 | V8: 58.3011 | W8: 0 | X8: 1216233 | Y8: 199307.41 | Z8: 165631.1 | AA8: 4613.4572 | AB8: 3894.9976 | AC8: 25462.2 | AD8: 7499.8063 | AE8: 26758.946 | AF8: 480.061 | AG8: 215228.38 | AH8: 743.81362 | AI8: 742.26968 | AJ8: 22770.432 | AK8: 0 | AL8: 438.90939 | AM8: 542661.21 | AN8: 84386.534 | AO8: 52394.013 | AP8: 18382.438 | AQ8: 13610.083 | AR8: 227.2287 | AS8: 0 | AT8: 227.2287 | AU8: 0 | AV8: 0 | AW8: 4168980 | AX8: 238121.93 | AY8: 3280.9495 | AZ8: 234840.98 | BA8: 0 | BB8: 0 | BC8: 0 | BD8: 4407101.9
A9: 3 | B9: BOŚ LEASING - EKO PROFIT S.A. | C9: 26497.673 | D9: 5208.718 | G9: 1068.352 | H9: 669.352 | K9: 399 | N9: 5391.3845 | Q9: 5436.3327 | R9: 3830.4704 | U9: 5562.4155 | X9: 63632.215 | Y9: 7965.2109 | Z9: 5856.6155 | AB9: 130.464 | AC9: 14495.971 | AD9: 674.93766 | AE9: 211.93124 | AG9: 1384.57 | AJ9: 7908.3805 | AL9: 300 | AM9: 24704.134 | AN9: 0 | AR9: 7412.0051 | AT9: 137.00506 | AU9: 7275 | AW9: 97541.893 | AX9: 0 | BD9: 97541.893
A10: 4 | B10: BPS Leasing S.A. | C10: 285006.46 | D10: 88472.63 | E10: 2775.01 | F10: 33539.92 | G10: 48197.09 | H10: 18475.77 | I10: 230 | K10: 29721.32 | N10: 86195.74 | Q10: 32645.11 | R10: 23500.77 | S10: 520 | U10: 5995.12 | X10: 50249.36 | Y10: 13338.94 | Z10: 11568.66 | AA10: 80.2 | AB10: 5498.27 | AC10: 749.71 | AD10: 3087.08 | AE10: 1393.18 | AG10: 1854.2 | AH10: 63 | AJ10: 1091.53 | AM10: 11524.59 | AN10: 1327.3 | AO10: 1327.3 | AR10: 8326.54 | AS10: 2651.43 | AT10: 650 | AU10: 5025.11 | AV10: 9354.5 | AW10: 354264.16 | AX10: 0 | BD10: 354264.16
A11: 5 | B11: Caterpillar Financial Services Poland Sp. z o.o. | C11: 0 | G11: 0 | X11: 429797.69 | Y11: 429797.69 | AN11: 0 | AR11: 0 | AW11: 429797.69 | AX11: 0 | BD11: 429797.69
A12: 6 | B12: DE LAGE Landen Leasing Polska S.A. | C12: 16894 | D12: 730 | G12: 1077 | H12: 1077 | N12: 13112 | Q12: 1661 | U12: 314 | X12: 91114 | Y12: 25821 | Z12: 60934 | AE12: 1176 | AG12: 2756 | AJ12: 222 | AM12: 205 | AN12: 29260 | AO12: 29260 | AR12: 0 | AW12: 137268 | AX12: 0 | BD12: 137268
A13: 7 | B13: Deutsche Leasing Polska S.A. | C13: 89347 | D13: 1828 | G13: 7440 | H13: 460 | K13: 6980 | N13: 20450 | Q13: 56461 | R13: 0 | U13: 3168 | X13: 701274 | Y13: 11297 | Z13: 26776 | AA13: 2015 | AB13: 1744 | AC13: 37731 | AD13: 813 | AE13: 169 | AF13: 0 | AG13: 374878 | AM13: 245851 | AN13: 0 | AR13: 0 | AW13: 790621 | AX13: 0 | BD13: 790621
A14: 8 | B14: Europejski Fundusz Leasingowy S.A. | C14: 6668447.8 | D14: 2798893.1 | E14: 90411.923 | F14: 60451.528 | G14: 1711491.3 | H14: 845189.83 | I14: 18437.463 | K14: 866301.47 | L14: 2256 | N14: 1311658.8 | Q14: 646980.61 | R14: 139629.22 | S14: 3478.9753 | U14: 59794.754 | V14: 48.77235 | X14: 2456828.2 | Y14: 972245.45 | Z14: 357167.51 | AA14: 33541.451 | AB14: 26906.727 | AC14: 131683.84 | AD14: 47521.087 | AE14: 24548.296 | AF14: 109072 | AG14: 62016.644 | AH14: 1274.4189 | AI14: 2406.5248 | AJ14: 50111.386 | AL14: 2562.7776 | AM14: 635770.05 | AN14: 85529.074 | AO14: 40571.313 | AP14: 18985.843 | AQ14: 25971.918 | AR14: 18824.247 | AS14: 6106.5683 | AT14: 12717.678 | AW14: 9229629.3 | AX14: 0 | BD14: 9229629.3
A15: 9 | B15: Impuls-Leasing Polska Sp. z o. o. | C15: 892840.74 | D15: 475717.13 | E15: 16352.78 | F15: 17289.32 | G15: 161488.27 | H15: 112305.57 | I15: 509.79 | K15: 49182.7 | N15: 153217.11 | Q15: 72703.7 | R15: 10568.66 | U15: 19145.87 | V15: 23 | X15: 216829.48 | Y15: 64405.1 | Z15: 23540.24 | AA15: 8483.86 | AB15: 2495.34 | AC15: 15016.39 | AE15: 4228.35 | AF15: 13870.97 | AG15: 17689.67 | AJ15: 1313.88 | AM15: 65785.68 | AN15: 5007.69 | AO15: 5007.69 | AR15: 2052.17 | AT15: 2052.17 | AW15: 1116730.1 | AX15: 0 | BD15: 1116730.1
A16: 10 | B16: ING Lease (Polska) Sp. z o. o. | C16: 3481681 | D16: 1681689 | E16: 49582 | F16: 43432 | G16: 676910 | H16: 393480 | I16: 4153 | J16: 0 | K16: 283430 | L16: 0 | M16: 0 | N16: 561345 | O16: 1204 | P16: 0 | Q16: 350749 | R16: 106757 | S16: 895 | T16: 0 | U16: 104231 | V16: 1379 | W16: 0 | X16: 2000056 | Y16: 274878 | Z16: 39670 | AA16: 82946 | AB16: 190109 | AC16: 321437 | AD16: 201129 | AE16: 46154 | AF16: 41254 | AG16: 145376 | AH16: 726 | AI16: 878 | AJ16: 47794 | AK16: 0 | AL16: 456 | AM16: 607249 | AN16: 35530 | AO16: 35530 | AP16: 0 | AQ16: 0 | AR16: 168512 | AS16: 0 | AT16: 9087 | AU16: 159425 | AV16: 258933 | AW16: 5944712 | AX16: 8595 | AY16: 8595 | AZ16: 0 | BA16: 0 | BB16: 0 | BC16: 0 | BD16: 5953307
A17: 11 | B17: Leasing Polski Sp. z o. o. | C17: 174341.89 | D17: 31321.055 | F17: 4409.2654 | G17: 38567.074 | H17: 20194.941 | K17: 18372.134 | N17: 44518.838 | Q17: 23771.562 | R17: 13584.833 | U17: 22578.529 | X17: 39059.789 | Y17: 22408.645 | Z17: 4836.2415 | AG17: 829.073 | AM17: 10985.83 | AN17: 0 | AR17: 538.38 | AS17: 538.38 | AV17: 131.09 | AW17: 214071.15 | AX17: 31 | AZ17: 31 | BD17: 214102.15
A18: 12 | B18: Mercedes-Benz Leasing Polska Sp. z o.o. | C18: 3492374.4 | D18: 2892216.7 | E18: 306238.39 | F18: 244483.45 | G18: 347144.17 | H18: 312936.51 | I18: 27162.88 | K18: 34207.66 | L18: 1194.1895 | N18: 192059.47 | Q18: 1992.4791 | R18: 53664.431 | U18: 5297.1636 | X18: 0 | AN18: 0 | AR18: 0 | AW18: 3492374.4 | AX18: 0 | BD18: 3492374.4
A19: 13 | B19: Millennium Leasing Sp. z o. o. | C19: 2542927.3 | D19: 1004144.7 | E19: 45773.351 | F19: 5630.0018 | G19: 474445.02 | H19: 257115.72 | I19: 3735.7802 | K19: 217329.31 | N19: 561515.77 | Q19: 279282.84 | R19: 134703.53 | T19: 690 | U19: 88835.417 | V19: 971.21626 | X19: 1106709.7 | Y19: 254227.07 | Z19: 14279.924 | AA19: 47622.934 | AB19: 204631.92 | AD19: 86924.277 | AE19: 36184.433 | AF19: 0 | AG19: 76928.426 | AH19: 1143.1776 | AI19: 1718.4944 | AJ19: 58301.082 | AL19: 277.4 | AM19: 324470.59 | AN19: 31512.453 | AO19: 31512.453 | AR19: 180350 | AT19: 7562.8333 | AU19: 172787.17 | AW19: 3861499.4 | AX19: 35638.447 | BA19: 33158.447 | BC19: 2480 | BD19: 3897137.9
A20: 14 | B20: mLeasing Sp. z o. o. | C20: 4863680.1 | D20: 3753112 | E20: 223662.19 | F20: 375251.51 | G20: 529406.62 | H20: 272244.45 | I20: 4801.6467 | J20: 209.55203 | K20: 257162.18 | N20: 265156.41 | Q20: 136300.61 | R20: 80141.106 | S20: 7085.9824 | U20: 99563.386 | V20: 484.30427 | X20: 1212756.1 | Y20: 265010.58 | Z20: 71671.13 | AA20: 73181.522 | AB20: 31590.913 | AC20: 171673.23 | AD20: 66879.348 | AE20: 27587.485 | AF20: 4059.41 | AG20: 59459.769 | AH20: 2103.6277 | AI20: 547.98217 | AJ20: 14296.573 | AL20: 627.14838 | AM20: 424067.33 | AN20: 57587.675 | AO20: 57587.675 | AR20: 243943.08 | AS20: 136856.65 | AT20: 87394.545 | AU20: 19691.889 | AV20: 71258.615 | AW20: 6449225.5 | AX20: 74931.53 | AZ20: 74931.53 | BD20: 6524157.1
A21: 15 | B21: NEST LEASING SPÓŁKA AKCYJNA | C21: 136722.98 | D21: 35809.57 | G21: 26591.711 | H21: 8162.5044 | K21: 18429.207 | N21: 36679.826 | Q21: 18938.405 | R21: 13495.994 | U21: 5207.4741 | X21: 38682.464 | Y21: 14561.886 | Z21: 9887.7571 | AA21: 946.23015 | AB21: 707.05 | AC21: 968.73783 | AD21: 82.5 | AE21: 1431.2443 | AF21: 0 | AG21: 1293.4024 | AJ21: 696.8 | AM21: 8106.8557 | AN21: 0 | AR21: 93.82114 | AT21: 93.82114 | AW21: 175499.27 | AX21: 0 | BD21: 175499.27
A22: 16 | B22: PEAC (Poland) Sp. z o. o. | C22: 27813.7 | D22: 4961 | G22: 5030.1 | H22: 1818.1 | K22: 3212 | N22: 2017.7 | Q22: 5796.8 | R22: 7680.1 | U22: 2328 | X22: 115187.4 | Y22: 5528.1 | Z22: 15535.2 | AA22: 1259.9 | AB22: 9807.9 | AC22: 13557.4 | AD22: 1544.5 | AE22: 2192 | AF22: 135.5 | AG22: 1852.7 | AH22: 22.4 | AI22: 74.4 | AJ22: 521.1 | AM22: 63156.3 | AN22: 6260.2 | AO22: 6260.2 | AR22: 95.9 | AS22: 35.9 | AT22: 60 | AW22: 149357.2 | AX22: 0 | BD22: 149357.2
A23: 17 | B23: PEKAO Leasing Sp. z o. o. | C23: 3589075.4 | D23: 1694517.2 | E23: 29706.169 | F23: 40283.868 | G23: 628686.21 | H23: 275588.57 | I23: 3141.6684 | J23: 141.46341 | K23: 353097.64 | L23: 2392.9 | M23: 0 | N23: 647243.79 | O23: 0 | P23: 0 | Q23: 313636.21 | R23: 208712.8 | S23: 270 | T23: 0 | U23: 96279.138 | V23: 404.77998 | W23: 0 | X23: 2042104.1 | Y23: 316809.24 | Z23: 71649.116 | AA23: 81308.997 | AB23: 110077.14 | AC23: 361995.44 | AD23: 117457.22 | AE23: 32185.969 | AF23: 8591.7899 | AG23: 87860.925 | AH23: 2060 | AI23: 595.06341 | AJ23: 117827.49 | AK23: 109.7561 | AL23: 381.16367 | AM23: 733194.81 | AN23: 61815.801 | AO23: 36052.946 | AP23: 1294.5157 | AQ23: 24468.339 | AR23: 303419.57 | AS23: 137285.76 | AT23: 102595.81 | AU23: 63538 | AV23: 126666.71 | AW23: 6123081.6 | AX23: 36895.519 | AY23: 0 | AZ23: 666.173 | BA23: 32130.172 | BB23: 0 | BC23: 4099.1735 | BD23: 6159977.1
A24: 18 | B24: PKO Leasing S.A. | C24: 9663209.7 | D24: 5949976.3 | E24: 236701.67 | F24: 122300.72 | G24: 1574018.3 | H24: 979476.28 | I24: 22185.262 | J24: 231.62602 | K24: 594542 | L24: 7558.9047 | N24: 1208552.3 | O24: 2582.7946 | Q24: 591603.06 | R24: 238830.56 | U24: 100229.24 | V24: 1573.8049 | X24: 2667745.3 | Y24: 668872.98 | Z24: 198283.77 | AA24: 72062.926 | AB24: 74521.316 | AC24: 296117.39 | AD24: 123621.6 | AE24: 72893.069 | AF24: 17737.216 | AG24: 151657.31 | AI24: 1572.8417 | AJ24: 27487.346 | AK24: 67.048681 | AL24: 1400 | AM24: 961450.5 | AN24: 109481.85 | AO24: 63679.024 | AP24: 551.07483 | AQ24: 45251.75 | AR24: 406141.93 | AS24: 111745.38 | AT24: 14081.694 | AU24: 280314.85 | AW24: 12846579 | AX24: 0 | BD24: 12846579
A25: 19 | B25: Santander Consumer Multirent Sp. z o.o. | C25: 1219690.5 | D25: 982887.97 | G25: 181026.82 | H25: 181026.82 | U25: 55775.68 | X25: 0 | AN25: 0 | AR25: 0 | AW25: 1219690.5 | AX25: 0 | BD25: 1219690.5
A26: 20 | B26: Santander Leasing S.A. | C26: 4634556.4 | D26: 2948177.3 | E26: 125494.96 | F26: 88775.148 | G26: 829795.53 | H26: 562386.45 | I26: 5377.1199 | J26: 184.0488 | K26: 267409.07 | L26: 0 | M26: 0 | N26: 528934.95 | O26: 0 | P26: 0 | Q26: 243734.12 | R26: 52894.03 | S26: 0 | T26: 0 | U26: 31020.491 | V26: 503.71 | W26: 0 | X26: 1603456.5 | Y26: 204978.46 | Z26: 148920.02 | AA26: 64367.389 | AB26: 109809.27 | AC26: 118262.23 | AD26: 44981.049 | AE26: 48126.928 | AF26: 19335.487 | AG26: 126201.63 | AH26: 995.1026 | AI26: 1317.6426 | AJ26: 41324.048 | AK26: 0 | AL26: 177.417 | AM26: 674659.78 | AN26: 43617.105 | AO26: 43617.105 | AP26: 0 | AQ26: 0 | AR26: 89460.14 | AS26: 82341.809 | AT26: 4532.7725 | AU26: 2585.5576 | AV26: 0 | AW26: 6371090.1 | AX26: 0 | AY26: 0 | AZ26: 0 | BA26: 0 | BB26: 0 | BC26: 0 | BD26: 6371090.1
A27: 21 | B27: Scania Finance Polska Sp. z o. o. | C27: 1229793 | D27: 2660 | G27: 144184 | K27: 144184 | N27: 752908 | Q27: 63669 | R27: 266137 | S27: 6056 | U27: 235 | X27: 0 | AN27: 0 | AR27: 0 | AW27: 1229793 | AX27: 0 | BD27: 1229793
A28: 22 | B28: SG Equipment Leasing Polska Sp. z o. o. | C28: 138013.94 | D28: 4124.7889 | G28: 49244.924 | H28: 6213.3156 | K28: 43031.608 | L28: 791.78731 | N28: 43699.898 | Q28: 33998.642 | R28: 335 | U28: 6610.6905 | X28: 219799.81 | Y28: 148079.58 | Z28: 16662.617 | AA28: 3821.5854 | AB28: 888.5429 | AC28: 17270.879 | AD28: 3897.6383 | AG28: 4293.7011 | AJ28: 4300 | AM28: 20585.265 | AN28: 16041.612 | AO28: 16041.612 | AR28: 40103.724 | AS28: 40103.724 | AW28: 413959.09 | AX28: 0 | BD28: 413959.09
A29: 23 | B29: SGB Leasing Sp. z o.o. | C29: 73832 | D29: 42388 | E29: 436 | F29: 2655 | G29: 12745 | H29: 8119 | I29: 117 | K29: 4626 | N29: 9486 | Q29: 4584 | R29: 1838 | U29: 2791 | X29: 62889 | Y29: 14374 | Z29: 9218 | AA29: 663 | AB29: 1141 | AC29: 732 | AD29: 1268 | AE29: 751 | AF29: 460 | AG29: 1263 | AH29: 207 | AJ29: 2729 | AK29: 36 | AM29: 30047 | AN29: 218 | AO29: 205 | AP29: 13 | AR29: 18190 | AU29: 18190 | AW29: 155129 | AX29: 0 | BD29: 155129
A30: 24 | B30: Siemens Finance Sp. z o. o. | C30: 16780 | D30: 2471 | E30: 225 | F30: 275 | G30: 4426 | H30: 808 | K30: 3618 | N30: 6378 | Q30: 3005 | U30: 500 | X30: 774091 | Y30: 94216 | Z30: 25931 | AA30: 17079 | AB30: 4574 | AC30: 55850 | AE30: 472442 | AG30: 27881 | AJ30: 131 | AM30: 75987 | AN30: 102570 | AO30: 94618 | AP30: 7952 | AR30: 0 | AW30: 893441 | AX30: 0 | BD30: 893441
A31: 25 | B31: VEHIS FINANSE Sp. z o.o. | C31: 1092247.9 | D31: 889588.52 | E31: 16338.22 | F31: 41455.63 | G31: 202659.36 | H31: 202659.36 | I31: 449.21 | X31: 0 | AN31: 0 | AR31: 0 | AW31: 1092247.9 | AX31: 0 | BD31: 1092247.9
A32: 26 | B32: VELOLEASING SPÓŁKA AKCYJNA | C32: 144095.33 | D32: 126620.77 | G32: 5458.0213 | K32: 5458.0213 | N32: 4213.9 | Q32: 3291.6766 | U32: 4510.9568 | X32: 0 | AN32: 0 | AR32: 0 | AW32: 144095.33 | AX32: 0 | BD32: 144095.33
A33: 27 | B33: Razem | C33: 49978867 | D33: 28598994 | E33: 1176413.3 | F33: 1094253.3 | G33: 8834694.2 | H33: 5190920.5 | I33: 93145.869 | J33: 766.69026 | K33: 3643773.7 | L33: 14492.553 | M33: 0 | N33: 6992367.8 | O33: 3786.7946 | P33: 0 | Q33: 3198518.1 | R33: 1555380.8 | S33: 18305.958 | T33: 690 | U33: 798912.71 | V33: 5446.8889 | W33: 0 | X33: 17658004 | Y33: 4225698.7 | Z33: 1373194.6 | AA33: 508397.15 | AB33: 786581.32 | AC33: 1631425.4 | AD33: 732432.39 | AE33: 818611 | AF33: 217659.37 | AG33: 1367993.8 | AH33: 9368.0104 | AI33: 9988.1988 | AJ33: 406366.66 | AK33: 212.80478 | AL33: 6620.8161 | AM33: 5563453.5 | AN33: 676327.17 | AO33: 519846.21 | AP33: 47178.872 | AQ33: 109302.09 | AR33: 1513163.4 | AS33: 525978.99 | AT33: 253224.86 | AU33: 733959.59 | AV33: 466343.92 | AW33: 70292706 | AX33: 394213.43 | AY33: 11875.95 | AZ33: 310469.68 | BA33: 65288.619 | BB33: 0 | BC33: 6579.1735 | BD33: 70686919
B35: Ilość środków oddanych w leasing (szt.) | D35: I - IV kwartał 2024
A38: Lp. | B38: Spółka | C38: POJAZDY | D38: Osobowe | E38: osobowe - zeroemisyjne | F38: osobowe - hybryda plug-in | G38: Cięzarowe: | H38: o masie do 3,5 tony | I38: o masie do 3,5 tony - zeroemisyjne | J38: o masie do 3,5 tony - hybryda plug-in | K38: o masie powyzej 3,5 tony | L38: o masie powyżej 3,5 tony - zeroemisyjne | M38: o masie powyżej 3,5 tony - hybryda plug-in | N38: ciagniki siodlowe | O38: ciągniki siodłowe - zeroemisyjne | P38: ciągniki siodłowe - hybryda plug-in | Q38: naczepy / przyczepy | R38: autobusy | S38: autobusy - zeroemisyjne | T38: autobusy - hybryda plug-in | U38: inne | V38: inne - zeroemisyjne | W38: inne - hybryda plug-in | X38: MiU | Y38: Sprzęt Budowlany | Z38: Maszyny Rolnicze | AA38: Maszyny Poligraf. | AB38: maszyny do produkcji tworzyw sztucznych | AC38: maszyny i urządzenia do obróbki metali | AD38: maszyny dla przemysłu spożywczego | AE38: Sprzęt Medyczny | AF38: Sprzęt Gastronom. | AG38: Wózki Widłowe | AH38: Magazyny energii | AI38: Pompy ciepła | AJ38: fotowoltaika | AK38: wiatraki i turbiny wiatrowe | AL38: stacje ładowania pojazdów elektrycznych (na użytek własny i komercyjny) | AM38: inne MiU | AN38: IT | AO38: Sprzęt | AP38: Oprogram. | AQ38: inne IT | AR38: POZOSTAŁE ŚRODKI TRANSPORTU | AS38: Powietrzne | AT38: Wodne | AU38: Kolejowe | AV38: Inne ruchomości | AW38: RUCHOMOŚCI | AX38: Nieruchomości | AY38: budynki przemysłowe | AZ38: obiekty handlowe i usługowe | BA38: obiekty biurowe | BB38: hotele i obiekty rekreacyjne | BC38: inne | BD38: OGÓŁEM
A39: 1 | B39: Alior Leasing Sp. z o. o. | C39: 18549 | D39: 9234 | G39: 4116 | H39: 3315 | K39: 801 | N39: 2191 | Q39: 2222 | R39: 458 | U39: 328 | X39: 4010 | Y39: 1133 | Z39: 836 | AA39: 126 | AB39: 41 | AC39: 285 | AD39: 210 | AE39: 312 | AF39: 7 | AG39: 86 | AH39: 1 | AI39: 2 | AJ39: 61 | AM39: 910 | AN39: 39 | AO39: 39 | AR39: 64 | AS39: 3 | AT39: 59 | AU39: 2 | AW39: 22662 | AX39: 0 | BD39: 22662
A40: 2 | B40: BNP Paribas Lease Group Sp. z o. o. | C40: 19688 | D40: 15035 | E40: 188 | F40: 81 | G40: 3653 | H40: 2811 | I40: 16 | J40: 0 | K40: 842 | L40: 1 | M40: 0 | N40: 343 | O40: 0 | P40: 0 | Q40: 256 | R40: 12 | S40: 0 | T40: 0 | U40: 389 | V40: 3 | W40: 0 | X40: 4377 | Y40: 830 | Z40: 396 | AA40: 19 | AB40: 9 | AC40: 49 | AD40: 8 | AE40: 365 | AF40: 4 | AG40: 1772 | AH40: 22 | AI40: 4 | AJ40: 69 | AK40: 0 | AL40: 6 | AM40: 824 | AN40: 533 | AO40: 435 | AP40: 85 | AQ40: 13 | AR40: 4 | AS40: 0 | AT40: 4 | AU40: 0 | AV40: 0 | AW40: 24602 | AX40: 14 | AY40: 1 | AZ40: 13 | BA40: 0 | BB40: 0 | BC40: 0 | BD40: 24616
A41: 3 | B41: BOŚ LEASING - EKO PROFIT S.A. | C41: 120 | D41: 38 | G41: 7 | H41: 5 | K41: 2 | N41: 25 | Q41: 28 | R41: 7 | U41: 15 | X41: 159 | Y41: 28 | Z41: 15 | AB41: 3 | AC41: 17 | AD41: 2 | AE41: 2 | AG41: 8 | AJ41: 13 | AL41: 15 | AM41: 56 | AN41: 0 | AR41: 3 | AT41: 2 | AU41: 1 | AW41: 282 | AX41: 0 | BD41: 282
A42: 4 | B42: BPS Leasing S.A. | C42: 1329 | D42: 580 | E42: 7 | F42: 221 | G42: 224 | H42: 133 | I42: 1 | K42: 91 | N42: 268 | Q42: 190 | R42: 40 | S42: 1 | U42: 27 | X42: 151 | Y42: 46 | Z42: 20 | AA42: 1 | AB42: 7 | AC42: 4 | AD42: 6 | AE42: 8 | AG42: 13 | AH42: 1 | AJ42: 8 | AM42: 37 | AN42: 9 | AO42: 9 | AR42: 8 | AS42: 3 | AT42: 1 | AU42: 4 | AV42: 42 | AW42: 1539 | AX42: 0 | BD42: 1539
A43: 5 | B43: Caterpillar Financial Services Poland Sp. z o.o. | C43: 0 | G43: 0 | X43: 926 | Y43: 926 | AN43: 0 | AR43: 0 | AW43: 926 | AX43: 0 | BD43: 926
A44: 6 | B44: DE LAGE Landen Leasing Polska S.A. | C44: 48 | D44: 8 | G44: 6 | H44: 6 | N44: 26 | Q44: 6 | U44: 2 | X44: 428 | Y44: 167 | Z44: 225 | AE44: 16 | AG44: 14 | AJ44: 4 | AM44: 2 | AN44: 257 | AO44: 257 | AR44: 0 | AW44: 733 | AX44: 0 | BD44: 733
A45: 7 | B45: Deutsche Leasing Polska S.A. | C45: 351 | D45: 11 | G45: 11 | H45: 3 | K45: 8 | N45: 48 | Q45: 276 | R45: 0 | U45: 5 | X45: 3157 | Y45: 7 | Z45: 27 | AA45: 2 | AB45: 2 | AC45: 38 | AD45: 2 | AE45: 1 | AF45: 0 | AG45: 2986 | AM45: 92 | AN45: 0 | AR45: 0 | AW45: 3508 | AX45: 0 | BD45: 3508
A46: 8 | B46: Europejski Fundusz Leasingowy S.A. | C46: 38812 | D46: 18717 | E46: 471 | F46: 284 | G46: 9283 | H46: 6658 | I46: 119 | K46: 2625 | L46: 3 | N46: 4624 | Q46: 4617 | R46: 227 | S46: 2 | U46: 1344 | V46: 1 | X46: 15926 | Y46: 4679 | Z46: 1936 | AA46: 181 | AB46: 136 | AC46: 568 | AD46: 270 | AE46: 325 | AF46: 1775 | AG46: 691 | AH46: 12 | AI46: 33 | AJ46: 422 | AL46: 20 | AM46: 4878 | AN46: 1317 | AO46: 685 | AP46: 279 | AQ46: 353 | AR46: 64 | AS46: 15 | AT46: 49 | AW46: 56119 | AX46: 0 | BD46: 56119
A47: 9 | B47: Impuls-Leasing Polska Sp. z o. o. | C47: 5070 | D47: 2947 | E47: 93 | F47: 74 | G47: 882 | H47: 757 | I47: 4 | K47: 125 | N47: 472 | Q47: 511 | R47: 24 | U47: 234 | V47: 1 | X47: 1284 | Y47: 241 | Z47: 176 | AA47: 42 | AB47: 6 | AC47: 35 | AE47: 71 | AF47: 132 | AG47: 140 | AJ47: 13 | AM47: 428 | AN47: 27 | AO47: 27 | AR47: 4 | AT47: 4 | AW47: 6385 | AX47: 0 | BD47: 6385
A48: 10 | B48: ING Lease (Polska) Sp. z o. o. | C48: 19855 | D48: 11756 | E48: 286 | F48: 224 | G48: 3994 | H48: 3329 | I48: 26 | J48: 0 | K48: 665 | L48: 0 | M48: 0 | N48: 1776 | O48: 1 | P48: 0 | Q48: 1770 | R48: 169 | S48: 2 | T48: 0 | U48: 390 | V48: 53 | W48: 0 | X48: 5809 | Y48: 872 | Z48: 150 | AA48: 192 | AB48: 182 | AC48: 649 | AD48: 308 | AE48: 263 | AF48: 256 | AG48: 1337 | AH48: 9 | AI48: 9 | AJ48: 180 | AK48: 0 | AL48: 4 | AM48: 1398 | AN48: 255 | AO48: 255 | AP48: 0 | AQ48: 0 | AR48: 208 | AS48: 0 | AT48: 13 | AU48: 195 | AV48: 871 | AW48: 26998 | AX48: 1 | AY48: 1 | AZ48: 0 | BA48: 0 | BB48: 0 | BC48: 0 | BD48: 26999
A49: 11 | B49: Leasing Polski Sp. z o. o. | C49: 1669 | D49: 355 | F49: 35 | G49: 435 | H49: 309 | K49: 126 | N49: 386 | Q49: 308 | R49: 67 | U49: 118 | X49: 143 | Y49: 115 | Z49: 16 | AG49: 9 | AM49: 3 | AN49: 0 | AR49: 1 | AS49: 1 | AV49: 1 | AW49: 1814 | AX49: 1 | AZ49: 1 | BD49: 1815
A50: 12 | B50: Mercedes-Benz Leasing Polska Sp. z o.o. | C50: 15896 | D50: 13239 | E50: 1273 | F50: 1052 | G50: 2092 | H50: 2017 | I50: 185 | K50: 75 | L50: 1 | N50: 469 | Q50: 17 | R50: 56 | U50: 23 | X50: 0 | AN50: 0 | AR50: 0 | AW50: 15896 | AX50: 0 | BD50: 15896
A51: 13 | B51: Millennium Leasing Sp. z o. o. | C51: 12994 | D51: 6394 | E51: 253 | F51: 30 | G51: 2613 | H51: 2019 | I51: 26 | K51: 594 | N51: 1863 | Q51: 1720 | R51: 94 | T51: 1 | U51: 310 | V51: 4 | X51: 3941 | Y51: 798 | Z51: 53 | AA51: 193 | AB51: 418 | AD51: 185 | AE51: 256 | AG51: 450 | AH51: 11 | AI51: 17 | AJ51: 462 | AL51: 2 | AM51: 1096 | AN51: 79 | AO51: 79 | AR51: 286 | AT51: 26 | AU51: 260 | AW51: 17300 | AX51: 2 | BA51: 1 | BC51: 1 | BD51: 17302
A52: 14 | B52: mLeasing Sp. z o. o. | C52: 28218 | D52: 23324 | E52: 1297 | F52: 1552 | G52: 2736 | H52: 2192 | I52: 30 | J52: 1 | K52: 544 | N52: 784 | Q52: 853 | R52: 131 | S52: 4 | U52: 390 | V52: 16 | X52: 6061 | Y52: 569 | Z52: 151 | AA52: 157 | AB52: 74 | AC52: 289 | AD52: 137 | AE52: 359 | AF52: 360 | AG52: 669 | AH52: 9 | AI52: 15 | AJ52: 72 | AL52: 11 | AM52: 3189 | AN52: 843 | AO52: 843 | AR52: 252 | AS52: 10 | AT52: 176 | AU52: 66 | AV52: 1337 | AW52: 36711 | AX52: 6 | AZ52: 6 | BD52: 36717
A53: 15 | B53: NEST LEASING SPÓŁKA AKCYJNA | C53: 736 | D53: 224 | G53: 148 | H53: 90 | K53: 58 | N53: 159 | Q53: 140 | R53: 39 | U53: 26 | X53: 178 | Y53: 52 | Z53: 43 | AA53: 7 | AB53: 2 | AC53: 4 | AD53: 1 | AE53: 13 | AF53: 0 | AG53: 8 | AJ53: 3 | AM53: 45 | AN53: 0 | AR53: 1 | AT53: 1 | AW53: 915 | AX53: 0 | BD53: 915
A54: 16 | B54: PEAC (Poland) Sp. z o. o. | C54: 150 | D54: 40 | G54: 29 | H54: 11 | K54: 18 | N54: 12 | Q54: 44 | R54: 14 | U54: 11 | X54: 1518 | Y54: 18 | Z54: 69 | AA54: 9 | AB54: 5 | AC54: 617 | AD54: 18 | AE54: 32 | AF54: 3 | AG54: 15 | AH54: 1 | AI54: 1 | AJ54: 3 | AM54: 727 | AN54: 77 | AO54: 77 | AR54: 3 | AS54: 2 | AT54: 1 | AW54: 1748 | AX54: 0 | BD54: 1748
A55: 17 | B55: PEKAO Leasing Sp. z o. o. | C55: 17149 | D55: 9700 | E55: 163 | F55: 146 | G55: 2797 | H55: 2011 | I55: 22 | J55: 1 | K55: 786 | L55: 7 | M55: 0 | N55: 1963 | O55: 0 | P55: 0 | Q55: 1886 | R55: 352 | S55: 1 | T55: 0 | U55: 451 | V55: 36 | W55: 0 | X55: 5161 | Y55: 845 | Z55: 128 | AA55: 120 | AB55: 142 | AC55: 391 | AD55: 213 | AE55: 152 | AF55: 145 | AG55: 747 | AH55: 1 | AI55: 12 | AJ55: 172 | AK55: 1 | AL55: 4 | AM55: 2088 | AN55: 1010 | AO55: 529 | AP55: 4 | AQ55: 477 | AR55: 157 | AS55: 14 | AT55: 68 | AU55: 75 | AV55: 363 | AW55: 23840 | AX55: 23 | AY55: 0 | AZ55: 3 | BA55: 9 | BB55: 0 | BC55: 11 | BD55: 23863
A56: 18 | B56: PKO Leasing S.A. | C56: 58072 | D56: 38924 | E56: 1437 | F56: 494 | G56: 9352 | H56: 7829 | I56: 132 | J56: 2 | K56: 1523 | L56: 4 | N56: 3716 | O56: 2 | Q56: 3868 | R56: 371 | U56: 1841 | V56: 38 | X56: 18486 | Y56: 2603 | Z56: 941 | AA56: 340 | AB56: 152 | AC56: 923 | AD56: 1306 | AE56: 687 | AF56: 1169 | AG56: 1229 | AI56: 47 | AJ56: 270 | AK56: 1 | AL56: 56 | AM56: 8762 | AN56: 12189 | AO56: 6913 | AP56: 7 | AQ56: 5269 | AR56: 157 | AS56: 19 | AT56: 64 | AU56: 74 | AW56: 88904 | AX56: 0 | BD56: 88904
A57: 19 | B57: Santander Consumer Multirent Sp. z o.o. | C57: 10783 | D57: 7876 | G57: 1651 | H57: 1651 | U57: 1256 | X57: 0 | AN57: 0 | AR57: 0 | AW57: 10783 | AX57: 0 | BD57: 10783
A58: 20 | B58: Santander Leasing S.A. | C58: 25892 | D58: 17318 | E58: 660 | F58: 377 | G58: 4573 | H58: 3744 | I58: 33 | J58: 1 | K58: 829 | L58: 0 | M58: 0 | N58: 1570 | O58: 0 | P58: 0 | Q58: 1576 | R58: 98 | S58: 0 | T58: 0 | U58: 757 | V58: 32 | W58: 0 | X58: 8613 | Y58: 806 | Z58: 573 | AA58: 264 | AB58: 160 | AC58: 244 | AD58: 86 | AE58: 606 | AF58: 647 | AG58: 1018 | AH58: 22 | AI58: 21 | AJ58: 302 | AK58: 0 | AL58: 3 | AM58: 3861 | AN58: 720 | AO58: 720 | AP58: 0 | AQ58: 0 | AR58: 34 | AS58: 13 | AT58: 16 | AU58: 5 | AV58: 0 | AW58: 35259 | AX58: 0 | AY58: 0 | AZ58: 0 | BA58: 0 | BB58: 0 | BC58: 0 | BD58: 35259
A59: 21 | B59: Scania Finance Polska Sp. z o. o. | C59: 2435 | D59: 7 | G59: 243 | K59: 243 | N59: 1699 | Q59: 329 | R59: 156 | S59: 5 | U59: 1 | X59: 0 | AN59: 0 | AR59: 0 | AW59: 2435 | AX59: 0 | BD59: 2435
A60: 22 | B60: SG Equipment Leasing Polska Sp. z o. o. | C60: 532 | D60: 27 | G60: 111 | H60: 36 | K60: 75 | L60: 1 | N60: 126 | Q60: 256 | R60: 1 | U60: 11 | X60: 734 | Y60: 536 | Z60: 71 | AA60: 1 | AB60: 6 | AC60: 19 | AD60: 4 | AG60: 34 | AJ60: 1 | AM60: 62 | AN60: 22 | AO60: 22 | AR60: 15 | AS60: 15 | AW60: 1303 | AX60: 0 | BD60: 1303
A61: 23 | B61: SGB Leasing Sp. z o.o. | C61: 394 | D61: 229 | E61: 3 | F61: 12 | G61: 84 | H61: 69 | I61: 1 | K61: 15 | N61: 29 | Q61: 33 | R61: 6 | U61: 13 | X61: 236 | Y61: 67 | Z61: 29 | AA61: 4 | AB61: 5 | AC61: 3 | AD61: 10 | AE61: 6 | AF61: 7 | AG61: 12 | AH61: 1 | AJ61: 16 | AK61: 1 | AM61: 75 | AN61: 6 | AO61: 5 | AP61: 1 | AR61: 8 | AU61: 8 | AW61: 644 | AX61: 0 | BD61: 644
A62: 24 | B62: Siemens Finance Sp. z o. o. | C62: 29 | D62: 9 | E62: 1 | F62: 1 | G62: 3 | H62: 1 | K62: 2 | N62: 8 | Q62: 7 | U62: 2 | X62: 3198 | Y62: 202 | Z62: 34 | AA62: 11 | AB62: 3 | AC62: 68 | AE62: 1845 | AG62: 20 | AJ62: 1 | AM62: 1014 | AN62: 7257 | AO62: 7196 | AP62: 61 | AR62: 0 | AW62: 10484 | AX62: 0 | BD62: 10484
A63: 25 | B63: VEHIS FINANSE Sp. z o.o. | C63: 8110 | D63: 6422 | E63: 86 | F63: 185 | G63: 1688 | H63: 1688 | I63: 5 | X63: 0 | AN63: 0 | AR63: 0 | AW63: 8110 | AX63: 0 | BD63: 8110
A64: 26 | B64: VELOLEASING SPÓŁKA AKCYJNA | C64: 1479 | D64: 1331 | G64: 23 | K64: 23 | N64: 39 | Q64: 35 | U64: 51 | X64: 0 | AN64: 0 | AR64: 0 | AW64: 1479 | AX64: 0 | BD64: 1479
A65: 27 | B65: Razem | C65: 288360 | D65: 183745 | E65: 6218 | F65: 4768 | G65: 50754 | H65: 40684 | I65: 600 | J65: 5 | K65: 10070 | L65: 17 | M65: 0 | N65: 22596 | O65: 3 | P65: 0 | Q65: 20948 | R65: 2322 | S65: 15 | T65: 1 | U65: 7995 | V65: 184 | W65: 0 | X65: 84496 | Y65: 15540 | Z65: 5889 | AA65: 1669 | AB65: 1353 | AC65: 4203 | AD65: 2766 | AE65: 5319 | AF65: 4505 | AG65: 11258 | AH65: 90 | AI65: 161 | AJ65: 2072 | AK65: 3 | AL65: 121 | AM65: 29547 | AN65: 24640 | AO65: 18091 | AP65: 437 | AQ65: 6112 | AR65: 1269 | AS65: 95 | AT65: 484 | AU65: 690 | AV65: 2614 | AW65: 401379 | AX65: 47 | AY65: 2 | AZ65: 23 | BA65: 10 | BB65: 0 | BC65: 12 | BD65: 401426
B67: Średnia wartość środków oddanych w leasing (tys. PLN) | D67: I - IV kwartał 2024
A70: Lp. | B70: Spółka | C70: POJAZDY | D70: Osobowe | E70: osobowe - zeroemisyjne | F70: osobowe - hybryda plug-in | G70: Cięzarowe: | H70: o masie do 3,5 tony | I70: o masie do 3,5 tony - zeroemisyjne | J70: o masie do 3,5 tony - hybryda plug-in | K70: o masie powyzej 3,5 tony | L70: o masie powyżej 3,5 tony - zeroemisyjne | M70: o masie powyżej 3,5 tony - hybryda plug-in | N70: ciagniki siodlowe | O70: ciągniki siodłowe - zeroemisyjne | P70: ciągniki siodłowe - hybryda plug-in | Q70: naczepy / przyczepy | R70: autobusy | S70: autobusy - zeroemisyjne | T70: autobusy - hybryda plug-in | U70: inne | V70: inne - zeroemisyjne | W70: inne - hybryda plug-in | X70: MiU | Y70: Sprzęt Budowlany | Z70: Maszyny Rolnicze | AA70: Maszyny Poligraf. | AB70: maszyny do produkcji tworzyw sztucznych | AC70: maszyny i urządzenia do obróbki metali | AD70: maszyny dla przemysłu spożywczego | AE70: Sprzęt Medyczny | AF70: Sprzęt Gastronom. | AG70: Wózki Widłowe | AH70: Magazyny energii | AI70: Pompy ciepła | AJ70: fotowoltaika | AK70: wiatraki i turbiny wiatrowe | AL70: stacje ładowania pojazdów elektrycznych (na użytek własny i komercyjny) | AM70: inne MiU | AN70: IT | AO70: Sprzęt | AP70: Oprogram. | AQ70: inne IT | AR70: POZOSTAŁE ŚRODKI TRANSPORTU | AS70: Powietrzne | AT70: Wodne | AU70: Kolejowe | AV70: Inne ruchomości | AW70: RUCHOMOŚCI | AX70: Nieruchomości | AY70: budynki przemysłowe | AZ70: obiekty handlowe i usługowe | BA70: obiekty biurowe | BB70: hotele i obiekty rekreacyjne | BC70: inne | BD70: OGÓŁEM
A71: 1 | B71: Alior Leasing Sp. z o. o. | C71: 140.75502 | D71: 130.5828 | G71: 122.43024 | H71: 93.183107 | K71: 243.47175 | N71: 183.94245 | Q71: 112.53493 | R71: 417.20956 | U71: 173.74381 | X71: 137.03457 | Y71: 192.03562 | Z71: 113.84653 | AA71: 114.31508 | AB71: 196.4261 | AC71: 169.90158 | AD71: 119.29214 | AE71: 64.670417 | AF71: 380.42 | AG71: 84.760116 | AH71: 29.47 | AI71: 67.49 | AJ71: 123.61656 | AM71: 113.17755 | AN71: 158.50974 | AO71: 158.50974 | AR71: 398.01094 | AS71: 2771.13 | AT71: 203.93729 | AU71: 2563.505 | AW71: 140.85377 | BD71: 140.85377
A72: 2 | B72: BNP Paribas Lease Group Sp. z o. o. | C72: 145.67926 | D72: 131.40517 | E72: 174.01924 | F72: 173.09851 | G72: 183.32069 | H72: 149.9861 | I72: 177.81557 | K72: 294.60756 | L72: 298.7718 | N72: 392.4636 | Q72: 227.43864 | R72: 666.27849 | U72: 56.430377 | V72: 19.4337 | X72: 277.86909 | Y72: 240.12941 | Z72: 418.26036 | AA72: 242.81354 | AB72: 432.77751 | AC72: 519.63673 | AD72: 937.47579 | AE72: 73.312181 | AF72: 120.01525 | AG72: 121.46071 | AH72: 33.80971 | AI72: 185.56742 | AJ72: 330.00627 | AL72: 73.151565 | AM72: 658.56943 | AN72: 158.3237 | AO72: 120.44601 | AP72: 216.26398 | AQ72: 1046.9295 | AR72: 56.807175 | AT72: 56.807175 | AW72: 169.45696 | AX72: 17008.709 | AY72: 3280.9495 | AZ72: 18064.691 | BD72: 179.03404
A73: 3 | B73: BOŚ LEASING - EKO PROFIT S.A. | C73: 220.81394 | D73: 137.07153 | G73: 152.62171 | H73: 133.8704 | K73: 199.5 | N73: 215.65538 | Q73: 194.15474 | R73: 547.21006 | U73: 370.8277 | X73: 400.20261 | Y73: 284.47182 | Z73: 390.44103 | AB73: 43.488 | AC73: 852.70419 | AD73: 337.46883 | AE73: 105.96562 | AG73: 173.07125 | AJ73: 608.33696 | AL73: 20 | AM73: 441.14525 | AR73: 2470.6684 | AT73: 68.50253 | AU73: 7275 | AW73: 345.89324 | BD73: 345.89324
A74: 4 | B74: BPS Leasing S.A. | C74: 214.45181 | D74: 152.53902 | E74: 396.43 | F74: 151.76434 | G74: 215.16558 | H74: 138.91556 | I74: 230 | K74: 326.60791 | N74: 321.6259 | Q74: 171.81637 | R74: 587.51925 | S74: 520 | U74: 222.04148 | X74: 332.77722 | Y74: 289.97696 | Z74: 578.433 | AA74: 80.2 | AB74: 785.46714 | AC74: 187.4275 | AD74: 514.51333 | AE74: 174.1475 | AG74: 142.63077 | AH74: 63 | AJ74: 136.44125 | AM74: 311.47541 | AN74: 147.47778 | AO74: 147.47778 | AR74: 1040.8175 | AS74: 883.81 | AT74: 650 | AU74: 1256.2775 | AV74: 222.72619 | AW74: 230.19114 | BD74: 230.19114
A75: 5 | B75: Caterpillar Financial Services Poland Sp. z o.o. | X75: 464.14437 | Y75: 464.14437 | AW75: 464.14437 | BD75: 464.14437
A76: 6 | B76: DE LAGE Landen Leasing Polska S.A. | C76: 351.95833 | D76: 91.25 | G76: 179.5 | H76: 179.5 | N76: 504.30769 | Q76: 276.83333 | U76: 157 | X76: 212.88318 | Y76: 154.61677 | Z76: 270.81778 | AE76: 73.5 | AG76: 196.85714 | AJ76: 55.5 | AM76: 102.5 | AN76: 113.85214 | AO76: 113.85214 | AW76: 187.26876 | BD76: 187.26876
A77: 7 | B77: Deutsche Leasing Polska S.A. | C77: 254.54986 | D77: 166.18182 | G77: 676.36364 | H77: 153.33333 | K77: 872.5 | N77: 426.04167 | Q77: 204.56884 | U77: 633.6 | X77: 222.13304 | Y77: 1613.8571 | Z77: 991.7037 | AA77: 1007.5 | AB77: 872 | AC77: 992.92105 | AD77: 406.5 | AE77: 169 | AG77: 125.54521 | AM77: 2672.2935 | AW77: 225.37657 | BD77: 225.37657
A78: 8 | B78: Europejski Fundusz Leasingowy S.A. | C78: 171.81407 | D78: 149.53748 | E78: 191.95737 | F78: 212.85749 | G78: 184.36834 | H78: 126.9435 | I78: 154.93666 | K78: 330.01961 | L78: 752 | N78: 283.66324 | Q78: 140.13009 | R78: 615.10668 | S78: 1739.4876 | U78: 44.490144 | V78: 48.77235 | X78: 154.26524 | Y78: 207.78915 | Z78: 184.48735 | AA78: 185.31188 | AB78: 197.84358 | AC78: 231.83774 | AD78: 176.00403 | AE78: 75.533219 | AF78: 61.449012 | AG78: 89.749123 | AH78: 106.20157 | AI78: 72.924995 | AJ78: 118.74736 | AL78: 128.13888 | AM78: 130.33416 | AN78: 64.942349 | AO78: 59.228195 | AP78: 68.049616 | AQ78: 73.574837 | AR78: 294.12885 | AS78: 407.10455 | AT78: 259.54446 | AW78: 164.46532 | BD78: 164.46532
A79: 9 | B79: Impuls-Leasing Polska Sp. z o. o. | C79: 176.10271 | D79: 161.4242 | E79: 175.83634 | F79: 233.63946 | G79: 183.09328 | H79: 148.3561 | I79: 127.4475 | K79: 393.4616 | N79: 324.61252 | Q79: 142.2773 | R79: 440.36083 | U79: 81.819957 | V79: 23 | X79: 168.87031 | Y79: 267.24108 | Z79: 133.75136 | AA79: 201.99667 | AB79: 415.89 | AC79: 429.03971 | AE79: 59.554225 | AF79: 105.08311 | AG79: 126.35479 | AJ79: 101.06769 | AM79: 153.70486 | AN79: 185.47 | AO79: 185.47 | AR79: 513.0425 | AT79: 513.0425 | AW79: 174.89899 | BD79: 174.89899
A80: 10 | B80: ING Lease (Polska) Sp. z o. o. | C80: 175.35538 | D80: 143.04942 | E80: 173.36364 | F80: 193.89286 | G80: 169.48172 | H80: 118.19766 | I80: 159.73077 | K80: 426.21053 | N80: 316.07264 | O80: 1204 | Q80: 198.16328 | R80: 631.69822 | S80: 447.5 | U80: 267.25897 | V80: 26.018868 | X80: 344.30298 | Y80: 315.22706 | Z80: 264.46667 | AA80: 432.01042 | AB80: 1044.5549 | AC80: 495.28043 | AD80: 653.01623 | AE80: 175.49049 | AF80: 161.14844 | AG80: 108.73298 | AH80: 80.666667 | AI80: 97.555556 | AJ80: 265.52222 | AL80: 114 | AM80: 434.36981 | AN80: 139.33333 | AO80: 139.33333 | AR80: 810.15385 | AT80: 699 | AU80: 817.5641 | AV80: 297.28243 | AW80: 220.19083 | AX80: 8595 | AY80: 8595 | BD80: 220.50102
A81: 11 | B81: Leasing Polski Sp. z o. o. | C81: 104.45889 | D81: 88.228324 | F81: 125.97901 | G81: 88.659941 | H81: 65.355795 | K81: 145.81059 | N81: 115.33378 | Q81: 77.180396 | R81: 202.75871 | U81: 191.34347 | X81: 273.14538 | Y81: 194.85778 | Z81: 302.26509 | AG81: 92.119222 | AM81: 3661.9433 | AR81: 538.38 | AS81: 538.38 | AV81: 131.09 | AW81: 118.01056 | AX81: 31 | AZ81: 31 | BD81: 117.96262
A82: 12 | B82: Mercedes-Benz Leasing Polska Sp. z o.o. | C82: 219.70146 | D82: 218.46187 | E82: 240.56433 | F82: 232.39871 | G82: 165.9389 | H82: 155.14949 | I82: 146.82638 | K82: 456.10213 | L82: 1194.1895 | N82: 409.50847 | Q82: 117.20465 | R82: 958.29342 | U82: 230.31146 | AW82: 219.70146 | BD82: 219.70146
A83: 13 | B83: Millennium Leasing Sp. z o. o. | C83: 195.70011 | D83: 157.04483 | E83: 180.92234 | F83: 187.66673 | G83: 181.571 | H83: 127.34805 | I83: 143.68385 | K83: 365.87426 | N83: 301.40406 | Q83: 162.37375 | R83: 1433.0163 | T83: 690 | U83: 286.56586 | V83: 242.80407 | X83: 280.81952 | Y83: 318.58029 | Z83: 269.43253 | AA83: 246.75095 | AB83: 489.55006 | AD83: 469.86095 | AE83: 141.34544 | AG83: 170.95206 | AH83: 103.92524 | AI83: 101.08791 | AJ83: 126.19282 | AL83: 138.7 | AM83: 296.04981 | AN83: 398.89181 | AO83: 398.89181 | AR83: 630.59441 | AT83: 290.87821 | AU83: 664.56604 | AW83: 223.20806 | AX83: 17819.223 | BA83: 33158.447 | BC83: 2480 | BD83: 225.24205
A84: 14 | B84: mLeasing Sp. z o. o. | C84: 172.36091 | D84: 160.91202 | E84: 172.44579 | F84: 241.78576 | G84: 193.49657 | H84: 124.19911 | I84: 160.05489 | J84: 209.55203 | K84: 472.72459 | N84: 338.20971 | Q84: 159.7897 | R84: 611.76416 | S84: 1771.4956 | U84: 255.29073 | V84: 30.269017 | X84: 200.09174 | Y84: 465.74795 | Z84: 474.64324 | AA84: 466.12435 | AB84: 426.90423 | AC84: 594.02502 | AD84: 488.17042 | AE84: 76.845362 | AF84: 11.276139 | AG84: 88.878578 | AH84: 233.73641 | AI84: 36.532145 | AJ84: 198.56351 | AL84: 57.013489 | AM84: 132.97815 | AN84: 68.312782 | AO84: 68.312782 | AR84: 968.0281 | AS84: 13685.665 | AT84: 496.55991 | AU84: 298.36196 | AV84: 53.297394 | AW84: 175.67556 | AX84: 12488.588 | AZ84: 12488.588 | BD84: 177.68764
A85: 15 | B85: NEST LEASING SPÓŁKA AKCYJNA | C85: 185.76492 | D85: 159.86415 | G85: 179.67373 | H85: 90.694493 | K85: 317.74495 | N85: 230.69073 | Q85: 135.27432 | R85: 346.05112 | U85: 200.28746 | X85: 217.31721 | Y85: 280.03627 | Z85: 229.94784 | AA85: 135.17574 | AB85: 353.525 | AC85: 242.18446 | AD85: 82.5 | AE85: 110.09572 | AG85: 161.6753 | AJ85: 232.26667 | AM85: 180.15235 | AR85: 93.82114 | AT85: 93.82114 | AW85: 191.80248 | BD85: 191.80248
A86: 16 | B86: PEAC (Poland) Sp. z o. o. | C86: 185.42467 | D86: 124.025 | G86: 173.45172 | H86: 165.28182 | K86: 178.44444 | N86: 168.14167 | Q86: 131.74545 | R86: 548.57857 | U86: 211.63636 | X86: 75.881028 | Y86: 307.11667 | Z86: 225.14783 | AA86: 139.98889 | AB86: 1961.58 | AC86: 21.973096 | AD86: 85.805556 | AE86: 68.5 | AF86: 45.166667 | AG86: 123.51333 | AH86: 22.4 | AI86: 74.4 | AJ86: 173.7 | AM86: 86.87249 | AN86: 81.301299 | AO86: 81.301299 | AR86: 31.966667 | AS86: 17.95 | AT86: 60 | AW86: 85.444622 | BD86: 85.444622
A87: 17 | B87: PEKAO Leasing Sp. z o. o. | C87: 209.28774 | D87: 174.6925 | E87: 182.24644 | F87: 275.9169 | G87: 224.77162 | H87: 137.04056 | I87: 142.80311 | J87: 141.46341 | K87: 449.23364 | L87: 341.84286 | N87: 329.72175 | Q87: 166.29704 | R87: 592.93408 | S87: 270 | U87: 213.47924 | V87: 11.243888 | X87: 395.67993 | Y87: 374.92218 | Z87: 559.75872 | AA87: 677.57498 | AB87: 775.19109 | AC87: 925.81953 | AD87: 551.44236 | AE87: 211.7498 | AF87: 59.253723 | AG87: 117.61837 | AH87: 2060 | AI87: 49.588617 | AJ87: 685.04355 | AK87: 109.7561 | AL87: 95.290918 | AM87: 351.14694 | AN87: 61.203763 | AO87: 68.153017 | AP87: 323.62894 | AQ87: 51.296308 | AR87: 1932.6087 | AS87: 9806.126 | AT87: 1508.7619 | AU87: 847.17333 | AV87: 348.94411 | AW87: 256.84067 | AX87: 1604.153 | AZ87: 222.05767 | BA87: 3570.0191 | BC87: 372.65214 | BD87: 258.13926
A88: 18 | B88: PKO Leasing S.A. | C88: 166.4005 | D88: 152.86138 | E88: 164.71932 | F88: 247.5723 | G88: 168.3082 | H88: 125.10873 | I88: 168.07016 | J88: 115.81301 | K88: 390.37557 | L88: 1889.7262 | N88: 325.22936 | O88: 1291.3973 | Q88: 152.94805 | R88: 643.74815 | U88: 54.442825 | V88: 41.415918 | X88: 144.31166 | Y88: 256.96234 | Z88: 210.71602 | AA88: 211.94978 | AB88: 490.27182 | AC88: 320.82058 | AD88: 94.656661 | AE88: 106.10345 | AF88: 15.172982 | AG88: 123.39895 | AI88: 33.464717 | AJ88: 101.80499 | AK88: 67.048681 | AL88: 25 | AM88: 109.72957 | AN88: 8.9820206 | AO88: 9.2114891 | AP88: 78.724975 | AQ88: 8.5882995 | AR88: 2586.8913 | AS88: 5881.3358 | AT88: 220.02647 | AU88: 3788.0386 | AW88: 144.49945 | BD88: 144.49945
A89: 19 | B89: Santander Consumer Multirent Sp. z o.o. | C89: 113.11235 | D89: 124.79532 | G89: 109.64677 | H89: 109.64677 | U89: 44.407389 | AW89: 113.11235 | BD89: 113.11235
A90: 20 | B90: Santander Leasing S.A. | C90: 178.99569 | D90: 170.23775 | E90: 190.14388 | F90: 235.47785 | G90: 181.4554 | H90: 150.21006 | I90: 162.94303 | J90: 184.0488 | K90: 322.56824 | N90: 336.90124 | Q90: 154.65363 | R90: 539.735 | U90: 40.978191 | V90: 15.740937 | X90: 186.16701 | Y90: 254.31571 | Z90: 259.89532 | AA90: 243.81587 | AB90: 686.30792 | AC90: 484.68127 | AD90: 523.03546 | AE90: 79.417373 | AF90: 29.884833 | AG90: 123.97017 | AH90: 45.231936 | AI90: 62.744886 | AJ90: 136.83459 | AL90: 59.139 | AM90: 174.73706 | AN90: 60.579313 | AO90: 60.579313 | AR90: 2631.1806 | AS90: 6333.9853 | AT90: 283.29828 | AU90: 517.11152 | AW90: 180.69401 | BD90: 180.69401
A91: 21 | B91: Scania Finance Polska Sp. z o. o. | C91: 505.04846 | D91: 380 | G91: 593.34979 | K91: 593.34979 | N91: 443.14773 | Q91: 193.5228 | R91: 1706.0064 | S91: 1211.2 | U91: 235 | AW91: 505.04846 | BD91: 505.04846
A92: 22 | B92: SG Equipment Leasing Polska Sp. z o. o. | C92: 259.42471 | D92: 152.76996 | G92: 443.64796 | H92: 172.5921 | K92: 573.75477 | L92: 791.78731 | N92: 346.82459 | Q92: 132.8072 | R92: 335 | U92: 600.97186 | X92: 299.45478 | Y92: 276.26787 | Z92: 234.68474 | AA92: 3821.5854 | AB92: 148.09048 | AC92: 908.99364 | AD92: 974.40957 | AG92: 126.28533 | AJ92: 4300 | AM92: 332.0204 | AN92: 729.1642 | AO92: 729.1642 | AR92: 2673.5816 | AS92: 2673.5816 | AW92: 317.69692 | BD92: 317.69692
A93: 23 | B93: SGB Leasing Sp. z o.o. | C93: 187.39086 | D93: 185.10044 | E93: 145.33333 | F93: 221.25 | G93: 151.72619 | H93: 117.66667 | I93: 117 | K93: 308.4 | N93: 327.10345 | Q93: 138.90909 | R93: 306.33333 | U93: 214.69231 | X93: 266.47881 | Y93: 214.53731 | Z93: 317.86207 | AA93: 165.75 | AB93: 228.2 | AC93: 244 | AD93: 126.8 | AE93: 125.16667 | AF93: 65.714286 | AG93: 105.25 | AH93: 207 | AJ93: 170.5625 | AK93: 36 | AM93: 400.62667 | AN93: 36.333333 | AO93: 41 | AP93: 13 | AR93: 2273.75 | AU93: 2273.75 | AW93: 240.88354 | BD93: 240.88354
A94: 24 | B94: Siemens Finance Sp. z o. o. | C94: 578.62069 | D94: 274.55556 | E94: 225 | F94: 275 | G94: 1475.3333 | H94: 808 | K94: 1809 | N94: 797.25 | Q94: 429.28571 | U94: 250 | X94: 242.05472 | Y94: 466.41584 | Z94: 762.67647 | AA94: 1552.6364 | AB94: 1524.6667 | AC94: 821.32353 | AE94: 256.06612 | AG94: 1394.05 | AJ94: 131 | AM94: 74.93787 | AN94: 14.13394 | AO94: 13.148694 | AP94: 130.36066 | AW94: 85.219477 | BD94: 85.219477
A95: 25 | B95: VEHIS FINANSE Sp. z o.o. | C95: 134.67915 | D95: 138.52204 | E95: 189.9793 | F95: 224.08449 | G95: 120.05886 | H95: 120.05886 | I95: 89.842 | AW95: 134.67915 | BD95: 134.67915
A96: 26 | B96: VELOLEASING SPÓŁKA AKCYJNA | C96: 97.427537 | D96: 95.132061 | G96: 237.30527 | K96: 237.30527 | N96: 108.04872 | Q96: 94.047902 | U96: 88.450133 | AW96: 97.427537 | BD96: 97.427537
A97: 27 | B97: Razem | C97: 173.32108 | D97: 155.64502 | E97: 189.1948 | F97: 229.49944 | G97: 174.06892 | H97: 127.5912 | I97: 155.24311 | J97: 153.33805 | K97: 361.84446 | L97: 852.50313 | N97: 309.45157 | O97: 1262.2649 | Q97: 152.68847 | R97: 669.84532 | S97: 1220.3972 | T97: 690 | U97: 99.926543 | V97: 29.602657 | X97: 208.98035 | Y97: 271.92398 | Z97: 233.17959 | AA97: 304.61183 | AB97: 581.36091 | AC97: 388.15736 | AD97: 264.79841 | AE97: 153.90318 | AF97: 48.315065 | AG97: 121.51304 | AH97: 104.089 | AI97: 62.038502 | AJ97: 196.1229 | AK97: 70.934927 | AL97: 54.717488 | AM97: 188.29165 | AN97: 27.448343 | AO97: 28.735073 | AP97: 107.9608 | AQ97: 17.883195 | AR97: 1192.4062 | AS97: 5536.621 | AT97: 523.19185 | AU97: 1063.7096 | AV97: 178.40242 | AW97: 175.12801 | AX97: 8387.5197 | AY97: 5937.9748 | AZ97: 13498.682 | BA97: 6528.8619 | BC97: 548.26446 | BD97: 176.08954
B99: Struktura wartościowa umów (ruchomości) | D99: I - IV kwartał 2024
A102: Lp. | B102: Spółka | C102: POJAZDY | D102: Osobowe | E102: osobowe - zeroemisyjne | F102: osobowe - hybryda plug-in | G102: Cięzarowe: | H102: o masie do 3,5 tony | I102: o masie do 3,5 tony - zeroemisyjne | J102: o masie do 3,5 tony - hybryda plug-in | K102: o masie powyzej 3,5 tony | L102: o masie powyżej 3,5 tony - zeroemisyjne | M102: o masie powyżej 3,5 tony - hybryda plug-in | N102: ciagniki siodlowe | O102: ciągniki siodłowe - zeroemisyjne | P102: ciągniki siodłowe - hybryda plug-in | Q102: naczepy / przyczepy | R102: autobusy | S102: autobusy - zeroemisyjne | T102: autobusy - hybryda plug-in | U102: inne | V102: inne - zeroemisyjne | W102: inne - hybryda plug-in | X102: MiU | Y102: Sprzęt Budowlany | Z102: Maszyny Rolnicze | AA102: Maszyny Poligraf. | AB102: maszyny do produkcji tworzyw sztucznych | AC102: maszyny i urządzenia do obróbki metali | AD102: maszyny dla przemysłu spożywczego | AE102: Sprzęt Medyczny | AF102: Sprzęt Gastronom. | AG102: Wózki Widłowe | AH102: Magazyny energii | AI102: Pompy ciepła | AJ102: fotowoltaika | AK102: wiatraki i turbiny wiatrowe | AL102: stacje ładowania pojazdów elektrycznych (na użytek własny i komercyjny) | AM102: inne MiU | AN102: IT | AO102: Sprzęt | AP102: Oprogram. | AQ102: inne IT | AR102: POZOSTAŁE ŚRODKI TRANSPORTU | AS102: Powietrzne | AT102: Wodne | AU102: Kolejowe | AV102: Inne ruchomości | AW102: RUCHOMOŚCI | AX102: Nieruchomości | AY102: budynki przemysłowe | AZ102: obiekty handlowe i usługowe | BA102: obiekty biurowe | BB102: hotele i obiekty rekreacyjne | BC102: inne | BD102: OGÓŁEM
A103: 1 | B103: Alior Leasing Sp. z o. o. | C103: 0.81793293 | D103: 0.37775406 | G103: 0.15786918 | H103: 0.096772957 | K103: 0.061096225 | N103: 0.12625763 | Q103: 0.078336593 | R103: 0.059862248 | U103: 0.017853217 | X103: 0.17215031 | Y103: 0.068162419 | Z103: 0.029816686 | AA103: 0.0045123976 | AB103: 0.0025229947 | AC103: 0.01516965 | AD103: 0.0078480981 | AE103: 0.0063211128 | AF103: 0.00083424703 | AG103: 0.0022836171 | AH103: 9.2323748e-06 | AI103: 4.2286595e-05 | AJ103: 0.0023623257 | AM103: 0.032265245 | AN103: 0.0019366621 | AO103: 0.0019366621 | AR103: 0.0079800988 | AS103: 0.0026044225 | AT103: 0.0037694843 | AU103: 0.001606192 | AW103: 1 | AX103: 0 | BD103: 1
A104: 2 | B104: BNP Paribas Lease Group Sp. z o. o. | C104: 0.68797002 | D104: 0.4738993 | E104: 0.0078473914 | F104: 0.0033631677 | G104: 0.16063173 | H104: 0.10113047 | I104: 0.00068243291 | J104: 0 | K104: 0.05950126 | L104: 7.1665443e-05 | M104: 0 | N104: 0.032289677 | O104: 0 | P104: 0 | Q104: 0.013966076 | R104: 0.0019178173 | S104: 0 | T104: 0 | U104: 0.0052654166 | V104: 1.39845e-05 | W104: 0 | X104: 0.29173395 | Y104: 0.047807235 | Z104: 0.039729407 | AA104: 0.0011066153 | AB104: 0.00093428071 | AC104: 0.006107537 | AD104: 0.0017989547 | AE104: 0.0064185834 | AF104: 0.00011515071 | AG104: 0.051626148 | AH104: 0.00017841621 | AI104: 0.00017804587 | AJ104: 0.0054618713 | AK104: 0 | AL104: 0.0001052798 | AM104: 0.13016642 | AN104: 0.02024153 | AO104: 0.012567586 | AP104: 0.0044093371 | AQ104: 0.0032646075 | AR104: 5.4504627e-05 | AS104: 0 | AT104: 5.4504627e-05 | AU104: 0 | AV104: 0 | AW104: 1 | AX104: 0.057117552 | AY104: 0.00078699094 | AZ104: 0.056330561 | BA104: 0 | BB104: 0 | BC104: 0 | BD104: 1.0571176
A105: 3 | B105: BOŚ LEASING - EKO PROFIT S.A. | C105: 0.27165428 | D105: 0.053399804 | G105: 0.01095275 | H105: 0.0068622002 | K105: 0.0040905501 | N105: 0.055272502 | Q105: 0.055733311 | R105: 0.039270003 | U105: 0.057025913 | X105: 0.6523578 | Y105: 0.081659384 | Z105: 0.060042052 | AB105: 0.0013375176 | AC105: 0.14861277 | AD105: 0.0069194644 | AE105: 0.0021727202 | AG105: 0.014194619 | AJ105: 0.081076758 | AL105: 0.0030756016 | AM105: 0.25326691 | AN105: 0 | AR105: 0.075987915 | AT105: 0.0014045766 | AU105: 0.074583338 | AW105: 1 | AX105: 0 | BD105: 1
A106: 4 | B106: BPS Leasing S.A. | C106: 0.80450266 | D106: 0.24973633 | E106: 0.0078331661 | F106: 0.094674889 | G106: 0.13604845 | H106: 0.052152524 | I106: 0.00064923305 | K106: 0.083895927 | N106: 0.24330923 | Q106: 0.092149062 | R106: 0.066336854 | S106: 0.0014678312 | U106: 0.016922739 | X106: 0.1418415 | Y106: 0.037652525 | Z106: 0.032655463 | AA106: 0.00022638474 | AB106: 0.015520255 | AC106: 0.0021162457 | AD106: 0.0087140624 | AE106: 0.0039326022 | AG106: 0.0052339475 | AH106: 0.0001778334 | AJ106: 0.0030811189 | AM106: 0.032531064 | AN106: 0.0037466392 | AO106: 0.0037466392 | AR106: 0.023503761 | AS106: 0.0074843303 | AT106: 0.001834789 | AU106: 0.014184641 | AV106: 0.026405437 | AW106: 1 | AX106: 0 | BD106: 1
A107: 5 | B107: Caterpillar Financial Services Poland Sp. z o.o. | C107: 0 | G107: 0 | X107: 1 | Y107: 1 | AN107: 0 | AR107: 0 | AW107: 1 | AX107: 0 | BD107: 1
A108: 6 | B108: DE LAGE Landen Leasing Polska S.A. | C108: 0.12307311 | D108: 0.0053180639 | G108: 0.0078459656 | H108: 0.0078459656 | N108: 0.09552117 | Q108: 0.012100417 | U108: 0.002287496 | X108: 0.66376723 | Y108: 0.18810648 | Z108: 0.44390535 | AE108: 0.0085671824 | AG108: 0.020077513 | AJ108: 0.0016172742 | AM108: 0.0014934289 | AN108: 0.21315966 | AO108: 0.21315966 | AR108: 0 | AW108: 1 | AX108: 0 | BD108: 1
A109: 7 | B109: Deutsche Leasing Polska S.A. | C109: 0.11300863 | D109: 0.0023121066 | G109: 0.0094103243 | H109: 0.00058182113 | K109: 0.0088285032 | N109: 0.025865744 | Q109: 0.071413484 | R109: 0 | U109: 0.0040069768 | X109: 0.88699137 | Y109: 0.014288768 | Z109: 0.033867049 | AA109: 0.0025486295 | AB109: 0.002205861 | AC109: 0.047723245 | AD109: 0.0010283056 | AE109: 0.00021375602 | AF109: 0 | AG109: 0.47415639 | AM109: 0.31095936 | AN109: 0 | AR109: 0 | AW109: 1 | AX109: 0 | BD109: 1
A110: 8 | B110: Europejski Fundusz Leasingowy S.A. | C110: 0.7225044 | D110: 0.30325087 | E110: 0.0097958347 | F110: 0.0065497244 | G110: 0.18543446 | H110: 0.09157354 | I110: 0.0019976385 | K110: 0.093860917 | L110: 0.00024443019 | N110: 0.14211392 | Q110: 0.070098223 | R110: 0.015128367 | S110: 0.00037693554 | U110: 0.0064785651 | V110: 5.2843239e-06 | X110: 0.26618926 | Y110: 0.1053396 | Z110: 0.038697926 | AA110: 0.003634106 | AB110: 0.0029152555 | AC110: 0.014267511 | AD110: 0.0051487536 | AE110: 0.0026597272 | AF110: 0.011817592 | AG110: 0.0067192996 | AH110: 0.00013807909 | AI110: 0.00026073906 | AJ110: 0.005429404 | AL110: 0.00027766853 | AM110: 0.068883595 | AN110: 0.0092667941 | AO110: 0.0043957685 | AP110: 0.0020570537 | AQ110: 0.0028139719 | AR110: 0.0020395453 | AS110: 0.00066162661 | AT110: 0.0013779187 | AW110: 1 | AX110: 0 | BD110: 1
A111: 9 | B111: Impuls-Leasing Polska Sp. z o. o. | C111: 0.79951347 | D111: 0.42599115 | E111: 0.014643449 | F111: 0.015482094 | G111: 0.14460815 | H111: 0.10056644 | I111: 0.00045650243 | K111: 0.044041708 | N111: 0.13720156 | Q111: 0.065104094 | R111: 0.0094639342 | U111: 0.017144582 | V111: 2.0595845e-05 | X111: 0.19416463 | Y111: 0.057672934 | Z111: 0.021079615 | AA111: 0.0075970551 | AB111: 0.0022345059 | AC111: 0.01344675 | AE111: 0.0037863671 | AF111: 0.012421059 | AG111: 0.015840596 | AJ111: 0.0011765421 | AM111: 0.058909204 | AN111: 0.0044842439 | AO111: 0.0044842439 | AR111: 0.0018376598 | AT111: 0.0018376598 | AW111: 1 | AX111: 0 | BD111: 1
A112: 10 | B112: ING Lease (Polska) Sp. z o. o. | C112: 0.58567698 | D112: 0.28288822 | E112: 0.0083405218 | F112: 0.0073059889 | G112: 0.11386759 | H112: 0.066189918 | I112: 0.00069860407 | J112: 0 | K112: 0.047677667 | L112: 0 | M112: 0 | N112: 0.094427619 | O112: 0.00020253294 | P112: 0 | Q112: 0.059001849 | R112: 0.017958313 | S112: 0.00015055397 | T112: 0 | U112: 0.017533398 | V112: 0.00023197087 | W112: 0 | X112: 0.33644288 | Y112: 0.046239078 | Z112: 0.0066731576 | AA112: 0.013952905 | AB112: 0.031979514 | AC112: 0.05407108 | AD112: 0.033833262 | AE112: 0.0077638749 | AF112: 0.0069396129 | AG112: 0.024454675 | AH112: 0.00012212534 | AI112: 0.00014769429 | AJ112: 0.0080397503 | AK112: 0 | AL112: 7.6706828e-05 | AM112: 0.10214944 | AN112: 0.0059767403 | AO112: 0.0059767403 | AP112: 0 | AQ112: 0 | AR112: 0.028346537 | AS112: 0 | AT112: 0.0015285854 | AU112: 0.026817952 | AV112: 0.043556862 | AW112: 1 | AX112: 0.0014458228 | AY112: 0.0014458228 | AZ112: 0 | BA112: 0 | BB112: 0 | BC112: 0 | BD112: 1.0014458
...

Sheet suma pożyczka + leasing I-IV
B2: Ziązek Polskiego Leasingu, WARSZAWA - 01-07-2025
B4: Wartość środków oddanych w leasing + pożyczka (netto w tys.PLN) | E4: I - IV kwartał 2024
A6: Lp. | B6: Spółka | C6: POJAZDY | D6: Osobowe | E6: osobowe - zeroemisyjne | F6: osobowe - hybryda plug-in | G6: Cięzarowe: | H6: o masie do 3,5 tony | I6: o masie do 3,5 tony - zeroemisyjne | J6: o masie do 3,5 tony - hybryda plug-in | K6: o masie powyzej 3,5 tony | L6: o masie powyżej 3,5 tony - zeroemisyjne | M6: o masie powyżej 3,5 tony - hybryda plug-in | N6: ciagniki siodlowe | O6: ciągniki siodłowe - zeroemisyjne | P6: ciągniki siodłowe - hybryda plug-in | Q6: naczepy / przyczepy | R6: autobusy | S6: autobusy - zeroemisyjne | T6: autobusy - hybryda plug-in | U6: inne | V6: inne - zeroemisyjne | W6: inne - hybryda plug-in | X6: MiU | Y6: Sprzęt Budowlany | Z6: Maszyny Rolnicze | AA6: Maszyny Poligraf. | AB6: maszyny do produkcji tworzyw sztucznych | AC6: maszyny i urządzenia do obróbki metali | AD6: maszyny dla przemysłu spożywczego | AE6: Sprzęt Medyczny | AF6: Sprzęt Gastronom. | AG6: Wózki Widłowe | AH6: Magazyny energii | AI6: Pompy ciepła | AJ6: fotowoltaika | AK6: wiatraki i turbiny wiatrowe | AL6: stacje ładowania pojazdów elektrycznych (na użytek własny i komercyjny) | AM6: inne MiU | AN6: IT | AO6: Sprzęt | AP6: Oprogram. | AQ6: inne IT | AR6: POZOSTAŁE ŚRODKI TRANSPORTU | AS6: Powietrzne | AT6: Wodne | AU6: Kolejowe | AV6: Inne ruchomości | AW6: RUCHOMOŚCI | AX6: Nieruchomości | AY6: budynki przemysłowe | AZ6: obiekty handlowe i usługowe | BA6: obiekty biurowe | BB6: hotele i obiekty rekreacyjne | BC6: inne | BD6: OGÓŁEM
A7: 1 | B7: Alior Leasing Sp. z o. o. | C7: ='pozyczki_I-IV kw 2024'!C7+'leasing_I-IV kw 2024'!C7 -> 2832894.2 | D7: ='pozyczki_I-IV kw 2024'!D7+'leasing_I-IV kw 2024'!D7 -> 1315045 | E7: ='pozyczki_I-IV kw 2024'!E7+'leasing_I-IV kw 2024'!E7 -> 0 | F7: ='pozyczki_I-IV kw 2024'!F7+'leasing_I-IV kw 2024'!F7 -> 0 | G7: ='pozyczki_I-IV kw 2024'!G7+'leasing_I-IV kw 2024'!G7 -> 534032.18 | H7: ='pozyczki_I-IV kw 2024'!H7+'leasing_I-IV kw 2024'!H7 -> 326994.45 | I7: ='pozyczki_I-IV kw 2024'!I7+'leasing_I-IV kw 2024'!I7 -> 0 | J7: ='pozyczki_I-IV kw 2024'!J7+'leasing_I-IV kw 2024'!J7 -> 0 | ... BD7: ='pozyczki_I-IV kw 2024'!BD7+'leasing_I-IV kw 2024'!BD7 -> 3519890
A8: 2 | B8: BNP Paribas Lease Group Sp. z o. o. | C8: ='pozyczki_I-IV kw 2024'!C8+'leasing_I-IV kw 2024'!C8 -> 3021244.6 | D8: ='pozyczki_I-IV kw 2024'!D8+'leasing_I-IV kw 2024'!D8 -> 1985163.7 | E8: ='pozyczki_I-IV kw 2024'!E8+'leasing_I-IV kw 2024'!E8 -> 32715.618 | F8: ='pozyczki_I-IV kw 2024'!F8+'leasing_I-IV kw 2024'!F8 -> 14020.979 | G8: ='pozyczki_I-IV kw 2024'!G8+'leasing_I-IV kw 2024'!G8 -> 782185.54 | H8: ='pozyczki_I-IV kw 2024'!H8+'leasing_I-IV kw 2024'!H8 -> 482207.97 | I8: ='pozyczki_I-IV kw 2024'!I8+'leasing_I-IV kw 2024'!I8 -> 2845.0491 | J8: ='pozyczki_I-IV kw 2024'!J8+'leasing_I-IV kw 2024'!J8 -> 0 | ... BD8: ='pozyczki_I-IV kw 2024'!BD8+'leasing_I-IV kw 2024'!BD8 -> 6289409.5
A9: 3 | B9: BOŚ LEASING - EKO PROFIT S.A. | C9: ='pozyczki_I-IV kw 2024'!C9+'leasing_I-IV kw 2024'!C9 -> 26497.673 | D9: ='pozyczki_I-IV kw 2024'!D9+'leasing_I-IV kw 2024'!D9 -> 5208.718 | E9: ='pozyczki_I-IV kw 2024'!E9+'leasing_I-IV kw 2024'!E9 -> 0 | F9: ='pozyczki_I-IV kw 2024'!F9+'leasing_I-IV kw 2024'!F9 -> 0 | G9: ='pozyczki_I-IV kw 2024'!G9+'leasing_I-IV kw 2024'!G9 -> 1068.352 | H9: ='pozyczki_I-IV kw 2024'!H9+'leasing_I-IV kw 2024'!H9 -> 669.352 | I9: ='pozyczki_I-IV kw 2024'!I9+'leasing_I-IV kw 2024'!I9 -> 0 | J9: ='pozyczki_I-IV kw 2024'!J9+'leasing_I-IV kw 2024'!J9 -> 0 | ... BD9: ='pozyczki_I-IV kw 2024'!BD9+'leasing_I-IV kw 2024'!BD9 -> 99596.251
A10: 4 | B10: BPS Leasing S.A. | C10: ='pozyczki_I-IV kw 2024'!C10+'leasing_I-IV kw 2024'!C10 -> 289111.28 | D10: ='pozyczki_I-IV kw 2024'!D10+'leasing_I-IV kw 2024'!D10 -> 89674.04 | E10: ='pozyczki_I-IV kw 2024'!E10+'leasing_I-IV kw 2024'!E10 -> 2775.01 | F10: ='pozyczki_I-IV kw 2024'!F10+'leasing_I-IV kw 2024'!F10 -> 33859.94 | G10: ='pozyczki_I-IV kw 2024'!G10+'leasing_I-IV kw 2024'!G10 -> 48197.09 | H10: ='pozyczki_I-IV kw 2024'!H10+'leasing_I-IV kw 2024'!H10 -> 18475.77 | I10: ='pozyczki_I-IV kw 2024'!I10+'leasing_I-IV kw 2024'!I10 -> 230 | J10: ='pozyczki_I-IV kw 2024'!J10+'leasing_I-IV kw 2024'!J10 -> 0 | ... BD10: ='pozyczki_I-IV kw 2024'!BD10+'leasing_I-IV kw 2024'!BD10 -> 360376.01
A11: 5 | B11: Caterpillar Financial Services Poland Sp. z o.o. | C11: ='pozyczki_I-IV kw 2024'!C11+'leasing_I-IV kw 2024'!C11 -> 0 | D11: ='pozyczki_I-IV kw 2024'!D11+'leasing_I-IV kw 2024'!D11 -> 0 | E11: ='pozyczki_I-IV kw 2024'!E11+'leasing_I-IV kw 2024'!E11 -> 0 | F11: ='pozyczki_I-IV kw 2024'!F11+'leasing_I-IV kw 2024'!F11 -> 0 | G11: ='pozyczki_I-IV kw 2024'!G11+'leasing_I-IV kw 2024'!G11 -> 0 | H11: ='pozyczki_I-IV kw 2024'!H11+'leasing_I-IV kw 2024'!H11 -> 0 | I11: ='pozyczki_I-IV kw 2024'!I11+'leasing_I-IV kw 2024'!I11 -> 0 | J11: ='pozyczki_I-IV kw 2024'!J11+'leasing_I-IV kw 2024'!J11 -> 0 | ... BD11: ='pozyczki_I-IV kw 2024'!BD11+'leasing_I-IV kw 2024'!BD11 -> 614114.16
A12: 6 | B12: DE LAGE Landen Leasing Polska S.A. | C12: ='pozyczki_I-IV kw 2024'!C12+'leasing_I-IV kw 2024'!C12 -> 36099 | D12: ='pozyczki_I-IV kw 2024'!D12+'leasing_I-IV kw 2024'!D12 -> 1730 | E12: ='pozyczki_I-IV kw 2024'!E12+'leasing_I-IV kw 2024'!E12 -> 0 | F12: ='pozyczki_I-IV kw 2024'!F12+'leasing_I-IV kw 2024'!F12 -> 0 | G12: ='pozyczki_I-IV kw 2024'!G12+'leasing_I-IV kw 2024'!G12 -> 1077 | H12: ='pozyczki_I-IV kw 2024'!H12+'leasing_I-IV kw 2024'!H12 -> 1077 | I12: ='pozyczki_I-IV kw 2024'!I12+'leasing_I-IV kw 2024'!I12 -> 0 | J12: ='pozyczki_I-IV kw 2024'!J12+'leasing_I-IV kw 2024'!J12 -> 0 | ... BD12: ='pozyczki_I-IV kw 2024'!BD12+'leasing_I-IV kw 2024'!BD12 -> 1043065
A13: 7 | B13: Deutsche Leasing Polska S.A. | C13: ='pozyczki_I-IV kw 2024'!C13+'leasing_I-IV kw 2024'!C13 -> 114123 | D13: ='pozyczki_I-IV kw 2024'!D13+'leasing_I-IV kw 2024'!D13 -> 1971 | E13: ='pozyczki_I-IV kw 2024'!E13+'leasing_I-IV kw 2024'!E13 -> 0 | F13: ='pozyczki_I-IV kw 2024'!F13+'leasing_I-IV kw 2024'!F13 -> 0 | G13: ='pozyczki_I-IV kw 2024'!G13+'leasing_I-IV kw 2024'!G13 -> 7440 | H13: ='pozyczki_I-IV kw 2024'!H13+'leasing_I-IV kw 2024'!H13 -> 460 | I13: ='pozyczki_I-IV kw 2024'!I13+'leasing_I-IV kw 2024'!I13 -> 0 | J13: ='pozyczki_I-IV kw 2024'!J13+'leasing_I-IV kw 2024'!J13 -> 0 | ... BD13: ='pozyczki_I-IV kw 2024'!BD13+'leasing_I-IV kw 2024'!BD13 -> 852788
A14: 8 | B14: Europejski Fundusz Leasingowy S.A. | C14: ='pozyczki_I-IV kw 2024'!C14+'leasing_I-IV kw 2024'!C14 -> 6912906.3 | D14: ='pozyczki_I-IV kw 2024'!D14+'leasing_I-IV kw 2024'!D14 -> 2887725 | E14: ='pozyczki_I-IV kw 2024'!E14+'leasing_I-IV kw 2024'!E14 -> 93083.36 | F14: ='pozyczki_I-IV kw 2024'!F14+'leasing_I-IV kw 2024'!F14 -> 60636.528 | G14: ='pozyczki_I-IV kw 2024'!G14+'leasing_I-IV kw 2024'!G14 -> 1753162.1 | H14: ='pozyczki_I-IV kw 2024'!H14+'leasing_I-IV kw 2024'!H14 -> 882706.1 | I14: ='pozyczki_I-IV kw 2024'!I14+'leasing_I-IV kw 2024'!I14 -> 18655.463 | J14: ='pozyczki_I-IV kw 2024'!J14+'leasing_I-IV kw 2024'!J14 -> 0 | ... BD14: ='pozyczki_I-IV kw 2024'!BD14+'leasing_I-IV kw 2024'!BD14 -> 10336705
A15: 9 | B15: Impuls-Leasing Polska Sp. z o. o. | C15: ='pozyczki_I-IV kw 2024'!C15+'leasing_I-IV kw 2024'!C15 -> 1022177.1 | D15: ='pozyczki_I-IV kw 2024'!D15+'leasing_I-IV kw 2024'!D15 -> 519329.09 | E15: ='pozyczki_I-IV kw 2024'!E15+'leasing_I-IV kw 2024'!E15 -> 19323.34 | F15: ='pozyczki_I-IV kw 2024'!F15+'leasing_I-IV kw 2024'!F15 -> 17783.2 | G15: ='pozyczki_I-IV kw 2024'!G15+'leasing_I-IV kw 2024'!G15 -> 183205.31 | H15: ='pozyczki_I-IV kw 2024'!H15+'leasing_I-IV kw 2024'!H15 -> 129341.55 | I15: ='pozyczki_I-IV kw 2024'!I15+'leasing_I-IV kw 2024'!I15 -> 1340.14 | J15: ='pozyczki_I-IV kw 2024'!J15+'leasing_I-IV kw 2024'!J15 -> 0 | ... BD15: ='pozyczki_I-IV kw 2024'!BD15+'leasing_I-IV kw 2024'!BD15 -> 1306390.8
A16: 10 | B16: ING Lease (Polska) Sp. z o. o. | C16: ='pozyczki_I-IV kw 2024'!C16+'leasing_I-IV kw 2024'!C16 -> 3509132 | D16: ='pozyczki_I-IV kw 2024'!D16+'leasing_I-IV kw 2024'!D16 -> 1688439 | E16: ='pozyczki_I-IV kw 2024'!E16+'leasing_I-IV kw 2024'!E16 -> 49582 | F16: ='pozyczki_I-IV kw 2024'!F16+'leasing_I-IV kw 2024'!F16 -> 43432 | G16: ='pozyczki_I-IV kw 2024'!G16+'leasing_I-IV kw 2024'!G16 -> 677968 | H16: ='pozyczki_I-IV kw 2024'!H16+'leasing_I-IV kw 2024'!H16 -> 394538 | I16: ='pozyczki_I-IV kw 2024'!I16+'leasing_I-IV kw 2024'!I16 -> 4153 | J16: ='pozyczki_I-IV kw 2024'!J16+'leasing_I-IV kw 2024'!J16 -> 0 | ... BD16: ='pozyczki_I-IV kw 2024'!BD16+'leasing_I-IV kw 2024'!BD16 -> 6163958
A17: 11 | B17: Leasing Polski Sp. z o. o. | C17: ='pozyczki_I-IV kw 2024'!C17+'leasing_I-IV kw 2024'!C17 -> 174341.89 | D17: ='pozyczki_I-IV kw 2024'!D17+'leasing_I-IV kw 2024'!D17 -> 31321.055 | E17: ='pozyczki_I-IV kw 2024'!E17+'leasing_I-IV kw 2024'!E17 -> 0 | F17: ='pozyczki_I-IV kw 2024'!F17+'leasing_I-IV kw 2024'!F17 -> 4409.2654 | G17: ='pozyczki_I-IV kw 2024'!G17+'leasing_I-IV kw 2024'!G17 -> 38567.074 | H17: ='pozyczki_I-IV kw 2024'!H17+'leasing_I-IV kw 2024'!H17 -> 20194.941 | I17: ='pozyczki_I-IV kw 2024'!I17+'leasing_I-IV kw 2024'!I17 -> 0 | J17: ='pozyczki_I-IV kw 2024'!J17+'leasing_I-IV kw 2024'!J17 -> 0 | ... BD17: ='pozyczki_I-IV kw 2024'!BD17+'leasing_I-IV kw 2024'!BD17 -> 214102.15
A18: 12 | B18: Mercedes-Benz Leasing Polska Sp. z o.o. | C18: ='pozyczki_I-IV kw 2024'!C18+'leasing_I-IV kw 2024'!C18 -> 3939524.6 | D18: ='pozyczki_I-IV kw 2024'!D18+'leasing_I-IV kw 2024'!D18 -> 3261652.9 | E18: ='pozyczki_I-IV kw 2024'!E18+'leasing_I-IV kw 2024'!E18 -> 308653.55 | F18: ='pozyczki_I-IV kw 2024'!F18+'leasing_I-IV kw 2024'!F18 -> 253439.53 | G18: ='pozyczki_I-IV kw 2024'!G18+'leasing_I-IV kw 2024'!G18 -> 401461.01 | H18: ='pozyczki_I-IV kw 2024'!H18+'leasing_I-IV kw 2024'!H18 -> 363141.54 | I18: ='pozyczki_I-IV kw 2024'!I18+'leasing_I-IV kw 2024'!I18 -> 27585.641 | J18: ='pozyczki_I-IV kw 2024'!J18+'leasing_I-IV kw 2024'!J18 -> 0 | ... BD18: ='pozyczki_I-IV kw 2024'!BD18+'leasing_I-IV kw 2024'!BD18 -> 3939524.6
... A33: 27 | B33: Razem | C33: ='pozyczki_I-IV kw 2024'!C33+'leasing_I-IV kw 2024'!C33 -> 53568000 | D33: ='pozyczki_I-IV kw 2024'!D33+'leasing_I-IV kw 2024'!D33 -> 30577614 | E33: ='pozyczki_I-IV kw 2024'!E33+'leasing_I-IV kw 2024'!E33 -> 1199525.6 | F33: ='pozyczki_I-IV kw 2024'!F33+'leasing_I-IV kw 2024'!F33 -> 1116652 | G33: ='pozyczki_I-IV kw 2024'!G33+'leasing_I-IV kw 2024'!G33 -> 9346726.3 | H33: ='pozyczki_I-IV kw 2024'!H33+'leasing_I-IV kw 2024'!H33 -> 5510597.7 | I33: ='pozyczki_I-IV kw 2024'!I33+'leasing_I-IV kw 2024'!I33 -> 96358.177 | J33: ='pozyczki_I-IV kw 2024'!J33+'leasing_I-IV kw 2024'!J33 -> 766.69026 | ... BD33: ='pozyczki_I-IV kw 2024'!BD33+'leasing_I-IV kw 2024'!BD33 -> 82703206
B35: Ilość środków oddanych w leasing + pożyczak (szt) | D35: I - IV kwartał 2024
A38: Lp. | B38: Spółka | C38: POJAZDY | D38: Osobowe | E38: osobowe - zeroemisyjne | F38: osobowe - hybryda plug-in | G38: Cięzarowe: | H38: o masie do 3,5 tony | I38: o masie do 3,5 tony - zeroemisyjne | J38: o masie do 3,5 tony - hybryda plug-in | K38: o masie powyzej 3,5 tony | L38: o masie powyżej 3,5 tony - zeroemisyjne | M38: o masie powyżej 3,5 tony - hybryda plug-in | N38: ciagniki siodlowe | O38: ciągniki siodłowe - zeroemisyjne | P38: ciągniki siodłowe - hybryda plug-in | Q38: naczepy / przyczepy | R38: autobusy | S38: autobusy - zeroemisyjne | T38: autobusy - hybryda plug-in | U38: inne | V38: inne - zeroemisyjne | W38: inne - hybryda plug-in | X38: MiU | Y38: Sprzęt Budowlany | Z38: Maszyny Rolnicze | AA38: Maszyny Poligraf. | AB38: maszyny do produkcji tworzyw sztucznych | AC38: maszyny i urządzenia do obróbki metali | AD38: maszyny dla przemysłu spożywczego | AE38: Sprzęt Medyczny | AF38: Sprzęt Gastronom. | AG38: Wózki Widłowe | AH38: Magazyny energii | AI38: Pompy ciepła | AJ38: fotowoltaika | AK38: wiatraki i turbiny wiatrowe | AL38: stacje ładowania pojazdów elektrycznych (na użytek własny i komercyjny) | AM38: inne MiU | AN38: IT | AO38: Sprzęt | AP38: Oprogram. | AQ38: inne IT | AR38: POZOSTAŁE ŚRODKI TRANSPORTU | AS38: Powietrzne | AT38: Wodne | AU38: Kolejowe | AV38: Inne ruchomości | AW38: RUCHOMOŚCI | AX38: Nieruchomości | AY38: budynki przemysłowe | AZ38: obiekty handlowe i usługowe | BA38: obiekty biurowe | BB38: hotele i obiekty rekreacyjne | BC38: inne | BD38: OGÓŁEM
A39: 1 | B39: Alior Leasing Sp. z o. o. | C39: ='pozyczki_I-IV kw 2024'!C39+'leasing_I-IV kw 2024'!C39 -> 20391 | D39: ='pozyczki_I-IV kw 2024'!D39+'leasing_I-IV kw 2024'!D39 -> 10221 | E39: ='pozyczki_I-IV kw 2024'!E39+'leasing_I-IV kw 2024'!E39 -> 0 | F39: ='pozyczki_I-IV kw 2024'!F39+'leasing_I-IV kw 2024'!F39 -> 0 | G39: ='pozyczki_I-IV kw 2024'!G39+'leasing_I-IV kw 2024'!G39 -> 4420 | H39: ='pozyczki_I-IV kw 2024'!H39+'leasing_I-IV kw 2024'!H39 -> 3548 | I39: ='pozyczki_I-IV kw 2024'!I39+'leasing_I-IV kw 2024'!I39 -> 0 | J39: ='pozyczki_I-IV kw 2024'!J39+'leasing_I-IV kw 2024'!J39 -> 0 | ... BD39: ='pozyczki_I-IV kw 2024'!BD39+'leasing_I-IV kw 2024'!BD39 -> 25066
A40: 2 | B40: BNP Paribas Lease Group Sp. z o. o. | C40: ='pozyczki_I-IV kw 2024'!C40+'leasing_I-IV kw 2024'!C40 -> 20422 | D40: ='pozyczki_I-IV kw 2024'!D40+'leasing_I-IV kw 2024'!D40 -> 15113 | E40: ='pozyczki_I-IV kw 2024'!E40+'leasing_I-IV kw 2024'!E40 -> 188 | F40: ='pozyczki_I-IV kw 2024'!F40+'leasing_I-IV kw 2024'!F40 -> 81 | G40: ='pozyczki_I-IV kw 2024'!G40+'leasing_I-IV kw 2024'!G40 -> 4160 | H40: ='pozyczki_I-IV kw 2024'!H40+'leasing_I-IV kw 2024'!H40 -> 3124 | I40: ='pozyczki_I-IV kw 2024'!I40+'leasing_I-IV kw 2024'!I40 -> 16 | J40: ='pozyczki_I-IV kw 2024'!J40+'leasing_I-IV kw 2024'!J40 -> 0 | ... BD40: ='pozyczki_I-IV kw 2024'!BD40+'leasing_I-IV kw 2024'!BD40 -> 31022
A41: 3 | B41: BOŚ LEASING - EKO PROFIT S.A. | C41: ='pozyczki_I-IV kw 2024'!C41+'leasing_I-IV kw 2024'!C41 -> 120 | D41: ='pozyczki_I-IV kw 2024'!D41+'leasing_I-IV kw 2024'!D41 -> 38 | E41: ='pozyczki_I-IV kw 2024'!E41+'leasing_I-IV kw 2024'!E41 -> 0 | F41: ='pozyczki_I-IV kw 2024'!F41+'leasing_I-IV kw 2024'!F41 -> 0 | G41: ='pozyczki_I-IV kw 2024'!G41+'leasing_I-IV kw 2024'!G41 -> 7 | H41: ='pozyczki_I-IV kw 2024'!H41+'leasing_I-IV kw 2024'!H41 -> 5 | I41: ='pozyczki_I-IV kw 2024'!I41+'leasing_I-IV kw 2024'!I41 -> 0 | J41: ='pozyczki_I-IV kw 2024'!J41+'leasing_I-IV kw 2024'!J41 -> 0 | ... BD41: ='pozyczki_I-IV kw 2024'!BD41+'leasing_I-IV kw 2024'!BD41 -> 286
A42: 4 | B42: BPS Leasing S.A. | C42: ='pozyczki_I-IV kw 2024'!C42+'leasing_I-IV kw 2024'!C42 -> 1363 | D42: ='pozyczki_I-IV kw 2024'!D42+'leasing_I-IV kw 2024'!D42 -> 594 | E42: ='pozyczki_I-IV kw 2024'!E42+'leasing_I-IV kw 2024'!E42 -> 7 | F42: ='pozyczki_I-IV kw 2024'!F42+'leasing_I-IV kw 2024'!F42 -> 224 | G42: ='pozyczki_I-IV kw 2024'!G42+'leasing_I-IV kw 2024'!G42 -> 224 | H42: ='pozyczki_I-IV kw 2024'!H42+'leasing_I-IV kw 2024'!H42 -> 133 | I42: ='pozyczki_I-IV kw 2024'!I42+'leasing_I-IV kw 2024'!I42 -> 1 | J42: ='pozyczki_I-IV kw 2024'!J42+'leasing_I-IV kw 2024'!J42 -> 0 | ... BD42: ='pozyczki_I-IV kw 2024'!BD42+'leasing_I-IV kw 2024'!BD42 -> 1583
A43: 5 | B43: Caterpillar Financial Services Poland Sp. z o.o. | C43: ='pozyczki_I-IV kw 2024'!C43+'leasing_I-IV kw 2024'!C43 -> 0 | D43: ='pozyczki_I-IV kw 2024'!D43+'leasing_I-IV kw 2024'!D43 -> 0 | E43: ='pozyczki_I-IV kw 2024'!E43+'leasing_I-IV kw 2024'!E43 -> 0 | F43: ='pozyczki_I-IV kw 2024'!F43+'leasing_I-IV kw 2024'!F43 -> 0 | G43: ='pozyczki_I-IV kw 2024'!G43+'leasing_I-IV kw 2024'!G43 -> 0 | H43: ='pozyczki_I-IV kw 2024'!H43+'leasing_I-IV kw 2024'!H43 -> 0 | I43: ='pozyczki_I-IV kw 2024'!I43+'leasing_I-IV kw 2024'!I43 -> 0 | J43: ='pozyczki_I-IV kw 2024'!J43+'leasing_I-IV kw 2024'!J43 -> 0 | ... BD43: ='pozyczki_I-IV kw 2024'!BD43+'leasing_I-IV kw 2024'!BD43 -> 1311
A44: 6 | B44: DE LAGE Landen Leasing Polska S.A. | C44: ='pozyczki_I-IV kw 2024'!C44+'leasing_I-IV kw 2024'!C44 -> 140 | D44: ='pozyczki_I-IV kw 2024'!D44+'leasing_I-IV kw 2024'!D44 -> 12 | E44: ='pozyczki_I-IV kw 2024'!E44+'leasing_I-IV kw 2024'!E44 -> 0 | F44: ='pozyczki_I-IV kw 2024'!F44+'leasing_I-IV kw 2024'!F44 -> 0 | G44: ='pozyczki_I-IV kw 2024'!G44+'leasing_I-IV kw 2024'!G44 -> 6 | H44: ='pozyczki_I-IV kw 2024'!H44+'leasing_I-IV kw 2024'!H44 -> 6 | I44: ='pozyczki_I-IV kw 2024'!I44+'leasing_I-IV kw 2024'!I44 -> 0 | J44: ='pozyczki_I-IV kw 2024'!J44+'leasing_I-IV kw 2024'!J44 -> 0 | ... BD44: ='pozyczki_I-IV kw 2024'!BD44+'leasing_I-IV kw 2024'!BD44 -> 2685
A45: 7 | B45: Deutsche Leasing Polska S.A. | C45: ='pozyczki_I-IV kw 2024'!C45+'leasing_I-IV kw 2024'!C45 -> 508 | D45: ='pozyczki_I-IV kw 2024'!D45+'leasing_I-IV kw 2024'!D45 -> 12 | E45: ='pozyczki_I-IV kw 2024'!E45+'leasing_I-IV kw 2024'!E45 -> 0 | F45: ='pozyczki_I-IV kw 2024'!F45+'leasing_I-IV kw 2024'!F45 -> 0 | G45: ='pozyczki_I-IV kw 2024'!G45+'leasing_I-IV kw 2024'!G45 -> 11 | H45: ='pozyczki_I-IV kw 2024'!H45+'leasing_I-IV kw 2024'!H45 -> 3 | I45: ='pozyczki_I-IV kw 2024'!I45+'leasing_I-IV kw 2024'!I45 -> 0 | J45: ='pozyczki_I-IV kw 2024'!J45+'leasing_I-IV kw 2024'!J45 -> 0 | ... BD45: ='pozyczki_I-IV kw 2024'!BD45+'leasing_I-IV kw 2024'!BD45 -> 3733
A46: 8 | B46: Europejski Fundusz Leasingowy S.A. | C46: ='pozyczki_I-IV kw 2024'!C46+'leasing_I-IV kw 2024'!C46 -> 40249 | D46: ='pozyczki_I-IV kw 2024'!D46+'leasing_I-IV kw 2024'!D46 -> 19259 | E46: ='pozyczki_I-IV kw 2024'!E46+'leasing_I-IV kw 2024'!E46 -> 485 | F46: ='pozyczki_I-IV kw 2024'!F46+'leasing_I-IV kw 2024'!F46 -> 285 | G46: ='pozyczki_I-IV kw 2024'!G46+'leasing_I-IV kw 2024'!G46 -> 9517 | H46: ='pozyczki_I-IV kw 2024'!H46+'leasing_I-IV kw 2024'!H46 -> 6873 | I46: ='pozyczki_I-IV kw 2024'!I46+'leasing_I-IV kw 2024'!I46 -> 120 | J46: ='pozyczki_I-IV kw 2024'!J46+'leasing_I-IV kw 2024'!J46 -> 0 | ... BD46: ='pozyczki_I-IV kw 2024'!BD46+'leasing_I-IV kw 2024'!BD46 -> 59894
A47: 9 | B47: Impuls-Leasing Polska Sp. z o. o. | C47: ='pozyczki_I-IV kw 2024'!C47+'leasing_I-IV kw 2024'!C47 -> 5675 | D47: ='pozyczki_I-IV kw 2024'!D47+'leasing_I-IV kw 2024'!D47 -> 3183 | E47: ='pozyczki_I-IV kw 2024'!E47+'leasing_I-IV kw 2024'!E47 -> 107 | F47: ='pozyczki_I-IV kw 2024'!F47+'leasing_I-IV kw 2024'!F47 -> 76 | G47: ='pozyczki_I-IV kw 2024'!G47+'leasing_I-IV kw 2024'!G47 -> 983 | H47: ='pozyczki_I-IV kw 2024'!H47+'leasing_I-IV kw 2024'!H47 -> 843 | I47: ='pozyczki_I-IV kw 2024'!I47+'leasing_I-IV kw 2024'!I47 -> 7 | J47: ='pozyczki_I-IV kw 2024'!J47+'leasing_I-IV kw 2024'!J47 -> 0 | ... BD47: ='pozyczki_I-IV kw 2024'!BD47+'leasing_I-IV kw 2024'!BD47 -> 7180
A48: 10 | B48: ING Lease (Polska) Sp. z o. o. | C48: ='pozyczki_I-IV kw 2024'!C48+'leasing_I-IV kw 2024'!C48 -> 20081 | D48: ='pozyczki_I-IV kw 2024'!D48+'leasing_I-IV kw 2024'!D48 -> 11828 | E48: ='pozyczki_I-IV kw 2024'!E48+'leasing_I-IV kw 2024'!E48 -> 286 | F48: ='pozyczki_I-IV kw 2024'!F48+'leasing_I-IV kw 2024'!F48 -> 224 | G48: ='pozyczki_I-IV kw 2024'!G48+'leasing_I-IV kw 2024'!G48 -> 4014 | H48: ='pozyczki_I-IV kw 2024'!H48+'leasing_I-IV kw 2024'!H48 -> 3349 | I48: ='pozyczki_I-IV kw 2024'!I48+'leasing_I-IV kw 2024'!I48 -> 26 | J48: ='pozyczki_I-IV kw 2024'!J48+'leasing_I-IV kw 2024'!J48 -> 0 | ... BD48: ='pozyczki_I-IV kw 2024'!BD48+'leasing_I-IV kw 2024'!BD48 -> 27293
A49: 11 | B49: Leasing Polski Sp. z o. o. | C49: ='pozyczki_I-IV kw 2024'!C49+'leasing_I-IV kw 2024'!C49 -> 1669 | D49: ='pozyczki_I-IV kw 2024'!D49+'leasing_I-IV kw 2024'!D49 -> 355 | E49: ='pozyczki_I-IV kw 2024'!E49+'leasing_I-IV kw 2024'!E49 -> 0 | F49: ='pozyczki_I-IV kw 2024'!F49+'leasing_I-IV kw 2024'!F49 -> 35 | G49: ='pozyczki_I-IV kw 2024'!G49+'leasing_I-IV kw 2024'!G49 -> 435 | H49: ='pozyczki_I-IV kw 2024'!H49+'leasing_I-IV kw 2024'!H49 -> 309 | I49: ='pozyczki_I-IV kw 2024'!I49+'leasing_I-IV kw 2024'!I49 -> 0 | J49: ='pozyczki_I-IV kw 2024'!J49+'leasing_I-IV kw 2024'!J49 -> 0 | ... BD49: ='pozyczki_I-IV kw 2024'!BD49+'leasing_I-IV kw 2024'!BD49 -> 1815
A50: 12 | B50: Mercedes-Benz Leasing Polska Sp. z o.o. | C50: ='pozyczki_I-IV kw 2024'!C50+'leasing_I-IV kw 2024'!C50 -> 17945 | D50: ='pozyczki_I-IV kw 2024'!D50+'leasing_I-IV kw 2024'!D50 -> 14909 | E50: ='pozyczki_I-IV kw 2024'!E50+'leasing_I-IV kw 2024'!E50 -> 1287 | F50: ='pozyczki_I-IV kw 2024'!F50+'leasing_I-IV kw 2024'!F50 -> 1085 | G50: ='pozyczki_I-IV kw 2024'!G50+'leasing_I-IV kw 2024'!G50 -> 2403 | H50: ='pozyczki_I-IV kw 2024'!H50+'leasing_I-IV kw 2024'!H50 -> 2311 | I50: ='pozyczki_I-IV kw 2024'!I50+'leasing_I-IV kw 2024'!I50 -> 187 | J50: ='pozyczki_I-IV kw 2024'!J50+'leasing_I-IV kw 2024'!J50 -> 0 | ... BD50: ='pozyczki_I-IV kw 2024'!BD50+'leasing_I-IV kw 2024'!BD50 -> 17945
... A65: 27 | B65: Razem | C65: ='pozyczki_I-IV kw 2024'!C65+'leasing_I-IV kw 2024'!C65 -> 312276 | D65: ='pozyczki_I-IV kw 2024'!D65+'leasing_I-IV kw 2024'!D65 -> 199841 | E65: ='pozyczki_I-IV kw 2024'!E65+'leasing_I-IV kw 2024'!E65 -> 6340 | F65: ='pozyczki_I-IV kw 2024'!F65+'leasing_I-IV kw 2024'!F65 -> 4865 | G65: ='pozyczki_I-IV kw 2024'!G65+'leasing_I-IV kw 2024'!G65 -> 53276 | H65: ='pozyczki_I-IV kw 2024'!H65+'leasing_I-IV kw 2024'!H65 -> 42606 | I65: ='pozyczki_I-IV kw 2024'!I65+'leasing_I-IV kw 2024'!I65 -> 615 | J65: ='pozyczki_I-IV kw 2024'!J65+'leasing_I-IV kw 2024'!J65 -> 5 | ... BD65: ='pozyczki_I-IV kw 2024'!BD65+'leasing_I-IV kw 2024'!BD65 -> 454522

Sheet outstanding_na dzień 31.12.2024
B2: Związek Polskiego Leasingu, WARSZAWA - 01-07-2025
B4: ILOŚĆ ŚRODKÓW TRWAŁYCH (szt.) | E4: według stanu na 31-12-2024
B6: WARTOŚĆ CAŁEGO PORTFELA LEASINGU
A8: Lp. | B8: Spółka | C8: Środki transportu drogowego | D8: w tym samochody osobowe | E8: Maszyny i urządzenia przemysłowe | F8: Komputery i sprzet biurowy | G8: Pozostałe środki transportu | H8: Inne ruchomości | I8: Razem ruchomości | J8: Razem nieruchomości | K8: Ogółem
A9: 1 | B9: Alior Leasing Sp. z o. o. | C9: 75082 | D9: 37769 | E9: 13639 | F9: 82 | G9: 180 | I9: 88983 | K9: 88983
A10: 2 | B10: BNP Paribas Lease Group Sp. z o. o. | I10: 0 | K10: 0
A11: 3 | B11: BOŚ LEASING - EKO PROFIT S.A. | I11: 0 | K11: 0
A12: 4 | B12: BPS Leasing S.A. | C12: 3965 | D12: 1630 | E12: 589 | F12: 24 | G12: 27 | H12: 181 | I12: 4786 | J12: 20 | K12: 4806
A13: 5 | B13: Caterpillar Financial Services Poland Sp. z o.o. | C13: 0 | D13: 0 | E13: 3951 | F13: 0 | G13: 0 | H13: 0 | I13: 3951 | J13: 0 | K13: 3951
A14: 6 | B14: DE LAGE Landen Leasing Polska S.A. | C14: 1372 | D14: 49 | E14: 12710 | F14: 724 | I14: 14806 | K14: 14806
A15: 7 | B15: Deutsche Leasing Polska S.A. | I15: 0 | K15: 0
A16: 8 | B16: Europejski Fundusz Leasingowy S.A. | C16: 116658 | D16: 59165 | E16: 63016 | F16: 3901 | G16: 0 | H16: 0 | I16: 183575 | J16: 14 | K16: 183589
A17: 9 | B17: Impuls-Leasing Polska Sp. z o. o. | I17: 0 | K17: 0
A18: 10 | B18: ING Lease (Polska) Sp. z o. o. | C18: 74638 | D18: 38594 | E18: 25030 | F18: 831 | G18: 920 | H18: 2835 | I18: 104254 | J18: 42 | K18: 104296
A19: 11 | B19: Leasing Polski Sp. z o. o. | I19: 0 | K19: 0
A20: 12 | B20: Mercedes-Benz Leasing Polska Sp. z o.o. | C20: 47118 | D20: 34201 | I20: 47118 | K20: 47118
A21: 13 | B21: Millennium Leasing Sp. z o. o. | C21: 44422 | D21: 19995 | E21: 19671 | F21: 333 | G21: 229 | H21: 0 | I21: 64655 | J21: 37 | K21: 64692
A22: 14 | B22: mLeasing Sp. z o. o. | C22: 90109 | D22: 68962 | E22: 29598 | F22: 3943 | G22: 1029 | H22: 7336 | I22: 132015 | J22: 124 | K22: 132139
A23: 15 | B23: NEST LEASING SPÓŁKA AKCYJNA | C23: 0 | D23: 0 | E23: 199 | F23: 324 | G23: 0 | H23: 232 | I23: 755 | K23: 755
A24: 16 | B24: PEAC (Poland) Sp. z o. o. | C24: 1575 | D24: 96 | E24: 5016 | F24: 192 | G24: 86 | I24: 6869 | K24: 6869
A25: 17 | B25: PEKAO Leasing Sp. z o. o. | C25: 56263 | D25: 26888 | E25: 24144 | F25: 2831 | G25: 765 | H25: 1169 | I25: 85172 | J25: 98 | K25: 85270
A26: 18 | B26: PKO Leasing S.A. | C26: 192967 | D26: 122994 | E26: 90737 | F26: 24630 | G26: 763 | H26: 108 | I26: 309205 | J26: 206 | K26: 309411
A27: 19 | B27: Santander Consumer Multirent Sp. z o.o. | C27: 48878 | D27: 38593 | E27: 0 | F27: 0 | G27: 0 | H27: 0 | I27: 48878 | J27: 0 | K27: 48878
A28: 20 | B28: Santander Leasing S.A. | C28: 87317 | D28: 56010 | E28: 72126 | F28: 2349 | G28: 231 | H28: 3111 | I28: 165134 | J28: 120 | K28: 165254
A29: 21 | B29: Scania Finance Polska Sp. z o. o. | I29: 0 | K29: 0
A30: 22 | B30: SG Equipment Leasing Polska Sp. z o. o. | C30: 3336 | D30: 247 | E30: 7757 | F30: 205 | G30: 54 | H30: 3 | I30: 11355 | K30: 11355
A31: 23 | B31: SGB Leasing Sp. z o.o. | I31: 0 | K31: 0
A32: 24 | B32: Siemens Finance Sp. z o. o. | I32: 0 | K32: 0
A33: 25 | B33: VEHIS FINANSE Sp. z o.o. | I33: 0 | K33: 0
A34: 26 | B34: VELOLEASING SPÓŁKA AKCYJNA | C34: 4191 | D34: 3983 | I34: 4191 | K34: 4191
A35: 27 | B35: Razem | C35: 847891 | D35: 509176 | E35: 368183 | F35: 40369 | G35: 4284 | H35: 14975 | I35: 1275702 | J35: 661 | K35: 1276363
B38: WARTOŚĆ ŚRODKÓW TRWAŁYCH - zgodnie z ustawą o rachunkowości (netto tys. PLN) | F38: według stanu na 31-12-2024
A41: Lp. | B41: Spółka | C41: Środki transportu drogowego | D41: w tym samochody osobowe | E41: Maszyny i urządzenia przemysłowe | F41: Komputery i sprzet biurowy | G41: Pozostałe środki transportu | H41: Inne ruchomości | I41: Razem ruchomości | J41: Razem nieruchomości | K41: Ogółem
A42: 1 | B42: Alior Leasing Sp. z o. o. | C42: 5446801.3 | D42: 2341389.7 | E42: 1064267.3 | F42: 16617.915 | G42: 49749.469 | I42: 6577435.9 | K42: 6577435.9
A43: 2 | B43: BNP Paribas Lease Group Sp. z o. o. | I43: 0 | K43: 0
A44: 3 | B44: BOŚ LEASING - EKO PROFIT S.A. | I44: 0 | K44: 0
A45: 4 | B45: BPS Leasing S.A. | C45: 499151.76 | D45: 134758.33 | E45: 91437.81 | F45: 3170.88 | G45: 10968.73 | H45: 19741.76 | I45: 624470.94 | J45: 88337.66 | K45: 712808.6
A46: 5 | B46: Caterpillar Financial Services Poland Sp. z o.o. | C46: 0 | D46: 0 | E46: 852749.24 | F46: 0 | G46: 0 | H46: 0 | I46: 852749.24 | J46: 0 | K46: 852749.24
A47: 6 | B47: DE LAGE Landen Leasing Polska S.A. | C47: 123422 | D47: 3027 | E47: 1507743 | F47: 61644 | I47: 1692809 | K47: 1692809
A48: 7 | B48: Deutsche Leasing Polska S.A. | I48: 0 | K48: 0
A49: 8 | B49: Europejski Fundusz Leasingowy S.A. | C49: 10475533 | D49: 4657746.6 | E49: 5350466 | F49: 168793.94 | G49: 0 | H49: 0 | I49: 15994793 | J49: 11895.85 | K49: 16006688
A50: 9 | B50: Impuls-Leasing Polska Sp. z o. o. | I50: 0 | K50: 0
A51: 10 | B51: ING Lease (Polska) Sp. z o. o. | C51: 7213005.2 | D51: 2800913.7 | E51: 5071904.3 | F51: 102852.52 | G51: 594906.72 | H51: 477775.75 | I51: 13460444 | J51: 520379.9 | K51: 13980824
A52: 11 | B52: Leasing Polski Sp. z o. o. | I52: 0 | K52: 0
A53: 12 | B53: Mercedes-Benz Leasing Polska Sp. z o.o. | C53: 7256247.9 | D53: 5286502.1 | I53: 7256247.9 | K53: 7256247.9
A54: 13 | B54: Millennium Leasing Sp. z o. o. | C54: 4126471.9 | D54: 1479448.7 | E54: 2204337.5 | F54: 43630.098 | G54: 374367.07 | H54: 0 | I54: 6748806.5 | J54: 217326.97 | K54: 6966133.5
A55: 14 | B55: mLeasing Sp. z o. o. | C55: 9220230.7 | D55: 6500774.3 | E55: 3493142 | F55: 103126.18 | G55: 726332.85 | H55: 639279.45 | I55: 14182111 | J55: 955122.19 | K55: 15137233
A56: 15 | B56: NEST LEASING SPÓŁKA AKCYJNA | C56: 0 | D56: 0 | E56: 228 | F56: 952 | G56: 0 | H56: 502 | I56: 1682 | K56: 1682
A57: 16 | B57: PEAC (Poland) Sp. z o. o. | C57: 162503.1 | D57: 8153.6 | E57: 293969.7 | F57: 7321 | G57: 8098.2 | I57: 471892 | K57: 471892
A58: 17 | B58: PEKAO Leasing Sp. z o. o. | C58: 6800118 | D58: 2633295 | E58: 4950349.4 | F58: 141098.58 | G58: 745084.18 | H58: 202175.95 | I58: 12838826 | J58: 699382.64 | K58: 13538209
A59: 18 | B59: PKO Leasing S.A. | C59: 17270532 | D59: 10334651 | E59: 8398836 | F59: 157474.08 | G59: 997233.84 | H59: 1395.7806 | I59: 26825472 | J59: 189201.7 | K59: 27014674
A60: 19 | B60: Santander Consumer Multirent Sp. z o.o. | C60: 2722942.6 | D60: 2267709.8 | E60: 0 | F60: 0 | G60: 0 | H60: 0 | I60: 2722942.6 | J60: 0 | K60: 2722942.6
A61: 20 | B61: Santander Leasing S.A. | C61: 7667973.1 | D61: 4406688.2 | E61: 5970582.1 | F61: 119261.86 | G61: 224880.79 | H61: 788667.94 | I61: 14771366 | J61: 218963.88 | K61: 14990330
A62: 21 | B62: Scania Finance Polska Sp. z o. o. | I62: 0 | K62: 0
A63: 22 | B63: SG Equipment Leasing Polska Sp. z o. o. | C63: 394899.83 | D63: 11003.359 | E63: 794803.86 | F63: 60303.005 | G63: 184233.65 | H63: 312.45235 | I63: 1434552.8 | K63: 1434552.8
A64: 23 | B64: SGB Leasing Sp. z o.o. | I64: 0 | K64: 0
A65: 24 | B65: Siemens Finance Sp. z o. o. | I65: 0 | K65: 0
A66: 25 | B66: VEHIS FINANSE Sp. z o.o. | I66: 0 | K66: 0
A67: 26 | B67: VELOLEASING SPÓŁKA AKCYJNA | C67: 247571.35 | D67: 230121.81 | I67: 247571.35 | K67: 247571.35
A68: 27 | B68: Razem | C68: 79627404 | D68: 43096183 | E68: 40044816 | F68: 986246.05 | G68: 3915855.5 | H68: 2129851.1 | I68: 1.2670417e+08 | J68: 2900610.8 | K68: 1.2960478e+08
B71: WARTOŚĆ ŚRODKÓW TRWAŁYCH - zgodnie z ustawami podatkowymi (netto tys. PLN) | F71: według stanu na 31-12-2024
A74: Lp. | B74: Spółka | C74: Środki transportu drogowego | D74: w tym samochody osobowe | E74: Maszyny i urządzenia przemysłowe | F74: Komputery i sprzet biurowy | G74: Pozostałe środki transportu | H74: Inne ruchomości | I74: Razem ruchomości | J74: Razem nieruchomości | K74: Ogółem
A75: 1 | B75: Alior Leasing Sp. z o. o. | I75: 0 | K75: 0
A76: 2 | B76: BNP Paribas Lease Group Sp. z o. o. | I76: 0 | K76: 0
A77: 3 | B77: BOŚ LEASING - EKO PROFIT S.A. | I77: 0 | K77: 0
A78: 4 | B78: BPS Leasing S.A. | I78: 0 | K78: 0
A79: 5 | B79: Caterpillar Financial Services Poland Sp. z o.o. | C79: 0 | D79: 0 | E79: 852749.24 | F79: 0 | G79: 0 | H79: 0 | I79: 852749.24 | J79: 0 | K79: 852749.24
A80: 6 | B80: DE LAGE Landen Leasing Polska S.A. | C80: 117591 | D80: 3027 | E80: 1518814 | F80: 66189 | I80: 1702594 | K80: 1702594
A81: 7 | B81: Deutsche Leasing Polska S.A. | I81: 0 | K81: 0
A82: 8 | B82: Europejski Fundusz Leasingowy S.A. | C82: 12286666 | D82: 5701616.4 | E82: 6066358.6 | F82: 138845.25 | G82: 0 | H82: 0 | I82: 18491870 | J82: 32781.055 | K82: 18524651
A83: 9 | B83: Impuls-Leasing Polska Sp. z o. o. | I83: 0 | K83: 0
A84: 10 | B84: ING Lease (Polska) Sp. z o. o. | C84: 7213005.2 | D84: 2800913.7 | E84: 5071904.3 | F84: 102852.52 | G84: 594906.72 | H84: 477775.75 | I84: 13460444 | J84: 520379.9 | K84: 13980824
A85: 11 | B85: Leasing Polski Sp. z o. o. | I85: 0 | K85: 0
A86: 12 | B86: Mercedes-Benz Leasing Polska Sp. z o.o. | C86: 7256247.9 | D86: 5286502.1 | I86: 7256247.9 | K86: 7256247.9
A87: 13 | B87: Millennium Leasing Sp. z o. o. | C87: 3919509.4 | D87: 1378351.9 | E87: 2578510.8 | F87: 34610.61 | G87: 344338.42 | H87: 0 | I87: 6876969.2 | J87: 325513.36 | K87: 7202482.6
A88: 14 | B88: mLeasing Sp. z o. o. | C88: 10527536 | D88: 7422496.9 | E88: 3988422.7 | F88: 117748.08 | G88: 829317.1 | H88: 729920.7 | I88: 16192944 | J88: 955122.19 | K88: 17148067
A89: 15 | B89: NEST LEASING SPÓŁKA AKCYJNA | C89: 0 | D89: 0 | E89: 269 | F89: 884 | G89: 0 | H89: 485 | I89: 1638 | K89: 1638
A90: 16 | B90: PEAC (Poland) Sp. z o. o. | C90: 124306.8 | D90: 10090 | E90: 213799.5 | F90: 7317.7 | G90: 9873.3 | I90: 355297.3 | K90: 355297.3
A91: 17 | B91: PEKAO Leasing Sp. z o. o. | C91: 7152175.6 | D91: 3015981.2 | E91: 5151435.4 | F91: 79517.299 | G91: 826999.76 | H91: 209777.67 | I91: 13419906 | J91: 1084506.7 | K91: 14504412
A92: 18 | B92: PKO Leasing S.A. | C92: 18342002 | D92: 11274224 | E92: 9054047.2 | F92: 101944.63 | G92: 1004804.2 | H92: 240.3655 | I92: 28503038 | J92: 394256.58 | K92: 28897295
A93: 19 | B93: Santander Consumer Multirent Sp. z o.o. | C93: 3208956.7 | D93: 2716825.7 | E93: 0 | F93: 0 | G93: 0 | H93: 0 | I93: 3208956.7 | J93: 0 | K93: 3208956.7
A94: 20 | B94: Santander Leasing S.A. | I94: 0 | K94: 0
A95: 21 | B95: Scania Finance Polska Sp. z o. o. | I95: 0 | K95: 0
A96: 22 | B96: SG Equipment Leasing Polska Sp. z o. o. | I96: 0 | K96: 0
A97: 23 | B97: SGB Leasing Sp. z o.o. | I97: 0 | K97: 0
A98: 24 | B98: Siemens Finance Sp. z o. o. | I98: 0 | K98: 0
A99: 25 | B99: VEHIS FINANSE Sp. z o.o. | I99: 0 | K99: 0
A100: 26 | B100: VELOLEASING SPÓŁKA AKCYJNA | I100: 0 | K100: 0
A101: 27 | B101: Razem | C101: 70147997 | D101: 39610029 | E101: 34496311 | F101: 649909.1 | G101: 3610239.5 | H101: 1418199.5 | I101: 1.1032266e+08 | J101: 3312559.8 | K101: 1.1363522e+08
B104: WARTOŚĆ CAŁEGO PORTFELA LEASINGU (netto tys. PLN) | E104: według stanu na 31-12-2024
A107: Lp. | B107: Spółka | C107: Ilość ST leasingu konsumenckiego | D107: ust. o rach. | E107: ust. podatkowe | F107: Ilość ST leasingu do umów CFM | G107: ust. o rach. | H107: ust. podatkowe
D108: Wartość netto leasingu konsumenckiego | E108: Wartość netto leasingu konsumenckiego | G108: Wartość umów CFM | H108: Wartość umów CFM
A109: 1 | B109: Alior Leasing Sp. z o. o.
A110: 2 | B110: BNP Paribas Lease Group Sp. z o. o.
A111: 3 | B111: BOŚ LEASING - EKO PROFIT S.A.
A112: 4 | B112: BPS Leasing S.A. | F112: 143 | G112: 13993.55
A113: 5 | B113: Caterpillar Financial Services Poland Sp. z o.o. | C113: 0 | D113: 0 | E113: 0 | F113: 0 | G113: 0 | H113: 0
A114: 6 | B114: DE LAGE Landen Leasing Polska S.A.
A115: 7 | B115: Deutsche Leasing Polska S.A.
A116: 8 | B116: Europejski Fundusz Leasingowy S.A. | C116: 135 | D116: 9898.257 | E116: 9898.257 | F116: 15340 | G116: 1270889.3 | H116: 1270889.3
...
