Workbook
Name cx: '[1]Dane Le'!#REF!
Name cx: '[1]Dane Le'!#REF!
Name cx: '[1]Dane Le'!#REF!
Name Excel_BuiltIn_Print_Area_2: #REF!
Name Excel_BuiltIn_Print_Area_2: #REF!
Name Excel_BuiltIn_Print_Area_2: #REF!
Name Excel_BuiltIn_Print_Area_4: #REF!
Name Excel_BuiltIn_Print_Area_4: #REF!
Name Excel_BuiltIn_Print_Area_4: #REF!
Name v: #REF!
Name v: #REF!
Name v: #REF!

Sheet summary_06 2025
B2: Związek Polskiego Leasingu, Warszawa, dnia 07-08-2025
C5: FINANSOWANIE POJAZDÓW LEKKICH | T5: FINANSOWANIE POJAZDÓW LEKKICH - I-II kw. 2025r. Łączne finansowanie leasingiem i pożyczką
J10: 01-03 2025 | N10: 01-03 2025
I11: leasing | J11: =('szacunek rynku_06 2025'!S37+'szacunek rynku_06 2025'!S38)/('szacunek rynku_06 2025'!S9+'szacunek rynku_06 2025'!S10) -> 0.93541413 | M11: osobowe | N11: ='szacunek rynku_06 2025'!S9/SUM('szacunek rynku_06 2025'!N9:S10) -> 0.41601272
I12: pożyczka | J12: =1-J11 -> 0.064585866 | M12: dostawcze | N12: =1-N11 -> 0.58398728
I14: leasing | J14: =('szacunek rynku_06 2025'!N37+'szacunek rynku_06 2025'!N38)/('szacunek rynku_06 2025'!M37+'szacunek rynku_06 2025'!M38)-1 -> 0.085844704 | K14: =('szacunek rynku_06 2025'!S37+'szacunek rynku_06 2025'!S38)/('szacunek rynku_06 2025'!R37+'szacunek rynku_06 2025'!R38)-1 -> 0.067512075
I15: pożyczka | J15: =('szacunek rynku_06 2025'!N64+'szacunek rynku_06 2025'!N65)/('szacunek rynku_06 2025'!M64+'szacunek rynku_06 2025'!M65)-1 -> 0.77500719 | K15: =('szacunek rynku_06 2025'!S64+'szacunek rynku_06 2025'!S65)/('szacunek rynku_06 2025'!R64+'szacunek rynku_06 2025'!R65)-1 -> 0.47230657
I16: L+P | J16: =('szacunek rynku_06 2025'!N10+'szacunek rynku_06 2025'!N9)/('szacunek rynku_06 2025'!M9+'szacunek rynku_06 2025'!M10)-1 -> 0.12297515 | K16: =('szacunek rynku_06 2025'!S10+'szacunek rynku_06 2025'!S9)/('szacunek rynku_06 2025'!R9+'szacunek rynku_06 2025'!R10)-1 -> 0.086810762
C38: FINANSOWANIE POJAZDÓW CIĘŻKICH | T38: FINANSOWANIE POJAZDÓW CIĘŻKICH - I-II kw. 2025r. Łączne finansowanie leasingiem i pożyczką
J43: I kw. 2025 | N43: I kw. 2025
I44: leasing | J44: ='szacunek rynku_06 2025'!S39/'szacunek rynku_06 2025'!S11 -> 0.90653367 | M44: ciężarowe pow. 3.5t | N44: ='szacunek rynku_06 2025'!S12/'szacunek rynku_06 2025'!$S$11 -> 0.22038845
I45: pożyczka | J45: =1-J44 -> 0.093466325 | M45: ciągniki siodłowe | N45: ='szacunek rynku_06 2025'!S13/'szacunek rynku_06 2025'!$S$11 -> 0.46744421
M46: przyczepy/naczepy | N46: ='szacunek rynku_06 2025'!S14/'szacunek rynku_06 2025'!$S$11 -> 0.21778007
M47: autobusy | N47: ='szacunek rynku_06 2025'!S15/'szacunek rynku_06 2025'!$S$11 -> 0.094387266
C73: FINANSOWANIE MASZYN | T73: FINANSOWANIE MASZYN - I-II kw. 2025r. Łączne finansowanie leasingiem i pożyczką
J78: I kw. 2025 | N78: I kw. 2025
I79: leasing | J79: ='szacunek rynku_06 2025'!S45/'szacunek rynku_06 2025'!S17 -> 0.61011014 | M79: sprzęt budowlany | N79: ='szacunek rynku_06 2025'!S18/'szacunek rynku_06 2025'!$S$17 -> 0.18822681
I80: pożyczka | J80: =1-J79 -> 0.38988986 | M80: maszyny rolnicze | N80: ='szacunek rynku_06 2025'!S19/'szacunek rynku_06 2025'!$S$17 -> 0.30036013
M81: pozostałe maszyny | N81: ='szacunek rynku_06 2025'!S20/'szacunek rynku_06 2025'!$S$17 -> 0.51141305
C108: FINANSOWANIE RUCHOMOŚCI
J113: 02/2025 | N113: 02/2025
I114: leasing | J114: ='szacunek rynku_06 2025'!S53/'szacunek rynku_06 2025'!S25 -> 0.8550352 | M114: OSD | N114: =('szacunek rynku_06 2025'!S9+'szacunek rynku_06 2025'!S10)/'szacunek rynku_06 2025'!S25 -> 0.56771792
I115: pożyczka | J115: =1-J114 -> 0.1449648 | M115: TRK | N115: ='szacunek rynku_06 2025'!S11/'szacunek rynku_06 2025'!S25 -> 0.16739085
M116: maszyny | N116: ='szacunek rynku_06 2025'!S17/'szacunek rynku_06 2025'!S25 -> 0.22610711
M117: IT | N117: ='szacunek rynku_06 2025'!S21/'szacunek rynku_06 2025'!S25 -> 0.010547269
M118: pozostałe | N118: =('szacunek rynku_06 2025'!S16+'szacunek rynku_06 2025'!S22+'szacunek rynku_06 2025'!S23)/'szacunek rynku_06 2025'!S25 -> 0.028236853

Sheet szacunek rynku_06 2025
B2: Związek Polskiego Leasingu, Warszawa, dnia 07-08-2025
B4: Łączne finansowanie leasingiem i pożyczką
C6: =C$33 -> I-III 2025 vs I-III 2024 | H6: =H33 -> IV-VI 2025 vs IV-VI 2024 | M6: =M$33 -> VI 2025 vs VI 2024 | R6: =R$33 -> I-VI 2025 vs I-VI 2024
C7: =C$35 -> I-III 2024 | D7: =D$35 -> I-III 2025 | F7: =F$35 -> I-III 25/ I-III 24 | H7: =H$35 -> IV-VI 2024 | I7: =I$35 -> IV-VI 2025 | K7: =K$35 -> IV-VI 2025/ IV-VI 2024 | M7: =M$35 -> VI 2024 | N7: =N$35 -> VI 2025 | P7: =P$35 -> VI 25 / VI 24 | R7: =R$35 -> I-VI 2024 | S7: =S$35 -> I-VI 2025 | U7: =U$35 -> I-VI 25/ I-VI 24
B8: pojazdy | C8: =SUM(C36,C63) -> 19239.393 | D8: =SUM(D36,D63) -> 19703.47 | F8: =IF(C8,D8/C8-1,"") -> 0.024121217 | H8: =SUM(H36,H63) -> 20198.146 | I8: =SUM(I36,I63) -> 22213.819 | K8: =IF(H8,I8/H8-1,"") -> 0.099794944 | M8: =SUM(M36,M63) -> 7071.3336 | N8: =SUM(N36,N63) -> 7768.7657 | P8: =IF(M8,N8/M8-1,"") -> 0.098628094 | R8: =SUM(R36,R63) -> 39437.538 | S8: =SUM(S36,S63) -> 41917.289 | U8: =IF(R8,S8/R8-1,"") -> 0.06287792
B9: osobowe | C9: =SUM(C37,C64) -> 12339.256 | D9: =SUM(D37,D64) -> 13051.95 | F9: =IF(C9,D9/C9-1,"") -> 0.057758289 | H9: =SUM(H37,H64) -> 12977.069 | I9: =SUM(I37,I64) -> 15015.378 | K9: =IF(H9,I9/H9-1,"") -> 0.15707007 | M9: =SUM(M37,M64) -> 4580.5338 | N9: =SUM(N37,N64) -> 5327.8203 | P9: =IF(M9,N9/M9-1,"") -> 0.16314397 | R9: =SUM(R37,R64) -> 25316.325 | S9: =SUM(S37,S64) -> 28067.328 | U9: =IF(R9,S9/R9-1,"") -> 0.1086652
B10: ciężarowe do 3,5 t | C10: =SUM(C38,C65) -> 2019.7261 | D10: =SUM(D38,D65) -> 1957.0033 | F10: =IF(C10,D10/C10-1,"") -> -0.031055083 | H10: =SUM(H38,H65) -> 2106.2252 | I10: =SUM(I38,I65) -> 1973.851 | K10: =IF(H10,I10/H10-1,"") -> -0.062849035 | M10: =SUM(M38,M65) -> 786.42824 | N10: =SUM(N38,N65) -> 699.1447 | P10: =IF(M10,N10/M10-1,"") -> -0.1109873 | R10: =SUM(R38,R65) -> 4125.9513 | S10: =SUM(S38,S65) -> 3930.8543 | U10: =IF(R10,S10/R10-1,"") -> -0.047285333
B11: pojazdy ciężkie | C11: =SUM(C39,C66) -> 4650.7786 | D11: =SUM(D39,D66) -> 4500.5024 | F11: =IF(C11,D11/C11-1,"") -> -0.032312055 | H11: =SUM(H39,H66) -> 4833.6082 | I11: =SUM(I39,I66) -> 4934.1179 | K11: =IF(H11,I11/H11-1,"") -> 0.020793928 | M11: =SUM(M39,M66) -> 1603.1875 | N11: =SUM(N39,N66) -> 1668.2857 | P11: =IF(M11,N11/M11-1,"") -> 0.040605497 | R11: =SUM(R39,R66) -> 9484.3869 | S11: =SUM(S39,S66) -> 9434.6203 | U11: =IF(R11,S11/R11-1,"") -> -0.0052472041
B12: ciężarowe pow. 3,5 t | C12: =SUM(C40,C67) -> 990.88451 | D12: =SUM(D40,D67) -> 1002.7704 | F12: =IF(C12,D12/C12-1,"") -> 0.011995223 | H12: =SUM(H40,H67) -> 1139.2837 | I12: =SUM(I40,I67) -> 1076.511 | K12: =IF(H12,I12/H12-1,"") -> -0.055098392 | M12: =SUM(M40,M67) -> 408.8734 | N12: =SUM(N40,N67) -> 338.28801 | P12: =IF(M12,N12/M12-1,"") -> -0.17263386 | R12: =SUM(R40,R67) -> 2130.1682 | S12: =SUM(S40,S67) -> 2079.2814 | U12: =IF(R12,S12/R12-1,"") -> -0.023888639
B13: ciągniki siodłowe | C13: =SUM(C41,C68) -> 2447.2204 | D13: =SUM(D41,D68) -> 2035.2883 | F13: =IF(C13,D13/C13-1,"") -> -0.16832651 | H13: =SUM(H41,H68) -> 2365.1965 | I13: =SUM(I41,I68) -> 2374.8704 | K13: =IF(H13,I13/H13-1,"") -> 0.0040900797 | M13: =SUM(M41,M68) -> 758.36638 | N13: =SUM(N41,N68) -> 850.38311 | P13: =IF(M13,N13/M13-1,"") -> 0.12133545 | R13: =SUM(R41,R68) -> 4812.4169 | S13: =SUM(S41,S68) -> 4410.1587 | U13: =IF(R13,S13/R13-1,"") -> -0.08358757
B14: naczepy / przyczepy | C14: =SUM(C42,C69) -> 905.65049 | D14: =SUM(D42,D69) -> 1009.5092 | F14: =IF(C14,D14/C14-1,"") -> 0.11467854 | H14: =SUM(H42,H69) -> 988.97041 | I14: =SUM(I42,I69) -> 1045.1631 | K14: =IF(H14,I14/H14-1,"") -> 0.056819349 | M14: =SUM(M42,M69) -> 330.08209 | N14: =SUM(N42,N69) -> 336.51798 | P14: =IF(M14,N14/M14-1,"") -> 0.019497876 | R14: =SUM(R42,R69) -> 1894.6209 | S14: =SUM(S42,S69) -> 2054.6722 | U14: =IF(R14,S14/R14-1,"") -> 0.084476706
B15: autobusy | C15: =SUM(C43,C70) -> 307.02324 | D15: =SUM(D43,D70) -> 452.93454 | F15: =IF(C15,D15/C15-1,"") -> 0.47524516 | H15: =SUM(H43,H70) -> 340.15757 | I15: =SUM(I43,I70) -> 437.57347 | K15: =IF(H15,I15/H15-1,"") -> 0.28638464 | M15: =SUM(M43,M70) -> 105.8656 | N15: =SUM(N43,N70) -> 143.09659 | P15: =IF(M15,N15/M15-1,"") -> 0.35168166 | R15: =SUM(R43,R70) -> 647.18081 | S15: =SUM(S43,S70) -> 890.50802 | U15: =IF(R15,S15/R15-1,"") -> 0.37598026
B16: inne | C16: =SUM(C44,C71) -> 229.63206 | D16: =SUM(D44,D71) -> 194.01428 | F16: =IF(C16,D16/C16-1,"") -> -0.15510804 | H16: =SUM(H44,H71) -> 281.24321 | I16: =SUM(I44,I71) -> 290.47145 | K16: =IF(H16,I16/H16-1,"") -> 0.03281231 | M16: =SUM(M44,M71) -> 101.18408 | N16: =SUM(N44,N71) -> 73.515065 | P16: =IF(M16,N16/M16-1,"") -> -0.27345223 | R16: =SUM(R44,R71) -> 510.87528 | S16: =SUM(S44,S71) -> 484.48574 | U16: =IF(R16,S16/R16-1,"") -> -0.051655545
B17: maszyny | C17: =SUM(C45,C72) -> 5890.582 | D17: =SUM(D45,D72) -> 5838.216 | F17: =IF(C17,D17/C17-1,"") -> -0.0088897821 | H17: =SUM(H45,H72) -> 6690.0513 | I17: =SUM(I45,I72) -> 6905.8184 | K17: =IF(H17,I17/H17-1,"") -> 0.032251933 | M17: =SUM(M45,M72) -> 2362.0765 | N17: =SUM(N45,N72) -> 2472.578 | P17: =IF(M17,N17/M17-1,"") -> 0.046781506 | R17: =SUM(R45,R72) -> 12580.633 | S17: =SUM(S45,S72) -> 12744.034 | U17: =IF(R17,S17/R17-1,"") -> 0.012988305
B18: sprzęt budowlany | C18: =SUM(C46,C73) -> 1197.4787 | D18: =SUM(D46,D73) -> 1111.7398 | F18: =IF(C18,D18/C18-1,"") -> -0.071599515 | H18: =SUM(H46,H73) -> 1447.4872 | I18: =SUM(I46,I73) -> 1287.0292 | K18: =IF(H18,I18/H18-1,"") -> -0.11085285 | M18: =SUM(M46,M73) -> 508.79229 | N18: =SUM(N46,N73) -> 511.70442 | P18: =IF(M18,N18/M18-1,"") -> 0.005723606 | R18: =SUM(R46,R73) -> 2644.9659 | S18: =SUM(S46,S73) -> 2398.769 | U18: =IF(R18,S18/R18-1,"") -> -0.093081342
B19: maszyny rolnicze | C19: =SUM(C47,C74) -> 1322.9768 | D19: =SUM(D47,D74) -> 1677.1947 | F19: =IF(C19,D19/C19-1,"") -> 0.26774308 | H19: =SUM(H47,H74) -> 1571.4186 | I19: =SUM(I47,I74) -> 2150.6052 | K19: =IF(H19,I19/H19-1,"") -> 0.36857565 | M19: =SUM(M47,M74) -> 543.33616 | N19: =SUM(N47,N74) -> 809.66772 | P19: =IF(M19,N19/M19-1,"") -> 0.49017824 | R19: =SUM(R47,R74) -> 2894.3954 | S19: =SUM(S47,S74) -> 3827.7999 | U19: =IF(R19,S19/R19-1,"") -> 0.32248687
... B25: ruchomości - leasing + pożyczka | C25: =SUM(C53,C80) -> 25772.798 | D25: =SUM(D53,D80) -> 26209.569 | F25: =IF(C25,D25/C25-1,"") -> 0.01694698 | H25: =SUM(H53,H80) -> 27629.351 | I25: =SUM(I53,I80) -> 30153.251 | K25: =IF(H25,I25/H25-1,"") -> 0.091348531 | M25: =SUM(M53,M80) -> 9761.6123 | N25: =SUM(N53,N80) -> 10656.556 | P25: =IF(M25,N25/M25-1,"") -> 0.091679905 | R25: =SUM(R53,R80) -> 53402.148 | S25: =SUM(S53,S80) -> 56362.82 | U25: =IF(R25,S25/R25-1,"") -> 0.055441059
B27: nieruchomości | C27: =SUM(C55,C82) -> 219.43938 | D27: =SUM(D55,D82) -> 132.50208 | F27: =IF(C27,D27/C27-1,"") -> -0.39617913 | H27: =SUM(H55,H82) -> 78.388739 | I27: =SUM(I55,I82) -> 233.11707 | K27: =IF(H27,I27/H27-1,"") -> 1.9738592 | R27: =SUM(R55,R82) -> 297.82812 | S27: =SUM(S55,S82) -> 365.61915 | U27: =IF(R27,S27/R27-1,"") -> 0.22761795
B29: łączne finansowanie - leasing + pożyczka | C29: =SUM(C57,C84) -> 25992.237 | D29: =SUM(D57,D84) -> 26342.071 | F29: =IF(C29,D29/C29-1,"") -> 0.013459164 | H29: =SUM(H57,H84) -> 27707.739 | I29: =SUM(I57,I84) -> 30386.368 | K29: =IF(H29,I29/H29-1,"") -> 0.096674394 | R29: =SUM(R57,R84) -> 53699.976 | S29: =SUM(S57,S84) -> 56728.439 | U29: =IF(R29,S29/R29-1,"") -> 0.056395978
B32: Finansowanie leasingiem
C33: I-III 2025 vs I-III 2024 | H33: IV-VI 2025 vs IV-VI 2024 | M33: VI 2025 vs VI 2024 | R33: I-VI 2025 vs I-VI 2024
C35: I-III 2024 | D35: I-III 2025 | F35: I-III 25/ I-III 24 | H35: IV-VI 2024 | I35: IV-VI 2025 | K35: IV-VI 2025/ IV-VI 2024 | M35: VI 2024 | N35: VI 2025 | P35: VI 25 / VI 24 | R35: I-VI 2024 | S35: I-VI 2025 | U35: I-VI 25/ I-VI 24
B36: pojazdy | C36: 18285.76 | D36: 18453.771 | F36: =IF(C36,D36/C36-1,"") -> 0.0091880599 | H36: 18994.576 | I36: 20490.52 | K36: =IF(H36,I36/H36-1,"") -> 0.078756392 | M36: 6643.0039 | N36: 7087.507 | P36: =IF(M36,N36/M36-1,"") -> 0.066912971 | R36: 37280.336 | S36: 38944.291 | U36: =IF(R36,S36/R36-1,"") -> 0.044633582
B37: osobowe | C37: 11836.993 | D37: 12331.349 | F37: =IF(C37,D37/C37-1,"") -> 0.041763644 | H37: 12292.557 | I37: 13857.549 | K37: =IF(H37,I37/H37-1,"") -> 0.1273121 | M37: 4330.3229 | N37: 4851.4789 | P37: =IF(M37,N37/M37-1,"") -> 0.12035037 | R37: 24129.55 | S37: 26188.897 | U37: =IF(R37,S37/R37-1,"") -> 0.085345448
B38: ciężarowe do 3,5 t | C38: 1912.8602 | D38: 1853.208 | F38: =IF(C38,D38/C38-1,"") -> -0.031184851 | H38: 1996.1977 | I38: 1889.4473 | K38: =IF(H38,I38/H38-1,"") -> -0.053476873 | M38: 747.47994 | N38: 662.22646 | P38: =IF(M38,N38/M38-1,"") -> -0.11405454 | R38: 3909.0579 | S38: 3742.6552 | U38: =IF(R38,S38/R38-1,"") -> -0.042568485
B39: pojazdy ciężkie | C39: 4315.3954 | D39: 4081.5883 | F39: =IF(C39,D39/C39-1,"") -> -0.054179767 | H39: 4432.7441 | I39: 4471.2128 | K39: =IF(H39,I39/H39-1,"") -> 0.0086782969 | M39: 1466.3011 | N39: 1507.6024 | P39: =IF(M39,N39/M39-1,"") -> 0.028166991 | R39: 8748.1395 | S39: 8552.801 | U39: =IF(R39,S39/R39-1,"") -> -0.022329142
B40: ciężarowe pow. 3,5 t | C40: 957.23072 | D40: 954.49988 | F40: =IF(C40,D40/C40-1,"") -> -0.0028528529 | H40: 1066.0245 | I40: 1003.8027 | K40: =IF(H40,I40/H40-1,"") -> -0.058368133 | M40: 376.3387 | N40: 305.78805 | P40: =IF(M40,N40/M40-1,"") -> -0.18746582 | R40: 2023.2552 | S40: 1958.3025 | U40: =IF(R40,S40/R40-1,"") -> -0.032103067
B41: ciągniki siodłowe | C41: 2233.2037 | D41: 1805.1816 | F41: =IF(C41,D41/C41-1,"") -> -0.19166282 | H41: 2136.1415 | I41: 2125.7559 | K41: =IF(H41,I41/H41-1,"") -> -0.0048618221 | M41: 689.06746 | N41: 770.4239 | P41: =IF(M41,N41/M41-1,"") -> 0.11806746 | R41: 4369.3451 | S41: 3930.9375 | U41: =IF(R41,S41/R41-1,"") -> -0.10033715
B42: naczepy / przyczepy | C42: 826.21848 | D42: 903.18723 | F42: =IF(C42,D42/C42-1,"") -> 0.093157866 | H42: 896.24555 | I42: 948.51114 | K42: =IF(H42,I42/H42-1,"") -> 0.058316152 | M42: 298.67227 | N42: 304.45836 | P42: =IF(M42,N42/M42-1,"") -> 0.019372709 | R42: 1722.464 | S42: 1851.6984 | U42: =IF(R42,S42/R42-1,"") -> 0.075028761
B43: autobusy | C43: 298.74253 | D43: 418.71961 | F43: =IF(C43,D43/C43-1,"") -> 0.40160697 | H43: 334.33257 | I43: 393.14305 | K43: =IF(H43,I43/H43-1,"") -> 0.17590412 | M43: 102.22268 | N43: 126.93208 | P43: =IF(M43,N43/M43-1,"") -> 0.24172129 | R43: 633.0751 | S43: 811.86266 | U43: =IF(R43,S43/R43-1,"") -> 0.28241129
B44: inne | C44: 220.51197 | D44: 187.62606 | F44: =IF(C44,D44/C44-1,"") -> -0.14913434 | H44: 273.07713 | I44: 272.31184 | K44: =IF(H44,I44/H44-1,"") -> -0.002802468 | M44: 98.899917 | N44: 66.19927 | P44: =IF(M44,N44/M44-1,"") -> -0.33064383 | R44: 493.58909 | S44: 459.9379 | U44: =IF(R44,S44/R44-1,"") -> -0.068176539
B45: maszyny | C45: 4081.0139 | D45: 3638.044 | F45: =IF(C45,D45/C45-1,"") -> -0.1085441 | H45: 4501.8459 | I45: 4137.2207 | K45: =IF(H45,I45/H45-1,"") -> -0.080994611 | M45: 1595.3542 | N45: 1367.3322 | P45: =IF(M45,N45/M45-1,"") -> -0.14292877 | R45: 8582.8598 | S45: 7775.2646 | U45: =IF(R45,S45/R45-1,"") -> -0.094093955
B46: sprzęt budowlany | C46: 976.53231 | D46: 962.40156 | F46: =IF(C46,D46/C46-1,"") -> -0.014470328 | H46: 1178.3022 | I46: 1054.8974 | K46: =IF(H46,I46/H46-1,"") -> -0.10473104 | M46: 407.10891 | N46: 380.92173 | P46: =IF(M46,N46/M46-1,"") -> -0.064324754 | R46: 2154.8345 | S46: 2017.2989 | U46: =IF(R46,S46/R46-1,"") -> -0.063826505
B47: maszyny rolnicze | C47: 349.40774 | D47: 270.55064 | F47: =IF(C47,D47/C47-1,"") -> -0.2256879 | H47: 353.41539 | I47: 365.77973 | K47: =IF(H47,I47/H47-1,"") -> 0.034985269 | M47: 113.15301 | N47: 122.48646 | P47: =IF(M47,N47/M47-1,"") -> 0.082485229 | R47: 702.82313 | S47: 636.33037 | U47: =IF(R47,S47/R47-1,"") -> -0.094608107
... B53: ruchomości - leasing | C53: 22934.88 | D53: 22682.752 | F53: =IF(C53,D53/C53-1,"") -> -0.010993233 | H53: 24153.495 | I53: 25509.443 | K53: =IF(H53,I53/H53-1,"") -> 0.056138783 | M53: 8548.4307 | N53: 8839.8687 | P53: =IF(M53,N53/M53-1,"") -> 0.034092572 | R53: 47088.375 | S53: 48192.195 | U53: =IF(R53,S53/R53-1,"") -> 0.023441441
B55: nieruchomości | C55: 212.72559 | D55: 118.40735 | F55: =IF(C55,D55/C55-1,"") -> -0.44337985 | H55: 72.114832 | I55: 216.34087 | K55: =IF(H55,I55/H55-1,"") -> 1.9999497 | R55: 284.84042 | S55: 334.74822 | U55: =IF(R55,S55/R55-1,"") -> 0.17521319
B57: łączne finansowanie - leasing | C57: 23147.606 | D57: 22801.159 | F57: =IF(C57,D57/C57-1,"") -> -0.014966849 | H57: 24225.61 | I57: 25725.784 | K57: =IF(H57,I57/H57-1,"") -> 0.061925122 | R57: 47373.216 | S57: 48526.943 | U57: =IF(R57,S57/R57-1,"") -> 0.024353997
B60: Finasowanie pożyczką
C61: =C$33 -> I-III 2025 vs I-III 2024 | H61: =H$33 -> IV-VI 2025 vs IV-VI 2024 | M61: =M$33 -> VI 2025 vs VI 2024 | R61: =R$33 -> I-VI 2025 vs I-VI 2024
C62: =C$35 -> I-III 2024 | D62: =D$35 -> I-III 2025 | F62: =F$35 -> I-III 25/ I-III 24 | H62: =H$35 -> IV-VI 2024 | I62: =I$35 -> IV-VI 2025 | K62: =K$35 -> IV-VI 2025/ IV-VI 2024 | M62: =M$35 -> VI 2024 | N62: =N$35 -> VI 2025 | P62: =P$35 -> VI 25 / VI 24 | R62: =R$35 -> I-VI 2024 | S62: =S$35 -> I-VI 2025 | U62: =U$35 -> I-VI 25/ I-VI 24
B63: pojazdy | C63: 953.6325 | D63: 1249.6994 | F63: =IF(C63,D63/C63-1,"") -> 0.31046226 | H63: 1203.5695 | I63: 1723.2981 | K63: =IF(H63,I63/H63-1,"") -> 0.43182262 | M63: 428.32972 | N63: 681.25875 | P63: =IF(M63,N63/M63-1,"") -> 0.59050075 | R63: 2157.202 | S63: 2972.9975 | U63: =IF(R63,S63/R63-1,"") -> 0.37817294
B64: osobowe | C64: 502.2633 | D64: 720.60167 | F64: =IF(C64,D64/C64-1,"") -> 0.43470899 | H64: 684.51178 | I64: 1157.8296 | K64: =IF(H64,I64/H64-1,"") -> 0.69146771 | M64: 250.21089 | N64: 476.34141 | P64: =IF(M64,N64/M64-1,"") -> 0.90375973 | R64: 1186.7751 | S64: 1878.4312 | U64: =IF(R64,S64/R64-1,"") -> 0.58280307
B65: ciężarowe do 3,5 t | C65: 106.86587 | D65: 103.79537 | F65: =IF(C65,D65/C65-1,"") -> -0.028732276 | H65: 110.02754 | I65: 84.403727 | K65: =IF(H65,I65/H65-1,"") -> -0.23288544 | M65: 38.948309 | N65: 36.91824 | P65: =IF(M65,N65/M65-1,"") -> -0.052122129 | R65: 216.89341 | S65: 188.19909 | U65: =IF(R65,S65/R65-1,"") -> -0.13229683
B66: pojazdy ciężkie | C66: 335.38324 | D66: 418.91414 | F66: =IF(C66,D66/C66-1,"") -> 0.24906105 | H66: 400.86412 | I66: 462.90515 | K66: =IF(H66,I66/H66-1,"") -> 0.15476823 | M66: 136.88637 | N66: 160.6833 | P66: =IF(M66,N66/M66-1,"") -> 0.17384444 | R66: 736.24736 | S66: 881.81929 | U66: =IF(R66,S66/R66-1,"") -> 0.1977215
B67: ciężarowe pow. 3,5 t | C67: 33.65379 | D67: 48.270508 | F67: =IF(C67,D67/C67-1,"") -> 0.43432609 | H67: 73.259188 | I67: 72.708349 | K67: =IF(H67,I67/H67-1,"") -> -0.0075190494 | M67: 32.534707 | N67: 32.499957 | P67: =IF(M67,N67/M67-1,"") -> -0.001068092 | R67: 106.91298 | S67: 120.97886 | U67: =IF(R67,S67/R67-1,"") -> 0.13156382
B68: ciągniki siodłowe | C68: 214.01673 | D68: 230.10677 | F68: =IF(C68,D68/C68-1,"") -> 0.075181194 | H68: 229.05507 | I68: 249.11445 | K68: =IF(H68,I68/H68-1,"") -> 0.087574495 | M68: 69.298923 | N68: 79.959207 | P68: =IF(M68,N68/M68-1,"") -> 0.15383043 | R68: 443.0718 | S68: 479.22122 | U68: =IF(R68,S68/R68-1,"") -> 0.081588166
B69: naczepy / przyczepy | C69: 79.43201 | D69: 106.32194 | F69: =IF(C69,D69/C69-1,"") -> 0.33852759 | H69: 92.724865 | I69: 96.651929 | K69: =IF(H69,I69/H69-1,"") -> 0.04235178 | M69: 31.409819 | N69: 32.059628 | P69: =IF(M69,N69/M69-1,"") -> 0.020688067 | R69: 172.15688 | S69: 202.97387 | U69: =IF(R69,S69/R69-1,"") -> 0.17900528
B70: autobusy | C70: 8.2807064 | D70: 34.21493 | F70: =IF(C70,D70/C70-1,"") -> 3.1318854 | H70: 5.8249988 | I70: 44.430425 | K70: =IF(H70,I70/H70-1,"") -> 6.6275424 | M70: 3.6429177 | N70: 16.164509 | P70: =IF(M70,N70/M70-1,"") -> 3.4372424 | R70: 14.105705 | S70: 78.645355 | U70: =IF(R70,S70/R70-1,"") -> 4.5754288
B71: inne | C71: 9.1200994 | D71: 6.3882254 | F71: =IF(C71,D71/C71-1,"") -> -0.29954433 | H71: 8.1660868 | I71: 18.159616 | K71: =IF(H71,I71/H71-1,"") -> 1.2237844 | M71: 2.2841588 | N71: 7.3157945 | P71: =IF(M71,N71/M71-1,"") -> 2.2028396 | R71: 17.286186 | S71: 24.547842 | U71: =IF(R71,S71/R71-1,"") -> 0.4200843
B72: maszyny | C72: 1809.568 | D72: 2200.172 | F72: =IF(C72,D72/C72-1,"") -> 0.21585482 | H72: 2188.2054 | I72: 2768.5978 | K72: =IF(H72,I72/H72-1,"") -> 0.26523668 | M72: 766.72233 | N72: 1105.2458 | P72: =IF(M72,N72/M72-1,"") -> 0.44152034 | R72: 3997.7734 | S72: 4968.7698 | U72: =IF(R72,S72/R72-1,"") -> 0.24288428
B73: sprzęt budowlany | C73: 220.9464 | D73: 149.33825 | F73: =IF(C73,D73/C73-1,"") -> -0.32409739 | H73: 269.18506 | I73: 232.13178 | K73: =IF(H73,I73/H73-1,"") -> -0.13764981 | M73: 101.68338 | N73: 130.78269 | P73: =IF(M73,N73/M73-1,"") -> 0.28617564 | R73: 490.13146 | S73: 381.47004 | U73: =IF(R73,S73/R73-1,"") -> -0.22169853
B74: maszyny rolnicze | C74: 973.56905 | D74: 1406.644 | F74: =IF(C74,D74/C74-1,"") -> 0.44483232 | H74: 1218.0032 | I74: 1784.8255 | K74: =IF(H74,I74/H74-1,"") -> 0.46537012 | M74: 430.18315 | N74: 687.18126 | P74: =IF(M74,N74/M74-1,"") -> 0.59741556 | R74: 2191.5722 | S74: 3191.4695 | U74: =IF(R74,S74/R74-1,"") -> 0.45624655
... B80: ruchomości - pożyczka | C80: 2837.9176 | D80: 3526.8171 | F80: =IF(C80,D80/C80-1,"") -> 0.24274826 | H80: 3475.8552 | I80: 4643.808 | K80: =IF(H80,I80/H80-1,"") -> 0.33601881 | M80: 1213.1816 | N80: 1816.6873 | P80: =IF(M80,N80/M80-1,"") -> 0.49745702 | R80: 6313.7728 | S80: 8170.6251 | U80: =IF(R80,S80/R80-1,"") -> 0.29409552
B82: nieruchomości | C82: 6.7137936 | D82: 14.09473 | F82: =IF(C82,D82/C82-1,"") -> 1.0993689 | H82: 6.2739077 | I82: 16.7762 | K82: =IF(H82,I82/H82-1,"") -> 1.6739634 | R82: 12.987701 | S82: 30.870929 | U82: =IF(R82,S82/R82-1,"") -> 1.3769356
B84: łączne finansowanie - pożyczka | C84: =C82+C80 -> 2844.6314 | D84: =D82+D80 -> 3540.9119 | F84: =IF(C84,D84/C84-1,"") -> 0.24477003 | H84: 3482.1292 | I84: 4660.5842 | K84: =IF(H84,I84/H84-1,"") -> 0.33842945 | R84: 6326.7605 | S84: 8201.4961 | U84: =IF(R84,S84/R84-1,"") -> 0.2963184
C90: =S35 -> I-VI 2025 | H90: =R35 -> I-VI 2024 | M90: zmiana r/r
C92: Leasing | D92: Pożyczka | F92: Leasing + Pożyczka | H92: Leasing | I92: Pożyczka | K92: Leasing + Pożyczka | M92: Leasing | N92: Pożyczka | P92: Leasing + Pożyczka
B94: POJAZDY | C94: =S36 -> 38944.291 | D94: =S63 -> 2972.9975 | F94: =SUM(F95:F96,F98:F102) -> 41917.289 | H94: =R36 -> 37280.336 | I94: =R63 -> 2157.202 | K94: =SUM(K95:K96,K98:K102) -> 39437.538 | M94: =IFERROR(C94/H94-1,"") -> 0.044633582 | N94: =IFERROR(D94/I94-1,"") -> 0.37817294 | P94: =IFERROR(F94/K94-1,"") -> 0.06287792
B95: osobowe | C95: =S37 -> 26188.897 | D95: =S64 -> 1878.4312 | F95: =C95+D95 -> 28067.328 | H95: =R37 -> 24129.55 | I95: =R64 -> 1186.7751 | K95: =H95+I95 -> 25316.325 | M95: =IFERROR(C95/H95-1,"") -> 0.085345448 | N95: =IFERROR(D95/I95-1,"") -> 0.58280307 | P95: =IFERROR(F95/K95-1,"") -> 0.1086652
B96: ciężarowe do 3,5 t | C96: =S38 -> 3742.6552 | D96: =S65 -> 188.19909 | F96: =C96+D96 -> 3930.8543 | H96: =R38 -> 3909.0579 | I96: =R65 -> 216.89341 | K96: =H96+I96 -> 4125.9513 | M96: =IFERROR(C96/H96-1,"") -> -0.042568485 | N96: =IFERROR(D96/I96-1,"") -> -0.13229683 | P96: =IFERROR(F96/K96-1,"") -> -0.047285333
B97: pojazdy ciężkie | C97: =S39 -> 8552.801 | D97: =S66 -> 881.81929 | F97: =SUM(F98:F101) -> 9434.6203 | H97: =R39 -> 8748.1395 | I97: =R66 -> 736.24736 | K97: =SUM(K98:K101) -> 9484.3869 | M97: =IFERROR(C97/H97-1,"") -> -0.022329142 | N97: =IFERROR(D97/I97-1,"") -> 0.1977215 | P97: =IFERROR(F97/K97-1,"") -> -0.0052472041
B98: ciężarowe pow. 3,5 t | C98: =S40 -> 1958.3025 | D98: =S67 -> 120.97886 | F98: =C98+D98 -> 2079.2814 | H98: =R40 -> 2023.2552 | I98: =R67 -> 106.91298 | K98: =H98+I98 -> 2130.1682 | M98: =IFERROR(C98/H98-1,"") -> -0.032103067 | N98: =IFERROR(D98/I98-1,"") -> 0.13156382 | P98: =IFERROR(F98/K98-1,"") -> -0.023888639
B99: ciągniki siodłowe | C99: =S41 -> 3930.9375 | D99: =S68 -> 479.22122 | F99: =C99+D99 -> 4410.1587 | H99: =R41 -> 4369.3451 | I99: =R68 -> 443.0718 | K99: =H99+I99 -> 4812.4169 | M99: =IFERROR(C99/H99-1,"") -> -0.10033715 | N99: =IFERROR(D99/I99-1,"") -> 0.081588166 | P99: =IFERROR(F99/K99-1,"") -> -0.08358757
B100: naczepy / przyczepy | C100: =S42 -> 1851.6984 | D100: =S69 -> 202.97387 | F100: =C100+D100 -> 2054.6722 | H100: =R42 -> 1722.464 | I100: =R69 -> 172.15688 | K100: =H100+I100 -> 1894.6209 | M100: =IFERROR(C100/H100-1,"") -> 0.075028761 | N100: =IFERROR(D100/I100-1,"") -> 0.17900528 | P100: =IFERROR(F100/K100-1,"") -> 0.084476706
B101: autobusy | C101: =S43 -> 811.86266 | D101: =S70 -> 78.645355 | F101: =C101+D101 -> 890.50802 | H101: =R43 -> 633.0751 | I101: =R70 -> 14.105705 | K101: =H101+I101 -> 647.18081 | M101: =IFERROR(C101/H101-1,"") -> 0.28241129 | N101: =IFERROR(D101/I101-1,"") -> 4.5754288 | P101: =IFERROR(F101/K101-1,"") -> 0.37598026
B102: inne | C102: =S44 -> 459.9379 | D102: =S71 -> 24.547842 | F102: =C102+D102 -> 484.48574 | H102: =R44 -> 493.58909 | I102: =R71 -> 17.286186 | K102: =H102+I102 -> 510.87528 | M102: =IFERROR(C102/H102-1,"") -> -0.068176539 | N102: =IFERROR(D102/I102-1,"") -> 0.4200843 | P102: =IFERROR(F102/K102-1,"") -> -0.051655545
B103: MiU | C103: =S45 -> 7775.2646 | D103: =S72 -> 4968.7698 | F103: =SUM(F104:F118) -> 12744.034 | H103: =R45 -> 8582.8598 | I103: =R72 -> 3997.7734 | K103: =SUM(K104:K118) -> 12580.633 | M103: =IFERROR(C103/H103-1,"") -> -0.094093955 | N103: =IFERROR(D103/I103-1,"") -> 0.24288428 | P103: =IFERROR(F103/K103-1,"") -> 0.012988305
B104: Sprzęt Budowlany | C104: 2017.2989 | D104: 381.47004 | F104: =C104+D104 -> 2398.769 | H104: 2154.7167 | I104: 490.13146 | K104: =H104+I104 -> 2644.8482 | M104: =IFERROR(C104/H104-1,"") -> -0.063775346 | N104: =IFERROR(D104/I104-1,"") -> -0.22169853 | P104: =IFERROR(F104/K104-1,"") -> -0.093040966
B105: Maszyny Rolnicze | C105: 636.33037 | D105: 3191.4695 | F105: =C105+D105 -> 3827.7999 | H105: 702.82313 | I105: 2191.5722 | K105: =H105+I105 -> 2894.3954 | M105: =IFERROR(C105/H105-1,"") -> -0.094608107 | N105: =IFERROR(D105/I105-1,"") -> 0.45624655 | P105: =IFERROR(F105/K105-1,"") -> 0.32248687
B106: Maszyny Poligraf. | C106: 207.47464 | D106: 136.01144 | F106: =C106+D106 -> 343.48608 | H106: 248.49938 | I106: 43.1838 | K106: =H106+I106 -> 291.68318 | M106: =IFERROR(C106/H106-1,"") -> -0.16508993 | N106: =IFERROR(D106/I106-1,"") -> 2.1495941 | P106: =IFERROR(F106/K106-1,"") -> 0.17759987
B107: maszyny do produkcji tworzyw sztucznych | C107: 413.26768 | D107: 43.385599 | F107: =C107+D107 -> 456.65328 | H107: 383.77478 | I107: 77.990104 | K107: =H107+I107 -> 461.76488 | M107: =IFERROR(C107/H107-1,"") -> 0.076849508 | N107: =IFERROR(D107/I107-1,"") -> -0.44370379 | P107: =IFERROR(F107/K107-1,"") -> -0.011069707
B108: maszyny i urządzenia do obróbki metali | C108: 695.61929 | D108: 107.622 | F108: =C108+D108 -> 803.24129 | H108: 835.58632 | I108: 126.63843 | K108: =H108+I108 -> 962.22475 | M108: =IFERROR(C108/H108-1,"") -> -0.16750757 | N108: =IFERROR(D108/I108-1,"") -> -0.15016321 | P108: =IFERROR(F108/K108-1,"") -> -0.16522487
B109: maszyny dla przemysłu spożywczego | C109: 315.60057 | D109: 112.21615 | F109: =C109+D109 -> 427.81673 | H109: 380.14367 | I109: 47.037989 | K109: =H109+I109 -> 427.18166 | M109: =IFERROR(C109/H109-1,"") -> -0.16978607 | N109: =IFERROR(D109/I109-1,"") -> 1.3856495 | P109: =IFERROR(F109/K109-1,"") -> 0.0014866368
B110: Sprzęt Medyczny | C110: 255.27111 | D110: 418.51929 | F110: =C110+D110 -> 673.7904 | H110: 235.90026 | I110: 464.22226 | K110: =H110+I110 -> 700.12252 | M110: =IFERROR(C110/H110-1,"") -> 0.082114565 | N110: =IFERROR(D110/I110-1,"") -> -0.098450611 | P110: =IFERROR(F110/K110-1,"") -> -0.037610728
B111: Sprzęt Gastronom. | C111: 124.92526 | D111: 11.295832 | F111: =C111+D111 -> 136.22109 | H111: 99.886109 | I111: 9.7373229 | K111: =H111+I111 -> 109.62343 | M111: =IFERROR(C111/H111-1,"") -> 0.25067699 | N111: =IFERROR(D111/I111-1,"") -> 0.16005516 | P111: =IFERROR(F111/K111-1,"") -> 0.24262749
B112: Wózki Widłowe | C112: 550.48026 | D112: 15.546173 | F112: =C112+D112 -> 566.02643 | H112: 707.31011 | I112: 12.930572 | K112: =H112+I112 -> 720.24068 | M112: =IFERROR(C112/H112-1,"") -> -0.22172714 | N112: =IFERROR(D112/I112-1,"") -> 0.20228043 | P112: =IFERROR(F112/K112-1,"") -> -0.21411488
B113: magazyny energii | C113: 3.478437 | D113: 1.9693444 | F113: =C113+D113 -> 5.4477814 | H113: 4.8136004 | I113: 3.6148077 | K113: =H113+I113 -> 8.4284081 | M113: =IFERROR(C113/H113-1,"") -> -0.27737312 | N113: =IFERROR(D113/I113-1,"") -> -0.45520079 | P113: =IFERROR(F113/K113-1,"") -> -0.35364052
B114: pompy ciepła | C114: 3.536393 | D114: 0.80169556 | F114: =C114+D114 -> 4.3380885 | H114: 5.2791504 | I114: 2.1268805 | K114: =H114+I114 -> 7.4060309 | M114: =IFERROR(C114/H114-1,"") -> -0.33012081 | N114: =IFERROR(D114/I114-1,"") -> -0.62306507 | P114: =IFERROR(F114/K114-1,"") -> -0.4142492
B115: fotowoltaika | C115: 113.80857 | D115: 91.687562 | F115: =C115+D115 -> 205.49613 | H115: 180.64606 | I115: 125.38083 | K115: =H115+I115 -> 306.02688 | M115: =IFERROR(C115/H115-1,"") -> -0.3699914 | N115: =IFERROR(D115/I115-1,"") -> -0.26872741 | P115: =IFERROR(F115/K115-1,"") -> -0.32850301
... B118: inne MiU | C118: 2429.8346 | D118: 455.98014 | F118: =C118+D118 -> 2885.8148 | H118: 2640.1236 | I118: 401.28332 | K118: =H118+I118 -> 3041.4069 | M118: =IFERROR(C118/H118-1,"") -> -0.079651176 | N118: =IFERROR(D118/I118-1,"") -> 0.13630474 | P118: =IFERROR(F118/K118-1,"") -> -0.051157945
B119: IT | C119: =S49 -> 485.90866 | D119: =S76 -> 108.56515 | F119: =SUM(F120:F122) -> 594.47381 | H119: =R49 -> 381.96611 | I119: =R76 -> 67.350893 | K119: =SUM(K120:K122) -> 449.31701 | M119: =IFERROR(C119/H119-1,"") -> 0.27212505 | N119: =IFERROR(D119/I119-1,"") -> 0.61193333 | P119: =IFERROR(F119/K119-1,"") -> 0.323061
B120: Sprzęt | C120: 395.30483 | D120: 85.804284 | F120: =C120+D120 -> 481.10911 | H120: 289.31582 | I120: 50.876147 | K120: =H120+I120 -> 340.19196 | M120: =IFERROR(C120/H120-1,"") -> 0.36634365 | N120: =IFERROR(D120/I120-1,"") -> 0.68653268 | P120: =IFERROR(F120/K120-1,"") -> 0.41422833
B121: Oprogram. | C121: 31.708623 | D121: 20.353031 | F121: =C121+D121 -> 52.061654 | H121: 22.012735 | I121: 14.764393 | K121: =H121+I121 -> 36.777128 | M121: =IFERROR(C121/H121-1,"") -> 0.4404672 | N121: =IFERROR(D121/I121-1,"") -> 0.37852135 | P121: =IFERROR(F121/K121-1,"") -> 0.41559867
B122: inne IT | C122: 58.895208 | D122: 2.4078351 | F122: =C122+D122 -> 61.303043 | H122: 70.637561 | I122: 1.7103538 | K122: =H122+I122 -> 72.347915 | M122: =IFERROR(C122/H122-1,"") -> -0.16623384 | N122: =IFERROR(D122/I122-1,"") -> 0.40779943 | P122: =IFERROR(F122/K122-1,"") -> -0.15266331
B123: POZOSTAŁE ŚRODKI TRANSPORTU | C123: =S50 -> 779.52185 | D123: =S77 -> 90.242465 | F123: =SUM(F124:F126) -> 869.76431 | H123: =R50 -> 615.96039 | I123: =R77 -> 73.629785 | K123: =SUM(K124:K126) -> 689.59017 | M123: =IFERROR(C123/H123-1,"") -> 0.26553893 | N123: =IFERROR(D123/I123-1,"") -> 0.22562445 | P123: =IFERROR(F123/K123-1,"") -> 0.26127713
B124: Powietrzne | C124: 106.65177 | D124: 4.0076847 | F124: =C124+D124 -> 110.65945 | H124: 216.25999 | I124: 20.763015 | K124: =H124+I124 -> 237.02301 | M124: =IFERROR(C124/H124-1,"") -> -0.50683544 | N124: =IFERROR(D124/I124-1,"") -> -0.80697964 | P124: =IFERROR(F124/K124-1,"") -> -0.53312782
B125: Wodne | C125: 151.3647 | D125: 48.133177 | F125: =C125+D125 -> 199.49788 | H125: 157.33179 | I125: 26.990013 | K125: =H125+I125 -> 184.3218 | M125: =IFERROR(C125/H125-1,"") -> -0.037926774 | N125: =IFERROR(D125/I125-1,"") -> 0.78336993 | P125: =IFERROR(F125/K125-1,"") -> 0.082334682
B126: Kolejowe | C126: 521.50538 | D126: 38.101603 | F126: =C126+D126 -> 559.60698 | H126: 242.3686 | I126: 25.876758 | K126: =H126+I126 -> 268.24536 | M126: =IFERROR(C126/H126-1,"") -> 1.1517035 | N126: =IFERROR(D126/I126-1,"") -> 0.4724257 | P126: =IFERROR(F126/K126-1,"") -> 1.0861758
B127: INNE RUCHOMOŚCI | C127: =S51 -> 207.20833 | D127: =S78 -> 30.050284 | F127: =C127+D127 -> 237.25861 | H127: =R51 -> 227.25268 | I127: =R78 -> 17.816676 | K127: =H127+I127 -> 245.06936 | M127: =IFERROR(C127/H127-1,"") -> -0.088202943 | N127: =IFERROR(D127/I127-1,"") -> 0.68663809 | P127: =IFERROR(F127/K127-1,"") -> -0.031871578
B128: RUCHOMOŚCI | C128: =C94+C103+C119+C123+C127 -> 48192.195 | D128: =D94+D103+D119+D123+D127 -> 8170.6251 | F128: =SUM(F127,F123,F119,F103,F94) -> 56362.82 | H128: =H94+H103+H119+H123+H127 -> 47088.375 | I128: =I94+I103+I119+I123+I127 -> 6313.7728 | K128: =SUM(K127,K123,K119,K103,K94) -> 53402.148 | M128: =IFERROR(C128/H128-1,"") -> 0.023441441 | N128: =IFERROR(D128/I128-1,"") -> 0.29409552 | P128: =IFERROR(F128/K128-1,"") -> 0.055441059
B129: NIERUCHOMOŚCI | C129: =S55 -> 334.74822 | D129: =S82 -> 30.870929 | F129: =S27 -> 365.61915 | H129: =R55 -> 284.84042 | I129: =R82 -> 12.987701 | K129: =R27 -> 297.82812 | M129: =IFERROR(C129/H129-1,"") -> 0.17521319 | N129: =IFERROR(D129/I129-1,"") -> 1.3769356 | P129: =IFERROR(F129/K129-1,"") -> 0.22761795
B130: budynki przemysłowe | F130: 25.785755 | K130: 13.225869 | M130: =IFERROR(C130/H130-1,"") | N130: =IFERROR(D130/I130-1,"") | P130: =IFERROR(F130/K130-1,"") -> 0.94964538
B131: obiekty handlowe i usługowe | F131: 165.93745 | K131: 243.58042 | M131: =IFERROR(C131/H131-1,"") | N131: =IFERROR(D131/I131-1,"") | P131: =IFERROR(F131/K131-1,"") -> -0.31875703
B132: obiekty biurowe | F132: 136.71948 | K132: 28.637918 | M132: =IFERROR(C132/H132-1,"") | N132: =IFERROR(D132/I132-1,"") | P132: =IFERROR(F132/K132-1,"") -> 3.7740718
B133: hotele i obiekty rekreacyjne | F133: 0 | K133: 0 | M133: =IFERROR(C133/H133-1,"") | N133: =IFERROR(D133/I133-1,"") | P133: =IFERROR(F133/K133-1,"")
B134: inne | F134: 37.176471 | K134: 12.383915 | M134: =IFERROR(C134/H134-1,"") | N134: =IFERROR(D134/I134-1,"") | P134: =IFERROR(F134/K134-1,"") -> 2.0019967
B135: OGÓŁEM RUCHOMOŚCI I NIERUCHOMOŚCI | C135: =C128+C129 -> 48526.943 | D135: =D128+D129 -> 8201.4961 | F135: =F129+F128 -> 56728.439 | H135: =H128+H129 -> 47373.216 | I135: =I128+I129 -> 6326.7605 | K135: =K128+K129 -> 53699.976 | M135: =IFERROR(C135/H135-1,"") -> 0.024353997 | N135: =IFERROR(D135/I135-1,"") -> 0.2963184 | P135: =IFERROR(F135/K135-1,"") -> 0.056395978
