Workbook
Name cx: '[1]Dane Le'!#REF!
Name cx: '[1]Dane Le'!#REF!
Name cx: '[1]Dane Le'!#REF!
Name Excel_BuiltIn_Print_Area_2: #REF!
Name Excel_BuiltIn_Print_Area_2: #REF!
Name Excel_BuiltIn_Print_Area_2: #REF!
Name Excel_BuiltIn_Print_Area_4: #REF!
Name Excel_BuiltIn_Print_Area_4: #REF!
Name Excel_BuiltIn_Print_Area_4: #REF!
Name v: #REF!
Name v: #REF!
Name v: #REF!

Sheet summary_06 2025
B2: Związek Polskiego Leasingu, Warszawa, dnia 07-08-2025
C5: FINANSOWANIE POJAZDÓW LEKKICH | T5: FINANSOWANIE POJAZDÓW LEKKICH - I-II kw. 2025r. Łączne finansowanie leasingiem i pożyczką
J10: 01-03 2025 | N10: 01-03 2025
I11: leasing | J11: =('szacunek rynku_06 2025'!S37+'szacunek rynku_06 2025'!S38)/('szacunek rynku_06 2025'!S9+'szacunek rynku_06 2025'!S10) -> 0.93541413 | M11: osobowe | N11: ='szacunek rynku_06 2025'!S9/SUM('szacunek rynku_06 2025'!N9:S10) -> 0.41601272
I12: pożyczka | J12: =1-J11 -> 0.064585866 | M12: dostawcze | N12: =1-N11 -> 0.58398728
I14: leasing | J14: =('szacunek rynku_06 2025'!N37+'szacunek rynku_06 2025'!N38)/('szacunek rynku_06 2025'!M37+'szacunek rynku_06 2025'!M38)-1 -> 0.085844704 | K14: =('szacunek rynku_06 2025'!S37+'szacunek rynku_06 2025'!S38)/('szacunek rynku_06 2025'!R37+'szacunek rynku_06 2025'!R38)-1 -> 0.067512075
I15: pożyczka | J15: =('szacunek rynku_06 2025'!N64+'szacunek rynku_06 2025'!N65)/('szacunek rynku_06 2025'!M64+'szacunek rynku_06 2025'!M65)-1 -> 0.77500719 | K15: =('szacunek rynku_06 2025'!S64+'szacunek rynku_06 2025'!S65)/('szacunek rynku_06 2025'!R64+'szacunek rynku_06 2025'!R65)-1 -> 0.47230657
I16: L+P | J16: =('szacunek rynku_06 2025'!N10+'szacunek rynku_06 2025'!N9)/('szacunek rynku_06 2025'!M9+'szacunek rynku_06 2025'!M10)-1 -> 0.12297515 | K16: =('szacunek rynku_06 2025'!S10+'szacunek rynku_06 2025'!S9)/('szacunek rynku_06 2025'!R9+'szacunek rynku_06 2025'!R10)-1 -> 0.086810762
C38: FINANSOWANIE POJAZDÓW CIĘŻKICH | T38: FINANSOWANIE POJAZDÓW CIĘŻKICH - I-II kw. 2025r. Łączne finansowanie leasingiem i pożyczką
J43: I kw. 2025 | N43: I kw. 2025
I44: leasing | J44: ='szacunek rynku_06 2025'!S39/'szacunek rynku_06 2025'!S11 -> 0.90653367 | M44: ciężarowe pow. 3.5t | N44: ='szacunek rynku_06 2025'!S12/'szacunek rynku_06 2025'!$S$11 -> 0.22038845
I45: pożyczka | J45: =1-J44 -> 0.093466325 | M45: ciągniki siodłowe | N45: ='szacunek rynku_06 2025'!S13/'szacunek rynku_06 2025'!$S$11 -> 0.46744421
M46: przyczepy/naczepy | N46: ='szacunek rynku_06 2025'!S14/'szacunek rynku_06 2025'!$S$11 -> 0.21778007
M47: autobusy | N47: ='szacunek rynku_06 2025'!S15/'szacunek rynku_06 2025'!$S$11 -> 0.094387266
C73: FINANSOWANIE MASZYN | T73: FINANSOWANIE MASZYN - I-II kw. 2025r. Łączne finansowanie leasingiem i pożyczką
J78: I kw. 2025 | N78: I kw. 2025
I79: leasing | J79: ='szacunek rynku_06 2025'!S45/'szacunek rynku_06 2025'!S17 -> 0.61011014 | M79: sprzęt budowlany | N79: ='szacunek rynku_06 2025'!S18/'szacunek rynku_06 2025'!$S$17 -> 0.18822681
I80: pożyczka | J80: =1-J79 -> 0.38988986 | M80: maszyny rolnicze | N80: ='szacunek rynku_06 2025'!S19/'szacunek rynku_06 2025'!$S$17 -> 0.30036013
M81: pozostałe maszyny | N81: ='szacunek rynku_06 2025'!S20/'szacunek rynku_06 2025'!$S$17 -> 0.51141305
C108: FINANSOWANIE RUCHOMOŚCI
J113: 02/2025 | N113: 02/2025
I114: leasing | J114: ='szacunek rynku_06 2025'!S53/'szacunek rynku_06 2025'!S25 -> 0.8550352 | M114: OSD | N114: =('szacunek rynku_06 2025'!S9+'szacunek rynku_06 2025'!S10)/'szacunek rynku_06 2025'!S25 -> 0.56771792
I115: pożyczka | J115: =1-J114 -> 0.1449648 | M115: TRK | N115: ='szacunek rynku_06 2025'!S11/'szacunek rynku_06 2025'!S25 -> 0.16739085
M116: maszyny | N116: ='szacunek rynku_06 2025'!S17/'szacunek rynku_06 2025'!S25 -> 0.22610711
M117: IT | N117: ='szacunek rynku_06 2025'!S21/'szacunek rynku_06 2025'!S25 -> 0.010547269
M118: pozostałe | N118: =('szacunek rynku_06 2025'!S16+'szacunek rynku_06 2025'!S22+'szacunek rynku_06 2025'!S23)/'szacunek rynku_06 2025'!S25 -> 0.028236853

Sheet szacunek rynku_06 2025
B2: Związek Polskiego Leasingu, Warszawa, dnia 07-08-2025
B4: Łączne finansowanie leasingiem i pożyczką
C6: =C$33 -> I-III 2025 vs I-III 2024 | H6: =H33 -> IV-VI 2025 vs IV-VI 2024 | M6: =M$33 -> VI 2025 vs VI 2024 | R6: =R$33 -> I-VI 2025 vs I-VI 2024
C7: =C$35 -> I-III 2024 | D7: =D$35 -> I-III 2025 | F7: =F$35 -> I-III 25/ I-III 24 | H7: =H$35 -> IV-VI 2024 | I7: =I$35 -> IV-VI 2025 | K7: =K$35 -> IV-VI 2025/ IV-VI 2024 | M7: =M$35 -> VI 2024 | N7: =N$35 -> VI 2025 | P7: =P$35 -> VI 25 / VI 24 | R7: =R$35 -> I-VI 2024 | S7: =S$35 -> I-VI 2025 | U7: =U$35 -> I-VI 25/ I-VI 24
B8: pojazdy | C8: =SUM(C36,C63) -> 19239.393 | D8: =SUM(D36,D63) -> 19703.47 | F8: =IF(C8,D8/C8-1,"") -> 0.024121217 | H8: =SUM(H36,H63) -> 20198.146 | I8: =SUM(I36,I63) -> 22213.819 | K8: =IF(H8,I8/H8-1,"") -> 0.099794944 | M8: =SUM(M36,M63) -> 7071.3336 | N8: =SUM(N36,N63) -> 7768.7657 | P8: =IF(M8,N8/M8-1,"") -> 0.098628094 | R8: =SUM(R36,R63) -> 39437.538 | S8: =SUM(S36,S63) -> 41917.289 | U8: =IF(R8,S8/R8-1,"") -> 0.06287792
B9: osobowe | C9: =SUM(C37,C64) -> 12339.256 | D9: =SUM(D37,D64) -> 13051.95 | F9: =IF(C9,D9/C9-1,"") -> 0.057758289 | H9: =SUM(H37,H64) -> 12977.069 | I9: =SUM(I37,I64) -> 15015.378 | K9: =IF(H9,I9/H9-1,"") -> 0.15707007 | M9: =SUM(M37,M64) -> 4580.5338 | N9: =SUM(N37,N64) -> 5327.8203 | P9: =IF(M9,N9/M9-1,"") -> 0.16314397 | R9: =SUM(R37,R64) -> 25316.325 | S9: =SUM(S37,S64) -> 28067.328 | U9: =IF(R9,S9/R9-1,"") -> 0.1086652
B10: ciężarowe do 3,5 t | C10: =SUM(C38,C65) -> 2019.7261 | D10: =SUM(D38,D65) -> 1957.0033 | F10: =IF(C10,D10/C10-1,"") -> -0.031055083 | H10: =SUM(H38,H65) -> 2106.2252 | I10: =SUM(I38,I65) -> 1973.851 | K10: =IF(H10,I10/H10-1,"") -> -0.062849035 | M10: =SUM(M38,M65) -> 786.42824 | N10: =SUM(N38,N65) -> 699.1447 | P10: =IF(M10,N10/M10-1,"") -> -0.1109873 | R10: =SUM(R38,R65) -> 4125.9513 | S10: =SUM(S38,S65) -> 3930.8543 | U10: =IF(R10,S10/R10-1,"") -> -0.047285333
B11: pojazdy ciężkie | C11: =SUM(C39,C66) -> 4650.7786 | D11: =SUM(D39,D66) -> 4500.5024 | F11: =IF(C11,D11/C11-1,"") -> -0.032312055 | H11: =SUM(H39,H66) -> 4833.6082 | I11: =SUM(I39,I66) -> 4934.1179 | K11: =IF(H11,I11/H11-1,"") -> 0.020793928 | M11: =SUM(M39,M66) -> 1603.1875 | N11: =SUM(N39,N66) -> 1668.2857 | P11: =IF(M11,N11/M11-1,"") -> 0.040605497 | R11: =SUM(R39,R66) -> 9484.3869 | S11: =SUM(S39,S66) -> 9434.6203 | U11: =IF(R11,S11/R11-1,"") -> -0.0052472041
B12: ciężarowe pow. 3,5 t | C12: =SUM(C40,C67) -> 990.88451 | D12: =SUM(D40,D67) -> 1002.7704 | F12: =IF(C12,D12/C12-1,"") -> 0.011995223 | H12: =SUM(H40,H67) -> 1139.2837 | I12: =SUM(I40,I67) -> 1076.511 | K12: =IF(H12,I12/H12-1,"") -> -0.055098392 | M12: =SUM(M40,M67) -> 408.8734 | N12: =SUM(N40,N67) -> 338.28801 | P12: =IF(M12,N12/M12-1,"") -> -0.17263386 | R12: =SUM(R40,R67) -> 2130.1682 | S12: =SUM(S40,S67) -> 2079.2814 | U12: =IF(R12,S12/R12-1,"") -> -0.023888639
B13: ciągniki siodłowe | C13: =SUM(C41,C68) -> 2447.2204 | D13: =SUM(D41,D68) -> 2035.2883 | F13: =IF(C13,D13/C13-1,"") -> -0.16832651 | H13: =SUM(H41,H68) -> 2365.1965 | I13: =SUM(I41,I68) -> 2374.8704 | K13: =IF(H13,I13/H13-1,"") -> 0.0040900797 | M13: =SUM(M41,M68) -> 758.36638 | N13: =SUM(N41,N68) -> 850.38311 | P13: =IF(M13,N13/M13-1,"") -> 0.12133545 | R13: =SUM(R41,R68) -> 4812.4169 | S13: =SUM(S41,S68) -> 4410.1587 | U13: =IF(R13,S13/R13-1,"") -> -0.08358757
B14: naczepy / przyczepy | C14: =SUM(C42,C69) -> 905.65049 | D14: =SUM(D42,D69) -> 1009.5092 | F14: =IF(C14,D14/C14-1,"") -> 0.11467854 | H14: =SUM(H42,H69) -> 988.97041 | I14: =SUM(I42,I69) -> 1045.1631 | K14: =IF(H14,I14/H14-1,"") -> 0.056819349 | M14: =SUM(M42,M69) -> 330.08209 | N14: =SUM(N42,N69) -> 336.51798 | P14: =IF(M14,N14/M14-1,"") -> 0.019497876 | R14: =SUM(R42,R69) -> 1894.6209 | S14: =SUM(S42,S69) -> 2054.6722 | U14: =IF(R14,S14/R14-1,"") -> 0.084476706
B15: autobusy | C15: =SUM(C43,C70) -> 307.02324 | D15: =SUM(D43,D70) -> 452.93454 | F15: =IF(C15,D15/C15-1,"") -> 0.47524516 | H15: =SUM(H43,H70) -> 340.15757 | I15: =SUM(I43,I70) -> 437.57347 | K15: =IF(H15,I15/H15-1,"") -> 0.28638464 | M15: =SUM(M43,M70) -> 105.8656 | N15: =SUM(N43,N70) -> 143.09659 | P15: =IF(M15,N15/M15-1,"") -> 0.35168166 | R15: =SUM(R43,R70) -> 647.18081 | S15: =SUM(S43,S70) -> 890.50802 | U15: =IF(R15,S15/R15-1,"") -> 0.37598026
B16: inne | C16: =SUM(C44,C71) -> 229.63206 | D16: =SUM(D44,D71) -> 194.01428 | F16: =IF(C16,D16/C16-1,"") -> -0.15510804 | H16: =SUM(H44,H71) -> 281.24321 | I16: =SUM(I44,I71) -> 290.47145 | K16: =IF(H16,I16/H16-1,"") -> 0.03281231 | M16: =SUM(M44,M71) -> 101.18408 | N16: =SUM(N44,N71) -> 73.515065 | P16: =IF(M16,N16/M16-1,"") -> -0.27345223 | R16: =SUM(R44,R71) -> 510.87528 | S16: =SUM(S44,S71) -> 484.48574 | U16: =IF(R16,S16/R16-1,"") -> -0.051655545
B17: maszyny | C17: =SUM(C45,C72) -> 5890.582 | D17: =SUM(D45,D72) -> 5838.216 | F17: =IF(C17,D17/C17-1,"") -> -0.0088897821 | H17: =SUM(H45,H72) -> 6690.0513 | I17: =SUM(I45,I72) -> 6905.8184 | K17: =IF(H17,I17/H17-1,"") -> 0.032251933 | M17: =SUM(M45,M72) -> 2362.0765 | N17: =SUM(N45,N72) -> 2472.578 | P17: =IF(M17,N17/M17-1,"") -> 0.046781506 | R17: =SUM(R45,R72) -> 12580.633 | S17: =SUM(S45,S72) -> 12744.034 | U17: =IF(R17,S17/R17-1,"") -> 0.012988305
B18: sprzęt budowlany | C18: =SUM(C46,C73) -> 1197.4787 | D18: =SUM(D46,D73) -> 1111.7398 | F18: =IF(C18,D18/C18-1,"") -> -0.071599515 | H18: =SUM(H46,H73) -> 1447.4872 | I18: =SUM(I46,I73) -> 1287.0292 | K18: =IF(H18,I18/H18-1,"") -> -0.11085285 | M18: =SUM(M46,M73) -> 508.79229 | N18: =SUM(N46,N73) -> 511.70442 | P18: =IF(M18,N18/M18-1,"") -> 0.005723606 | R18: =SUM(R46,R73) -> 2644.9659 | S18: =SUM(S46,S73) -> 2398.769 | U18: =IF(R18,S18/R18-1,"") -> -0.093081342
B19: maszyny rolnicze | C19: =SUM(C47,C74) -> 1322.9768 | D19: =SUM(D47,D74) -> 1677.1947 | F19: =IF(C19,D19/C19-1,"") -> 0.26774308 | H19: =SUM(H47,H74) -> 1571.4186 | I19: =SUM(I47,I74) -> 2150.6052 | K19: =IF(H19,I19/H19-1,"") -> 0.36857565 | M19: =SUM(M47,M74) -> 543.33616 | N19: =SUM(N47,N74) -> 809.66772 | P19: =IF(M19,N19/M19-1,"") -> 0.49017824 | R19: =SUM(R47,R74) -> 2894.3954 | S19: =SUM(S47,S74) -> 3827.7999 | U19: =IF(R19,S19/R19-1,"") -> 0.32248687
... B25: ruchomości - leasing + pożyczka | C25: =SUM(C53,C80) -> 25772.798 | D25: =SUM(D53,D80) -> 26209.569 | F25: =IF(C25,D25/C25-1,"") -> 0.01694698 | H25: =SUM(H53,H80) -> 27629.351 | I25: =SUM(I53,I80) -> 30153.251 | K25: =IF(H25,I25/H25-1,"") -> 0.091348531 | M25: =SUM(M53,M80) -> 9761.6123 | N25: =SUM(N53,N80) -> 10656.556 | P25: =IF(M25,N25/M25-1,"") -> 0.091679905 | R25: =SUM(R53,R80) -> 53402.148 | S25: =SUM(S53,S80) -> 56362.82 | U25: =IF(R25,S25/R25-1,"") -> 0.055441059
B27: nieruchomości | C27: =SUM(C55,C82) -> 219.43938 | D27: =SUM(D55,D82) -> 132.50208 | F27: =IF(C27,D27/C27-1,"") -> -0.39617913 | H27: =SUM(H55,H82) -> 78.388739 | I27: =SUM(I55,I82) -> 233.11707 | K27: =IF(H27,I27/H27-1,"") -> 1.9738592 | R27: =SUM(R55,R82) -> 297.82812 | S27: =SUM(S55,S82) -> 365.61915 | U27: =IF(R27,S27/R27-1,"") -> 0.22761795
B29: łączne finansowanie - leasing + pożyczka | C29: =SUM(C57,C84) -> 25992.237 | D29: =SUM(D57,D84) -> 26342.071 | F29: =IF(C29,D29/C29-1,"") -> 0.013459164 | H29: =SUM(H57,H84) -> 27707.739 | I29: =SUM(I57,I84) -> 30386.368 | K29: =IF(H29,I29/H29-1,"") -> 0.096674394 | R29: =SUM(R57,R84) -> 53699.976 | S29: =SUM(S57,S84) -> 56728.439 | U29: =IF(R29,S29/R29-1,"") -> 0.056395978
B32: Finansowanie leasingiem
C33: I-III 2025 vs I-III 2024 | H33: IV-VI 2025 vs IV-VI 2024 | M33: VI 2025 vs VI 2024 | R33: I-VI 2025 vs I-VI 2024
C35: I-III 2024 | D35: I-III 2025 | F35: I-III 25/ I-III 24 | H35: IV-VI 2024 | I35: IV-VI 2025 | K35: IV-VI 2025/ IV-VI 2024 | M35: VI 2024 | N35: VI 2025 | P35: VI 25 / VI 24 | R35: I-VI 2024 | S35: I-VI 2025 | U35: I-VI 25/ I-VI 24
B36: pojazdy | C36: 18285.76 | D36: 18453.771 | F36: =IF(C36,D36/C36-1,"") -> 0.0091880599 | H36: 18994.576 | I36: 20490.52 | K36: =IF(H36,I36/H36-1,"") -> 0.078756392 | M36: 6643.0039 | N36: 7087.507 | P36: =IF(M36,N36/M36-1,"") -> 0.066912971 | R36: 37280.336 | S36: 38944.291 | U36: =IF(R36,S36/R36-1,"") -> 0.044633582
B37: osobowe | C37: 11836.993 | D37: 12331.349 | F37: =IF(C37,D37/C37-1,"") -> 0.041763644 | H37: 12292.557 | I37: 13857.549 | K37: =IF(H37,I37/H37-1,"") -> 0.1273121 | M37: 4330.3229 | N37: 4851.4789 | P37: =IF(M37,N37/M37-1,"") -> 0.12035037 | R37: 24129.55 | S37: 26188.897 | U37: =IF(R37,S37/R37-1,"") -> 0.085345448
B38: ciężarowe do 3,5 t | C38: 1912.8602 | D38: 1853.208 | F38: =IF(C38,D38/C38-1,"") -> -0.031184851 | H38: 1996.1977 | I38: 1889.4473 | K38: =IF(H38,I38/H38-1,"") -> -0.053476873 | M38: 747.47994 | N38: 662.22646 | P38: =IF(M38,N38/M38-1,"") -> -0.11405454 | R38: 3909.0579 | S38: 3742.6552 | U38: =IF(R38,S38/R38-1,"") -> -0.042568485
B39: pojazdy ciężkie | C39: 4315.3954 | D39: 4081.5883 | F39: =IF(C39,D39/C39-1,"") -> -0.054179767 | H39: 4432.7441 | I39: 4471.2128 | K39: =IF(H39,I39/H39-1,"") -> 0.0086782969 | M39: 1466.3011 | N39: 1507.6024 | P39: =IF(M39,N39/M39-1,"") -> 0.028166991 | R39: 8748.1395 | S39: 8552.801 | U39: =IF(R39,S39/R39-1,"") -> -0.022329142
B40: ciężarowe pow. 3,5 t | C40: 957.23072 | D40: 954.49988 | F40: =IF(C40,D40/C40-1,"") -> -0.0028528529 | H40: 1066.0245 | I40: 1003.8027 | K40: =IF(H40,I40/H40-1,"") -> -0.058368133 | M40: 376.3387 | N40: 305.78805 | P40: =IF(M40,N40/M40-1,"") -> -0.18746582 | R40: 2023.2552 | S40: 1958.3025 | U40: =IF(R40,S40/R40-1,"") -> -0.032103067
B41: ciągniki siodłowe | C41: 2233.2037 | D41: 1805.1816 | F41: =IF(C41,D41/C41-1,"") -> -0.19166282 | H41: 2136.1415 | I41: 2125.7559 | K41: =IF(H41,I41/H41-1,"") -> -0.0048618221 | M41: 689.06746 | N41: 770.4239 | P41: =IF(M41,N41/M41-1,"") -> 0.11806746 | R41: 4369.3451 | S41: 3930.9375 | U41: =IF(R41,S41/R41-1,"") -> -0.10033715
B42: naczepy / przyczepy | C42: 826.21848 | D42: 903.18723 | F42: =IF(C42,D42/C42-1,"") -> 0.093157866 | H42: 896.24555 | I42: 948.51114 | K42: =IF(H42,I42/H42-1,"") -> 0.058316152 | M42: 298.67227 | N42: 304.45836 | P42: =IF(M42,N42/M42-1,"") -> 0.019372709 | R42: 1722.464 | S42: 1851.6984 | U42: =IF(R42,S42/R42-1,"") -> 0.075028761
B43: autobusy | C43: 298.74253 | D43: 418.71961 | F43: =IF(C43,D43/C43-1,"") -> 0.40160697 | H43: 334.33257 | I43: 393.14305 | K43: =IF(H43,I43/H43-1,"") -> 0.17590412 | M43: 102.22268 | N43: 126.93208 | P43: =IF(M43,N43/M43-1,"") -> 0.24172129 | R43: 633.0751 | S43: 811.86266 | U43: =IF(R43,S43/R43-1,"") -> 0.28241129
B44: inne | C44: 220.51197 | D44: 187.62606 | F44: =IF(C44,D44/C44-1,"") -> -0.14913434 | H44: 273.07713 | I44: 272.31184 | K44: =IF(H44,I44/H44-1,"") -> -0.002802468 | M44: 98.899917 | N44: 66.19927 | P44: =IF(M44,N44/M44-1,"") -> -0.33064383 | R44: 493.58909 | S44: 459.9379 | U44: =IF(R44,S44/R44-1,"") -> -0.068176539
B45: maszyny | C45: 4081.0139 | D45: 3638.044 | F45: =IF(C45,D45/C45-1,"") -> -0.1085441 | H45: 4501.8459 | I45: 4137.2207 | K45: =IF(H45,I45/H45-1,"") -> -0.080994611 | M45: 1595.3542 | N45: 1367.3322 | P45: =IF(M45,N45/M45-1,"") -> -0.14292877 | R45: 8582.8598 | S45: 7775.2646 | U45: =IF(R45,S45/R45-1,"") -> -0.094093955
B46: sprzęt budowlany | C46: 976.53231 | D46: 962.40156 | F46: =IF(C46,D46/C46-1,"") -> -0.014470328 | H46: 1178.3022 | I46: 1054.8974 | K46: =IF(H46,I46/H46-1,"") -> -0.10473104 | M46: 407.10891 | N46: 380.92173 | P46: =IF(M46,N46/M46-1,"") -> -0.064324754 | R46: 2154.8345 | S46: 2017.2989 | U46: =IF(R46,S46/R46-1,"") -> -0.063826505
B47: maszyny rolnicze | C47: 349.40774 | D47: 270.55064 | F47: =IF(C47,D47/C47-1,"") -> -0.2256879 | H47: 353.41539 | I47: 365.77973 | K47: =IF(H47,I47/H47-1,"") -> 0.034985269 | M47: 113.15301 | N47: 122.48646 | P47: =IF(M47,N47/M47-1,"") -> 0.082485229 | R47: 702.82313 | S47: 636.33037 | U47: =IF(R47,S47/R47-1,"") -> -0.094608107
... B53: ruchomości - leasing | C53: 22934.88 | D53: 22682.752 | F53: =IF(C53,D53/C53-1,"") -> -0.010993233 | H53: 24153.495 | I53: 25509.443 | K53: =IF(H53,I53/H53-1,"") -> 0.056138783 | M53: 8548.4307 | N53: 8839.8687 | P53: =IF(M53,N53/M53-1,"") -> 0.034092572 | R53: 47088.375 | S53: 48192.195 | U53: =IF(R53,S53/R53-1,"") -> 0.023441441
B55: nieruchomości | C55: 212.72559 | D55: 118.40735 | F55: =IF(C55,D55/C55-1,"") -> -0.44337985 | H55: 72.114832 | I55: 216.34087 | K55: =IF(H55,I55/H55-1,"") -> 1.9999497 | R55: 284.84042 | S55: 334.74822 | U55: =IF(R55,S55/R55-1,"") -> 0.17521319
B57: łączne finansowanie - leasing | C57: 23147.606 | D57: 22801.159 | F57: =IF(C57,D57/C57-1,"") -> -0.014966849 | H57: 24225.61 | I57: 25725.784 | K57: =IF(H57,I57/H57-1,"") -> 0.061925122 | R57: 47373.216 | S57: 48526.943 | U57: =IF(R57,S57/R57-1,"") -> 0.024353997
B60: Finasowanie pożyczką
C61: =C$33 -> I-III 2025 vs I-III 2024 | H61: =H$33 -> IV-VI 2025 vs IV-VI 2024 | M61: =M$33 -> VI 2025 vs VI 2024 | R61: =R$33 -> I-VI 2025 vs I-VI 2024
C62: =C$35 -> I-III 2024 | D62: =D$35 -> I-III 2025 | F62: =F$35 -> I-III 25/ I-III 24 | H62: =H$35 -> IV-VI 2024 | I62: =I$35 -> IV-VI 2025 | K62: =K$35 -> IV-VI 2025/ IV-VI 2024 | M62: =M$35 -> VI 2024 | N62: =N$35 -> VI 2025 | P62: =P$35 -> VI 25 / VI 24 | R62: =R$35 -> I-VI 2024 | S62: =S$35 -> I-VI 2025 | U62: =U$35 -> I-VI 25/ I-VI 24
...
