Workbook
Name cx: '[1]Dane Le'!#REF!
Name cx: '[1]Dane Le'!#REF!
Name cx: '[1]Dane Le'!#REF!
Name Excel_BuiltIn_Print_Area_2: #REF!
Name Excel_BuiltIn_Print_Area_2: #REF!
Name Excel_BuiltIn_Print_Area_2: #REF!
Name Excel_BuiltIn_Print_Area_4: #REF!
Name Excel_BuiltIn_Print_Area_4: #REF!
Name Excel_BuiltIn_Print_Area_4: #REF!
Name v: #REF!
Name v: #REF!
Name v: #REF!

Sheet summary_08 2025
B2: Związek Polskiego Leasingu, Warszawa 18-09-2025
C5: FINANSOWANIE POJAZDÓW LEKKICH | T5: FINANSOWANIE POJAZDÓW LEKKICH - sierpień 2025r. Łączne finansowanie leasingiem i pożyczką
J10: 07 2025 | N10: 07 2025
I11: leasing | J11: =('szacunek rynku_08 2025'!I39+'szacunek rynku_08 2025'!I40)/('szacunek rynku_08 2025'!I11+'szacunek rynku_08 2025'!I12) -> 0.93994315 | M11: osobowe | N11: ='szacunek rynku_08 2025'!I11/SUM('szacunek rynku_08 2025'!I11:I12) -> 0.86509829
I12: pożyczka | J12: =1-J11 -> 0.060056848 | M12: dostawcze | N12: =1-N11 -> 0.13490171
I14: leasing | J14: =('szacunek rynku_08 2025'!I39+'szacunek rynku_08 2025'!I40)/('szacunek rynku_08 2025'!H39+'szacunek rynku_08 2025'!H40)-1 -> 0.13149893 | K14: =('szacunek rynku_08 2025'!N39+'szacunek rynku_08 2025'!N40)/('szacunek rynku_08 2025'!M39+'szacunek rynku_08 2025'!M40)-1 -> 0.089708066
I15: pożyczka | J15: =('szacunek rynku_08 2025'!I66+'szacunek rynku_08 2025'!I67)/('szacunek rynku_08 2025'!H66+'szacunek rynku_08 2025'!H67)-1 -> 0.28834141 | K15: =('szacunek rynku_08 2025'!N66+'szacunek rynku_08 2025'!N67)/('szacunek rynku_08 2025'!M66+'szacunek rynku_08 2025'!M67)-1 -> 0.49018828
I16: L+P | J16: =('szacunek rynku_08 2025'!I12+'szacunek rynku_08 2025'!I11)/('szacunek rynku_08 2025'!H11+'szacunek rynku_08 2025'!H12)-1 -> 0.1398326 | K16: =('szacunek rynku_08 2025'!N12+'szacunek rynku_08 2025'!N11)/('szacunek rynku_08 2025'!M11+'szacunek rynku_08 2025'!M12)-1 -> 0.10923812
C38: FINANSOWANIE POJAZDÓW CIĘŻKICH | T38: FINANSOWANIE POJAZDÓW CIĘŻKICH - sierpień 2025r. Łączne finansowanie leasingiem i pożyczką
J43: 07/2025 | N43: 07/2025
I44: leasing | J44: ='szacunek rynku_08 2025'!I41/'szacunek rynku_08 2025'!I13 -> 0.89082518 | M44: ciężarowe pow. 3.5t | N44: ='szacunek rynku_08 2025'!I14/'szacunek rynku_08 2025'!$I$13 -> 0.24581323
I45: pożyczka | J45: =1-J44 -> 0.10917482 | M45: ciągniki siodłowe | N45: ='szacunek rynku_08 2025'!I15/'szacunek rynku_08 2025'!$I$13 -> 0.43769744
M46: przyczepy/naczepy | N46: ='szacunek rynku_08 2025'!I16/'szacunek rynku_08 2025'!$I$13 -> 0.21079239
M47: autobusy | N47: ='szacunek rynku_08 2025'!I17/'szacunek rynku_08 2025'!$I$13 -> 0.10569694
C72: FINANSOWANIE MASZYN | T72: FINANSOWANIE MASZYN - sierpień 2025r. Łączne finansowanie leasingiem i pożyczką
J77: 07/2025 | N77: 07/2025
I78: leasing | J78: ='szacunek rynku_08 2025'!I47/'szacunek rynku_08 2025'!I19 -> 0.54249609 | M78: sprzęt budowlany | N78: ='szacunek rynku_08 2025'!I20/'szacunek rynku_08 2025'!$I$19 -> 0.17891406
I79: pożyczka | J79: =1-J78 -> 0.45750391 | M79: maszyny rolnicze | N79: ='szacunek rynku_08 2025'!I21/'szacunek rynku_08 2025'!$I$19 -> 0.37088988
M80: pozostałe maszyny | N80: ='szacunek rynku_08 2025'!I22/'szacunek rynku_08 2025'!$I$19 -> 0.45019606
C106: FINANSOWANIE RUCHOMOŚCI
J111: 07/2025 | N111: 07/2025
I112: leasing | J112: ='szacunek rynku_08 2025'!I55/'szacunek rynku_08 2025'!I27 -> 0.83456751 | M112: OSD | N112: =('szacunek rynku_08 2025'!I11+'szacunek rynku_08 2025'!I12)/'szacunek rynku_08 2025'!I27 -> 0.55206557
I113: pożyczka | J113: =1-J112 -> 0.16543249 | M113: TRK | N113: ='szacunek rynku_08 2025'!I13/'szacunek rynku_08 2025'!I27 -> 0.14772059
M114: maszyny | N114: ='szacunek rynku_08 2025'!I19/'szacunek rynku_08 2025'!I27 -> 0.24358621
M115: IT | N115: ='szacunek rynku_08 2025'!I23/'szacunek rynku_08 2025'!I27 -> 0.015962673
M116: pozostałe | N116: =('szacunek rynku_08 2025'!I18+'szacunek rynku_08 2025'!I24+'szacunek rynku_08 2025'!I25)/'szacunek rynku_08 2025'!I27 -> 0.040664951

Sheet szacunek rynku_08 2025
B2: Związek Polskiego Leasingu, Warszawa 18-09-2025
B4: Łączne finansowanie leasingiem i pożyczką
C7: =C$35 -> I-VII 2025 vs. I-VII 2024 | H7: =H$35 -> VIII 2025 vs. VIII 2024 | M7: =M$35 -> I-VIII 2025 vs I-VIII 2024
C9: =C$37 -> I-VII 2024 | D9: =D$37 -> I-VII 2025 | F9: =F$37 -> I-VII 25/ I-VII 24 | H9: =H$37 -> VIII 2024 | I9: =I$37 -> VIII 2025 | K9: =K$37 -> VIII 2025/ VIII 2024 | M9: =M$37 -> I-VIII 2024 | N9: =N$37 -> I-VIII 2025 | P9: =P$37 -> I-VIII 25/ I-VIII 24
B10: pojazdy | C10: =SUM(C11:C12,C14:C18) -> 45730.473 | D10: =SUM(D11:D12,D14:D18) -> 49428.387 | F10: =IF(C10,D10/C10-1,"") -> 0.080863232 | H10: =SUM(H11:H12,H14:H18) -> 5257.3258 | I10: =SUM(I11:I12,I14:I18) -> 5986.6367 | K10: =IF(H10,I10/H10-1,"") -> 0.13872281 | M10: =SUM(M11:M12,M14:M18) -> 50987.799 | N10: =SUM(N11:N12,N14:N18) -> 55415.023 | P10: =IF(M10,N10/M10-1,"") -> 0.086829103
B11: osobowe | C11: =C39+C66 -> 29436.742 | D11: =D39+D66 -> 33175.471 | F11: =IF(C11,D11/C11-1,"") -> 0.12700891 | H11: =H39+H66 -> 3490.3906 | I11: =I39+I66 -> 4023.0072 | K11: =IF(H11,I11/H11-1,"") -> 0.15259513 | M11: =C11+H11 -> 32927.133 | N11: =D11+I11 -> 37198.478 | P11: =IF(M11,N11/M11-1,"") -> 0.12972113
B12: ciężarowe do 3,5 t | C12: =C40+C67 -> 4762.2613 | D12: =D40+D67 -> 4634.5467 | F12: =IF(C12,D12/C12-1,"") -> -0.026818044 | H12: =H40+H67 -> 589.46019 | I12: =I40+I67 -> 627.33974 | K12: =IF(H12,I12/H12-1,"") -> 0.06426142 | M12: =C12+H12 -> 5351.7214 | N12: =D12+I12 -> 5261.8865 | P12: =IF(M12,N12/M12-1,"") -> -0.016786184
B13: pojazdy ciężkie | C13: =C14+C15+C16+C17 -> 10940.373 | D13: =D14+D15+D16+D17 -> 11042.741 | F13: =IF(C13,D13/C13-1,"") -> 0.009356993 | H13: =H14+H15+H16+H17 -> 1117.4802 | I13: =I14+I15+I16+I17 -> 1244.3305 | K13: =IF(H13,I13/H13-1,"") -> 0.11351457 | M13: =M14+M15+M16+M17 -> 12057.853 | N13: =N14+N15+N16+N17 -> 12287.072 | P13: =IF(M13,N13/M13-1,"") -> 0.019009958
B14: ciężarowe pow. 3,5 t | C14: =C42+C69 -> 2543.6132 | D14: =D42+D69 -> 2459.6024 | F14: =IF(C14,D14/C14-1,"") -> -0.03302811 | H14: =H42+H69 -> 334.41056 | I14: =I42+I69 -> 305.8729 | K14: =IF(H14,I14/H14-1,"") -> -0.085337176 | M14: =C14+H14 -> 2878.0237 | N14: =D14+I14 -> 2765.4753 | P14: =IF(M14,N14/M14-1,"") -> -0.039106136
B15: ciągniki siodłowe | C15: =C43+C70 -> 5418.7869 | D15: =D43+D70 -> 5108.6058 | F15: =IF(C15,D15/C15-1,"") -> -0.057241783 | H15: =H43+H70 -> 448.06842 | I15: =I43+I70 -> 544.64027 | K15: =IF(H15,I15/H15-1,"") -> 0.21552924 | M15: =C15+H15 -> 5866.8553 | N15: =D15+I15 -> 5653.2461 | P15: =IF(M15,N15/M15-1,"") -> -0.036409485
B16: naczepy / przyczepy | C16: =C44+C71 -> 2213.325 | D16: =D44+D71 -> 2407.9269 | F16: =IF(C16,D16/C16-1,"") -> 0.087922867 | H16: =H44+H71 -> 236.26566 | I16: =I44+I71 -> 262.2954 | K16: =IF(H16,I16/H16-1,"") -> 0.11017149 | M16: =C16+H16 -> 2449.5906 | N16: =D16+I16 -> 2670.2223 | P16: =IF(M16,N16/M16-1,"") -> 0.090068771
B17: autobusy | C17: =C45+C72 -> 764.64747 | D17: =D45+D72 -> 1066.6063 | F17: =IF(C17,D17/C17-1,"") -> 0.39489946 | H17: =H45+H72 -> 98.735571 | I17: =I45+I72 -> 131.52192 | K17: =IF(H17,I17/H17-1,"") -> 0.33206219 | M17: =C17+H17 -> 863.38304 | N17: =D17+I17 -> 1198.1283 | P17: =IF(M17,N17/M17-1,"") -> 0.38771345
B18: inne | C18: =C46+C73 -> 591.09662 | D18: =D46+D73 -> 575.62752 | F18: =IF(C18,D18/C18-1,"") -> -0.026170173 | H18: =H46+H73 -> 59.994709 | I18: =I46+I73 -> 91.959256 | K18: =IF(H18,I18/H18-1,"") -> 0.53278944 | M18: =C18+H18 -> 651.09133 | N18: =D18+I18 -> 667.58678 | P18: =IF(M18,N18/M18-1,"") -> 0.025335073
B19: maszyny | C19: =SUM(C20:C22) -> 15306.478 | D19: =SUM(D20:D22) -> 14949.767 | F19: =IF(C19,D19/C19-1,"") -> -0.023304576 | H19: =SUM(H20:H22) -> 1862.1935 | I19: =SUM(I20:I22) -> 2051.8584 | K19: =IF(H19,I19/H19-1,"") -> 0.10185029 | M19: =SUM(M20:M22) -> 17168.672 | N19: =SUM(N20:N22) -> 17001.626 | P19: =IF(M19,N19/M19-1,"") -> -0.0097297005
B20: sprzęt budowlany | C20: =C48+C75 -> 3087.142 | D20: =D48+D75 -> 2765.5455 | F20: =IF(C20,D20/C20-1,"") -> -0.1041729 | H20: =H48+H75 -> 376.9022 | I20: =I48+I75 -> 367.10632 | K20: =IF(H20,I20/H20-1,"") -> -0.02599049 | M20: =C20+H20 -> 3464.0442 | N20: =D20+I20 -> 3132.6518 | P20: =IF(M20,N20/M20-1,"") -> -0.095666337
B21: maszyny rolnicze | C21: =C49+C76 -> 3636.2191 | D21: =D49+D76 -> 4574.7824 | F21: =IF(C21,D21/C21-1,"") -> 0.25811515 | H21: =H49+H76 -> 508.68455 | I21: =I49+I76 -> 761.01354 | K21: =IF(H21,I21/H21-1,"") -> 0.49604216 | M21: =C21+H21 -> 4144.9037 | N21: =D21+I21 -> 5335.7959 | P21: =IF(M21,N21/M21-1,"") -> 0.28731482
B22: inne MiU | C22: =C50+C77 -> 8583.1169 | D22: =D50+D77 -> 7609.4392 | F22: =IF(C22,D22/C22-1,"") -> -0.11344104 | H22: =H50+H77 -> 976.60675 | I22: =I50+I77 -> 923.73858 | K22: =IF(H22,I22/H22-1,"") -> -0.054134553 | M22: =C22+H22 -> 9559.7237 | N22: =D22+I22 -> 8533.1778 | P22: =IF(M22,N22/M22-1,"") -> -0.10738238
B23: IT | C23: =C51+C78 -> 546.54679 | D23: =D51+D78 -> 698.07235 | F23: =IF(C23,D23/C23-1,"") -> 0.27724168 | H23: =H51+H78 -> 56.797339 | I23: =I51+I78 -> 134.46223 | K23: =IF(H23,I23/H23-1,"") -> 1.3674037 | M23: =C23+H23 -> 603.34413 | N23: =D23+I23 -> 832.53458 | P23: =IF(M23,N23/M23-1,"") -> 0.37986686
B24: statki, samoloty, kolej | C24: =C52+C79 -> 876.86051 | D24: =D52+D79 -> 1071.3473 | F24: =IF(C24,D24/C24-1,"") -> 0.22179902 | H24: =H52+H79 -> 197.45492 | I24: =I52+I79 -> 216.75697 | K24: =IF(H24,I24/H24-1,"") -> 0.097754213 | M24: =C24+H24 -> 1074.3154 | N24: =D24+I24 -> 1288.1043 | P24: =IF(M24,N24/M24-1,"") -> 0.19900008
B25: inne | C25: =C53+C80 -> 321.34292 | D25: =D53+D80 -> 286.43668 | F25: =IF(C25,D25/C25-1,"") -> -0.10862614 | H25: =H53+H80 -> 48.801469 | I25: =I53+I80 -> 33.826661 | K25: =IF(H25,I25/H25-1,"") -> -0.30685157 | M25: =C25+H25 -> 370.14439 | N25: =D25+I25 -> 320.26334 | P25: =IF(M25,N25/M25-1,"") -> -0.13476106
B27: ruchomości - leasing + pożyczka | C27: =SUM(C10,C20:C25) -> 62781.701 | D27: =SUM(D10,D20:D25) -> 66434.01 | F27: =IF(C27,D27/C27-1,"") -> 0.058174737 | H27: =SUM(H10,H20:H25) -> 7422.573 | I27: =SUM(I10,I20:I25) -> 8423.541 | K27: =IF(H27,I27/H27-1,"") -> 0.13485459 | M27: =SUM(M10,M20:M25) -> 70204.274 | N27: =SUM(N10,N20:N25) -> 74857.551 | P27: =IF(M27,N27/M27-1,"") -> 0.066281962
B34: Finansowanie leasingiem
C35: I-VII 2025 vs. I-VII 2024 | H35: VIII 2025 vs. VIII 2024 | M35: I-VIII 2025 vs I-VIII 2024
C37: I-VII 2024 | D37: I-VII 2025 | F37: I-VII 25/ I-VII 24 | H37: VIII 2024 | I37: VIII 2025 | K37: VIII 2025/ VIII 2024 | M37: I-VIII 2024 | N37: I-VIII 2025 | P37: I-VIII 25/ I-VIII 24
B38: pojazdy | C38: 43208.337 | D38: 45878.944 | F38: =IF(C38,D38/C38-1,"") -> 0.061807677 | H38: 4969.2352 | I38: 5566.384 | K38: =IF(H38,I38/H38-1,"") -> 0.12016914 | M38: =SUM(M39:M40,M42:M46) -> 48177.572 | N38: =SUM(N39:N40,N42:N46) -> 51445.328 | P38: =IF(M38,N38/M38-1,"") -> 0.067827322
B39: osobowe | C39: 28037.89 | D39: 30911.795 | F39: =IF(C39,D39/C39-1,"") -> 0.10250076 | H39: 3300.2836 | I39: 3774.5208 | K39: =IF(H39,I39/H39-1,"") -> 0.1436959 | M39: =C39+H39 -> 31338.174 | N39: =D39+I39 -> 34686.316 | P39: =IF(M39,N39/M39-1,"") -> 0.1068391
B40: ciężarowe do 3,5 t | C40: 4511.1635 | D40: 4395.73 | F40: =IF(C40,D40/C40-1,"") -> -0.025588391 | H40: 562.78842 | I40: 596.54102 | K40: =IF(H40,I40/H40-1,"") -> 0.059973886 | M40: =C40+H40 -> 5073.9519 | N40: =D40+I40 -> 4992.2711 | P40: =IF(M40,N40/M40-1,"") -> -0.016098065
B41: pojazdy ciężkie | C41: 10087.064 | D41: 10024.439 | F41: =IF(C41,D41/C41-1,"") -> -0.0062083925 | H41: 1048.1841 | I41: 1108.4809 | K41: =IF(H41,I41/H41-1,"") -> 0.057525078 | M41: =M42+M43+M44+M45 -> 11135.248 | N41: =N42+N43+N44+N45 -> 11132.92 | P41: =IF(M41,N41/M41-1,"") -> -0.00020902817
B42: ciężarowe pow. 3,5 t | C42: 2420.5099 | D42: 2327.6297 | F42: =IF(C42,D42/C42-1,"") -> -0.038372157 | H42: 320.39368 | I42: 293.67139 | K42: =IF(H42,I42/H42-1,"") -> -0.083404549 | M42: =C42+H42 -> 2740.9036 | N42: =D42+I42 -> 2621.3011 | P42: =IF(M42,N42/M42-1,"") -> -0.043636149
B43: ciągniki siodłowe | C43: 4914.3086 | D43: 4551.816 | F43: =IF(C43,D43/C43-1,"") -> -0.073762686 | H43: 415.8351 | I43: 467.51744 | K43: =IF(H43,I43/H43-1,"") -> 0.12428568 | M43: =C43+H43 -> 5330.1437 | N43: =D43+I43 -> 5019.3334 | P43: =IF(M43,N43/M43-1,"") -> -0.058311796
B44: naczepy / przyczepy | C44: 2007.2453 | D44: 2173.3183 | F44: =IF(C44,D44/C44-1,"") -> 0.082736807 | H44: 215.73168 | I44: 232.41149 | K44: =IF(H44,I44/H44-1,"") -> 0.077317414 | M44: =C44+H44 -> 2222.977 | N44: =D44+I44 -> 2405.7298 | P44: =IF(M44,N44/M44-1,"") -> 0.082210875
B45: autobusy | C45: 745.00001 | D45: 971.67528 | F45: =IF(C45,D45/C45-1,"") -> 0.3042621 | H45: 96.223611 | I45: 114.88061 | K45: =IF(H45,I45/H45-1,"") -> 0.19389211 | M45: =C45+H45 -> 841.22362 | N45: =D45+I45 -> 1086.5559 | P45: =IF(M45,N45/M45-1,"") -> 0.2916374
B46: inne | C46: 572.21962 | D46: 546.97949 | F46: =IF(C46,D46/C46-1,"") -> -0.044109165 | H46: 57.979207 | I46: 86.841247 | K46: =IF(H46,I46/H46-1,"") -> 0.49779984 | M46: =C46+H46 -> 630.19883 | N46: =D46+I46 -> 633.82074 | P46: =IF(M46,N46/M46-1,"") -> 0.0057472502
B47: maszyny | C47: 10359.047 | D47: 9080.7436 | F47: =IF(C47,D47/C47-1,"") -> -0.12339973 | H47: 1140.5432 | I47: 1113.1252 | K47: =IF(H47,I47/H47-1,"") -> -0.02403945 | M47: =SUM(M48:M50) -> 11499.59 | N47: =SUM(N48:N50) -> 10193.869 | P47: =IF(M47,N47/M47-1,"") -> -0.11354506
B48: sprzęt budowlany | C48: 2503.9957 | D48: 2330.8206 | F48: =IF(C48,D48/C48-1,"") -> -0.069159507 | H48: 275.75612 | I48: 298.88765 | K48: =IF(H48,I48/H48-1,"") -> 0.083884037 | M48: =C48+H48 -> 2779.7519 | N48: =D48+I48 -> 2629.7083 | P48: =IF(M48,N48/M48-1,"") -> -0.053977327
B49: maszyny rolnicze | C49: 855.98224 | D49: 759.1696 | F49: =IF(C49,D49/C49-1,"") -> -0.11310123 | H49: 109.21808 | I49: 105.1197 | K49: =IF(H49,I49/H49-1,"") -> -0.037524768 | M49: =C49+H49 -> 965.20033 | N49: =D49+I49 -> 864.2893 | P49: =IF(M49,N49/M49-1,"") -> -0.10454931
B50: inne MiU | C50: 6999.0692 | D50: 5990.7534 | F50: =IF(C50,D50/C50-1,"") -> -0.14406428 | H50: 755.56901 | I50: 709.11782 | K50: =IF(H50,I50/H50-1,"") -> -0.061478415 | M50: =C50+H50 -> 7754.6382 | N50: =D50+I50 -> 6699.8712 | P50: =IF(M50,N50/M50-1,"") -> -0.13601757
B51: IT | C51: 458.39782 | D51: 568.50061 | F51: =IF(C51,D51/C51-1,"") -> 0.24019047 | H51: 46.178621 | I51: 117.14123 | K51: =IF(H51,I51/H51-1,"") -> 1.5366984 | M51: =C51+H51 -> 504.57644 | N51: =D51+I51 -> 685.64184 | P51: =IF(M51,N51/M51-1,"") -> 0.35884632
B52: statki, samoloty, kolej | C52: 782.44387 | D52: 972.56741 | F52: =IF(C52,D52/C52-1,"") -> 0.2429868 | H52: 189.43765 | I52: 205.78648 | K52: =IF(H52,I52/H52-1,"") -> 0.086301933 | M52: =C52+H52 -> 971.88152 | N52: =D52+I52 -> 1178.3539 | P52: =IF(M52,N52/M52-1,"") -> 0.21244603
B53: inne | C53: 294.22751 | D53: 249.8433 | F53: =IF(C53,D53/C53-1,"") -> -0.15084998 | H53: 29.106642 | I53: 27.576801 | K53: =IF(H53,I53/H53-1,"") -> -0.052559863 | M53: =C53+H53 -> 323.33415 | N53: =D53+I53 -> 277.4201 | P53: =IF(M53,N53/M53-1,"") -> -0.14200187
B55: ruchomości - leasing | C55: 55102.453 | D55: 56750.599 | F55: =IF(C55,D55/C55-1,"") -> 0.029910564 | H55: 6374.5014 | I55: 7030.0137 | K55: =IF(H55,I55/H55-1,"") -> 0.1028335 | M55: =SUM(M38,M48:M53) -> 61476.955 | N55: =SUM(N38,N48:N53) -> 63780.612 | P55: =IF(M55,N55/M55-1,"") -> 0.037471891
B62: Finasowanie pożyczką
C63: =C$35 -> I-VII 2025 vs. I-VII 2024 | H63: =H$35 -> VIII 2025 vs. VIII 2024 | M63: =M$35 -> I-VIII 2025 vs I-VIII 2024
C64: =C$37 -> I-VII 2024 | D64: =D$37 -> I-VII 2025 | F64: =F$37 -> I-VII 25/ I-VII 24 | H64: =H$37 -> VIII 2024 | I64: =I$37 -> VIII 2025 | K64: =K$37 -> VIII 2025/ VIII 2024 | M64: =M$37 -> I-VIII 2024 | N64: =N$37 -> I-VIII 2025 | P64: =P$37 -> I-VIII 25/ I-VIII 24
B65: pojazdy | C65: 2522.136 | D65: 3549.4428 | F65: =IF(C65,D65/C65-1,"") -> 0.40731621 | H65: 288.0905 | I65: 420.25274 | K65: =IF(H65,I65/H65-1,"") -> 0.45875251 | M65: =SUM(M66:M67,M69:M73) -> 2810.2265 | N65: =SUM(N66:N67,N69:N73) -> 3969.6956 | P65: =IF(M65,N65/M65-1,"") -> 0.4125892
B66: osobowe | C66: 1398.8524 | D66: 2263.6759 | F66: =IF(C66,D66/C66-1,"") -> 0.61823785 | H66: 190.10709 | I66: 248.48647 | K66: =IF(H66,I66/H66-1,"") -> 0.30708683 | M66: =C66+H66 -> 1588.9595 | N66: =D66+I66 -> 2512.1624 | P66: =IF(M66,N66/M66-1,"") -> 0.58101097
B67: ciężarowe do 3,5 t | C67: 251.0978 | D67: 238.81669 | F67: =IF(C67,D67/C67-1,"") -> -0.048909698 | H67: 26.671775 | I67: 30.798716 | K67: =IF(H67,I67/H67-1,"") -> 0.15473065 | M67: =C67+H67 -> 277.76958 | N67: =D67+I67 -> 269.6154 | P67: =IF(M67,N67/M67-1,"") -> -0.029355903
B68: pojazdy ciężkie | C68: 853.30875 | D68: 1018.3022 | F68: =IF(C68,D68/C68-1,"") -> 0.19335726 | H68: 69.29614 | I68: 135.84955 | K68: =IF(H68,I68/H68-1,"") -> 0.96042018 | M68: =M69+M70+M71+M72 -> 922.60489 | N68: =N69+N70+N71+N72 -> 1154.1517 | P68: =IF(M68,N68/M68-1,"") -> 0.25097076
B69: ciężarowe pow. 3,5 t | C69: 123.10328 | D69: 131.97273 | F69: =IF(C69,D69/C69-1,"") -> 0.072048854 | H69: 14.016872 | I69: 12.20151 | K69: =IF(H69,I69/H69-1,"") -> -0.12951261 | M69: =C69+H69 -> 137.12015 | N69: =D69+I69 -> 144.17424 | P69: =IF(M69,N69/M69-1,"") -> 0.05144458
B70: ciągniki siodłowe | C70: 504.4783 | D70: 556.78987 | F70: =IF(C70,D70/C70-1,"") -> 0.1036944 | H70: 32.233326 | I70: 77.122823 | K70: =IF(H70,I70/H70-1,"") -> 1.3926424 | M70: =C70+H70 -> 536.71162 | N70: =D70+I70 -> 633.9127 | P70: =IF(M70,N70/M70-1,"") -> 0.18110484
B71: naczepy / przyczepy | C71: 206.07971 | D71: 234.60853 | F71: =IF(C71,D71/C71-1,"") -> 0.13843582 | H71: 20.533982 | I71: 29.883907 | K71: =IF(H71,I71/H71-1,"") -> 0.45533908 | M71: =C71+H71 -> 226.6137 | N71: =D71+I71 -> 264.49243 | P71: =IF(M71,N71/M71-1,"") -> 0.16715114
B72: autobusy | C72: 19.647455 | D72: 94.931056 | F72: =IF(C72,D72/C72-1,"") -> 3.8317227 | H72: 2.5119601 | I72: 16.641311 | K72: =IF(H72,I72/H72-1,"") -> 5.6248312 | M72: =C72+H72 -> 22.159415 | N72: =D72+I72 -> 111.57237 | P72: =IF(M72,N72/M72-1,"") -> 4.034987
B73: inne | C73: 18.877 | D73: 28.648029 | F73: =IF(C73,D73/C73-1,"") -> 0.51761553 | H73: 2.0155018 | I73: 5.1180092 | K73: =IF(H73,I73/H73-1,"") -> 1.5393225 | M73: =C73+H73 -> 20.892502 | N73: =D73+I73 -> 33.766038 | P73: =IF(M73,N73/M73-1,"") -> 0.61617971
B74: maszyny | C74: 4947.4309 | D74: 5869.0235 | F74: =IF(C74,D74/C74-1,"") -> 0.18627701 | H74: 721.65029 | I74: 938.73327 | K74: =IF(H74,I74/H74-1,"") -> 0.30081464 | M74: =SUM(M75:M77) -> 5669.0812 | N74: =SUM(N75:N77) -> 6807.7568 | P74: =IF(M74,N74/M74-1,"") -> 0.20085717
B75: sprzęt budowlany | C75: 583.14628 | D75: 434.72484 | F75: =IF(C75,D75/C75-1,"") -> -0.25451836 | H75: 101.14608 | I75: 68.218668 | K75: =IF(H75,I75/H75-1,"") -> -0.32554311 | M75: =C75+H75 -> 684.29236 | N75: =D75+I75 -> 502.94351 | P75: =IF(M75,N75/M75-1,"") -> -0.26501662
B76: maszyny rolnicze | C76: 2780.2369 | D76: 3815.6128 | F76: =IF(C76,D76/C76-1,"") -> 0.37240564 | H76: 399.46647 | I76: 655.89384 | K76: =IF(H76,I76/H76-1,"") -> 0.64192464 | M76: =C76+H76 -> 3179.7034 | N76: =D76+I76 -> 4471.5066 | P76: =IF(M76,N76/M76-1,"") -> 0.40626534
B77: inne MiU | C77: 1584.0477 | D77: 1618.6859 | F77: =IF(C77,D77/C77-1,"") -> 0.021866875 | H77: 221.03774 | I77: 214.62076 | K77: =IF(H77,I77/H77-1,"") -> -0.029031176 | M77: =C77+H77 -> 1805.0854 | N77: =D77+I77 -> 1833.3066 | P77: =IF(M77,N77/M77-1,"") -> 0.015634267
B78: IT | C78: 88.148976 | D78: 129.57174 | F78: =IF(C78,D78/C78-1,"") -> 0.46991774 | H78: 10.618718 | I78: 17.320996 | K78: =IF(H78,I78/H78-1,"") -> 0.63117589 | M78: =C78+H78 -> 98.767694 | N78: =D78+I78 -> 146.89274 | P78: =IF(M78,N78/M78-1,"") -> 0.48725493
B79: statki, samoloty, kolej | C79: 94.416637 | D79: 98.779905 | F79: =IF(C79,D79/C79-1,"") -> 0.046212919 | H79: 8.0172693 | I79: 10.970484 | K79: =IF(H79,I79/H79-1,"") -> 0.3683567 | M79: =C79+H79 -> 102.43391 | N79: =D79+I79 -> 109.75039 | P79: =IF(M79,N79/M79-1,"") -> 0.071426381
B80: inne | C80: 27.115407 | D80: 36.593379 | F80: =IF(C80,D80/C80-1,"") -> 0.34954193 | H80: 19.694827 | I80: 6.2498605 | K80: =IF(H80,I80/H80-1,"") -> -0.68266486 | M80: =C80+H80 -> 46.810233 | N80: =D80+I80 -> 42.843239 | P80: =IF(M80,N80/M80-1,"") -> -0.084746304
B82: ruchomości - pożyczka | C82: 7679.2479 | D82: 9683.4114 | F82: =IF(C82,D82/C82-1,"") -> 0.26098435 | H82: 1048.0716 | I82: 1393.5274 | K82: =IF(H82,I82/H82-1,"") -> 0.32961082 | M82: =SUM(M65,M75:M80) -> 8727.3195 | N82: =SUM(N65,N75:N80) -> 11076.939 | P82: =IF(M82,N82/M82-1,"") -> 0.26922577
