Workbook
Name cx: '[1]Dane Le'!#REF!
Name cx: '[1]Dane Le'!#REF!
Name cx: '[1]Dane Le'!#REF!
Name Excel_BuiltIn_Print_Area_2: #REF!
Name Excel_BuiltIn_Print_Area_2: #REF!
Name Excel_BuiltIn_Print_Area_2: #REF!
Name Excel_BuiltIn_Print_Area_4: #REF!
Name Excel_BuiltIn_Print_Area_4: #REF!
Name Excel_BuiltIn_Print_Area_4: #REF!
Name v: #REF!
Name v: #REF!
Name v: #REF!

Sheet summary_09 2025
B2: Związek Polskiego Leasingu, Warszawa 29-10-2025
C5: FINANSOWANIE POJAZDÓW LEKKICH | T5: FINANSOWANIE POJAZDÓW LEKKICH - I-III kw. 2025r. Łączne finansowanie leasingiem i pożyczką
J10: 01-09 2025 | N10: 01-09 2025
I11: leasing | J11: =('szacunek rynku_09 2025'!S37+'szacunek rynku_09 2025'!S38)/('szacunek rynku_09 2025'!S9+'szacunek rynku_09 2025'!S10) -> 0.93569329 | M11: osobowe | N11: ='szacunek rynku_09 2025'!S9/SUM('szacunek rynku_09 2025'!S9:S10) -> 0.87518949
I12: pożyczka | J12: =1-J11 -> 0.064306714 | M12: dostawcze | N12: =1-N11 -> 0.12481051
I14: leasing | J14: =('szacunek rynku_09 2025'!N37+'szacunek rynku_09 2025'!N38)/('szacunek rynku_09 2025'!M37+'szacunek rynku_09 2025'!M38)-1 -> 0.16372384 | K14: =('szacunek rynku_09 2025'!S37+'szacunek rynku_09 2025'!S38)/('szacunek rynku_09 2025'!R37+'szacunek rynku_09 2025'!R38)-1 -> 0.097417457
I15: pożyczka | J15: =('szacunek rynku_09 2025'!N64+'szacunek rynku_09 2025'!N65)/('szacunek rynku_09 2025'!M64+'szacunek rynku_09 2025'!M65)-1 -> 0.35208896 | K15: =('szacunek rynku_09 2025'!S64+'szacunek rynku_09 2025'!S65)/('szacunek rynku_09 2025'!R64+'szacunek rynku_09 2025'!R65)-1 -> 0.47856978
I16: L+P | J16: =('szacunek rynku_09 2025'!N10+'szacunek rynku_09 2025'!N9)/('szacunek rynku_09 2025'!M9+'szacunek rynku_09 2025'!M10)-1 -> 0.17248826 | K16: =('szacunek rynku_09 2025'!S10+'szacunek rynku_09 2025'!S9)/('szacunek rynku_09 2025'!R9+'szacunek rynku_09 2025'!R10)-1 -> 0.1159163
C38: FINANSOWANIE POJAZDÓW CIĘŻKICH | T38: FINANSOWANIE POJAZDÓW CIĘŻKICH - I-III kw. 2025r. Łączne finansowanie leasingiem i pożyczką
J43: I kw. 2025 | N43: I kw. 2025
I44: leasing | J44: ='szacunek rynku_09 2025'!S39/'szacunek rynku_09 2025'!S11 -> 0.90734143 | M44: ciężarowe pow. 3.5t | N44: ='szacunek rynku_09 2025'!S12/'szacunek rynku_09 2025'!$S$11 -> 0.22739876
I45: pożyczka | J45: =1-J44 -> 0.09265857 | M45: ciągniki siodłowe | N45: ='szacunek rynku_09 2025'!S13/'szacunek rynku_09 2025'!$S$11 -> 0.46464201
M46: przyczepy/naczepy | N46: ='szacunek rynku_09 2025'!S14/'szacunek rynku_09 2025'!$S$11 -> 0.21259493
M47: autobusy | N47: ='szacunek rynku_09 2025'!S15/'szacunek rynku_09 2025'!$S$11 -> 0.095364295
C73: FINANSOWANIE MASZYN | T73: FINANSOWANIE MASZYN - I-III kw. 2025r. Łączne finansowanie leasingiem i pożyczką
J78: I kw. 2025 | N78: I kw. 2025
I79: leasing | J79: ='szacunek rynku_09 2025'!S45/'szacunek rynku_09 2025'!S17 -> 0.59511584 | M79: sprzęt budowlany | N79: ='szacunek rynku_09 2025'!S18/'szacunek rynku_09 2025'!$S$17 -> 0.18185592
I80: pożyczka | J80: =1-J79 -> 0.40488416 | M80: maszyny rolnicze | N80: ='szacunek rynku_09 2025'!S19/'szacunek rynku_09 2025'!$S$17 -> 0.31404595
M81: pozostałe maszyny | N81: ='szacunek rynku_09 2025'!S20/'szacunek rynku_09 2025'!$S$17 -> 0.50409814
C108: FINANSOWANIE RUCHOMOŚCI
J113: 01-09/2025 | N113: 0109/2025
I114: leasing | J114: ='szacunek rynku_09 2025'!S53/'szacunek rynku_09 2025'!S25 -> 0.8509552 | M114: OSD | N114: =('szacunek rynku_09 2025'!S9+'szacunek rynku_09 2025'!S10)/'szacunek rynku_09 2025'!S25 -> 0.56191856
I115: pożyczka | J115: =1-J114 -> 0.1490448 | M115: TRK | N115: ='szacunek rynku_09 2025'!S11/'szacunek rynku_09 2025'!S25 -> 0.16714541
M116: maszyny | N116: ='szacunek rynku_09 2025'!S17/'szacunek rynku_09 2025'!S25 -> 0.22988274
M117: IT | N117: ='szacunek rynku_09 2025'!S21/'szacunek rynku_09 2025'!S25 -> 0.010988581
M118: pozostałe | N118: =('szacunek rynku_09 2025'!S16+'szacunek rynku_09 2025'!S22+'szacunek rynku_09 2025'!S23)/'szacunek rynku_09 2025'!S25 -> 0.030064709

Sheet szacunek rynku_09 2025
B2: Związek Polskiego Leasingu, Warszawa 29-10-2025
B4: Łączne finansowanie leasingiem i pożyczką | N4: ='szacunek rynku_09 2025'!S9/SUM('szacunek rynku_09 2025'!S9:S10) -> 0.87518949
C6: =C$33 -> I-VI 2025 vs I-VI 2024 | H6: =H33 -> VII-IX 2025 vs VII-IX 2024 | M6: =M$33 -> IX 2025 vs IX 2024 | R6: =R$33 -> I-IX 2025 vs I-IX 2024
C7: =C$35 -> I-VI 2024 | D7: =D$35 -> I-VI 2025 | F7: =F$35 -> I-VI 25/ I-VI 24 | H7: =H$35 -> VII-IX 2024 | I7: =I$35 -> VII-IX 2025 | K7: =K$35 -> VII-IX 2025/ VII-IX 2024 | M7: =M$35 -> IX 2024 | N7: =N$35 -> IX 2025 | P7: =P$35 -> IX 25 / IX 24 | R7: =R$35 -> I-IX 2024 | S7: =S$35 -> I-IX 2025 | U7: =U$35 -> I-IX 25/ I-IX 24
B8: pojazdy | C8: =SUM(C36,C63) -> 39437.538 | D8: =SUM(D36,D63) -> 41917.289 | F8: =IF(C8,D8/C8-1,"") -> 0.06287792 | H8: =SUM(H36,H63) -> 17507.611 | I8: =SUM(I36,I63) -> 20663.994 | K8: =IF(H8,I8/H8-1,"") -> 0.18028634 | M8: =SUM(M36,M63) -> 5957.3506 | N8: =SUM(N36,N63) -> 7154.5921 | P8: =IF(M8,N8/M8-1,"") -> 0.20096878 | R8: =SUM(R36,R63) -> 56945.149 | S8: =SUM(S36,S63) -> 62581.283 | U8: =IF(R8,S8/R8-1,"") -> 0.098974776
B9: osobowe | C9: =SUM(C37,C64) -> 25316.325 | D9: =SUM(D37,D64) -> 28067.328 | F9: =IF(C9,D9/C9-1,"") -> 0.1086652 | H9: =SUM(H37,H64) -> 11329.446 | I9: =SUM(I37,I64) -> 13653.74 | K9: =IF(H9,I9/H9-1,"") -> 0.20515513 | M9: =SUM(M37,M64) -> 3718.6378 | N9: =SUM(N37,N64) -> 4522.3164 | P9: =IF(M9,N9/M9-1,"") -> 0.21612179 | R9: =SUM(R37,R64) -> 36645.771 | S9: =SUM(S37,S64) -> 41721.068 | U9: =IF(R9,S9/R9-1,"") -> 0.13849613
B10: ciężarowe do 3,5 t | C10: =SUM(C38,C65) -> 4125.9513 | D10: =SUM(D38,D65) -> 3930.8543 | F10: =IF(C10,D10/C10-1,"") -> -0.047285333 | H10: =SUM(H38,H65) -> 1947.3394 | I10: =SUM(I38,I65) -> 2018.9748 | K10: =IF(H10,I10/H10-1,"") -> 0.036786294 | M10: =SUM(M38,M65) -> 721.56925 | N10: =SUM(N38,N65) -> 683.7742 | P10: =IF(M10,N10/M10-1,"") -> -0.052378964 | R10: =SUM(R38,R65) -> 6073.2907 | S10: =SUM(S38,S65) -> 5949.8291 | U10: =IF(R10,S10/R10-1,"") -> -0.020328614
B11: pojazdy ciężkie | C11: =SUM(C39,C66) -> 9484.3869 | D11: =SUM(D39,D66) -> 9434.6203 | F11: =IF(C11,D11/C11-1,"") -> -0.0052472041 | H11: =SUM(H39,H66) -> 4015.6218 | I11: =SUM(I39,I66) -> 4745.3197 | K11: =IF(H11,I11/H11-1,"") -> 0.18171481 | M11: =SUM(M39,M66) -> 1442.1559 | N11: =SUM(N39,N66) -> 1885.6431 | P11: =IF(M11,N11/M11-1,"") -> 0.30751678 | R11: =SUM(R39,R66) -> 13500.009 | S11: =SUM(S39,S66) -> 14179.94 | U11: =IF(R11,S11/R11-1,"") -> 0.05036526
B12: ciężarowe pow. 3,5 t | C12: =SUM(C40,C67) -> 2130.1682 | D12: =SUM(D40,D67) -> 2079.2814 | F12: =IF(C12,D12/C12-1,"") -> -0.023888639 | H12: =SUM(H40,H67) -> 1126.1958 | I12: =SUM(I40,I67) -> 1145.2194 | K12: =IF(H12,I12/H12-1,"") -> 0.016891946 | M12: =SUM(M40,M67) -> 378.34025 | N12: =SUM(N40,N67) -> 454.95165 | P12: =IF(M12,N12/M12-1,"") -> 0.20249339 | R12: =SUM(R40,R67) -> 3256.364 | S12: =SUM(S40,S67) -> 3224.5008 | U12: =IF(R12,S12/R12-1,"") -> -0.0097848954
B13: ciągniki siodłowe | C13: =SUM(C41,C68) -> 4812.4169 | D13: =SUM(D41,D68) -> 4410.1587 | F13: =IF(C13,D13/C13-1,"") -> -0.08358757 | H13: =SUM(H41,H68) -> 1656.4216 | I13: =SUM(I41,I68) -> 2178.4372 | K13: =IF(H13,I13/H13-1,"") -> 0.3151466 | M13: =SUM(M41,M68) -> 601.98324 | N13: =SUM(N41,N68) -> 935.21809 | P13: =IF(M13,N13/M13-1,"") -> 0.55356166 | R13: =SUM(R41,R68) -> 6468.8385 | S13: =SUM(S41,S68) -> 6588.5959 | U13: =IF(R13,S13/R13-1,"") -> 0.018512968
B14: naczepy / przyczepy | C14: =SUM(C42,C69) -> 1894.6209 | D14: =SUM(D42,D69) -> 2054.6722 | F14: =IF(C14,D14/C14-1,"") -> 0.084476706 | H14: =SUM(H42,H69) -> 842.2446 | I14: =SUM(I42,I69) -> 959.91112 | K14: =IF(H14,I14/H14-1,"") -> 0.13970588 | M14: =SUM(M42,M69) -> 287.27485 | N14: =SUM(N42,N69) -> 341.3416 | P14: =IF(M14,N14/M14-1,"") -> 0.18820562 | R14: =SUM(R42,R69) -> 2736.8655 | S14: =SUM(S42,S69) -> 3014.5834 | U14: =IF(R14,S14/R14-1,"") -> 0.10147296
B15: autobusy | C15: =SUM(C43,C70) -> 647.18081 | D15: =SUM(D43,D70) -> 890.50802 | F15: =IF(C15,D15/C15-1,"") -> 0.37598026 | H15: =SUM(H43,H70) -> 390.75981 | I15: =SUM(I43,I70) -> 461.75197 | K15: =IF(H15,I15/H15-1,"") -> 0.18167724 | M15: =SUM(M43,M70) -> 174.55758 | N15: =SUM(N43,N70) -> 154.13173 | P15: =IF(M15,N15/M15-1,"") -> -0.11701494 | R15: =SUM(R43,R70) -> 1037.9406 | S15: =SUM(S43,S70) -> 1352.26 | U15: =IF(R15,S15/R15-1,"") -> 0.30282982
B16: inne | C16: =SUM(C44,C71) -> 510.87528 | D16: =SUM(D44,D71) -> 484.48574 | F16: =IF(C16,D16/C16-1,"") -> -0.051655545 | H16: =SUM(H44,H71) -> 215.20377 | I16: =SUM(I44,I71) -> 245.95949 | K16: =IF(H16,I16/H16-1,"") -> 0.14291443 | M16: =SUM(M44,M71) -> 74.987712 | N16: =SUM(N44,N71) -> 62.858448 | P16: =IF(M16,N16/M16-1,"") -> -0.16175002 | R16: =SUM(R44,R71) -> 726.07904 | S16: =SUM(S44,S71) -> 730.44523 | U16: =IF(R16,S16/R16-1,"") -> 0.0060133701
B17: maszyny | C17: =SUM(C45,C72) -> 12580.633 | D17: =SUM(D45,D72) -> 12744.034 | F17: =IF(C17,D17/C17-1,"") -> 0.012988305 | H17: =SUM(H45,H72) -> 6656.2242 | I17: =SUM(I45,I72) -> 6758.287 | K17: =IF(H17,I17/H17-1,"") -> 0.015333437 | M17: =SUM(M45,M72) -> 2068.1859 | N17: =SUM(N45,N72) -> 2286.8672 | P17: =IF(M17,N17/M17-1,"") -> 0.10573578 | R17: =SUM(R45,R72) -> 19236.857 | S17: =SUM(S45,S72) -> 19502.321 | U17: =IF(R17,S17/R17-1,"") -> 0.013799753
B18: sprzęt budowlany | C18: =SUM(C46,C73) -> 2644.9659 | D18: =SUM(D46,D73) -> 2398.769 | F18: =IF(C18,D18/C18-1,"") -> -0.093081342 | H18: =SUM(H46,H73) -> 1212.6931 | I18: =SUM(I46,I73) -> 1147.8436 | K18: =IF(H18,I18/H18-1,"") -> -0.053475661 | M18: =SUM(M46,M73) -> 393.61485 | N18: =SUM(N46,N73) -> 407.44248 | P18: =IF(M18,N18/M18-1,"") -> 0.035129835 | R18: =SUM(R46,R73) -> 3857.6591 | S18: =SUM(S46,S73) -> 3546.6125 | U18: =IF(R18,S18/R18-1,"") -> -0.080630906
B19: maszyny rolnicze | C19: =SUM(C47,C74) -> 2894.3954 | D19: =SUM(D47,D74) -> 3827.7999 | F19: =IF(C19,D19/C19-1,"") -> 0.32248687 | H19: =SUM(H47,H74) -> 1727.3485 | I19: =SUM(I47,I74) -> 2296.8251 | K19: =IF(H19,I19/H19-1,"") -> 0.32968246 | M19: =SUM(M47,M74) -> 476.84023 | N19: =SUM(N47,N74) -> 595.56871 | P19: =IF(M19,N19/M19-1,"") -> 0.24899007 | R19: =SUM(R47,R74) -> 4621.7439 | S19: =SUM(S47,S74) -> 6124.6249 | U19: =IF(R19,S19/R19-1,"") -> 0.32517618
... B25: ruchomości - leasing + pożyczka | C25: =SUM(C53,C80) -> 53402.148 | D25: =SUM(D53,D80) -> 56362.82 | F25: =IF(C25,D25/C25-1,"") -> 0.055441059 | H25: =SUM(H53,H80) -> 25146.107 | I25: =SUM(I53,I80) -> 28473.134 | K25: =IF(H25,I25/H25-1,"") -> 0.13230782 | M25: =SUM(M53,M80) -> 8343.9814 | N25: =SUM(N53,N80) -> 9750.5185 | P25: =IF(M25,N25/M25-1,"") -> 0.16856906 | R25: =SUM(R53,R80) -> 78548.255 | S25: =SUM(S53,S80) -> 84835.954 | U25: =IF(R25,S25/R25-1,"") -> 0.080048859
B27: nieruchomości | C27: =SUM(C55,C82) -> 297.82812 | D27: =SUM(D55,D82) -> 365.61915 | F27: =IF(C27,D27/C27-1,"") -> 0.22761795 | H27: =SUM(H55,H82) -> 144.71038 | I27: =SUM(I55,I82) -> 73.698987 | K27: =IF(H27,I27/H27-1,"") -> -0.49071389 | R27: =SUM(R55,R82) -> 442.5385 | S27: =SUM(S55,S82) -> 439.31814 | U27: =IF(R27,S27/R27-1,"") -> -0.0072770326
B29: łączne finansowanie - leasing + pożyczka | C29: =SUM(C57,C84) -> 53699.976 | D29: =SUM(D57,D84) -> 56728.439 | F29: =IF(C29,D29/C29-1,"") -> 0.056395978 | H29: =SUM(H57,H84) -> 25290.818 | I29: =SUM(I57,I84) -> 28546.833 | K29: =IF(H29,I29/H29-1,"") -> 0.12874298 | O29: Łaczne finansowanie | R29: =SUM(R57,R84) -> 78990.794 | S29: =SUM(S57,S84) -> 85275.272 | U29: =IF(R29,S29/R29-1,"") -> 0.079559624
R30: =R21+R22+R23+R16 -> 3092.3279 | S30: =S21+S22+S23+S16 -> 3482.795 | U30: =S30*100/R30-100 -> 12.626965
B32: Finansowanie leasingiem | S32: 5
C33: I-VI 2025 vs I-VI 2024 | H33: VII-IX 2025 vs VII-IX 2024 | M33: IX 2025 vs IX 2024 | R33: I-IX 2025 vs I-IX 2024
C35: I-VI 2024 | D35: I-VI 2025 | F35: I-VI 25/ I-VI 24 | H35: VII-IX 2024 | I35: VII-IX 2025 | K35: VII-IX 2025/ VII-IX 2024 | M35: IX 2024 | N35: IX 2025 | P35: IX 25 / IX 24 | R35: I-IX 2024 | S35: I-IX 2025 | U35: I-IX 25/ I-IX 24
B36: pojazdy | C36: 37280.336 | D36: 38944.291 | F36: =IF(C36,D36/C36-1,"") -> 0.044633582 | H36: 16513.141 | I36: 19219.21 | K36: =IF(H36,I36/H36-1,"") -> 0.16387367 | M36: 5615.9054 | N36: 6718.1736 | P36: =IF(M36,N36/M36-1,"") -> 0.19627614 | R36: 53793.477 | S36: 58163.501 | U36: =IF(R36,S36/R36-1,"") -> 0.081237059
B37: osobowe | C37: 24129.55 | D37: 26188.897 | F37: =IF(C37,D37/C37-1,"") -> 0.085345448 | H37: 10754.232 | I37: 12767.373 | K37: =IF(H37,I37/H37-1,"") -> 0.18719527 | M37: 3545.6083 | N37: 4269.9547 | P37: =IF(M37,N37/M37-1,"") -> 0.20429398 | R37: 34883.782 | S37: 38956.27 | U37: =IF(R37,S37/R37-1,"") -> 0.11674447
B38: ciężarowe do 3,5 t | C38: 3909.0579 | D38: 3742.6552 | F38: =IF(C38,D38/C38-1,"") -> -0.042568485 | H38: 1852.8947 | I38: 1906.4128 | K38: =IF(H38,I38/H38-1,"") -> 0.028883541 | M38: 688.00073 | N38: 656.79702 | P38: =IF(M38,N38/M38-1,"") -> -0.045354176 | R38: 5761.9526 | S38: 5649.0681 | U38: =IF(R38,S38/R38-1,"") -> -0.019591364
B39: pojazdy ciężkie | C39: 8748.1395 | D39: 8552.801 | F39: =IF(C39,D39/C39-1,"") -> -0.022329142 | H39: 3695.7231 | I39: 4313.2461 | K39: =IF(H39,I39/H39-1,"") -> 0.16709123 | M39: 1308.6148 | N39: 1733.1269 | P39: =IF(M39,N39/M39-1,"") -> 0.32439802 | R39: 12443.863 | S39: 12866.047 | U39: =IF(R39,S39/R39-1,"") -> 0.033927124
B40: ciężarowe pow. 3,5 t | C40: 2023.2552 | D40: 1958.3025 | F40: =IF(C40,D40/C40-1,"") -> -0.032103067 | H40: 1079.3473 | I40: 1099.4399 | K40: =IF(H40,I40/H40-1,"") -> 0.018615573 | M40: 361.69893 | N40: 436.44138 | P40: =IF(M40,N40/M40-1,"") -> 0.20664271 | R40: 3102.6025 | S40: 3057.7425 | U40: =IF(R40,S40/R40-1,"") -> -0.014458839
B41: ciągniki siodłowe | C41: 4369.3451 | D41: 3930.9375 | F41: =IF(C41,D41/C41-1,"") -> -0.10033715 | H41: 1510.9996 | I41: 1934.0009 | K41: =IF(H41,I41/H41-1,"") -> 0.279948 | M41: 550.20104 | N41: 845.60494 | P41: =IF(M41,N41/M41-1,"") -> 0.53690175 | R41: 5880.3447 | S41: 5864.9384 | U41: =IF(R41,S41/R41-1,"") -> -0.0026199736
B42: naczepy / przyczepy | C42: 1722.464 | D42: 1851.6984 | F42: =IF(C42,D42/C42-1,"") -> 0.075028761 | H42: 760.73078 | I42: 855.88193 | K42: =IF(H42,I42/H42-1,"") -> 0.12507862 | M42: 260.21785 | N42: 301.85047 | P42: =IF(M42,N42/M42-1,"") -> 0.1599914 | R42: 2483.1948 | S42: 2707.5803 | U42: =IF(R42,S42/R42-1,"") -> 0.090361617
B43: autobusy | C43: 633.0751 | D43: 811.86266 | F43: =IF(C43,D43/C43-1,"") -> 0.28241129 | H43: 344.64551 | I43: 423.92331 | K43: =IF(H43,I43/H43-1,"") -> 0.23002707 | M43: 136.49699 | N43: 149.23008 | P43: =IF(M43,N43/M43-1,"") -> 0.093284759 | R43: 977.72061 | S43: 1235.786 | U43: =IF(R43,S43/R43-1,"") -> 0.26394591
B44: inne | C44: 493.58909 | D44: 459.9379 | F44: =IF(C44,D44/C44-1,"") -> -0.068176539 | H44: 210.29125 | I44: 232.1778 | K44: =IF(H44,I44/H44-1,"") -> 0.1040773 | M44: 73.681514 | N44: 58.294954 | P44: =IF(M44,N44/M44-1,"") -> -0.20882525 | R44: 703.88034 | S44: 692.11569 | U44: =IF(R44,S44/R44-1,"") -> -0.016713992
B45: maszyny | C45: 8582.8598 | D45: 7775.2646 | F45: =IF(C45,D45/C45-1,"") -> -0.094093955 | H45: 4301.2889 | I45: 3830.8758 | K45: =IF(H45,I45/H45-1,"") -> -0.10936563 | M45: 1384.5584 | N45: 1412.2716 | P45: =IF(M45,N45/M45-1,"") -> 0.02001596 | R45: 12884.149 | S45: 11606.14 | U45: =IF(R45,S45/R45-1,"") -> -0.099192303
B46: sprzęt budowlany | C46: 2154.8345 | D46: 2017.2989 | F46: =IF(C46,D46/C46-1,"") -> -0.063826505 | H46: 935.62284 | I46: 963.54255 | K46: =IF(H46,I46/H46-1,"") -> 0.029840771 | M46: 310.70548 | N46: 351.1332 | P46: =IF(M46,N46/M46-1,"") -> 0.13011592 | R46: 3090.4573 | S46: 2980.8415 | U46: =IF(R46,S46/R46-1,"") -> -0.035469135
B47: maszyny rolnicze | C47: 702.82313 | D47: 636.33037 | F47: =IF(C47,D47/C47-1,"") -> -0.094608107 | H47: 351.48436 | I47: 319.89333 | K47: =IF(H47,I47/H47-1,"") -> -0.089878907 | M47: 89.107164 | N47: 91.934397 | P47: =IF(M47,N47/M47-1,"") -> 0.031728458 | R47: 1054.3075 | S47: 956.22369 | U47: =IF(R47,S47/R47-1,"") -> -0.093031489
... B53: ruchomości - leasing | C53: 47088.375 | D53: 48192.195 | F53: =IF(C53,D53/C53-1,"") -> 0.023441441 | H53: 21667.556 | I53: 23999.401 | K53: =IF(H53,I53/H53-1,"") -> 0.10761918 | M53: 7278.9773 | N53: 8410.9836 | P53: =IF(M53,N53/M53-1,"") -> 0.15551721 | R53: 68755.932 | S53: 72191.596 | U53: =IF(R53,S53/R53-1,"") -> 0.049968983
B55: nieruchomości | C55: 284.84042 | D55: 334.74822 | F55: =IF(C55,D55/C55-1,"") -> 0.17521319 | H55: 106.0477 | I55: 62.003309 | K55: =IF(H55,I55/H55-1,"") -> -0.41532622 | R55: 390.88812 | S55: 396.75153 | U55: =IF(R55,S55/R55-1,"") -> 0.015000224
B57: łączne finansowanie - leasing | C57: 47373.216 | D57: 48526.943 | F57: =IF(C57,D57/C57-1,"") -> 0.024353997 | H57: 21773.604 | I57: 24061.404 | K57: =IF(H57,I57/H57-1,"") -> 0.10507219 | R57: 69146.82 | S57: 72588.347 | U57: =IF(R57,S57/R57-1,"") -> 0.049771304
R58: =R49+R50+R51 -> 2078.3057 | S58: =S49+S50+S51 -> 2421.9542 | U58: =S58*100/R58-100 -> 16.535031
B60: Finasowanie pożyczką
C61: =C$33 -> I-VI 2025 vs I-VI 2024 | H61: =H$33 -> VII-IX 2025 vs VII-IX 2024 | M61: =M$33 -> IX 2025 vs IX 2024 | R61: =R$33 -> I-IX 2025 vs I-IX 2024
C62: =C$35 -> I-VI 2024 | D62: =D$35 -> I-VI 2025 | F62: =F$35 -> I-VI 25/ I-VI 24 | H62: =H$35 -> VII-IX 2024 | I62: =I$35 -> VII-IX 2025 | K62: =K$35 -> VII-IX 2025/ VII-IX 2024 | M62: =M$35 -> IX 2024 | N62: =N$35 -> IX 2025 | P62: =P$35 -> IX 25 / IX 24 | R62: =R$35 -> I-IX 2024 | S62: =S$35 -> I-IX 2025 | U62: =U$35 -> I-IX 25/ I-IX 24
B63: pojazdy | C63: 2157.202 | D63: 2972.9975 | F63: =IF(C63,D63/C63-1,"") -> 0.37817294 | H63: 994.46974 | I63: 1444.7838 | K63: =IF(H63,I63/H63-1,"") -> 0.45281825 | M63: 341.44528 | N63: 436.41853 | P63: =IF(M63,N63/M63-1,"") -> 0.27815071 | R63: 3151.6718 | S63: 4417.7812 | U63: =IF(R63,S63/R63-1,"") -> 0.40172632
B64: osobowe | C64: 1186.7751 | D64: 1878.4312 | F64: =IF(C64,D64/C64-1,"") -> 0.58280307 | H64: 575.21388 | I64: 886.36648 | K64: =IF(H64,I64/H64-1,"") -> 0.54093374 | M64: 173.02945 | N64: 252.36166 | P64: =IF(M64,N64/M64-1,"") -> 0.45848963 | R64: 1761.989 | S64: 2764.7977 | U64: =IF(R64,S64/R64-1,"") -> 0.56913453
B65: ciężarowe do 3,5 t | C65: 216.89341 | D65: 188.19909 | F65: =IF(C65,D65/C65-1,"") -> -0.13229683 | H65: 94.444696 | I65: 112.56193 | K65: =IF(H65,I65/H65-1,"") -> 0.19182907 | M65: 33.568522 | N65: 26.977179 | P65: =IF(M65,N65/M65-1,"") -> -0.19635489 | R65: 311.3381 | S65: 300.76103 | U65: =IF(R65,S65/R65-1,"") -> -0.033972947
B66: pojazdy ciężkie | C66: 736.24736 | D66: 881.81929 | F66: =IF(C66,D66/C66-1,"") -> 0.1977215 | H66: 319.89864 | I66: 432.07368 | K66: =IF(H66,I66/H66-1,"") -> 0.35065805 | M66: 133.54111 | N66: 152.5162 | P66: =IF(M66,N66/M66-1,"") -> 0.14209173 | R66: 1056.146 | S66: 1313.893 | U66: =IF(R66,S66/R66-1,"") -> 0.24404483
B67: ciężarowe pow. 3,5 t | C67: 106.91298 | D67: 120.97886 | F67: =IF(C67,D67/C67-1,"") -> 0.13156382 | H67: 46.848498 | I67: 45.779468 | K67: =IF(H67,I67/H67-1,"") -> -0.022818872 | M67: 16.641322 | N67: 18.510277 | P67: =IF(M67,N67/M67-1,"") -> 0.11230813 | R67: 153.76148 | S67: 166.75833 | U67: =IF(R67,S67/R67-1,"") -> 0.084526046
B68: ciągniki siodłowe | C68: 443.0718 | D68: 479.22122 | F68: =IF(C68,D68/C68-1,"") -> 0.081588166 | H68: 145.42203 | I68: 244.43636 | K68: =IF(H68,I68/H68-1,"") -> 0.68087575 | M68: 51.782201 | N68: 89.613141 | P68: =IF(M68,N68/M68-1,"") -> 0.73057806 | R68: 588.49383 | S68: 723.65757 | U68: =IF(R68,S68/R68-1,"") -> 0.22967742
B69: naczepy / przyczepy | C69: 172.15688 | D69: 202.97387 | F69: =IF(C69,D69/C69-1,"") -> 0.17900528 | H69: 81.513821 | I69: 104.02919 | K69: =IF(H69,I69/H69-1,"") -> 0.27621532 | M69: 27.057 | N69: 39.491125 | P69: =IF(M69,N69/M69-1,"") -> 0.45955296 | R69: 253.6707 | S69: 307.00305 | U69: =IF(R69,S69/R69-1,"") -> 0.21024248
B70: autobusy | C70: 14.105705 | D70: 78.645355 | F70: =IF(C70,D70/C70-1,"") -> 4.5754288 | H70: 46.1143 | I70: 37.828669 | K70: =IF(H70,I70/H70-1,"") -> -0.17967596 | M70: 38.06059 | N70: 4.9016562 | P70: =IF(M70,N70/M70-1,"") -> -0.87121439 | R70: 60.220005 | S70: 116.47402 | U70: =IF(R70,S70/R70-1,"") -> 0.93414171
B71: inne | C71: 17.286186 | D71: 24.547842 | F71: =IF(C71,D71/C71-1,"") -> 0.4200843 | H71: 4.9125133 | I71: 13.78169 | K71: =IF(H71,I71/H71-1,"") -> 1.8054255 | M71: 1.3061975 | N71: 4.5634939 | P71: =IF(M71,N71/M71-1,"") -> 2.4937243 | R71: 22.1987 | S71: 38.329532 | U71: =IF(R71,S71/R71-1,"") -> 0.72665664
B72: maszyny | C72: 3997.7734 | D72: 4968.7698 | F72: =IF(C72,D72/C72-1,"") -> 0.24288428 | H72: 2354.9353 | I72: 2927.4112 | K72: =IF(H72,I72/H72-1,"") -> 0.24309626 | M72: 683.62755 | N72: 874.59554 | P72: =IF(M72,N72/M72-1,"") -> 0.27934507 | R72: 6352.7087 | S72: 7896.181 | U72: =IF(R72,S72/R72-1,"") -> 0.24296286
B73: sprzęt budowlany | C73: 490.13146 | D73: 381.47004 | F73: =IF(C73,D73/C73-1,"") -> -0.22169853 | H73: 277.07027 | I73: 184.301 | K73: =IF(H73,I73/H73-1,"") -> -0.33482218 | M73: 82.909375 | N73: 56.309272 | P73: =IF(M73,N73/M73-1,"") -> -0.32083347 | R73: 767.20173 | S73: 565.77104 | U73: =IF(R73,S73/R73-1,"") -> -0.26255245
B74: maszyny rolnicze | C74: 2191.5722 | D74: 3191.4695 | F74: =IF(C74,D74/C74-1,"") -> 0.45624655 | H74: 1375.8642 | I74: 1976.9317 | K74: =IF(H74,I74/H74-1,"") -> 0.43686547 | M74: 387.73307 | N74: 503.63431 | P74: =IF(M74,N74/M74-1,"") -> 0.2989202 | R74: 3567.4364 | S74: 5168.4013 | U74: =IF(R74,S74/R74-1,"") -> 0.44877179
... B80: ruchomości - pożyczka | C80: 6313.7728 | D80: 8170.6251 | F80: =IF(C80,D80/C80-1,"") -> 0.29409552 | H80: 3478.5508 | I80: 4473.7327 | K80: =IF(H80,I80/H80-1,"") -> 0.28609096 | M80: 1065.0041 | N80: 1339.535 | P80: =IF(M80,N80/M80-1,"") -> 0.25777446 | R80: 9792.3236 | S80: 12644.358 | U80: =IF(R80,S80/R80-1,"") -> 0.29125204
B82: nieruchomości | C82: 12.987701 | D82: 30.870929 | F82: =IF(C82,D82/C82-1,"") -> 1.3769356 | H82: 38.662682 | I82: 11.695678 | K82: =IF(H82,I82/H82-1,"") -> -0.6974944 | R82: 51.650384 | S82: 42.566607 | U82: =IF(R82,S82/R82-1,"") -> -0.17587045
B84: łączne finansowanie - pożyczka | C84: 6326.7605 | D84: 8201.4961 | F84: =IF(C84,D84/C84-1,"") -> 0.2963184 | H84: 3517.2134 | I84: 4485.4284 | K84: =IF(H84,I84/H84-1,"") -> 0.27527898 | R84: 9843.974 | S84: 12686.924 | U84: =IF(R84,S84/R84-1,"") -> 0.2888011
B87: Dane o łącznym rynku finansowania wg przedmiotu
C90: =S35 -> I-IX 2025 | H90: =R35 -> I-IX 2024 | M90: zmiana r/r
C92: Leasing | D92: Pożyczka | F92: Leasing + Pożyczka | H92: Leasing | I92: Pożyczka | K92: Leasing + Pożyczka | M92: Leasing | N92: Pożyczka | P92: Leasing + Pożyczka
B94: POJAZDY | C94: =S36 -> 58163.501 | D94: =S63 -> 4417.7812 | F94: =SUM(F95:F96,F98:F102) -> 62581.283 | H94: =R36 -> 53793.477 | I94: =R63 -> 3151.6718 | K94: =SUM(K95:K96,K98:K102) -> 56945.149 | M94: =IFERROR(C94/H94-1,"") -> 0.081237059 | N94: =IFERROR(D94/I94-1,"") -> 0.40172632 | P94: =IFERROR(F94/K94-1,"") -> 0.098974776
B95: osobowe | C95: =S37 -> 38956.27 | D95: =S64 -> 2764.7977 | F95: =C95+D95 -> 41721.068 | H95: =R37 -> 34883.782 | I95: =R64 -> 1761.989 | K95: =H95+I95 -> 36645.771 | M95: =IFERROR(C95/H95-1,"") -> 0.11674447 | N95: =IFERROR(D95/I95-1,"") -> 0.56913453 | P95: =IFERROR(F95/K95-1,"") -> 0.13849613
B96: ciężarowe do 3,5 t | C96: =S38 -> 5649.0681 | D96: =S65 -> 300.76103 | F96: =C96+D96 -> 5949.8291 | H96: =R38 -> 5761.9526 | I96: =R65 -> 311.3381 | K96: =H96+I96 -> 6073.2907 | M96: =IFERROR(C96/H96-1,"") -> -0.019591364 | N96: =IFERROR(D96/I96-1,"") -> -0.033972947 | P96: =IFERROR(F96/K96-1,"") -> -0.020328614
B97: pojazdy ciężkie | C97: =S39 -> 12866.047 | D97: =S66 -> 1313.893 | F97: =SUM(F98:F101) -> 14179.94 | H97: =R39 -> 12443.863 | I97: =R66 -> 1056.146 | K97: =SUM(K98:K101) -> 13500.009 | M97: =IFERROR(C97/H97-1,"") -> 0.033927124 | N97: =IFERROR(D97/I97-1,"") -> 0.24404483 | P97: =IFERROR(F97/K97-1,"") -> 0.05036526
B98: ciężarowe pow. 3,5 t | C98: =S40 -> 3057.7425 | D98: =S67 -> 166.75833 | F98: =C98+D98 -> 3224.5008 | H98: =R40 -> 3102.6025 | I98: =R67 -> 153.76148 | K98: =H98+I98 -> 3256.364 | M98: =IFERROR(C98/H98-1,"") -> -0.014458839 | N98: =IFERROR(D98/I98-1,"") -> 0.084526046 | P98: =IFERROR(F98/K98-1,"") -> -0.0097848954
B99: ciągniki siodłowe | C99: =S41 -> 5864.9384 | D99: =S68 -> 723.65757 | F99: =C99+D99 -> 6588.5959 | H99: =R41 -> 5880.3447 | I99: =R68 -> 588.49383 | K99: =H99+I99 -> 6468.8385 | M99: =IFERROR(C99/H99-1,"") -> -0.0026199736 | N99: =IFERROR(D99/I99-1,"") -> 0.22967742 | P99: =IFERROR(F99/K99-1,"") -> 0.018512968
B100: naczepy / przyczepy | C100: =S42 -> 2707.5803 | D100: =S69 -> 307.00305 | F100: =C100+D100 -> 3014.5834 | H100: =R42 -> 2483.1948 | I100: =R69 -> 253.6707 | K100: =H100+I100 -> 2736.8655 | M100: =IFERROR(C100/H100-1,"") -> 0.090361617 | N100: =IFERROR(D100/I100-1,"") -> 0.21024248 | P100: =IFERROR(F100/K100-1,"") -> 0.10147296
B101: autobusy | C101: =S43 -> 1235.786 | D101: =S70 -> 116.47402 | F101: =C101+D101 -> 1352.26 | H101: =R43 -> 977.72061 | I101: =R70 -> 60.220005 | K101: =H101+I101 -> 1037.9406 | M101: =IFERROR(C101/H101-1,"") -> 0.26394591 | N101: =IFERROR(D101/I101-1,"") -> 0.93414171 | P101: =IFERROR(F101/K101-1,"") -> 0.30282982
B102: inne | C102: =S44 -> 692.11569 | D102: =S71 -> 38.329532 | F102: =C102+D102 -> 730.44523 | H102: =R44 -> 703.88034 | I102: =R71 -> 22.1987 | K102: =H102+I102 -> 726.07904 | M102: =IFERROR(C102/H102-1,"") -> -0.016713992 | N102: =IFERROR(D102/I102-1,"") -> 0.72665664 | P102: =IFERROR(F102/K102-1,"") -> 0.0060133701
B103: MiU | C103: =S45 -> 11606.14 | D103: =S72 -> 7896.181 | F103: =SUM(F104:F118) -> 19502.321 | H103: =R45 -> 12884.149 | I103: =R72 -> 6352.7087 | K103: =SUM(K104:K118) -> 19236.857 | M103: =IFERROR(C103/H103-1,"") -> -0.099192303 | N103: =IFERROR(D103/I103-1,"") -> 0.24296286 | P103: =IFERROR(F103/K103-1,"") -> 0.013799753
B104: Sprzęt Budowlany | C104: 2980.8415 | D104: 565.77104 | F104: =C104+D104 -> 3546.6125 | H104: 3090.4573 | I104: 767.20173 | K104: =H104+I104 -> 3857.6591 | M104: =IFERROR(C104/H104-1,"") -> -0.035469135 | N104: =IFERROR(D104/I104-1,"") -> -0.26255245 | P104: =IFERROR(F104/K104-1,"") -> -0.080630906
B105: Maszyny Rolnicze | C105: 956.22369 | D105: 5168.4013 | F105: =C105+D105 -> 6124.6249 | H105: 1054.3075 | I105: 3567.4364 | K105: =H105+I105 -> 4621.7439 | M105: =IFERROR(C105/H105-1,"") -> -0.093031489 | N105: =IFERROR(D105/I105-1,"") -> 0.44877179 | P105: =IFERROR(F105/K105-1,"") -> 0.32517618
B106: Maszyny Poligraf. | C106: 350.98234 | D106: 168.02874 | F106: =C106+D106 -> 519.01108 | H106: 390.34609 | I106: 58.230241 | K106: =H106+I106 -> 448.57633 | M106: =IFERROR(C106/H106-1,"") -> -0.10084319 | N106: =IFERROR(D106/I106-1,"") -> 1.8855923 | P106: =IFERROR(F106/K106-1,"") -> 0.15701843
B107: maszyny do produkcji tworzyw sztucznych | C107: 607.03048 | D107: 71.104509 | F107: =C107+D107 -> 678.13499 | H107: 587.88823 | I107: 120.71806 | K107: =H107+I107 -> 708.6063 | M107: =IFERROR(C107/H107-1,"") -> 0.032561033 | N107: =IFERROR(D107/I107-1,"") -> -0.410987 | P107: =IFERROR(F107/K107-1,"") -> -0.043001745
B108: maszyny i urządzenia do obróbki metali | C108: 1058.4471 | D108: 196.59818 | F108: =C108+D108 -> 1255.0453 | H108: 1210.0463 | I108: 181.42557 | K108: =H108+I108 -> 1391.4718 | M108: =IFERROR(C108/H108-1,"") -> -0.12528379 | N108: =IFERROR(D108/I108-1,"") -> 0.083629998 | P108: =IFERROR(F108/K108-1,"") -> -0.098044792
B109: maszyny dla przemysłu spożywczego | C109: 491.32664 | D109: 171.56858 | F109: =C109+D109 -> 662.89522 | H109: 555.47077 | I109: 82.504619 | K109: =H109+I109 -> 637.97539 | M109: =IFERROR(C109/H109-1,"") -> -0.11547707 | N109: =IFERROR(D109/I109-1,"") -> 1.0795027 | P109: =IFERROR(F109/K109-1,"") -> 0.039060793
B110: Sprzęt Medyczny | C110: 380.09486 | D110: 666.37666 | F110: =C110+D110 -> 1046.4715 | H110: 374.51544 | I110: 745.71003 | K110: =H110+I110 -> 1120.2255 | M110: =IFERROR(C110/H110-1,"") -> 0.014897704 | N110: =IFERROR(D110/I110-1,"") -> -0.10638635 | P110: =IFERROR(F110/K110-1,"") -> -0.065838484
B111: Sprzęt Gastronom. | C111: 200.23725 | D111: 19.117803 | F111: =C111+D111 -> 219.35505 | H111: 160.58824 | I111: 16.059306 | K111: =H111+I111 -> 176.64755 | M111: =IFERROR(C111/H111-1,"") -> 0.24689859 | N111: =IFERROR(D111/I111-1,"") -> 0.19045017 | P111: =IFERROR(F111/K111-1,"") -> 0.24176677
B112: Wózki Widłowe | C112: 787.69337 | D112: 23.449081 | F112: =C112+D112 -> 811.14245 | H112: 1013.8267 | I112: 22.359195 | K112: =H112+I112 -> 1036.1859 | M112: =IFERROR(C112/H112-1,"") -> -0.22304929 | N112: =IFERROR(D112/I112-1,"") -> 0.04874442 | P112: =IFERROR(F112/K112-1,"") -> -0.21718443
B113: magazyny energii | C113: 8.0495832 | D113: 6.6504762 | F113: =C113+D113 -> 14.700059 | H113: 6.8007052 | I113: 3.9468421 | K113: =H113+I113 -> 10.747547 | M113: =IFERROR(C113/H113-1,"") -> 0.18363948 | N113: =IFERROR(D113/I113-1,"") -> 0.68501197 | P113: =IFERROR(F113/K113-1,"") -> 0.36775945
B114: pompy ciepła | C114: 4.7233869 | D114: 1.7296673 | F114: =C114+D114 -> 6.4530542 | H114: 6.4067287 | I114: 7.9428578 | K114: =H114+I114 -> 14.349587 | M114: =IFERROR(C114/H114-1,"") -> -0.26274592 | N114: =IFERROR(D114/I114-1,"") -> -0.78223615 | P114: =IFERROR(F114/K114-1,"") -> -0.55029686
B115: fotowoltaika | C115: 166.52922 | D115: 140.42728 | F115: =C115+D115 -> 306.9565 | H115: 281.84667 | I115: 172.18481 | K115: =H115+I115 -> 454.03148 | M115: =IFERROR(C115/H115-1,"") -> -0.40914958 | N115: =IFERROR(D115/I115-1,"") -> -0.18443865 | P115: =IFERROR(F115/K115-1,"") -> -0.32393124
... B118: inne MiU | C118: 3603.9094 | D118: 692.79133 | F118: =C118+D118 -> 4296.7008 | H118: 4146.3577 | I118: 604.94795 | K118: =H118+I118 -> 4751.3057 | M118: =IFERROR(C118/H118-1,"") -> -0.13082525 | N118: =IFERROR(D118/I118-1,"") -> 0.14520816 | P118: =IFERROR(F118/K118-1,"") -> -0.095679997
B119: IT | C119: =S49 -> 770.00583 | D119: =S76 -> 162.2209 | F119: =SUM(F120:F122) -> 932.22674 | H119: =R49 -> 604.91071 | I119: =R76 -> 113.57531 | K119: =SUM(K120:K122) -> 718.48601 | M119: =IFERROR(C119/H119-1,"") -> 0.27292478 | N119: =IFERROR(D119/I119-1,"") -> 0.42831139 | P119: =IFERROR(F119/K119-1,"") -> 0.29748766
B120: Sprzęt | C120: 625.20145 | D120: 125.2828 | F120: =C120+D120 -> 750.48425 | H120: 456.86767 | I120: 76.83129 | K120: =H120+I120 -> 533.69896 | M120: =IFERROR(C120/H120-1,"") -> 0.36845195 | N120: =IFERROR(D120/I120-1,"") -> 0.63062213 | P120: =IFERROR(F120/K120-1,"") -> 0.40619397
B121: Oprogram. | C121: 52.11675 | D121: 29.908042 | F121: =C121+D121 -> 82.024792 | H121: 44.333041 | I121: 34.612242 | K121: =H121+I121 -> 78.945283 | M121: =IFERROR(C121/H121-1,"") -> 0.17557355 | N121: =IFERROR(D121/I121-1,"") -> -0.13591145 | P121: =IFERROR(F121/K121-1,"") -> 0.039008149
B122: inne IT | C122: 92.687633 | D122: 7.030057 | F122: =C122+D122 -> 99.71769 | H122: 103.71 | I122: 2.1317728 | K122: =H122+I122 -> 105.84177 | M122: =IFERROR(C122/H122-1,"") -> -0.10628068 | N122: =IFERROR(D122/I122-1,"") -> 2.2977515 | P122: =IFERROR(F122/K122-1,"") -> -0.057860754
B123: POZOSTAŁE ŚRODKI TRANSPORTU | C123: =S50 -> 1344.5714 | D123: =S77 -> 115.78292 | F123: =SUM(F124:F126) -> 1460.3543 | H123: =R50 -> 1113.3913 | I123: =R77 -> 104.84862 | K123: =SUM(K124:K126) -> 1218.24 | M123: =IFERROR(C123/H123-1,"") -> 0.20763596 | N123: =IFERROR(D123/I123-1,"") -> 0.1042865 | P123: =IFERROR(F123/K123-1,"") -> 0.19874112
B124: Powietrzne | C124: 362.44063 | D124: 6.6422351 | F124: =C124+D124 -> 369.08287 | H124: 344.39171 | I124: 28.629312 | K124: =H124+I124 -> 373.02102 | M124: =IFERROR(C124/H124-1,"") -> 0.05240813 | N124: =IFERROR(D124/I124-1,"") -> -0.7679918 | P124: =IFERROR(F124/K124-1,"") -> -0.010557453
B125: Wodne | C125: 309.66545 | D125: 68.260423 | F125: =C125+D125 -> 377.92588 | H125: 195.08628 | I125: 43.905239 | K125: =H125+I125 -> 238.99152 | M125: =IFERROR(C125/H125-1,"") -> 0.58732566 | N125: =IFERROR(D125/I125-1,"") -> 0.55472159 | P125: =IFERROR(F125/K125-1,"") -> 0.58133595
B126: Kolejowe | C126: 672.46534 | D126: 40.880258 | F126: =C126+D126 -> 713.3456 | H126: 573.91336 | I126: 32.314068 | K126: =H126+I126 -> 606.22743 | M126: =IFERROR(C126/H126-1,"") -> 0.17171927 | N126: =IFERROR(D126/I126-1,"") -> 0.26509164 | P126: =IFERROR(F126/K126-1,"") -> 0.17669635
B127: INNE RUCHOMOŚCI | C127: =S51 -> 307.37692 | D127: =S78 -> 52.391781 | F127: =C127+D127 -> 359.76871 | H127: =R51 -> 360.00364 | I127: =R78 -> 69.51919 | K127: =H127+I127 -> 429.52283 | M127: =IFERROR(C127/H127-1,"") -> -0.14618384 | N127: =IFERROR(D127/I127-1,"") -> -0.24636951 | P127: =IFERROR(F127/K127-1,"") -> -0.1623991
B128: RUCHOMOŚCI | C128: =C94+C103+C119+C123+C127 -> 72191.596 | D128: =D94+D103+D119+D123+D127 -> 12644.358 | F128: =SUM(F127,F123,F119,F103,F94) -> 84835.954 | H128: =H94+H103+H119+H123+H127 -> 68755.932 | I128: =I94+I103+I119+I123+I127 -> 9792.3236 | K128: =SUM(K127,K123,K119,K103,K94) -> 78548.255 | M128: =IFERROR(C128/H128-1,"") -> 0.049968983 | N128: =IFERROR(D128/I128-1,"") -> 0.29125204 | P128: =IFERROR(F128/K128-1,"") -> 0.080048859
B129: NIERUCHOMOŚCI | C129: =S55 -> 396.75153 | D129: =S82 -> 42.566607 | F129: =S27 -> 439.31814 | H129: =R55 -> 390.88812 | I129: =R82 -> 51.650384 | K129: =R27 -> 442.5385 | M129: =IFERROR(C129/H129-1,"") -> 0.015000224 | N129: =IFERROR(D129/I129-1,"") -> -0.17587045 | P129: =IFERROR(F129/K129-1,"") -> -0.0072770326
B130: budynki przemysłowe | F130: 25.802756 | K130: 16.12795 | M130: =IFERROR(C130/H130-1,"") | N130: =IFERROR(D130/I130-1,"") | P130: =IFERROR(F130/K130-1,"") -> 0.59987821
B131: obiekty handlowe i usługowe | F131: 214.05895 | K131: 382.54676 | M131: =IFERROR(C131/H131-1,"") | N131: =IFERROR(D131/I131-1,"") | P131: =IFERROR(F131/K131-1,"") -> -0.44043715
B132: obiekty biurowe | F132: 153.13079 | K132: 28.74884 | M132: =IFERROR(C132/H132-1,"") | N132: =IFERROR(D132/I132-1,"") | P132: =IFERROR(F132/K132-1,"") -> 4.3265032
B133: hotele i obiekty rekreacyjne | F133: 7.3399594 | K133: 0 | M133: =IFERROR(C133/H133-1,"") | N133: =IFERROR(D133/I133-1,"") | P133: =IFERROR(F133/K133-1,"")
B134: inne | F134: 38.985678 | K134: 15.114958 | M134: =IFERROR(C134/H134-1,"") | N134: =IFERROR(D134/I134-1,"") | P134: =IFERROR(F134/K134-1,"") -> 1.5792781
B135: OGÓŁEM RUCHOMOŚCI I NIERUCHOMOŚCI | C135: =C128+C129 -> 72588.347 | D135: =D128+D129 -> 12686.924 | F135: =F129+F128 -> 85275.272 | H135: =H128+H129 -> 69146.82 | I135: =I128+I129 -> 9843.974 | K135: =K128+K129 -> 78990.794 | M135: =IFERROR(C135/H135-1,"") -> 0.049771304 | N135: =IFERROR(D135/I135-1,"") -> 0.2888011 | P135: =IFERROR(F135/K135-1,"") -> 0.079559624
...
