Workbook
Name cx: '[1]Dane Le'!#REF!
Name cx: '[1]Dane Le'!#REF!
Name cx: '[1]Dane Le'!#REF!
Name Excel_BuiltIn_Print_Area_2: #REF!
Name Excel_BuiltIn_Print_Area_2: #REF!
Name Excel_BuiltIn_Print_Area_2: #REF!
Name Excel_BuiltIn_Print_Area_4: #REF!
Name Excel_BuiltIn_Print_Area_4: #REF!
Name Excel_BuiltIn_Print_Area_4: #REF!
Name v: #REF!
Name v: #REF!
Name v: #REF!

Sheet summary_09 2025
B2: Związek Polskiego Leasingu, Warszawa 29-10-2025
C5: FINANSOWANIE POJAZDÓW LEKKICH | T5: FINANSOWANIE POJAZDÓW LEKKICH - I-III kw. 2025r. Łączne finansowanie leasingiem i pożyczką
J10: 01-09 2025 | N10: 01-09 2025
I11: leasing | J11: =('szacunek rynku_09 2025'!S37+'szacunek rynku_09 2025'!S38)/('szacunek rynku_09 2025'!S9+'szacunek rynku_09 2025'!S10) -> 0.93569329 | M11: osobowe | N11: ='szacunek rynku_09 2025'!S9/SUM('szacunek rynku_09 2025'!S9:S10) -> 0.87518949
I12: pożyczka | J12: =1-J11 -> 0.064306714 | M12: dostawcze | N12: =1-N11 -> 0.12481051
I14: leasing | J14: =('szacunek rynku_09 2025'!N37+'szacunek rynku_09 2025'!N38)/('szacunek rynku_09 2025'!M37+'szacunek rynku_09 2025'!M38)-1 -> 0.16372384 | K14: =('szacunek rynku_09 2025'!S37+'szacunek rynku_09 2025'!S38)/('szacunek rynku_09 2025'!R37+'szacunek rynku_09 2025'!R38)-1 -> 0.097417457
I15: pożyczka | J15: =('szacunek rynku_09 2025'!N64+'szacunek rynku_09 2025'!N65)/('szacunek rynku_09 2025'!M64+'szacunek rynku_09 2025'!M65)-1 -> 0.35208896 | K15: =('szacunek rynku_09 2025'!S64+'szacunek rynku_09 2025'!S65)/('szacunek rynku_09 2025'!R64+'szacunek rynku_09 2025'!R65)-1 -> 0.47856978
I16: L+P | J16: =('szacunek rynku_09 2025'!N10+'szacunek rynku_09 2025'!N9)/('szacunek rynku_09 2025'!M9+'szacunek rynku_09 2025'!M10)-1 -> 0.17248826 | K16: =('szacunek rynku_09 2025'!S10+'szacunek rynku_09 2025'!S9)/('szacunek rynku_09 2025'!R9+'szacunek rynku_09 2025'!R10)-1 -> 0.1159163
C38: FINANSOWANIE POJAZDÓW CIĘŻKICH | T38: FINANSOWANIE POJAZDÓW CIĘŻKICH - I-III kw. 2025r. Łączne finansowanie leasingiem i pożyczką
J43: I kw. 2025 | N43: I kw. 2025
I44: leasing | J44: ='szacunek rynku_09 2025'!S39/'szacunek rynku_09 2025'!S11 -> 0.90734143 | M44: ciężarowe pow. 3.5t | N44: ='szacunek rynku_09 2025'!S12/'szacunek rynku_09 2025'!$S$11 -> 0.22739876
I45: pożyczka | J45: =1-J44 -> 0.09265857 | M45: ciągniki siodłowe | N45: ='szacunek rynku_09 2025'!S13/'szacunek rynku_09 2025'!$S$11 -> 0.46464201
M46: przyczepy/naczepy | N46: ='szacunek rynku_09 2025'!S14/'szacunek rynku_09 2025'!$S$11 -> 0.21259493
M47: autobusy | N47: ='szacunek rynku_09 2025'!S15/'szacunek rynku_09 2025'!$S$11 -> 0.095364295
C73: FINANSOWANIE MASZYN | T73: FINANSOWANIE MASZYN - I-III kw. 2025r. Łączne finansowanie leasingiem i pożyczką
J78: I kw. 2025 | N78: I kw. 2025
I79: leasing | J79: ='szacunek rynku_09 2025'!S45/'szacunek rynku_09 2025'!S17 -> 0.59511584 | M79: sprzęt budowlany | N79: ='szacunek rynku_09 2025'!S18/'szacunek rynku_09 2025'!$S$17 -> 0.18185592
I80: pożyczka | J80: =1-J79 -> 0.40488416 | M80: maszyny rolnicze | N80: ='szacunek rynku_09 2025'!S19/'szacunek rynku_09 2025'!$S$17 -> 0.31404595
M81: pozostałe maszyny | N81: ='szacunek rynku_09 2025'!S20/'szacunek rynku_09 2025'!$S$17 -> 0.50409814
C108: FINANSOWANIE RUCHOMOŚCI
J113: 01-09/2025 | N113: 0109/2025
I114: leasing | J114: ='szacunek rynku_09 2025'!S53/'szacunek rynku_09 2025'!S25 -> 0.8509552 | M114: OSD | N114: =('szacunek rynku_09 2025'!S9+'szacunek rynku_09 2025'!S10)/'szacunek rynku_09 2025'!S25 -> 0.56191856
I115: pożyczka | J115: =1-J114 -> 0.1490448 | M115: TRK | N115: ='szacunek rynku_09 2025'!S11/'szacunek rynku_09 2025'!S25 -> 0.16714541
M116: maszyny | N116: ='szacunek rynku_09 2025'!S17/'szacunek rynku_09 2025'!S25 -> 0.22988274
M117: IT | N117: ='szacunek rynku_09 2025'!S21/'szacunek rynku_09 2025'!S25 -> 0.010988581
M118: pozostałe | N118: =('szacunek rynku_09 2025'!S16+'szacunek rynku_09 2025'!S22+'szacunek rynku_09 2025'!S23)/'szacunek rynku_09 2025'!S25 -> 0.030064709

Sheet szacunek rynku_09 2025
B2: Związek Polskiego Leasingu, Warszawa 29-10-2025
B4: Łączne finansowanie leasingiem i pożyczką | N4: ='szacunek rynku_09 2025'!S9/SUM('szacunek rynku_09 2025'!S9:S10) -> 0.87518949
C6: =C$33 -> I-VI 2025 vs I-VI 2024 | H6: =H33 -> VII-IX 2025 vs VII-IX 2024 | M6: =M$33 -> IX 2025 vs IX 2024 | R6: =R$33 -> I-IX 2025 vs I-IX 2024
C7: =C$35 -> I-VI 2024 | D7: =D$35 -> I-VI 2025 | F7: =F$35 -> I-VI 25/ I-VI 24 | H7: =H$35 -> VII-IX 2024 | I7: =I$35 -> VII-IX 2025 | K7: =K$35 -> VII-IX 2025/ VII-IX 2024 | M7: =M$35 -> IX 2024 | N7: =N$35 -> IX 2025 | P7: =P$35 -> IX 25 / IX 24 | R7: =R$35 -> I-IX 2024 | S7: =S$35 -> I-IX 2025 | U7: =U$35 -> I-IX 25/ I-IX 24
B8: pojazdy | C8: =SUM(C36,C63) -> 39437.538 | D8: =SUM(D36,D63) -> 41917.289 | F8: =IF(C8,D8/C8-1,"") -> 0.06287792 | H8: =SUM(H36,H63) -> 17507.611 | I8: =SUM(I36,I63) -> 20663.994 | K8: =IF(H8,I8/H8-1,"") -> 0.18028634 | M8: =SUM(M36,M63) -> 5957.3506 | N8: =SUM(N36,N63) -> 7154.5921 | P8: =IF(M8,N8/M8-1,"") -> 0.20096878 | R8: =SUM(R36,R63) -> 56945.149 | S8: =SUM(S36,S63) -> 62581.283 | U8: =IF(R8,S8/R8-1,"") -> 0.098974776
B9: osobowe | C9: =SUM(C37,C64) -> 25316.325 | D9: =SUM(D37,D64) -> 28067.328 | F9: =IF(C9,D9/C9-1,"") -> 0.1086652 | H9: =SUM(H37,H64) -> 11329.446 | I9: =SUM(I37,I64) -> 13653.74 | K9: =IF(H9,I9/H9-1,"") -> 0.20515513 | M9: =SUM(M37,M64) -> 3718.6378 | N9: =SUM(N37,N64) -> 4522.3164 | P9: =IF(M9,N9/M9-1,"") -> 0.21612179 | R9: =SUM(R37,R64) -> 36645.771 | S9: =SUM(S37,S64) -> 41721.068 | U9: =IF(R9,S9/R9-1,"") -> 0.13849613
B10: ciężarowe do 3,5 t | C10: =SUM(C38,C65) -> 4125.9513 | D10: =SUM(D38,D65) -> 3930.8543 | F10: =IF(C10,D10/C10-1,"") -> -0.047285333 | H10: =SUM(H38,H65) -> 1947.3394 | I10: =SUM(I38,I65) -> 2018.9748 | K10: =IF(H10,I10/H10-1,"") -> 0.036786294 | M10: =SUM(M38,M65) -> 721.56925 | N10: =SUM(N38,N65) -> 683.7742 | P10: =IF(M10,N10/M10-1,"") -> -0.052378964 | R10: =SUM(R38,R65) -> 6073.2907 | S10: =SUM(S38,S65) -> 5949.8291 | U10: =IF(R10,S10/R10-1,"") -> -0.020328614
B11: pojazdy ciężkie | C11: =SUM(C39,C66) -> 9484.3869 | D11: =SUM(D39,D66) -> 9434.6203 | F11: =IF(C11,D11/C11-1,"") -> -0.0052472041 | H11: =SUM(H39,H66) -> 4015.6218 | I11: =SUM(I39,I66) -> 4745.3197 | K11: =IF(H11,I11/H11-1,"") -> 0.18171481 | M11: =SUM(M39,M66) -> 1442.1559 | N11: =SUM(N39,N66) -> 1885.6431 | P11: =IF(M11,N11/M11-1,"") -> 0.30751678 | R11: =SUM(R39,R66) -> 13500.009 | S11: =SUM(S39,S66) -> 14179.94 | U11: =IF(R11,S11/R11-1,"") -> 0.05036526
B12: ciężarowe pow. 3,5 t | C12: =SUM(C40,C67) -> 2130.1682 | D12: =SUM(D40,D67) -> 2079.2814 | F12: =IF(C12,D12/C12-1,"") -> -0.023888639 | H12: =SUM(H40,H67) -> 1126.1958 | I12: =SUM(I40,I67) -> 1145.2194 | K12: =IF(H12,I12/H12-1,"") -> 0.016891946 | M12: =SUM(M40,M67) -> 378.34025 | N12: =SUM(N40,N67) -> 454.95165 | P12: =IF(M12,N12/M12-1,"") -> 0.20249339 | R12: =SUM(R40,R67) -> 3256.364 | S12: =SUM(S40,S67) -> 3224.5008 | U12: =IF(R12,S12/R12-1,"") -> -0.0097848954
B13: ciągniki siodłowe | C13: =SUM(C41,C68) -> 4812.4169 | D13: =SUM(D41,D68) -> 4410.1587 | F13: =IF(C13,D13/C13-1,"") -> -0.08358757 | H13: =SUM(H41,H68) -> 1656.4216 | I13: =SUM(I41,I68) -> 2178.4372 | K13: =IF(H13,I13/H13-1,"") -> 0.3151466 | M13: =SUM(M41,M68) -> 601.98324 | N13: =SUM(N41,N68) -> 935.21809 | P13: =IF(M13,N13/M13-1,"") -> 0.55356166 | R13: =SUM(R41,R68) -> 6468.8385 | S13: =SUM(S41,S68) -> 6588.5959 | U13: =IF(R13,S13/R13-1,"") -> 0.018512968
B14: naczepy / przyczepy | C14: =SUM(C42,C69) -> 1894.6209 | D14: =SUM(D42,D69) -> 2054.6722 | F14: =IF(C14,D14/C14-1,"") -> 0.084476706 | H14: =SUM(H42,H69) -> 842.2446 | I14: =SUM(I42,I69) -> 959.91112 | K14: =IF(H14,I14/H14-1,"") -> 0.13970588 | M14: =SUM(M42,M69) -> 287.27485 | N14: =SUM(N42,N69) -> 341.3416 | P14: =IF(M14,N14/M14-1,"") -> 0.18820562 | R14: =SUM(R42,R69) -> 2736.8655 | S14: =SUM(S42,S69) -> 3014.5834 | U14: =IF(R14,S14/R14-1,"") -> 0.10147296
B15: autobusy | C15: =SUM(C43,C70) -> 647.18081 | D15: =SUM(D43,D70) -> 890.50802 | F15: =IF(C15,D15/C15-1,"") -> 0.37598026 | H15: =SUM(H43,H70) -> 390.75981 | I15: =SUM(I43,I70) -> 461.75197 | K15: =IF(H15,I15/H15-1,"") -> 0.18167724 | M15: =SUM(M43,M70) -> 174.55758 | N15: =SUM(N43,N70) -> 154.13173 | P15: =IF(M15,N15/M15-1,"") -> -0.11701494 | R15: =SUM(R43,R70) -> 1037.9406 | S15: =SUM(S43,S70) -> 1352.26 | U15: =IF(R15,S15/R15-1,"") -> 0.30282982
B16: inne | C16: =SUM(C44,C71) -> 510.87528 | D16: =SUM(D44,D71) -> 484.48574 | F16: =IF(C16,D16/C16-1,"") -> -0.051655545 | H16: =SUM(H44,H71) -> 215.20377 | I16: =SUM(I44,I71) -> 245.95949 | K16: =IF(H16,I16/H16-1,"") -> 0.14291443 | M16: =SUM(M44,M71) -> 74.987712 | N16: =SUM(N44,N71) -> 62.858448 | P16: =IF(M16,N16/M16-1,"") -> -0.16175002 | R16: =SUM(R44,R71) -> 726.07904 | S16: =SUM(S44,S71) -> 730.44523 | U16: =IF(R16,S16/R16-1,"") -> 0.0060133701
B17: maszyny | C17: =SUM(C45,C72) -> 12580.633 | D17: =SUM(D45,D72) -> 12744.034 | F17: =IF(C17,D17/C17-1,"") -> 0.012988305 | H17: =SUM(H45,H72) -> 6656.2242 | I17: =SUM(I45,I72) -> 6758.287 | K17: =IF(H17,I17/H17-1,"") -> 0.015333437 | M17: =SUM(M45,M72) -> 2068.1859 | N17: =SUM(N45,N72) -> 2286.8672 | P17: =IF(M17,N17/M17-1,"") -> 0.10573578 | R17: =SUM(R45,R72) -> 19236.857 | S17: =SUM(S45,S72) -> 19502.321 | U17: =IF(R17,S17/R17-1,"") -> 0.013799753
B18: sprzęt budowlany | C18: =SUM(C46,C73) -> 2644.9659 | D18: =SUM(D46,D73) -> 2398.769 | F18: =IF(C18,D18/C18-1,"") -> -0.093081342 | H18: =SUM(H46,H73) -> 1212.6931 | I18: =SUM(I46,I73) -> 1147.8436 | K18: =IF(H18,I18/H18-1,"") -> -0.053475661 | M18: =SUM(M46,M73) -> 393.61485 | N18: =SUM(N46,N73) -> 407.44248 | P18: =IF(M18,N18/M18-1,"") -> 0.035129835 | R18: =SUM(R46,R73) -> 3857.6591 | S18: =SUM(S46,S73) -> 3546.6125 | U18: =IF(R18,S18/R18-1,"") -> -0.080630906
B19: maszyny rolnicze | C19: =SUM(C47,C74) -> 2894.3954 | D19: =SUM(D47,D74) -> 3827.7999 | F19: =IF(C19,D19/C19-1,"") -> 0.32248687 | H19: =SUM(H47,H74) -> 1727.3485 | I19: =SUM(I47,I74) -> 2296.8251 | K19: =IF(H19,I19/H19-1,"") -> 0.32968246 | M19: =SUM(M47,M74) -> 476.84023 | N19: =SUM(N47,N74) -> 595.56871 | P19: =IF(M19,N19/M19-1,"") -> 0.24899007 | R19: =SUM(R47,R74) -> 4621.7439 | S19: =SUM(S47,S74) -> 6124.6249 | U19: =IF(R19,S19/R19-1,"") -> 0.32517618
... B25: ruchomości - leasing + pożyczka | C25: =SUM(C53,C80) -> 53402.148 | D25: =SUM(D53,D80) -> 56362.82 | F25: =IF(C25,D25/C25-1,"") -> 0.055441059 | H25: =SUM(H53,H80) -> 25146.107 | I25: =SUM(I53,I80) -> 28473.134 | K25: =IF(H25,I25/H25-1,"") -> 0.13230782 | M25: =SUM(M53,M80) -> 8343.9814 | N25: =SUM(N53,N80) -> 9750.5185 | P25: =IF(M25,N25/M25-1,"") -> 0.16856906 | R25: =SUM(R53,R80) -> 78548.255 | S25: =SUM(S53,S80) -> 84835.954 | U25: =IF(R25,S25/R25-1,"") -> 0.080048859
B27: nieruchomości | C27: =SUM(C55,C82) -> 297.82812 | D27: =SUM(D55,D82) -> 365.61915 | F27: =IF(C27,D27/C27-1,"") -> 0.22761795 | H27: =SUM(H55,H82) -> 144.71038 | I27: =SUM(I55,I82) -> 73.698987 | K27: =IF(H27,I27/H27-1,"") -> -0.49071389 | R27: =SUM(R55,R82) -> 442.5385 | S27: =SUM(S55,S82) -> 439.31814 | U27: =IF(R27,S27/R27-1,"") -> -0.0072770326
B29: łączne finansowanie - leasing + pożyczka | C29: =SUM(C57,C84) -> 53699.976 | D29: =SUM(D57,D84) -> 56728.439 | F29: =IF(C29,D29/C29-1,"") -> 0.056395978 | H29: =SUM(H57,H84) -> 25290.818 | I29: =SUM(I57,I84) -> 28546.833 | K29: =IF(H29,I29/H29-1,"") -> 0.12874298 | O29: Łaczne finansowanie | R29: =SUM(R57,R84) -> 78990.794 | S29: =SUM(S57,S84) -> 85275.272 | U29: =IF(R29,S29/R29-1,"") -> 0.079559624
R30: =R21+R22+R23+R16 -> 3092.3279 | S30: =S21+S22+S23+S16 -> 3482.795 | U30: =S30*100/R30-100 -> 12.626965
B32: Finansowanie leasingiem | S32: 5
C33: I-VI 2025 vs I-VI 2024 | H33: VII-IX 2025 vs VII-IX 2024 | M33: IX 2025 vs IX 2024 | R33: I-IX 2025 vs I-IX 2024
C35: I-VI 2024 | D35: I-VI 2025 | F35: I-VI 25/ I-VI 24 | H35: VII-IX 2024 | I35: VII-IX 2025 | K35: VII-IX 2025/ VII-IX 2024 | M35: IX 2024 | N35: IX 2025 | P35: IX 25 / IX 24 | R35: I-IX 2024 | S35: I-IX 2025 | U35: I-IX 25/ I-IX 24
B36: pojazdy | C36: 37280.336 | D36: 38944.291 | F36: =IF(C36,D36/C36-1,"") -> 0.044633582 | H36: 16513.141 | I36: 19219.21 | K36: =IF(H36,I36/H36-1,"") -> 0.16387367 | M36: 5615.9054 | N36: 6718.1736 | P36: =IF(M36,N36/M36-1,"") -> 0.19627614 | R36: 53793.477 | S36: 58163.501 | U36: =IF(R36,S36/R36-1,"") -> 0.081237059
B37: osobowe | C37: 24129.55 | D37: 26188.897 | F37: =IF(C37,D37/C37-1,"") -> 0.085345448 | H37: 10754.232 | I37: 12767.373 | K37: =IF(H37,I37/H37-1,"") -> 0.18719527 | M37: 3545.6083 | N37: 4269.9547 | P37: =IF(M37,N37/M37-1,"") -> 0.20429398 | R37: 34883.782 | S37: 38956.27 | U37: =IF(R37,S37/R37-1,"") -> 0.11674447
B38: ciężarowe do 3,5 t | C38: 3909.0579 | D38: 3742.6552 | F38: =IF(C38,D38/C38-1,"") -> -0.042568485 | H38: 1852.8947 | I38: 1906.4128 | K38: =IF(H38,I38/H38-1,"") -> 0.028883541 | M38: 688.00073 | N38: 656.79702 | P38: =IF(M38,N38/M38-1,"") -> -0.045354176 | R38: 5761.9526 | S38: 5649.0681 | U38: =IF(R38,S38/R38-1,"") -> -0.019591364
B39: pojazdy ciężkie | C39: 8748.1395 | D39: 8552.801 | F39: =IF(C39,D39/C39-1,"") -> -0.022329142 | H39: 3695.7231 | I39: 4313.2461 | K39: =IF(H39,I39/H39-1,"") -> 0.16709123 | M39: 1308.6148 | N39: 1733.1269 | P39: =IF(M39,N39/M39-1,"") -> 0.32439802 | R39: 12443.863 | S39: 12866.047 | U39: =IF(R39,S39/R39-1,"") -> 0.033927124
B40: ciężarowe pow. 3,5 t | C40: 2023.2552 | D40: 1958.3025 | F40: =IF(C40,D40/C40-1,"") -> -0.032103067 | H40: 1079.3473 | I40: 1099.4399 | K40: =IF(H40,I40/H40-1,"") -> 0.018615573 | M40: 361.69893 | N40: 436.44138 | P40: =IF(M40,N40/M40-1,"") -> 0.20664271 | R40: 3102.6025 | S40: 3057.7425 | U40: =IF(R40,S40/R40-1,"") -> -0.014458839
B41: ciągniki siodłowe | C41: 4369.3451 | D41: 3930.9375 | F41: =IF(C41,D41/C41-1,"") -> -0.10033715 | H41: 1510.9996 | I41: 1934.0009 | K41: =IF(H41,I41/H41-1,"") -> 0.279948 | M41: 550.20104 | N41: 845.60494 | P41: =IF(M41,N41/M41-1,"") -> 0.53690175 | R41: 5880.3447 | S41: 5864.9384 | U41: =IF(R41,S41/R41-1,"") -> -0.0026199736
B42: naczepy / przyczepy | C42: 1722.464 | D42: 1851.6984 | F42: =IF(C42,D42/C42-1,"") -> 0.075028761 | H42: 760.73078 | I42: 855.88193 | K42: =IF(H42,I42/H42-1,"") -> 0.12507862 | M42: 260.21785 | N42: 301.85047 | P42: =IF(M42,N42/M42-1,"") -> 0.1599914 | R42: 2483.1948 | S42: 2707.5803 | U42: =IF(R42,S42/R42-1,"") -> 0.090361617
B43: autobusy | C43: 633.0751 | D43: 811.86266 | F43: =IF(C43,D43/C43-1,"") -> 0.28241129 | H43: 344.64551 | I43: 423.92331 | K43: =IF(H43,I43/H43-1,"") -> 0.23002707 | M43: 136.49699 | N43: 149.23008 | P43: =IF(M43,N43/M43-1,"") -> 0.093284759 | R43: 977.72061 | S43: 1235.786 | U43: =IF(R43,S43/R43-1,"") -> 0.26394591
B44: inne | C44: 493.58909 | D44: 459.9379 | F44: =IF(C44,D44/C44-1,"") -> -0.068176539 | H44: 210.29125 | I44: 232.1778 | K44: =IF(H44,I44/H44-1,"") -> 0.1040773 | M44: 73.681514 | N44: 58.294954 | P44: =IF(M44,N44/M44-1,"") -> -0.20882525 | R44: 703.88034 | S44: 692.11569 | U44: =IF(R44,S44/R44-1,"") -> -0.016713992
B45: maszyny | C45: 8582.8598 | D45: 7775.2646 | F45: =IF(C45,D45/C45-1,"") -> -0.094093955 | H45: 4301.2889 | I45: 3830.8758 | K45: =IF(H45,I45/H45-1,"") -> -0.10936563 | M45: 1384.5584 | N45: 1412.2716 | P45: =IF(M45,N45/M45-1,"") -> 0.02001596 | R45: 12884.149 | S45: 11606.14 | U45: =IF(R45,S45/R45-1,"") -> -0.099192303
B46: sprzęt budowlany | C46: 2154.8345 | D46: 2017.2989 | F46: =IF(C46,D46/C46-1,"") -> -0.063826505 | H46: 935.62284 | I46: 963.54255 | K46: =IF(H46,I46/H46-1,"") -> 0.029840771 | M46: 310.70548 | N46: 351.1332 | P46: =IF(M46,N46/M46-1,"") -> 0.13011592 | R46: 3090.4573 | S46: 2980.8415 | U46: =IF(R46,S46/R46-1,"") -> -0.035469135
B47: maszyny rolnicze | C47: 702.82313 | D47: 636.33037 | F47: =IF(C47,D47/C47-1,"") -> -0.094608107 | H47: 351.48436 | I47: 319.89333 | K47: =IF(H47,I47/H47-1,"") -> -0.089878907 | M47: 89.107164 | N47: 91.934397 | P47: =IF(M47,N47/M47-1,"") -> 0.031728458 | R47: 1054.3075 | S47: 956.22369 | U47: =IF(R47,S47/R47-1,"") -> -0.093031489
... B53: ruchomości - leasing | C53: 47088.375 | D53: 48192.195 | F53: =IF(C53,D53/C53-1,"") -> 0.023441441 | H53: 21667.556 | I53: 23999.401 | K53: =IF(H53,I53/H53-1,"") -> 0.10761918 | M53: 7278.9773 | N53: 8410.9836 | P53: =IF(M53,N53/M53-1,"") -> 0.15551721 | R53: 68755.932 | S53: 72191.596 | U53: =IF(R53,S53/R53-1,"") -> 0.049968983
B55: nieruchomości | C55: 284.84042 | D55: 334.74822 | F55: =IF(C55,D55/C55-1,"") -> 0.17521319 | H55: 106.0477 | I55: 62.003309 | K55: =IF(H55,I55/H55-1,"") -> -0.41532622 | R55: 390.88812 | S55: 396.75153 | U55: =IF(R55,S55/R55-1,"") -> 0.015000224
B57: łączne finansowanie - leasing | C57: 47373.216 | D57: 48526.943 | F57: =IF(C57,D57/C57-1,"") -> 0.024353997 | H57: 21773.604 | I57: 24061.404 | K57: =IF(H57,I57/H57-1,"") -> 0.10507219 | R57: 69146.82 | S57: 72588.347 | U57: =IF(R57,S57/R57-1,"") -> 0.049771304
R58: =R49+R50+R51 -> 2078.3057 | S58: =S49+S50+S51 -> 2421.9542 | U58: =S58*100/R58-100 -> 16.535031
B60: Finasowanie pożyczką
...
