Workbook
Name cx: '[1]Dane Le'!#REF!
Name cx: '[1]Dane Le'!#REF!
Name cx: '[1]Dane Le'!#REF!
Name Excel_BuiltIn_Print_Area_2: #REF!
Name Excel_BuiltIn_Print_Area_2: #REF!
Name Excel_BuiltIn_Print_Area_2: #REF!
Name Excel_BuiltIn_Print_Area_4: #REF!
Name Excel_BuiltIn_Print_Area_4: #REF!
Name Excel_BuiltIn_Print_Area_4: #REF!
Name v: #REF!
Name v: #REF!
Name v: #REF!

Sheet summary_10 2025
B1: Związek Polskiego Leasingu , Warszawa 20-11-2025
C4: FINANSOWANIE POJAZDÓW LEKKICH | T4: FINANSOWANIE POJAZDÓW LEKKICH - październik 2025r. Łączne finansowanie leasingiem i pożyczką
J9: 07 2025 | N9: 07 2025
I10: leasing | J10: =('szacunek rynku_10 2025'!I39+'szacunek rynku_10 2025'!I40)/('szacunek rynku_10 2025'!I11+'szacunek rynku_10 2025'!I12) -> 0.939785 | M10: osobowe | N10: ='szacunek rynku_10 2025'!I11/SUM('szacunek rynku_10 2025'!I11:I12) -> 0.86496574
I11: pożyczka | J11: =1-J10 -> 0.060214999 | M11: dostawcze | N11: =1-N10 -> 0.13503426
I13: leasing | J13: =('szacunek rynku_10 2025'!I39+'szacunek rynku_10 2025'!I40)/('szacunek rynku_10 2025'!H39+'szacunek rynku_10 2025'!H40)-1 -> 0.11201023 | K13: =('szacunek rynku_10 2025'!N39+'szacunek rynku_10 2025'!N40)/('szacunek rynku_10 2025'!M39+'szacunek rynku_10 2025'!M40)-1 -> 0.099093385
I14: pożyczka | J14: =('szacunek rynku_10 2025'!I66+'szacunek rynku_10 2025'!I67)/('szacunek rynku_10 2025'!H66+'szacunek rynku_10 2025'!H67)-1 -> 0.26594177 | K14: =('szacunek rynku_10 2025'!N66+'szacunek rynku_10 2025'!N67)/('szacunek rynku_10 2025'!M66+'szacunek rynku_10 2025'!M67)-1 -> 0.45194222
I15: L+P | J15: =('szacunek rynku_10 2025'!I12+'szacunek rynku_10 2025'!I11)/('szacunek rynku_10 2025'!H11+'szacunek rynku_10 2025'!H12)-1 -> 0.12021221 | K15: =('szacunek rynku_10 2025'!N12+'szacunek rynku_10 2025'!N11)/('szacunek rynku_10 2025'!M11+'szacunek rynku_10 2025'!M12)-1 -> 0.11641186
C37: FINANSOWANIE POJAZDÓW CIĘŻKICH | T37: FINANSOWANIE POJAZDÓW CIĘŻKICH - październik 2025r. Łączne finansowanie leasingiem i pożyczką
J42: 07/2025 | N42: 07/2025
I43: leasing | J43: ='szacunek rynku_10 2025'!I41/'szacunek rynku_10 2025'!I13 -> 0.89868862 | M43: ciężarowe pow. 3.5t | N43: ='szacunek rynku_10 2025'!I14/'szacunek rynku_10 2025'!$I$13 -> 0.25192166
I44: pożyczka | J44: =1-J43 -> 0.10131138 | M44: ciągniki siodłowe | N44: ='szacunek rynku_10 2025'!I15/'szacunek rynku_10 2025'!$I$13 -> 0.51023861
M45: przyczepy/naczepy | N45: ='szacunek rynku_10 2025'!I16/'szacunek rynku_10 2025'!$I$13 -> 0.18141116
M46: autobusy | N46: ='szacunek rynku_10 2025'!I17/'szacunek rynku_10 2025'!$I$13 -> 0.056428569
C71: FINANSOWANIE MASZYN | T71: FINANSOWANIE MASZYN - październik 2025r. Łączne finansowanie leasingiem i pożyczką
J76: 07/2025 | N76: 07/2025
I77: leasing | J77: ='szacunek rynku_10 2025'!I47/'szacunek rynku_10 2025'!I19 -> 0.70089679 | M77: sprzęt budowlany | N77: ='szacunek rynku_10 2025'!I20/'szacunek rynku_10 2025'!$I$19 -> 0.12912044
I78: pożyczka | J78: =1-J77 -> 0.29910321 | M78: maszyny rolnicze | N78: ='szacunek rynku_10 2025'!I21/'szacunek rynku_10 2025'!$I$19 -> 0.19525928
M79: pozostałe maszyny | N79: ='szacunek rynku_10 2025'!I22/'szacunek rynku_10 2025'!$I$19 -> 0.67562028
C105: FINANSOWANIE RUCHOMOŚCI
J110: 07/2025 | N110: 07/2025
I111: leasing | J111: ='szacunek rynku_10 2025'!I55/'szacunek rynku_10 2025'!I27 -> 0.8673853 | M111: OSD | N111: =('szacunek rynku_10 2025'!I11+'szacunek rynku_10 2025'!I12)/'szacunek rynku_10 2025'!I27 -> 0.54373275
I112: pożyczka | J112: =1-J111 -> 0.1326147 | M112: TRK | N112: ='szacunek rynku_10 2025'!I13/'szacunek rynku_10 2025'!I27 -> 0.18621344
M113: maszyny | N113: ='szacunek rynku_10 2025'!I19/'szacunek rynku_10 2025'!I27 -> 0.23274922
M114: IT | N114: ='szacunek rynku_10 2025'!I23/'szacunek rynku_10 2025'!I27 -> 0.011246005
M115: pozostałe | N115: =('szacunek rynku_10 2025'!I18+'szacunek rynku_10 2025'!I24+'szacunek rynku_10 2025'!I25)/'szacunek rynku_10 2025'!I27 -> 0.026058591

Sheet szacunek rynku_10 2025
B2: Związek Polskiego Leasingu , Warszawa 20-11-2025
B4: Łączne finansowanie leasingiem i pożyczką
C7: =C$35 -> I-IX 2025 vs I-IX 2024 | H7: =H$35 -> X 2025 vs X 2024 | M7: =M$35 -> I-X 2025 vs I-X 2024
C9: =C$37 -> I-IX 2024 | D9: =D$37 -> I-IX 2025 | F9: =F$37 -> I-IX 25/ I-IX 24 | H9: =H$37 -> X 2024 | I9: =I$37 -> X 2025 | K9: =K$37 -> X 2025/ X 2024 | M9: =M$37 -> I-X 2024 | N9: =N$37 -> I-X 2025 | P9: =P$37 -> I-X 25/ I-X 24
B10: pojazdy | C10: =SUM(C11:C12,C14:C18) -> 56945.149 | D10: =SUM(D11:D12,D14:D18) -> 62581.283 | F10: =IF(C10,D10/C10-1,"") -> 0.098974776 | H10: =SUM(H11:H12,H14:H18) -> 7542.0233 | I10: =SUM(I11:I12,I14:I18) -> 8507.3054 | K10: =IF(H10,I10/H10-1,"") -> 0.12798716 | M10: =SUM(M11:M12,M14:M18) -> 64487.172 | N10: =SUM(N11:N12,N14:N18) -> 71088.588 | P10: =IF(M10,N10/M10-1,"") -> 0.10236789
B11: osobowe | C11: =C39+C66 -> 36645.771 | D11: =D39+D66 -> 41721.068 | F11: =IF(C11,D11/C11-1,"") -> 0.13849613 | H11: =H39+H66 -> 4802.5714 | I11: =I39+I66 -> 5397.5068 | K11: =IF(H11,I11/H11-1,"") -> 0.12387851 | M11: =C11+H11 -> 41448.342 | N11: =D11+I11 -> 47118.575 | P11: =IF(M11,N11/M11-1,"") -> 0.1368024
B12: ciężarowe do 3,5 t | C12: =C40+C67 -> 6073.2907 | D12: =D40+D67 -> 5949.8291 | F12: =IF(C12,D12/C12-1,"") -> -0.020328614 | H12: =H40+H67 -> 767.92618 | I12: =I40+I67 -> 842.63261 | K12: =IF(H12,I12/H12-1,"") -> 0.097283351 | M12: =C12+H12 -> 6841.2169 | N12: =D12+I12 -> 6792.4617 | P12: =IF(M12,N12/M12-1,"") -> -0.0071266784
B13: pojazdy ciężkie | C13: =C14+C15+C16+C17 -> 13500.009 | D13: =D14+D15+D16+D17 -> 14179.94 | F13: =IF(C13,D13/C13-1,"") -> 0.05036526 | H13: =H14+H15+H16+H17 -> 1905.0404 | I13: =I14+I15+I16+I17 -> 2137.0753 | K13: =IF(H13,I13/H13-1,"") -> 0.12180046 | M13: =M14+M15+M16+M17 -> 15405.049 | N13: =N14+N15+N16+N17 -> 16317.015 | P13: =IF(M13,N13/M13-1,"") -> 0.059199179
B14: ciężarowe pow. 3,5 t | C14: =C42+C69 -> 3256.364 | D14: =D42+D69 -> 3224.5008 | F14: =IF(C14,D14/C14-1,"") -> -0.0097848954 | H14: =H42+H69 -> 535.46151 | I14: =I42+I69 -> 538.37555 | K14: =IF(H14,I14/H14-1,"") -> 0.0054421077 | M14: =C14+H14 -> 3791.8255 | N14: =D14+I14 -> 3762.8764 | P14: =IF(M14,N14/M14-1,"") -> -0.0076346187
B15: ciągniki siodłowe | C15: =C43+C70 -> 6468.8385 | D15: =D43+D70 -> 6588.5959 | F15: =IF(C15,D15/C15-1,"") -> 0.018512968 | H15: =H43+H70 -> 806.37946 | I15: =I43+I70 -> 1090.4183 | K15: =IF(H15,I15/H15-1,"") -> 0.35223969 | M15: =C15+H15 -> 7275.218 | N15: =D15+I15 -> 7679.0142 | P15: =IF(M15,N15/M15-1,"") -> 0.055502976
B16: naczepy / przyczepy | C16: =C44+C71 -> 2736.8655 | D16: =D44+D71 -> 3014.5834 | F16: =IF(C16,D16/C16-1,"") -> 0.10147296 | H16: =H44+H71 -> 360.1721 | I16: =I44+I71 -> 387.6893 | K16: =IF(H16,I16/H16-1,"") -> 0.076400122 | M16: =C16+H16 -> 3097.0376 | N16: =D16+I16 -> 3402.2726 | P16: =IF(M16,N16/M16-1,"") -> 0.098557101
B17: autobusy | C17: =C45+C72 -> 1037.9406 | D17: =D45+D72 -> 1352.26 | F17: =IF(C17,D17/C17-1,"") -> 0.30282982 | H17: =H45+H72 -> 203.02738 | I17: =I45+I72 -> 120.5921 | K17: =IF(H17,I17/H17-1,"") -> -0.40603035 | M17: =C17+H17 -> 1240.968 | N17: =D17+I17 -> 1472.8521 | P17: =IF(M17,N17/M17-1,"") -> 0.18685744
B18: inne | C18: =C46+C73 -> 726.07904 | D18: =D46+D73 -> 730.44523 | F18: =IF(C18,D18/C18-1,"") -> 0.0060133701 | H18: =H46+H73 -> 66.485263 | I18: =I46+I73 -> 130.0908 | K18: =IF(H18,I18/H18-1,"") -> 0.95668632 | M18: =C18+H18 -> 792.56431 | N18: =D18+I18 -> 860.53603 | P18: =IF(M18,N18/M18-1,"") -> 0.085761777
B19: maszyny | C19: =SUM(C20:C22) -> 19236.857 | D19: =SUM(D20:D22) -> 19502.321 | F19: =IF(C19,D19/C19-1,"") -> 0.013799753 | H19: =SUM(H20:H22) -> 2258.5086 | I19: =SUM(I20:I22) -> 2671.1423 | K19: =IF(H19,I19/H19-1,"") -> 0.18270183 | M19: =SUM(M20:M22) -> 21495.366 | N19: =SUM(N20:N22) -> 22173.464 | P19: =IF(M19,N19/M19-1,"") -> 0.03154622
B20: sprzęt budowlany | C20: =C48+C75 -> 3857.6591 | D20: =D48+D75 -> 3546.6125 | F20: =IF(C20,D20/C20-1,"") -> -0.080630906 | H20: =H48+H75 -> 487.31174 | I20: =I48+I75 -> 344.89906 | K20: =IF(H20,I20/H20-1,"") -> -0.29224143 | M20: =C20+H20 -> 4344.9708 | N20: =D20+I20 -> 3891.5116 | P20: =IF(M20,N20/M20-1,"") -> -0.10436416
B21: maszyny rolnicze | C21: =C49+C76 -> 4621.7439 | D21: =D49+D76 -> 6124.6249 | F21: =IF(C21,D21/C21-1,"") -> 0.32517618 | H21: =H49+H76 -> 494.77621 | I21: =I49+I76 -> 521.56533 | K21: =IF(H21,I21/H21-1,"") -> 0.054143916 | M21: =C21+H21 -> 5116.5201 | N21: =D21+I21 -> 6646.1903 | P21: =IF(M21,N21/M21-1,"") -> 0.2989669
B22: inne MiU | C22: =C50+C77 -> 10757.455 | D22: =D50+D77 -> 9831.0839 | F22: =IF(C22,D22/C22-1,"") -> -0.086114294 | H22: =H50+H77 -> 1276.4207 | I22: =I50+I77 -> 1804.6779 | K22: =IF(H22,I22/H22-1,"") -> 0.41385824 | M22: =C22+H22 -> 12033.875 | N22: =D22+I22 -> 11635.762 | P22: =IF(M22,N22/M22-1,"") -> -0.033082725
B23: IT | C23: =C51+C78 -> 718.48601 | D23: =D51+D78 -> 932.22674 | F23: =IF(C23,D23/C23-1,"") -> 0.29748766 | H23: =H51+H78 -> 107.90949 | I23: =I51+I78 -> 129.06458 | K23: =IF(H23,I23/H23-1,"") -> 0.19604477 | M23: =C23+H23 -> 826.39551 | N23: =D23+I23 -> 1061.2913 | P23: =IF(M23,N23/M23-1,"") -> 0.2842414
B24: statki, samoloty, kolej | C24: =C52+C79 -> 1218.24 | D24: =D52+D79 -> 1460.3543 | F24: =IF(C24,D24/C24-1,"") -> 0.19874112 | H24: =H52+H79 -> 100.55938 | I24: =I52+I79 -> 126.38617 | K24: =IF(H24,I24/H24-1,"") -> 0.25683125 | M24: =C24+H24 -> 1318.7993 | N24: =D24+I24 -> 1586.7405 | P24: =IF(M24,N24/M24-1,"") -> 0.20317054
B25: inne | C25: =C53+C80 -> 429.52283 | D25: =D53+D80 -> 359.76871 | F25: =IF(C25,D25/C25-1,"") -> -0.1623991 | H25: =H53+H80 -> 103.6401 | I25: =I53+I80 -> 42.583998 | K25: =IF(H25,I25/H25-1,"") -> -0.5891166 | M25: =C25+H25 -> 533.16293 | N25: =D25+I25 -> 402.3527 | P25: =IF(M25,N25/M25-1,"") -> -0.24534757
B27: ruchomości - leasing + pożyczka | C27: =SUM(C10,C20:C25) -> 78548.255 | D27: =SUM(D10,D20:D25) -> 84835.954 | F27: =IF(C27,D27/C27-1,"") -> 0.080048859 | H27: =SUM(H10,H20:H25) -> 10112.641 | I27: =SUM(I10,I20:I25) -> 11476.482 | K27: =IF(H27,I27/H27-1,"") -> 0.13486503 | M27: =SUM(M10,M20:M25) -> 88660.896 | N27: =SUM(N10,N20:N25) -> 96312.436 | P27: =IF(M27,N27/M27-1,"") -> 0.086301179
B34: Finansowanie leasingiem
C35: I-IX 2025 vs I-IX 2024 | H35: X 2025 vs X 2024 | M35: I-X 2025 vs I-X 2024
C37: I-IX 2024 | D37: I-IX 2025 | F37: I-IX 25/ I-IX 24 | H37: X 2024 | I37: X 2025 | K37: X 2025/ X 2024 | M37: I-X 2024 | N37: I-X 2025 | P37: I-X 25/ I-X 24
B38: pojazdy | C38: 53793.477 | D38: 58163.501 | F38: =IF(C38,D38/C38-1,"") -> 0.081237059 | H38: 7099.3025 | I38: 7891.9571 | K38: =IF(H38,I38/H38-1,"") -> 0.11165246 | M38: =SUM(M39:M40,M42:M46) -> 60892.78 | N38: =SUM(N39:N40,N42:N46) -> 66055.458 | P38: =IF(M38,N38/M38-1,"") -> 0.084783097
B39: osobowe | C39: 34883.782 | D39: 38956.27 | F39: =IF(C39,D39/C39-1,"") -> 0.11674447 | H39: 4533.3716 | I39: 5054.2457 | K39: =IF(H39,I39/H39-1,"") -> 0.11489772 | M39: =C39+H39 -> 39417.153 | N39: =D39+I39 -> 44010.516 | P39: =IF(M39,N39/M39-1,"") -> 0.11653207
B40: ciężarowe do 3,5 t | C40: 5761.9526 | D40: 5649.0681 | F40: =IF(C40,D40/C40-1,"") -> -0.019591364 | H40: 740.31135 | I40: 810.14373 | K40: =IF(H40,I40/H40-1,"") -> 0.094328384 | M40: =C40+H40 -> 6502.2639 | N40: =D40+I40 -> 6459.2118 | P40: =IF(M40,N40/M40-1,"") -> -0.0066210998
B41: pojazdy ciężkie | C41: 12443.863 | D41: 12866.047 | F41: =IF(C41,D41/C41-1,"") -> 0.033927124 | H41: 1761.8261 | I41: 1920.5652 | K41: =IF(H41,I41/H41-1,"") -> 0.090099166 | M41: =M42+M43+M44+M45 -> 14205.689 | N41: =N42+N43+N44+N45 -> 14786.612 | P41: =IF(M41,N41/M41-1,"") -> 0.040893726
B42: ciężarowe pow. 3,5 t | C42: 3102.6025 | D42: 3057.7425 | F42: =IF(C42,D42/C42-1,"") -> -0.014458839 | H42: 516.8688 | I42: 503.7997 | K42: =IF(H42,I42/H42-1,"") -> -0.025285131 | M42: =C42+H42 -> 3619.4713 | N42: =D42+I42 -> 3561.5422 | P42: =IF(M42,N42/M42-1,"") -> -0.016004858
B43: ciągniki siodłowe | C43: 5880.3447 | D43: 5864.9384 | F43: =IF(C43,D43/C43-1,"") -> -0.0026199736 | H43: 734.73402 | I43: 960.05524 | K43: =IF(H43,I43/H43-1,"") -> 0.30667046 | M43: =C43+H43 -> 6615.0787 | N43: =D43+I43 -> 6824.9936 | P43: =IF(M43,N43/M43-1,"") -> 0.031732785
B44: naczepy / przyczepy | C44: 2483.1948 | D44: 2707.5803 | F44: =IF(C44,D44/C44-1,"") -> 0.090361617 | H44: 315.71769 | I44: 342.95095 | K44: =IF(H44,I44/H44-1,"") -> 0.086258272 | M44: =C44+H44 -> 2798.9125 | N44: =D44+I44 -> 3050.5312 | P44: =IF(M44,N44/M44-1,"") -> 0.089898759
B45: autobusy | C45: 977.72061 | D45: 1235.786 | F45: =IF(C45,D45/C45-1,"") -> 0.26394591 | H45: 194.50565 | I45: 113.75933 | K45: =IF(H45,I45/H45-1,"") -> -0.41513612 | M45: =C45+H45 -> 1172.2263 | N45: =D45+I45 -> 1349.5453 | P45: =IF(M45,N45/M45-1,"") -> 0.1512669
B46: inne | C46: 703.88034 | D46: 692.11569 | F46: =IF(C46,D46/C46-1,"") -> -0.016713992 | H46: 63.793381 | I46: 107.00246 | K46: =IF(H46,I46/H46-1,"") -> 0.6773286 | M46: =C46+H46 -> 767.67373 | N46: =D46+I46 -> 799.11816 | P46: =IF(M46,N46/M46-1,"") -> 0.040960671
B47: maszyny | C47: 12884.149 | D47: 11606.14 | F47: =IF(C47,D47/C47-1,"") -> -0.099192303 | H47: 1589.6487 | I47: 1872.1951 | K47: =IF(H47,I47/H47-1,"") -> 0.17774138 | M47: =SUM(M48:M50) -> 14473.797 | N47: =SUM(N48:N50) -> 13478.335 | P47: =IF(M47,N47/M47-1,"") -> -0.068776838
B48: sprzęt budowlany | C48: 3090.4573 | D48: 2980.8415 | F48: =IF(C48,D48/C48-1,"") -> -0.035469135 | H48: 395.71168 | I48: 309.93689 | K48: =IF(H48,I48/H48-1,"") -> -0.21676083 | M48: =C48+H48 -> 3486.169 | N48: =D48+I48 -> 3290.7784 | P48: =IF(M48,N48/M48-1,"") -> -0.05604738
B49: maszyny rolnicze | C49: 1054.3075 | D49: 956.22369 | F49: =IF(C49,D49/C49-1,"") -> -0.093031489 | H49: 122.58962 | I49: 110.66378 | K49: =IF(H49,I49/H49-1,"") -> -0.097282612 | M49: =C49+H49 -> 1176.8971 | N49: =D49+I49 -> 1066.8875 | P49: =IF(M49,N49/M49-1,"") -> -0.0934743
B50: inne MiU | C50: 8739.384 | D50: 7669.0752 | F50: =IF(C50,D50/C50-1,"") -> -0.12246959 | H50: 1071.3474 | I50: 1451.5944 | K50: =IF(H50,I50/H50-1,"") -> 0.35492407 | M50: =C50+H50 -> 9810.7314 | N50: =D50+I50 -> 9120.6696 | P50: =IF(M50,N50/M50-1,"") -> -0.070337443
B51: IT | C51: 604.91071 | D51: 770.00583 | F51: =IF(C51,D51/C51-1,"") -> 0.27292478 | H51: 92.621753 | I51: 99.215959 | K51: =IF(H51,I51/H51-1,"") -> 0.071194999 | M51: =C51+H51 -> 697.53246 | N51: =D51+I51 -> 869.22179 | P51: =IF(M51,N51/M51-1,"") -> 0.24613812
B52: statki, samoloty, kolej | C52: 1113.3913 | D52: 1344.5714 | F52: =IF(C52,D52/C52-1,"") -> 0.20763596 | H52: 97.501477 | I52: 54.602064 | K52: =IF(H52,I52/H52-1,"") -> -0.43998732 | M52: =C52+H52 -> 1210.8928 | N52: =D52+I52 -> 1399.1735 | P52: =IF(M52,N52/M52-1,"") -> 0.15548913
B53: inne | C53: 360.00364 | D53: 307.37692 | F53: =IF(C53,D53/C53-1,"") -> -0.14618384 | H53: 35.167303 | I53: 36.562026 | K53: =IF(H53,I53/H53-1,"") -> 0.03965965 | M53: =C53+H53 -> 395.17094 | N53: =D53+I53 -> 343.93895 | P53: =IF(M53,N53/M53-1,"") -> -0.12964514
B55: ruchomości - leasing | C55: 68755.932 | D55: 72191.596 | F55: =IF(C55,D55/C55-1,"") -> 0.049968983 | H55: 8914.2418 | I55: 9954.5322 | K55: =IF(H55,I55/H55-1,"") -> 0.11669982 | M55: =SUM(M38,M48:M53) -> 77670.174 | N55: =SUM(N38,N48:N53) -> 82146.128 | P55: =IF(M55,N55/M55-1,"") -> 0.057627713
B62: Finasowanie pożyczką
C63: =C$35 -> I-IX 2025 vs I-IX 2024 | H63: =H$35 -> X 2025 vs X 2024 | M63: =M$35 -> I-X 2025 vs I-X 2024
C64: =C$37 -> I-IX 2024 | D64: =D$37 -> I-IX 2025 | F64: =F$37 -> I-IX 25/ I-IX 24 | H64: =H$37 -> X 2024 | I64: =I$37 -> X 2025 | K64: =K$37 -> X 2025/ X 2024 | M64: =M$37 -> I-X 2024 | N64: =N$37 -> I-X 2025 | P64: =P$37 -> I-X 25/ I-X 24
B65: pojazdy | C65: 3151.6718 | D65: 4417.7812 | F65: =IF(C65,D65/C65-1,"") -> 0.40172632 | H65: 442.72077 | I65: 615.34837 | K65: =IF(H65,I65/H65-1,"") -> 0.38992433 | M65: =SUM(M66:M67,M69:M73) -> 3594.3925 | N65: =SUM(N66:N67,N69:N73) -> 5033.1296 | P65: =IF(M65,N65/M65-1,"") -> 0.40027267
B66: osobowe | C66: 1761.989 | D66: 2764.7977 | F66: =IF(C66,D66/C66-1,"") -> 0.56913453 | H66: 269.19977 | I66: 343.26111 | K66: =IF(H66,I66/H66-1,"") -> 0.27511666 | M66: =C66+H66 -> 2031.1887 | N66: =D66+I66 -> 3108.0588 | P66: =IF(M66,N66/M66-1,"") -> 0.53016743
B67: ciężarowe do 3,5 t | C67: 311.3381 | D67: 300.76103 | F67: =IF(C67,D67/C67-1,"") -> -0.033972947 | H67: 27.614825 | I67: 32.488884 | K67: =IF(H67,I67/H67-1,"") -> 0.17650151 | M67: =C67+H67 -> 338.95293 | N67: =D67+I67 -> 333.24991 | P67: =IF(M67,N67/M67-1,"") -> -0.016825387
B68: pojazdy ciężkie | C68: 1056.146 | D68: 1313.893 | F68: =IF(C68,D68/C68-1,"") -> 0.24404483 | H68: 143.2143 | I68: 216.51004 | K68: =IF(H68,I68/H68-1,"") -> 0.51179067 | M68: =M69+M70+M71+M72 -> 1199.3603 | N68: =N69+N70+N71+N72 -> 1530.403 | P68: =IF(M68,N68/M68-1,"") -> 0.27601607
B69: ciężarowe pow. 3,5 t | C69: 153.76148 | D69: 166.75833 | F69: =IF(C69,D69/C69-1,"") -> 0.084526046 | H69: 18.592713 | I69: 34.575848 | K69: =IF(H69,I69/H69-1,"") -> 0.85964509 | M69: =C69+H69 -> 172.35419 | N69: =D69+I69 -> 201.33417 | P69: =IF(M69,N69/M69-1,"") -> 0.16814204
B70: ciągniki siodłowe | C70: 588.49383 | D70: 723.65757 | F70: =IF(C70,D70/C70-1,"") -> 0.22967742 | H70: 71.645438 | I70: 130.36307 | K70: =IF(H70,I70/H70-1,"") -> 0.81955855 | M70: =C70+H70 -> 660.13926 | N70: =D70+I70 -> 854.02064 | P70: =IF(M70,N70/M70-1,"") -> 0.29369769
B71: naczepy / przyczepy | C71: 253.6707 | D71: 307.00305 | F71: =IF(C71,D71/C71-1,"") -> 0.21024248 | H71: 44.454418 | I71: 44.738348 | K71: =IF(H71,I71/H71-1,"") -> 0.0063870028 | M71: =C71+H71 -> 298.12511 | N71: =D71+I71 -> 351.7414 | P71: =IF(M71,N71/M71-1,"") -> 0.17984492
B72: autobusy | C72: 60.220005 | D72: 116.47402 | F72: =IF(C72,D72/C72-1,"") -> 0.93414171 | H72: 8.5217271 | I72: 6.8327708 | K72: =IF(H72,I72/H72-1,"") -> -0.19819413 | M72: =C72+H72 -> 68.741732 | N72: =D72+I72 -> 123.30679 | P72: =IF(M72,N72/M72-1,"") -> 0.79376909
B73: inne | C73: 22.1987 | D73: 38.329532 | F73: =IF(C73,D73/C73-1,"") -> 0.72665664 | H73: 2.6918821 | I73: 23.088342 | K73: =IF(H73,I73/H73-1,"") -> 7.5770258 | M73: =C73+H73 -> 24.890582 | N73: =D73+I73 -> 61.417874 | P73: =IF(M73,N73/M73-1,"") -> 1.4675146
B74: maszyny | C74: 6352.7087 | D74: 7896.181 | F74: =IF(C74,D74/C74-1,"") -> 0.24296286 | H74: 668.85993 | I74: 798.94723 | K74: =IF(H74,I74/H74-1,"") -> 0.1944911 | M74: =SUM(M75:M77) -> 7021.5686 | N74: =SUM(N75:N77) -> 8695.1282 | P74: =IF(M74,N74/M74-1,"") -> 0.23834554
B75: sprzęt budowlany | C75: 767.20173 | D75: 565.77104 | F75: =IF(C75,D75/C75-1,"") -> -0.26255245 | H75: 91.600062 | I75: 34.962172 | K75: =IF(H75,I75/H75-1,"") -> -0.61831716 | M75: =C75+H75 -> 858.80179 | N75: =D75+I75 -> 600.73321 | P75: =IF(M75,N75/M75-1,"") -> -0.30049843
B76: maszyny rolnicze | C76: 3567.4364 | D76: 5168.4013 | F76: =IF(C76,D76/C76-1,"") -> 0.44877179 | H76: 372.18659 | I76: 410.90155 | K76: =IF(H76,I76/H76-1,"") -> 0.1040203 | M76: =C76+H76 -> 3939.623 | N76: =D76+I76 -> 5579.3028 | P76: =IF(M76,N76/M76-1,"") -> 0.41620221
B77: inne MiU | C77: 2018.0706 | D77: 2162.0087 | F77: =IF(C77,D77/C77-1,"") -> 0.071324635 | H77: 205.07327 | I77: 353.0835 | K77: =IF(H77,I77/H77-1,"") -> 0.72174317 | M77: =C77+H77 -> 2223.1438 | N77: =D77+I77 -> 2515.0922 | P77: =IF(M77,N77/M77-1,"") -> 0.13132231
B78: IT | C78: 113.57531 | D78: 162.2209 | F78: =IF(C78,D78/C78-1,"") -> 0.42831139 | H78: 15.28774 | I78: 29.848626 | K78: =IF(H78,I78/H78-1,"") -> 0.95245508 | M78: =C78+H78 -> 128.86305 | N78: =D78+I78 -> 192.06953 | P78: =IF(M78,N78/M78-1,"") -> 0.49049347
B79: statki, samoloty, kolej | C79: 104.84862 | D79: 115.78292 | F79: =IF(C79,D79/C79-1,"") -> 0.1042865 | H79: 3.0578989 | I79: 71.784102 | K79: =IF(H79,I79/H79-1,"") -> 22.474975 | M79: =C79+H79 -> 107.90652 | N79: =D79+I79 -> 187.56702 | P79: =IF(M79,N79/M79-1,"") -> 0.73823621
B80: inne | C80: 69.51919 | D80: 52.391781 | F80: =IF(C80,D80/C80-1,"") -> -0.24636951 | H80: 68.472799 | I80: 6.0219719 | K80: =IF(H80,I80/H80-1,"") -> -0.91205308 | M80: =C80+H80 -> 137.99199 | N80: =D80+I80 -> 58.413753 | P80: =IF(M80,N80/M80-1,"") -> -0.57668736
B82: ruchomości - pożyczka | C82: 9792.3236 | D82: 12644.358 | F82: =IF(C82,D82/C82-1,"") -> 0.29125204 | H82: 1198.3991 | I82: 1521.9503 | K82: =IF(H82,I82/H82-1,"") -> 0.26998615 | M82: =SUM(M65,M75:M80) -> 10990.723 | N82: =SUM(N65,N75:N80) -> 14166.308 | P82: =IF(M82,N82/M82-1,"") -> 0.28893327
