Workbook
Name cx: '[1]Dane Le'!#REF!
Name cx: '[1]Dane Le'!#REF!
Name cx: '[1]Dane Le'!#REF!
Name Excel_BuiltIn_Print_Area_2: #REF!
Name Excel_BuiltIn_Print_Area_2: #REF!
Name Excel_BuiltIn_Print_Area_2: #REF!
Name Excel_BuiltIn_Print_Area_4: #REF!
Name Excel_BuiltIn_Print_Area_4: #REF!
Name Excel_BuiltIn_Print_Area_4: #REF!
Name v: #REF!
Name v: #REF!
Name v: #REF!

Sheet summary_11 2025
B2: Związek Polskiego Leasingu, Warszawa 15-12-2025
C5: FINANSOWANIE POJAZDÓW LEKKICH | T5: FINANSOWANIE POJAZDÓW LEKKICH - listopad 2025r. Łączne finansowanie leasingiem i pożyczką
J10: 11 2025 | N10: 11 2025
I11: leasing | J11: =('szacunek rynku_11 2025'!I39+'szacunek rynku_11 2025'!I40)/('szacunek rynku_11 2025'!I11+'szacunek rynku_11 2025'!I12) -> 0.94537175 | M11: osobowe | N11: ='szacunek rynku_11 2025'!I11/SUM('szacunek rynku_11 2025'!I11:I12) -> 0.89008425
I12: pożyczka | J12: =1-J11 -> 0.054628249 | M12: dostawcze | N12: =1-N11 -> 0.10991575
I14: leasing | J14: =('szacunek rynku_11 2025'!I39+'szacunek rynku_11 2025'!I40)/('szacunek rynku_11 2025'!H39+'szacunek rynku_11 2025'!H40)-1 -> 0.13515116 | K14: =('szacunek rynku_11 2025'!N39+'szacunek rynku_11 2025'!N40)/('szacunek rynku_11 2025'!M39+'szacunek rynku_11 2025'!M40)-1 -> 0.10269979
I15: pożyczka | J15: =('szacunek rynku_11 2025'!I66+'szacunek rynku_11 2025'!I67)/('szacunek rynku_11 2025'!H66+'szacunek rynku_11 2025'!H67)-1 -> 0.11355895 | K15: =('szacunek rynku_11 2025'!N66+'szacunek rynku_11 2025'!N67)/('szacunek rynku_11 2025'!M66+'szacunek rynku_11 2025'!M67)-1 -> 0.41385586
I16: L+P | J16: =('szacunek rynku_11 2025'!I12+'szacunek rynku_11 2025'!I11)/('szacunek rynku_11 2025'!H11+'szacunek rynku_11 2025'!H12)-1 -> 0.13395002 | K16: =('szacunek rynku_11 2025'!N12+'szacunek rynku_11 2025'!N11)/('szacunek rynku_11 2025'!M11+'szacunek rynku_11 2025'!M12)-1 -> 0.11817692
C40: FINANSOWANIE POJAZDÓW CIĘŻKICH | T40: FINANSOWANIE POJAZDÓW CIĘŻKICH - listopad 2025r. Łączne finansowanie leasingiem i pożyczką
J45: 07/2025 | N45: 07/2025
I46: leasing | J46: ='szacunek rynku_11 2025'!I41/'szacunek rynku_11 2025'!I13 -> 0.89586978 | M46: ciężarowe pow. 3.5t | N46: ='szacunek rynku_11 2025'!I14/'szacunek rynku_11 2025'!$I$13 -> 0.23078548
I47: pożyczka | J47: =1-J46 -> 0.10413022 | M47: ciągniki siodłowe | N47: ='szacunek rynku_11 2025'!I15/'szacunek rynku_11 2025'!$I$13 -> 0.5177397
M48: przyczepy/naczepy | N48: ='szacunek rynku_11 2025'!I16/'szacunek rynku_11 2025'!$I$13 -> 0.1860329
M49: autobusy | N49: ='szacunek rynku_11 2025'!I17/'szacunek rynku_11 2025'!$I$13 -> 0.065441924
C73: FINANSOWANIE MASZYN | T73: FINANSOWANIE MASZYN - listopad 2025r. Łączne finansowanie leasingiem i pożyczką
J78: 07/2025 | N78: 07/2025
I79: leasing | J79: ='szacunek rynku_11 2025'!I47/'szacunek rynku_11 2025'!I19 -> 0.68435702 | M79: sprzęt budowlany | N79: ='szacunek rynku_11 2025'!I20/'szacunek rynku_11 2025'!$I$19 -> 0.20797397
I80: pożyczka | J80: =1-J79 -> 0.31564298 | M80: maszyny rolnicze | N80: ='szacunek rynku_11 2025'!I21/'szacunek rynku_11 2025'!$I$19 -> 0.18660884
M81: pozostałe maszyny | N81: ='szacunek rynku_11 2025'!I22/'szacunek rynku_11 2025'!$I$19 -> 0.60541719
C107: FINANSOWANIE RUCHOMOŚCI
J112: 07/2025 | N112: 07/2025
I113: leasing | J113: ='szacunek rynku_11 2025'!I55/'szacunek rynku_11 2025'!I27 -> 0.88397787 | M113: OSD | N113: =('szacunek rynku_11 2025'!I11+'szacunek rynku_11 2025'!I12)/'szacunek rynku_11 2025'!I27 -> 0.62354351
I114: pożyczka | J114: =1-J113 -> 0.11602213 | M114: TRK | N114: ='szacunek rynku_11 2025'!I13/'szacunek rynku_11 2025'!I27 -> 0.16357738
M115: maszyny | N115: ='szacunek rynku_11 2025'!I19/'szacunek rynku_11 2025'!I27 -> 0.18862032
M116: IT | N116: ='szacunek rynku_11 2025'!I23/'szacunek rynku_11 2025'!I27 -> 0.010265693
M117: pozostałe | N117: =('szacunek rynku_11 2025'!I18+'szacunek rynku_11 2025'!I24+'szacunek rynku_11 2025'!I25)/'szacunek rynku_11 2025'!I27 -> 0.013993096

Sheet szacunek rynku_11 2025
B2: Związek Polskiego Leasingu, Warszawa 15-12-2025
B4: Łączne finansowanie leasingiem i pożyczką
C7: =C$35 -> I-X 2025 vs I-X 2024 | H7: =H$35 -> XI 2025 vs XI 2024 | M7: =M$35 -> I-XI 2025 vs I-XI 2024
C9: =C$37 -> I-X 2024 | D9: =D$37 -> I-X 2025 | F9: =F$37 -> I-X 25/ I-X 24 | H9: =H$37 -> XI 2024 | I9: =I$37 -> XI 2025 | K9: =K$37 -> XI 2025/ XI 2024 | M9: =M$37 -> I-XI 2024 | N9: =N$37 -> I-XI 2025 | P9: =P$37 -> I-XI 25/ I-XI 24
B10: pojazdy | C10: =SUM(C11:C12,C14:C18) -> 64487.172 | D10: =SUM(D11:D12,D14:D18) -> 71088.588 | F10: =IF(C10,D10/C10-1,"") -> 0.10236789 | H10: =SUM(H11:H12,H14:H18) -> 7182.297 | I10: =SUM(I11:I12,I14:I18) -> 7792.2982 | K10: =IF(H10,I10/H10-1,"") -> 0.084931215 | M10: =SUM(M11:M12,M14:M18) -> 71669.469 | N10: =SUM(N11:N12,N14:N18) -> 78880.886 | P10: =IF(M10,N10/M10-1,"") -> 0.10062048
B11: osobowe | C11: =C39+C66 -> 41448.342 | D11: =D39+D66 -> 47118.575 | F11: =IF(C11,D11/C11-1,"") -> 0.1368024 | H11: =H39+H66 -> 4756.8411 | I11: =I39+I66 -> 5454.06 | K11: =IF(H11,I11/H11-1,"") -> 0.14657182 | M11: =C11+H11 -> 46205.183 | N11: =D11+I11 -> 52572.635 | P11: =IF(M11,N11/M11-1,"") -> 0.13780817
B12: ciężarowe do 3,5 t | C12: =C40+C67 -> 6841.2169 | D12: =D40+D67 -> 6792.4617 | F12: =IF(C12,D12/C12-1,"") -> -0.0071266784 | H12: =H40+H67 -> 646.90429 | I12: =I40+I67 -> 673.51724 | K12: =IF(H12,I12/H12-1,"") -> 0.041138929 | M12: =C12+H12 -> 7488.1212 | N12: =D12+I12 -> 7465.979 | P12: =IF(M12,N12/M12-1,"") -> -0.0029569771
B13: pojazdy ciężkie | C13: =C14+C15+C16+C17 -> 15405.049 | D13: =D14+D15+D16+D17 -> 16317.015 | F13: =IF(C13,D13/C13-1,"") -> 0.059199179 | H13: =H14+H15+H16+H17 -> 1705.9466 | I13: =I14+I15+I16+I17 -> 1607.4789 | K13: =IF(H13,I13/H13-1,"") -> -0.057720268 | M13: =M14+M15+M16+M17 -> 17110.996 | N13: =N14+N15+N16+N17 -> 17924.494 | P13: =IF(M13,N13/M13-1,"") -> 0.047542444
B14: ciężarowe pow. 3,5 t | C14: =C42+C69 -> 3791.8255 | D14: =D42+D69 -> 3762.8764 | F14: =IF(C14,D14/C14-1,"") -> -0.0076346187 | H14: =H42+H69 -> 448.90152 | I14: =I42+I69 -> 370.98278 | K14: =IF(H14,I14/H14-1,"") -> -0.17357646 | M14: =C14+H14 -> 4240.727 | N14: =D14+I14 -> 4133.8591 | P14: =IF(M14,N14/M14-1,"") -> -0.025200368
B15: ciągniki siodłowe | C15: =C43+C70 -> 7275.218 | D15: =D43+D70 -> 7679.0142 | F15: =IF(C15,D15/C15-1,"") -> 0.055502976 | H15: =H43+H70 -> 757.68425 | I15: =I43+I70 -> 832.25563 | K15: =IF(H15,I15/H15-1,"") -> 0.098420124 | M15: =C15+H15 -> 8032.9022 | N15: =D15+I15 -> 8511.2699 | P15: =IF(M15,N15/M15-1,"") -> 0.059551033
B16: naczepy / przyczepy | C16: =C44+C71 -> 3097.0376 | D16: =D44+D71 -> 3402.2726 | F16: =IF(C16,D16/C16-1,"") -> 0.098557101 | H16: =H44+H71 -> 294.02736 | I16: =I44+I71 -> 299.04396 | K16: =IF(H16,I16/H16-1,"") -> 0.017061654 | M16: =C16+H16 -> 3391.065 | N16: =D16+I16 -> 3701.3166 | P16: =IF(M16,N16/M16-1,"") -> 0.091490916
B17: autobusy | C17: =C45+C72 -> 1240.968 | D17: =D45+D72 -> 1472.8521 | F17: =IF(C17,D17/C17-1,"") -> 0.18685744 | H17: =H45+H72 -> 205.33344 | I17: =I45+I72 -> 105.19651 | K17: =IF(H17,I17/H17-1,"") -> -0.48767959 | M17: =C17+H17 -> 1446.3014 | N17: =D17+I17 -> 1578.0486 | P17: =IF(M17,N17/M17-1,"") -> 0.09109247
B18: inne | C18: =C46+C73 -> 792.56431 | D18: =D46+D73 -> 860.53603 | F18: =IF(C18,D18/C18-1,"") -> 0.085761777 | H18: =H46+H73 -> 72.604948 | I18: =I46+I73 -> 57.242058 | K18: =IF(H18,I18/H18-1,"") -> -0.21159564 | M18: =C18+H18 -> 865.16926 | N18: =D18+I18 -> 917.77809 | P18: =IF(M18,N18/M18-1,"") -> 0.060807562
B19: maszyny | C19: =SUM(C20:C22) -> 21495.366 | D19: =SUM(D20:D22) -> 22173.464 | F19: =IF(C19,D19/C19-1,"") -> 0.03154622 | H19: =SUM(H20:H22) -> 1990.7097 | I19: =SUM(I20:I22) -> 1853.5764 | K19: =IF(H19,I19/H19-1,"") -> -0.068886603 | M19: =SUM(M20:M22) -> 23486.076 | N19: =SUM(N20:N22) -> 24027.04 | P19: =IF(M19,N19/M19-1,"") -> 0.023033406
B20: sprzęt budowlany | C20: =C48+C75 -> 4344.9708 | D20: =D48+D75 -> 3891.5116 | F20: =IF(C20,D20/C20-1,"") -> -0.10436416 | H20: =H48+H75 -> 437.80139 | I20: =I48+I75 -> 385.49566 | K20: =IF(H20,I20/H20-1,"") -> -0.11947365 | M20: =C20+H20 -> 4782.7722 | N20: =D20+I20 -> 4277.0072 | P20: =IF(M20,N20/M20-1,"") -> -0.10574724
B21: maszyny rolnicze | C21: =C49+C76 -> 5116.5201 | D21: =D49+D76 -> 6646.1903 | F21: =IF(C21,D21/C21-1,"") -> 0.2989669 | H21: =H49+H76 -> 382.64264 | I21: =I49+I76 -> 345.89375 | K21: =IF(H21,I21/H21-1,"") -> -0.096039719 | M21: =C21+H21 -> 5499.1628 | N21: =D21+I21 -> 6992.084 | P21: =IF(M21,N21/M21-1,"") -> 0.27148156
B22: inne MiU | C22: =C50+C77 -> 12033.875 | D22: =D50+D77 -> 11635.762 | F22: =IF(C22,D22/C22-1,"") -> -0.033082725 | H22: =H50+H77 -> 1170.2656 | I22: =I50+I77 -> 1122.187 | K22: =IF(H22,I22/H22-1,"") -> -0.041083498 | M22: =C22+H22 -> 13204.141 | N22: =D22+I22 -> 12757.949 | P22: =IF(M22,N22/M22-1,"") -> -0.033791823
B23: IT | C23: =C51+C78 -> 826.39551 | D23: =D51+D78 -> 1061.2913 | F23: =IF(C23,D23/C23-1,"") -> 0.2842414 | H23: =H51+H78 -> 72.002912 | I23: =I51+I78 -> 100.88121 | K23: =IF(H23,I23/H23-1,"") -> 0.40107129 | M23: =C23+H23 -> 898.39842 | N23: =D23+I23 -> 1162.1725 | P23: =IF(M23,N23/M23-1,"") -> 0.29360483
B24: statki, samoloty, kolej | C24: =C52+C79 -> 1318.7993 | D24: =D52+D79 -> 1586.7405 | F24: =IF(C24,D24/C24-1,"") -> 0.20317054 | H24: =H52+H79 -> 140.93923 | I24: =I52+I79 -> 44.273694 | K24: =IF(H24,I24/H24-1,"") -> -0.68586678 | M24: =C24+H24 -> 1459.7386 | N24: =D24+I24 -> 1631.0142 | P24: =IF(M24,N24/M24-1,"") -> 0.11733309
B25: inne | C25: =C53+C80 -> 533.16293 | D25: =D53+D80 -> 402.3527 | F25: =IF(C25,D25/C25-1,"") -> -0.24534757 | H25: =H53+H80 -> 70.692133 | I25: =I53+I80 -> 35.994745 | K25: =IF(H25,I25/H25-1,"") -> -0.49082389 | M25: =C25+H25 -> 603.85506 | N25: =D25+I25 -> 438.34745 | P25: =IF(M25,N25/M25-1,"") -> -0.274085
B27: ruchomości - leasing + pożyczka | C27: =SUM(C10,C20:C25) -> 88660.896 | D27: =SUM(D10,D20:D25) -> 96312.436 | F27: =IF(C27,D27/C27-1,"") -> 0.086301179 | H27: =SUM(H10,H20:H25) -> 9456.6409 | I27: =SUM(I10,I20:I25) -> 9827.0242 | K27: =IF(H27,I27/H27-1,"") -> 0.039166482 | M27: =SUM(M10,M20:M25) -> 98117.537 | N27: =SUM(N10,N20:N25) -> 106139.46 | P27: =IF(M27,N27/M27-1,"") -> 0.081758302
B34: Finansowanie leasingiem
C35: I-X 2025 vs I-X 2024 | H35: XI 2025 vs XI 2024 | M35: I-XI 2025 vs I-XI 2024
C37: I-X 2024 | D37: I-X 2025 | F37: I-X 25/ I-X 24 | H37: XI 2024 | I37: XI 2025 | K37: XI 2025/ XI 2024 | M37: I-XI 2024 | N37: I-XI 2025 | P37: I-XI 25/ I-XI 24
B38: pojazdy | C38: 60892.78 | D38: 66055.458 | F38: =IF(C38,D38/C38-1,"") -> 0.084783097 | H38: 6757.3402 | I38: 7279.1123 | K38: =IF(H38,I38/H38-1,"") -> 0.0772156 | M38: =SUM(M39:M40,M42:M46) -> 67650.12 | N38: =SUM(N39:N40,N42:N46) -> 73334.571 | P38: =IF(M38,N38/M38-1,"") -> 0.084027205
B39: osobowe | C39: 39417.153 | D39: 44010.516 | F39: =IF(C39,D39/C39-1,"") -> 0.11653207 | H39: 4482.9007 | I39: 5141.5885 | K39: =IF(H39,I39/H39-1,"") -> 0.14693341 | M39: =C39+H39 -> 43900.054 | N39: =D39+I39 -> 49152.105 | P39: =IF(M39,N39/M39-1,"") -> 0.11963654
B40: ciężarowe do 3,5 t | C40: 6502.2639 | D40: 6459.2118 | F40: =IF(C40,D40/C40-1,"") -> -0.0066210998 | H40: 620.24206 | I40: 651.24986 | K40: =IF(H40,I40/H40-1,"") -> 0.049993059 | M40: =C40+H40 -> 7122.506 | N40: =D40+I40 -> 7110.4617 | P40: =IF(M40,N40/M40-1,"") -> -0.0016910257
B41: pojazdy ciężkie | C41: 14205.689 | D41: 14786.612 | F41: =IF(C41,D41/C41-1,"") -> 0.040893726 | H41: 1582.2615 | I41: 1440.0917 | K41: =IF(H41,I41/H41-1,"") -> -0.089852241 | M41: =M42+M43+M44+M45 -> 15787.95 | N41: =N42+N43+N44+N45 -> 16226.704 | P41: =IF(M41,N41/M41-1,"") -> 0.027790422
B42: ciężarowe pow. 3,5 t | C42: 3619.4713 | D42: 3561.5422 | F42: =IF(C42,D42/C42-1,"") -> -0.016004858 | H42: 426.09146 | I42: 350.88408 | K42: =IF(H42,I42/H42-1,"") -> -0.17650524 | M42: =C42+H42 -> 4045.5628 | N42: =D42+I42 -> 3912.4263 | P42: =IF(M42,N42/M42-1,"") -> -0.032909266
B43: ciągniki siodłowe | C43: 6615.0787 | D43: 6824.9936 | F43: =IF(C43,D43/C43-1,"") -> 0.031732785 | H43: 690.66636 | I43: 719.54629 | K43: =IF(H43,I43/H43-1,"") -> 0.0418146 | M43: =C43+H43 -> 7305.7451 | N43: =D43+I43 -> 7544.5399 | P43: =IF(M43,N43/M43-1,"") -> 0.032685894
B44: naczepy / przyczepy | C44: 2798.9125 | D44: 3050.5312 | F44: =IF(C44,D44/C44-1,"") -> 0.089898759 | H44: 268.02809 | I44: 269.7674 | K44: =IF(H44,I44/H44-1,"") -> 0.0064893005 | M44: =C44+H44 -> 3066.9406 | N44: =D44+I44 -> 3320.2987 | P44: =IF(M44,N44/M44-1,"") -> 0.082609385
B45: autobusy | C45: 1172.2263 | D45: 1349.5453 | F45: =IF(C45,D45/C45-1,"") -> 0.1512669 | H45: 197.47559 | I45: 99.893968 | K45: =IF(H45,I45/H45-1,"") -> -0.49414522 | M45: =C45+H45 -> 1369.7018 | N45: =D45+I45 -> 1449.4393 | P45: =IF(M45,N45/M45-1,"") -> 0.058215164
B46: inne | C46: 767.67373 | D46: 799.11816 | F46: =IF(C46,D46/C46-1,"") -> 0.040960671 | H46: 71.936002 | I46: 46.182158 | K46: =IF(H46,I46/H46-1,"") -> -0.3580105 | M46: =C46+H46 -> 839.60973 | N46: =D46+I46 -> 845.30032 | P46: =IF(M46,N46/M46-1,"") -> 0.0067776576
B47: maszyny | C47: 14473.797 | D47: 13478.335 | F47: =IF(C47,D47/C47-1,"") -> -0.068776838 | H47: 1375.9923 | I47: 1268.508 | K47: =IF(H47,I47/H47-1,"") -> -0.078113997 | M47: =SUM(M48:M50) -> 15849.79 | N47: =SUM(N48:N50) -> 14746.843 | P47: =IF(M47,N47/M47-1,"") -> -0.06958744
B48: sprzęt budowlany | C48: 3486.169 | D48: 3290.7784 | F48: =IF(C48,D48/C48-1,"") -> -0.05604738 | H48: 368.17142 | I48: 347.67213 | K48: =IF(H48,I48/H48-1,"") -> -0.05567866 | M48: =C48+H48 -> 3854.3404 | N48: =D48+I48 -> 3638.4505 | P48: =IF(M48,N48/M48-1,"") -> -0.05601216
B49: maszyny rolnicze | C49: 1176.8971 | D49: 1066.8875 | F49: =IF(C49,D49/C49-1,"") -> -0.0934743 | H49: 103.35743 | I49: 79.659896 | K49: =IF(H49,I49/H49-1,"") -> -0.22927752 | M49: =C49+H49 -> 1280.2545 | N49: =D49+I49 -> 1146.5474 | P49: =IF(M49,N49/M49-1,"") -> -0.10443796
B50: inne MiU | C50: 9810.7314 | D50: 9120.6696 | F50: =IF(C50,D50/C50-1,"") -> -0.070337443 | H50: 904.46345 | I50: 841.17601 | K50: =IF(H50,I50/H50-1,"") -> -0.069972348 | M50: =C50+H50 -> 10715.195 | N50: =D50+I50 -> 9961.8456 | P50: =IF(M50,N50/M50-1,"") -> -0.070306625
B51: IT | C51: 697.53246 | D51: 869.22179 | F51: =IF(C51,D51/C51-1,"") -> 0.24613812 | H51: 61.401911 | I51: 84.648118 | K51: =IF(H51,I51/H51-1,"") -> 0.37859093 | M51: =C51+H51 -> 758.93437 | N51: =D51+I51 -> 953.86991 | P51: =IF(M51,N51/M51-1,"") -> 0.25685427
B52: statki, samoloty, kolej | C52: 1210.8928 | D52: 1399.1735 | F52: =IF(C52,D52/C52-1,"") -> 0.15548913 | H52: 119.59489 | I52: 28.018057 | K52: =IF(H52,I52/H52-1,"") -> -0.7657253 | M52: =C52+H52 -> 1330.4877 | N52: =D52+I52 -> 1427.1915 | P52: =IF(M52,N52/M52-1,"") -> 0.072683
B53: inne | C53: 395.17094 | D53: 343.93895 | F53: =IF(C53,D53/C53-1,"") -> -0.12964514 | H53: 45.219102 | I53: 26.585424 | K53: =IF(H53,I53/H53-1,"") -> -0.41207537 | M53: =C53+H53 -> 440.39004 | N53: =D53+I53 -> 370.52437 | P53: =IF(M53,N53/M53-1,"") -> -0.15864498
B55: ruchomości - leasing | C55: 77670.174 | D55: 82146.128 | F55: =IF(C55,D55/C55-1,"") -> 0.057627713 | H55: 8359.5484 | I55: 8686.8719 | K55: =IF(H55,I55/H55-1,"") -> 0.039155646 | M55: =SUM(M38,M48:M53) -> 86029.722 | N55: =SUM(N38,N48:N53) -> 90833 | P55: =IF(M55,N55/M55-1,"") -> 0.055832773
B62: Finasowanie pożyczką
C63: =C$35 -> I-X 2025 vs I-X 2024 | H63: =H$35 -> XI 2025 vs XI 2024 | M63: =M$35 -> I-XI 2025 vs I-XI 2024
C64: =C$37 -> I-X 2024 | D64: =D$37 -> I-X 2025 | F64: =F$37 -> I-X 25/ I-X 24 | H64: =H$37 -> XI 2024 | I64: =I$37 -> XI 2025 | K64: =K$37 -> XI 2025/ XI 2024 | M64: =M$37 -> I-XI 2024 | N64: =N$37 -> I-XI 2025 | P64: =P$37 -> I-XI 25/ I-XI 24
B65: pojazdy | C65: 3594.3925 | D65: 5033.1296 | F65: =IF(C65,D65/C65-1,"") -> 0.40027267 | H65: 424.95673 | I65: 513.18585 | K65: =IF(H65,I65/H65-1,"") -> 0.20761908 | M65: =SUM(M66:M67,M69:M73) -> 4019.3493 | N65: =SUM(N66:N67,N69:N73) -> 5546.3155 | P65: =IF(M65,N65/M65-1,"") -> 0.37990384
B66: osobowe | C66: 2031.1887 | D66: 3108.0588 | F66: =IF(C66,D66/C66-1,"") -> 0.53016743 | H66: 273.94046 | I66: 312.47143 | K66: =IF(H66,I66/H66-1,"") -> 0.14065456 | M66: =C66+H66 -> 2305.1292 | N66: =D66+I66 -> 3420.5302 | P66: =IF(M66,N66/M66-1,"") -> 0.4838779
B67: ciężarowe do 3,5 t | C67: 338.95293 | D67: 333.24991 | F67: =IF(C67,D67/C67-1,"") -> -0.016825387 | H67: 26.662234 | I67: 22.267385 | K67: =IF(H67,I67/H67-1,"") -> -0.16483421 | M67: =C67+H67 -> 365.61516 | N67: =D67+I67 -> 355.5173 | P67: =IF(M67,N67/M67-1,"") -> -0.027618829
B68: pojazdy ciężkie | C68: 1199.3603 | D68: 1530.403 | F68: =IF(C68,D68/C68-1,"") -> 0.27601607 | H68: 123.68509 | I68: 167.38714 | K68: =IF(H68,I68/H68-1,"") -> 0.35333318 | M68: =M69+M70+M71+M72 -> 1323.0454 | N68: =N69+N70+N71+N72 -> 1697.7901 | P68: =IF(M68,N68/M68-1,"") -> 0.28324407
B69: ciężarowe pow. 3,5 t | C69: 172.35419 | D69: 201.33417 | F69: =IF(C69,D69/C69-1,"") -> 0.16814204 | H69: 22.810062 | I69: 20.0987 | K69: =IF(H69,I69/H69-1,"") -> -0.11886694 | M69: =C69+H69 -> 195.16425 | N69: =D69+I69 -> 221.43287 | P69: =IF(M69,N69/M69-1,"") -> 0.13459751
B70: ciągniki siodłowe | C70: 660.13926 | D70: 854.02064 | F70: =IF(C70,D70/C70-1,"") -> 0.29369769 | H70: 67.017897 | I70: 112.70934 | K70: =IF(H70,I70/H70-1,"") -> 0.68177969 | M70: =C70+H70 -> 727.15716 | N70: =D70+I70 -> 966.72998 | P70: =IF(M70,N70/M70-1,"") -> 0.32946498
B71: naczepy / przyczepy | C71: 298.12511 | D71: 351.7414 | F71: =IF(C71,D71/C71-1,"") -> 0.17984492 | H71: 25.999277 | I71: 29.276556 | K71: =IF(H71,I71/H71-1,"") -> 0.12605267 | M71: =C71+H71 -> 324.12439 | N71: =D71+I71 -> 381.01796 | P71: =IF(M71,N71/M71-1,"") -> 0.17553003
B72: autobusy | C72: 68.741732 | D72: 123.30679 | F72: =IF(C72,D72/C72-1,"") -> 0.79376909 | H72: 7.857854 | I72: 5.3025433 | K72: =IF(H72,I72/H72-1,"") -> -0.32519192 | M72: =C72+H72 -> 76.599586 | N72: =D72+I72 -> 128.60934 | P72: =IF(M72,N72/M72-1,"") -> 0.67898215
B73: inne | C73: 24.890582 | D73: 61.417874 | F73: =IF(C73,D73/C73-1,"") -> 1.4675146 | H73: 0.66894568 | I73: 11.059899 | K73: =IF(H73,I73/H73-1,"") -> 15.53333 | M73: =C73+H73 -> 25.559527 | N73: =D73+I73 -> 72.477774 | P73: =IF(M73,N73/M73-1,"") -> 1.8356461
B74: maszyny | C74: 7021.5686 | D74: 8695.1282 | F74: =IF(C74,D74/C74-1,"") -> 0.23834554 | H74: 614.71736 | I74: 585.06839 | K74: =IF(H74,I74/H74-1,"") -> -0.04823187 | M74: =SUM(M75:M77) -> 7636.286 | N74: =SUM(N75:N77) -> 9280.1966 | P74: =IF(M74,N74/M74-1,"") -> 0.2152762
B75: sprzęt budowlany | C75: 858.80179 | D75: 600.73321 | F75: =IF(C75,D75/C75-1,"") -> -0.30049843 | H75: 69.629968 | I75: 37.82353 | K75: =IF(H75,I75/H75-1,"") -> -0.45679237 | M75: =C75+H75 -> 928.43176 | N75: =D75+I75 -> 638.55674 | P75: =IF(M75,N75/M75-1,"") -> -0.31222007
B76: maszyny rolnicze | C76: 3939.623 | D76: 5579.3028 | F76: =IF(C76,D76/C76-1,"") -> 0.41620221 | H76: 279.28521 | I76: 266.23385 | K76: =IF(H76,I76/H76-1,"") -> -0.04673128 | M76: =C76+H76 -> 4218.9082 | N76: =D76+I76 -> 5845.5367 | P76: =IF(M76,N76/M76-1,"") -> 0.38555672
B77: inne MiU | C77: 2223.1438 | D77: 2515.0922 | F77: =IF(C77,D77/C77-1,"") -> 0.13132231 | H77: 265.80218 | I77: 281.01101 | K77: =IF(H77,I77/H77-1,"") -> 0.057218589 | M77: =C77+H77 -> 2488.946 | N77: =D77+I77 -> 2796.1032 | P77: =IF(M77,N77/M77-1,"") -> 0.12340854
B78: IT | C78: 128.86305 | D78: 192.06953 | F78: =IF(C78,D78/C78-1,"") -> 0.49049347 | H78: 10.601 | I78: 16.233094 | K78: =IF(H78,I78/H78-1,"") -> 0.5312795 | M78: =C78+H78 -> 139.46405 | N78: =D78+I78 -> 208.30262 | P78: =IF(M78,N78/M78-1,"") -> 0.49359371
B79: statki, samoloty, kolej | C79: 107.90652 | D79: 187.56702 | F79: =IF(C79,D79/C79-1,"") -> 0.73823621 | H79: 21.344337 | I79: 16.255637 | K79: =IF(H79,I79/H79-1,"") -> -0.23840986 | M79: =C79+H79 -> 129.25086 | N79: =D79+I79 -> 203.82265 | P79: =IF(M79,N79/M79-1,"") -> 0.576954
B80: inne | C80: 137.99199 | D80: 58.413753 | F80: =IF(C80,D80/C80-1,"") -> -0.57668736 | H80: 25.473031 | I80: 9.4093215 | K80: =IF(H80,I80/H80-1,"") -> -0.63061634 | M80: =C80+H80 -> 163.46502 | N80: =D80+I80 -> 67.823074 | P80: =IF(M80,N80/M80-1,"") -> -0.5850912
B82: ruchomości - pożyczka | C82: 10990.723 | D82: 14166.308 | F82: =IF(C82,D82/C82-1,"") -> 0.28893327 | H82: 1097.0925 | I82: 1140.1523 | K82: =IF(H82,I82/H82-1,"") -> 0.039249055 | M82: =SUM(M65,M75:M80) -> 12087.815 | N82: =SUM(N65,N75:N80) -> 15306.46 | P82: =IF(M82,N82/M82-1,"") -> 0.26627188
