Workbook
Name cx: '[1]Dane Le'!#REF!
Name cx: '[1]Dane Le'!#REF!
Name cx: '[1]Dane Le'!#REF!
Name Excel_BuiltIn_Print_Area_2: #REF!
Name Excel_BuiltIn_Print_Area_2: #REF!
Name Excel_BuiltIn_Print_Area_2: #REF!
Name Excel_BuiltIn_Print_Area_4: #REF!
Name Excel_BuiltIn_Print_Area_4: #REF!
Name Excel_BuiltIn_Print_Area_4: #REF!
Name v: #REF!
Name v: #REF!
Name v: #REF!

Sheet summary_01 2026
B2: Związek Polskiego Leasingu , Warszawa 17-02-2026
C5: FINANSOWANIE POJAZDÓW LEKKICH | T5: FINANSOWANIE POJAZDÓW LEKKICH - styczeń 2026r. Łączne finansowanie leasingiem i pożyczką
J10: 11 2025 | N10: 11 2025
I11: leasing | J11: =('szacunek rynku_01 2026'!D39+'szacunek rynku_01 2026'!D40)/('szacunek rynku_01 2026'!D11+'szacunek rynku_01 2026'!D12) -> 0.92821781 | M11: osobowe | N11: ='szacunek rynku_01 2026'!D11/SUM('szacunek rynku_01 2026'!D11:D12) -> 0.87148594
I12: pożyczka | J12: =1-J11 -> 0.071782194 | M12: dostawcze | N12: =1-N11 -> 0.12851406
I14: leasing | J14: =('szacunek rynku_01 2026'!D39+'szacunek rynku_01 2026'!D40)/('szacunek rynku_01 2026'!C39+'szacunek rynku_01 2026'!C40)-1 -> 0.0059747445 | K14: =('szacunek rynku_01 2026'!#REF!+'szacunek rynku_01 2026'!#REF!)/('szacunek rynku_01 2026'!#REF!+'szacunek rynku_01 2026'!#REF!)-1 -> #REF!
I15: pożyczka | J15: =('szacunek rynku_01 2026'!D66+'szacunek rynku_01 2026'!D67)/('szacunek rynku_01 2026'!C66+'szacunek rynku_01 2026'!C67)-1 -> 0.21422488 | K15: =('szacunek rynku_01 2026'!#REF!+'szacunek rynku_01 2026'!#REF!)/('szacunek rynku_01 2026'!#REF!+'szacunek rynku_01 2026'!#REF!)-1 -> #REF!
I16: L+P | J16: =('szacunek rynku_01 2026'!D12+'szacunek rynku_01 2026'!D11)/('szacunek rynku_01 2026'!C11+'szacunek rynku_01 2026'!C12)-1 -> 0.018513946 | K16: =('szacunek rynku_01 2026'!#REF!+'szacunek rynku_01 2026'!#REF!)/('szacunek rynku_01 2026'!#REF!+'szacunek rynku_01 2026'!#REF!)-1 -> #REF!
C40: FINANSOWANIE POJAZDÓW CIĘŻKICH | T40: FINANSOWANIE POJAZDÓW CIĘŻKICH - styczeń 2026r. Łączne finansowanie leasingiem i pożyczką
J45: 07/2025 | N45: 07/2025
I46: leasing | J46: ='szacunek rynku_01 2026'!D41/'szacunek rynku_01 2026'!D13 -> 0.91960065 | M46: ciężarowe pow. 3.5t | N46: ='szacunek rynku_01 2026'!D14/'szacunek rynku_01 2026'!$D$13 -> 0.20549843
I47: pożyczka | J47: =1-J46 -> 0.080399351 | M47: ciągniki siodłowe | N47: ='szacunek rynku_01 2026'!D15/'szacunek rynku_01 2026'!$D$13 -> 0.49364099
M48: przyczepy/naczepy | N48: ='szacunek rynku_01 2026'!D16/'szacunek rynku_01 2026'!$D$13 -> 0.18909956
M49: autobusy | N49: ='szacunek rynku_01 2026'!D17/'szacunek rynku_01 2026'!$D$13 -> 0.11176101
C73: FINANSOWANIE MASZYN | T73: FINANSOWANIE MASZYN - styczeń 2026r. Łączne finansowanie leasingiem i pożyczką
J78: 07/2025 | N78: 07/2025
I79: leasing | J79: ='szacunek rynku_01 2026'!D47/'szacunek rynku_01 2026'!D19 -> 0.70537188 | M79: sprzęt budowlany | N79: ='szacunek rynku_01 2026'!D20/'szacunek rynku_01 2026'!$D$19 -> 0.16685428
I80: pożyczka | J80: =1-J79 -> 0.29462812 | M80: maszyny rolnicze | N80: ='szacunek rynku_01 2026'!D21/'szacunek rynku_01 2026'!$D$19 -> 0.18624507
M81: pozostałe maszyny | N81: ='szacunek rynku_01 2026'!D22/'szacunek rynku_01 2026'!$D$19 -> 0.64690065
C107: FINANSOWANIE RUCHOMOŚCI
J112: 07/2025 | N112: 07/2025
I113: leasing | J113: ='szacunek rynku_01 2026'!D55/'szacunek rynku_01 2026'!D27 -> 0.87762584 | M113: OSD | N113: =('szacunek rynku_01 2026'!D11+'szacunek rynku_01 2026'!D12)/'szacunek rynku_01 2026'!D27 -> 0.60129297
I114: pożyczka | J114: =1-J113 -> 0.12237416 | M114: TRK | N114: ='szacunek rynku_01 2026'!D13/'szacunek rynku_01 2026'!D27 -> 0.16776421
M115: maszyny | N115: ='szacunek rynku_01 2026'!D19/'szacunek rynku_01 2026'!D27 -> 0.19949452
M116: IT | N116: ='szacunek rynku_01 2026'!D23/'szacunek rynku_01 2026'!D27 -> 0.011337716
M117: pozostałe | N117: =('szacunek rynku_01 2026'!D18+'szacunek rynku_01 2026'!D24+'szacunek rynku_01 2026'!D25)/'szacunek rynku_01 2026'!D27 -> 0.020110597

Sheet szacunek rynku_01 2026
B2: Związek Polskiego Leasingu , Warszawa 17-02-2026
B4: Łączne finansowanie leasingiem i pożyczką
C7: =C$35 -> I 2026 vs I 2025
C9: =C$37 -> I 2025 | D9: =D$37 -> I 2026 | F9: =F$37 -> I 2026/ I 2025
B10: pojazdy | C10: =SUM(C11:C12,C14:C18) -> 5858.616 | D10: =SUM(D11:D12,D14:D18) -> 5949.5036 | F10: =IF(C10,D10/C10-1,"") -> 0.015513502
B11: osobowe | C11: =C39+C66 -> 3929.2504 | D11: =D39+D66 -> 4022.2736 | F11: =IF(C11,D11/C11-1,"") -> 0.023674518
B12: ciężarowe do 3,5 t | C12: =C40+C67 -> 602.2731 | D12: =D40+D67 -> 593.14637 | F12: =IF(C12,D12/C12-1,"") -> -0.015153807
B13: pojazdy ciężkie | C13: =C14+C15+C16+C17 -> 1273.1531 | D13: =D14+D15+D16+D17 -> 1287.7288 | F13: =IF(C13,D13/C13-1,"") -> 0.011448514
B14: ciężarowe pow. 3,5 t | C14: =C42+C69 -> 301.99895 | D14: =D42+D69 -> 264.62625 | F14: =IF(C14,D14/C14-1,"") -> -0.12375111
B15: ciągniki siodłowe | C15: =C43+C70 -> 553.2201 | D15: =D43+D70 -> 635.67571 | F15: =IF(C15,D15/C15-1,"") -> 0.14904668
B16: naczepy / przyczepy | C16: =C44+C71 -> 234.94691 | D16: =D44+D71 -> 243.50895 | F16: =IF(C16,D16/C16-1,"") -> 0.036442427
B17: autobusy | C17: =C45+C72 -> 182.98711 | D17: =D45+D72 -> 143.91787 | F17: =IF(C17,D17/C17-1,"") -> -0.21350814
B18: inne | C18: =C46+C73 -> 53.939365 | D18: =D46+D73 -> 46.354925 | F18: =IF(C18,D18/C18-1,"") -> -0.14061049
B19: maszyny | C19: =SUM(C20:C22) -> 1694.257 | D19: =SUM(D20:D22) -> 1531.2851 | F19: =IF(C19,D19/C19-1,"") -> -0.096190792
B20: sprzęt budowlany | C20: =C48+C75 -> 332.23937 | D20: =D48+D75 -> 255.50148 | F20: =IF(C20,D20/C20-1,"") -> -0.2309717
B21: maszyny rolnicze | C21: =C49+C76 -> 403.04885 | D21: =D49+D76 -> 285.1943 | F21: =IF(C21,D21/C21-1,"") -> -0.2924076
B22: inne MiU | C22: =C50+C77 -> 958.96882 | D22: =D50+D77 -> 990.58933 | F22: =IF(C22,D22/C22-1,"") -> 0.032973454
B23: IT | C23: =C51+C78 -> 123.67507 | D23: =D51+D78 -> 87.026331 | F23: =IF(C23,D23/C23-1,"") -> -0.29633083
B24: statki, samoloty, kolej | C24: =C52+C79 -> 122.19028 | D24: =D52+D79 -> 85.13934 | F24: =IF(C24,D24/C24-1,"") -> -0.30322333
B25: inne | C25: =C53+C80 -> 19.674235 | D25: =D53+D80 -> 22.871173 | F25: =IF(C25,D25/C25-1,"") -> 0.16249364
B27: ruchomości - leasing + pożyczka | C27: =SUM(C10,C20:C25) -> 7818.4126 | D27: =SUM(D10,D20:D25) -> 7675.8256 | F27: =IF(C27,D27/C27-1,"") -> -0.018237336
B34: Finansowanie leasingiem
C35: I 2026 vs I 2025
C37: I 2025 | D37: I 2026 | F37: I 2026/ I 2025
B38: pojazdy | C38: 5471.4428 | D38: 5512.1973 | F38: =IF(C38,D38/C38-1,"") -> 0.0074485955
B39: osobowe | C39: 3699.9676 | D39: 3719.131 | F39: =IF(C39,D39/C39-1,"") -> 0.0051793613
B40: ciężarowe do 3,5 t | C40: 558.70292 | D40: 564.98392 | F40: =IF(C40,D40/C40-1,"") -> 0.011242109
B41: pojazdy ciężkie | C41: 1160.1261 | D41: 1184.1962 | F41: =IF(C41,D41/C41-1,"") -> 0.02074783
B42: ciężarowe pow. 3,5 t | C42: 285.7861 | D42: 253.52602 | F42: =IF(C42,D42/C42-1,"") -> -0.1128819
B43: ciągniki siodłowe | C43: 492.46487 | D43: 584.55045 | F43: =IF(C43,D43/C43-1,"") -> 0.18698913
B44: naczepy / przyczepy | C44: 213.87706 | D44: 210.8286 | F44: =IF(C44,D44/C44-1,"") -> -0.014253303
B45: autobusy | C45: 167.9981 | D45: 135.29115 | F45: =IF(C45,D45/C45-1,"") -> -0.19468641
B46: inne | C46: 52.646157 | D46: 43.886154 | F46: =IF(C46,D46/C46-1,"") -> -0.16639398
B47: maszyny | C47: 1158.6346 | D47: 1080.1255 | F47: =IF(C47,D47/C47-1,"") -> -0.067760078
B48: sprzęt budowlany | C48: 289.2604 | D48: 228.59665 | F48: =IF(C48,D48/C48-1,"") -> -0.20972022
B49: maszyny rolnicze | C49: 84.024729 | D49: 84.305657 | F49: =IF(C49,D49/C49-1,"") -> 0.0033434064
... B55: ruchomości - leasing | C55: 6844.9203 | D55: 6736.5029 | F55: =IF(C55,D55/C55-1,"") -> -0.015839114
B62: Finasowanie pożyczką
C63: =C$35 -> I 2026 vs I 2025
C64: =C$37 -> I 2025 | D64: =D$37 -> I 2026 | F64: =F$37 -> I 2026/ I 2025
...
