Workbook

Sheet pozyczki I-IV kw 2025
B2: Związek Polskiego Leasingu, Warszawa 01-07-2026
B4: Wartość środków oddanych w leasing w | D4: I - IV kwartał 2025
A6: Lp. | B6: Spółka | C6: POJAZDY | D6: Osobowe | E6: osobowe - zeroemisyjne | F6: osobowe - hybryda plug-in | G6: Cięzarowe: | H6: o masie do 3,5 tony | I6: o masie do 3,5 tony - zeroemisyjne | J6: o masie do 3,5 tony - hybryda plug-in | K6: o masie powyzej 3,5 tony | L6: o masie powyżej 3,5 tony - zeroemisyjne | M6: o masie powyżej 3,5 tony - hybryda plug-in | N6: ciagniki siodlowe | O6: ciągniki siodłowe - zeroemisyjne | P6: ciągniki siodłowe - hybryda plug-in | Q6: naczepy / przyczepy | R6: autobusy | S6: autobusy - zeroemisyjne | T6: autobusy - hybryda plug-in | U6: inne | V6: inne - zeroemisyjne | W6: inne - hybryda plug-in | X6: MiU | Y6: Sprzęt Budowlany | Z6: Maszyny Rolnicze | AA6: Maszyny Poligraf. | AB6: maszyny do produkcji tworzyw sztucznych | AC6: maszyny i urządzenia do obróbki metali | AD6: maszyny dla przemysłu spożywczego | AE6: Sprzęt Medyczny | AF6: Sprzęt Gastronom. | AG6: Wózki Widłowe | AH6: Magazyny energii | AI6: Pompy ciepła | AJ6: fotowoltaika | AK6: wiatraki i turbiny wiatrowe | AL6: stacje ładowania pojazdów elektrycznych (na użytek własny i komercyjny) | AM6: inne MiU | AN6: IT | AO6: Sprzęt | AP6: Oprogram. | AQ6: inne IT | AR6: POZOSTAŁE ŚRODKI TRANSPORTU | AS6: Powietrzne | AT6: Wodne | AU6: Kolejowe | AV6: Inne ruchomości | AW6: RUCHOMOŚCI | AX6: Nieruchomości | AY6: budynki przemysłowe | AZ6: obiekty handlowe i usługowe | BA6: obiekty biurowe | BB6: hotele i obiekty rekreacyjne | BC6: inne | BD6: OGÓŁEM
A7: 1 | B7: Alior Leasing Sp. z o. o. | C7: 282740.2 | D7: 156041.75 | G7: 34832.418 | H7: 21963.217 | K7: 12869.201 | N7: 50867.945 | Q7: 23822.637 | R7: 13377.241 | U7: 3798.2179 | X7: 112783.48 | Y7: 14723.328 | Z7: 16596.975 | AA7: 18925.001 | AB7: 2251.859 | AC7: 7585.9405 | AD7: 1609.9371 | AE7: 29234.432 | AG7: 244.68467 | AH7: 91.02699 | AI7: 319.1 | AJ7: 960.23073 | AM7: 20240.964 | AN7: 641.92772 | AO7: 641.92772 | AR7: 13416.719 | AT7: 11061.956 | AU7: 2354.763 | AW7: 409582.33 | AX7: 0 | BD7: 409582.33
A8: 2 | B8: BNP Paribas Lease Group Sp. z o. o. | C8: 147360.21 | D8: 10820.048 | E8: 354.3008 | F8: 0 | G8: 102480.04 | H8: 40269 | I8: 0 | J8: 0 | K8: 62211.037 | L8: 0 | M8: 0 | N8: 8812.2104 | O8: 0 | P8: 0 | Q8: 20126.398 | R8: 5121.5125 | S8: 0 | T8: 0 | U8: 0 | V8: 0 | W8: 0 | X8: 1948033.7 | Y8: 62259.61 | Z8: 1720363.1 | AA8: 911.876 | AB8: 0 | AC8: 2740.686 | AD8: 8572.4513 | AE8: 101081.81 | AF8: 551.9336 | AG8: 1735.6304 | AH8: 177.24074 | AI8: 0 | AJ8: 2869.6299 | AK8: 0 | AL8: 0 | AM8: 46769.736 | AN8: 21223.534 | AO8: 3576.2403 | AP8: 17547.43 | AQ8: 99.86346 | AR8: 0 | AS8: 0 | AT8: 0 | AU8: 0 | AV8: 0 | AW8: 2116617.4 | AX8: 240 | AY8: 240 | AZ8: 0 | BA8: 0 | BB8: 0 | BC8: 0 | BD8: 2116857.4
A9: 3 | B9: BOŚ LEASING S.A | C9: 3329.9644 | D9: 2783.7105 | G9: 347.09124 | H9: 347.09124 | Q9: 199.16265 | X9: 7031.639 | Y9: 622.15116 | Z9: 166.5 | AE9: 2192.9879 | AM9: 4050 | AN9: 0 | AR9: 0 | AW9: 10361.603 | AX9: 0 | BD9: 10361.603
A10: 4 | B10: BPCE Equipment Solutions Polska Sp. z o.o. | C10: 19505.723 | D10: 219.43902 | G10: 0 | N10: 11790.69 | Q10: 7403.3754 | U10: 92.2185 | X10: 177638.36 | Y10: 35798.4 | Z10: 114272.25 | AD10: 3948.9873 | AE10: 4423.7057 | AG10: 1465.0934 | AJ10: 1665.8141 | AM10: 16064.103 | AN10: 150663.09 | AO10: 106003.84 | AP10: 44659.259 | AR10: 0 | AW10: 347807.17 | AX10: 0 | BD10: 347807.17
A11: 5 | B11: BPS Leasing S.A. | C11: 20553.438 | D11: 6102.2177 | E11: 211.941 | G11: 1506.1091 | H11: 72 | K11: 1434.1091 | N11: 1359.3985 | Q11: 11565.712 | U11: 20 | V11: 20 | X11: 8881.1141 | Y11: 1703.4709 | Z11: 4386.087 | AD11: 315.6426 | AE11: 230.8892 | AM11: 2245.0245 | AN11: 6.01512 | AQ11: 6.01512 | AR11: 0 | AV11: 428.2114 | AW11: 29868.778 | AX11: 1600 | BC11: 1600 | BD11: 31468.778
A12: 6 | B12: Caterpillar Financial Services Poland Sp. z o. o. | C12: 0 | G12: 0 | X12: 110848.99 | Y12: 110848.99 | AN12: 0 | AR12: 0 | AW12: 110848.99 | AX12: 0 | BD12: 110848.99
A13: 7 | B13: DE LAGE Landen Leasing Polska S.A. | C13: 23979.89 | D13: 375 | G13: 0 | N13: 5924.5088 | Q13: 17680.381 | X13: 1184284.6 | Y13: 40049.412 | Z13: 1020122.4 | AE13: 107043.22 | AG13: 0 | AJ13: 206.78699 | AM13: 16862.758 | AN13: 41280.002 | AO13: 31983.222 | AP13: 9178.7803 | AQ13: 118 | AR13: 0 | AW13: 1249544.5 | AX13: 0 | BD13: 1249544.5
A14: 8 | B14: Deutsche Leasing Polska S.A. | C14: 32112 | D14: 58 | G14: 238 | H14: 238 | N14: 2061 | Q14: 29755 | X14: 71821 | Z14: 44366 | AB14: 604 | AC14: 13950 | AE14: 2010 | AG14: 60 | AM14: 10831 | AN14: 0 | AR14: 0 | AW14: 103933 | AX14: 0 | BD14: 103933
A15: 9 | B15: Europejski Fundusz Leasingowy S.A. | C15: 268181.16 | D15: 114395.32 | E15: 3152.2332 | F15: 483.57724 | G15: 45791.784 | H15: 24325.714 | I15: 64.6 | K15: 21466.07 | N15: 61807.803 | Q15: 37884.212 | R15: 7749.5041 | U15: 552.53414 | X15: 1111539.3 | Y15: 69093.261 | Z15: 914727.73 | AA15: 12445.156 | AB15: 95.16682 | AC15: 10346.953 | AD15: 11440.337 | AE15: 24501.622 | AF15: 4202.9522 | AG15: 1371.8255 | AH15: 57.16829 | AI15: 184.62 | AJ15: 2591.2396 | AM15: 60481.234 | AN15: 3080.382 | AO15: 661.67273 | AP15: 1715.297 | AQ15: 703.41224 | AR15: 10377.069 | AS15: 425.43 | AT15: 9951.6393 | AW15: 1393177.9 | AX15: 0 | BD15: 1393177.9
A16: 10 | B16: Impuls-Leasing Polska Sp. z o. o. | C16: 176011.19 | D16: 75705.9 | E16: 4078.2 | F16: 1377.47 | G16: 12468.1 | H16: 9929.15 | I16: 168.83 | J16: 206.21 | K16: 2538.95 | N16: 47906.53 | Q16: 32366.49 | R16: 4869.06 | U16: 2695.11 | X16: 61443.35 | Y16: 13758.54 | Z16: 11692.39 | AA16: 240.05 | AC16: 5208.46 | AE16: 5107.26 | AF16: 1318.54 | AG16: 816.1 | AM16: 23302.01 | AN16: 99.98 | AO16: 99.98 | AR16: 562.25 | AT16: 562.25 | AW16: 238116.77 | AX16: 0 | BD16: 238116.77
A17: 11 | B17: ING Lease (Polska) Sp. z o. o. | C17: 54662 | D17: 15781 | G17: 0 | H17: 0 | K17: 0 | N17: 23881 | Q17: 0 | R17: 0 | U17: 15000 | X17: 165470 | Y17: 9200 | Z17: 0 | AA17: 47452 | AB17: 19711 | AC17: 9140 | AD17: 30324 | AE17: 4325 | AF17: 0 | AG17: 374 | AH17: 0 | AI17: 0 | AJ17: 3471 | AM17: 41473 | AN17: 0 | AO17: 0 | AP17: 0 | AQ17: 0 | AR17: 0 | AS17: 0 | AT17: 0 | AU17: 0 | AV17: 459 | AW17: 220591 | AX17: 0 | AY17: 0 | AZ17: 0 | BA17: 0 | BB17: 0 | BC17: 0 | BD17: 220591
A18: 12 | B18: Leasing Polski Sp. z o. o. | C18: 0 | G18: 0 | X18: 0 | AN18: 0 | AR18: 0 | AW18: 0 | AX18: 0 | BD18: 0
A19: 13 | B19: Mercedes-Benz Leasing Polska Sp. z o.o. | C19: 322960.94 | D19: 274624.67 | E19: 1002.9246 | F19: 13643.095 | G19: 48086.74 | H19: 44689.609 | I19: 494.36594 | K19: 3397.1305 | L19: 80.80989 | N19: 249.52695 | X19: 0 | AN19: 0 | AR19: 0 | AW19: 322960.94 | AX19: 0 | BD19: 322960.94
A20: 14 | B20: Millennium Leasing Sp. z o. o. | C20: 0 | G20: 0 | X20: 0 | AN20: 0 | AR20: 0 | AW20: 0 | AX20: 0 | BD20: 0
A21: 15 | B21: mLeasing Sp. z o. o. | C21: 190476.98 | D21: 69508.097 | E21: 2612.5513 | F21: 6795.0094 | G21: 23635.653 | H21: 346.282 | I21: 0 | J21: 0 | K21: 23289.371 | L21: 0 | M21: 0 | N21: 45681.703 | O21: 0 | P21: 0 | Q21: 34657.299 | R21: 10748.941 | S21: 0 | T21: 0 | U21: 6245.29 | V21: 4763.84 | W21: 0 | X21: 595235.64 | Y21: 22519.153 | Z21: 21793.693 | AA21: 12832.773 | AB21: 30616.163 | AC21: 39819.602 | AD21: 155478.18 | AE21: 183419.53 | AF21: 14220.18 | AG21: 2302.4997 | AH21: 0 | AI21: 198 | AJ21: 13327.586 | AK21: 0 | AL21: 56.44 | AM21: 98651.84 | AN21: 70209.516 | AO21: 61838.006 | AP21: 4679.25 | AQ21: 3692.26 | AR21: 122038.54 | AS21: 1131.1627 | AT21: 15678.448 | AU21: 105228.93 | AV21: 69604.115 | AW21: 1047564.8 | AX21: 0 | AY21: 0 | AZ21: 0 | BA21: 0 | BB21: 0 | BC21: 0 | BD21: 1047564.8
A22: 16 | B22: NEST LEASING S.A | C22: 141294.34 | D22: 49984.302 | G22: 17697.968 | H22: 6545.0206 | K22: 11152.948 | N22: 44985.988 | Q22: 16886.028 | R22: 9863.8056 | U22: 1876.2522 | X22: 216717.65 | Y22: 19632.034 | Z22: 151671.3 | AA22: 148.88039 | AB22: 2569.8647 | AC22: 8042.2903 | AD22: 2547.3331 | AE22: 18441.422 | AF22: 27.23514 | AG22: 534.62389 | AH22: 0 | AI22: 326.50965 | AJ22: 1090.4196 | AK22: 0 | AL22: 0 | AM22: 11685.738 | AN22: 0 | AO22: 0 | AP22: 0 | AQ22: 0 | AR22: 1162.8589 | AS22: 0 | AT22: 1162.8589 | AU22: 0 | AV22: 0 | AW22: 359174.85 | AX22: 0 | BD22: 359174.85
A23: 17 | B23: PEAC (Poland) Sp. z o. o. | C23: 4218.1 | D23: 286.4 | G23: 0 | Q23: 3931.7 | X23: 40989.8 | Y23: 7501.9 | Z23: 21495 | AB23: 429.1 | AE23: 525.9 | AH23: 25 | AJ23: 67.5 | AM23: 10945.4 | AN23: 341.9 | AP23: 341.9 | AR23: 60.6 | AT23: 60.6 | AW23: 45610.4 | AX23: 0 | BD23: 45610.4
A24: 18 | B24: PEKAO Leasing Sp. z o. o. | C24: 326113.81 | D24: 83346.973 | E24: 435.42276 | F24: 0 | G24: 17528.909 | H24: 9614.0266 | I24: 261.36087 | J24: 0 | K24: 7914.8827 | L24: 0 | M24: 0 | N24: 140141.97 | O24: 0 | P24: 0 | Q24: 51723.592 | R24: 27358.799 | S24: 0 | T24: 0 | U24: 6013.5648 | V24: 217 | W24: 0 | X24: 622350.52 | Y24: 93762.917 | Z24: 235542.47 | AA24: 1494.13 | AB24: 4390.884 | AC24: 36898.037 | AD24: 22517.597 | AE24: 49051.243 | AF24: 3845.0343 | AG24: 3202.9756 | AH24: 664.2 | AI24: 281.45844 | AJ24: 30877.058 | AK24: 0 | AL24: 0 | AM24: 139822.52 | AN24: 22173.484 | AO24: 22045.647 | AP24: 86.7562 | AQ24: 41.08108 | AR24: 33301.292 | AS24: 25816.681 | AT24: 7327.6712 | AU24: 156.94 | AV24: 3690.8815 | AW24: 1007630 | AX24: 81085.156 | AY24: 0 | AZ24: 73918.736 | BA24: 231.42 | BB24: 6300 | BC24: 635 | BD24: 1088715.1
A25: 19 | B25: PKO Leasing S.A. | C25: 767543.78 | D25: 333388.94 | E25: 2171.5358 | F25: 4037.2283 | G25: 132999.76 | H25: 82235.376 | I25: 830.87544 | J25: 9380.196 | K25: 50764.384 | L25: 3971.8688 | M25: 739.24 | N25: 205890.45 | Q25: 59253.26 | R25: 25780.159 | U25: 10231.211 | X25: 1108003.3 | Y25: 114293 | Z25: 409520.61 | AA25: 24896.286 | AB25: 11171.375 | AC25: 65845.859 | AD25: 64697.022 | AE25: 121656.66 | AF25: 596.34422 | AG25: 8976.3448 | AH25: 4146.4301 | AI25: 249.38134 | AJ25: 79141.396 | AL25: 3849.4153 | AM25: 198963.15 | AN25: 7842.0301 | AO25: 4137.6694 | AP25: 667.39861 | AQ25: 3036.9621 | AR25: 144908.64 | AS25: 34209.739 | AT25: 34047.964 | AU25: 76650.935 | AV25: 3719.1873 | AW25: 2032016.9 | AX25: 0 | BD25: 2032016.9
A26: 20 | B26: Santander Consumer Multirent Sp. z o.o. | C26: 1050381.3 | D26: 1029684.2 | G26: 8201.6728 | H26: 8201.6728 | U26: 12495.456 | X26: 0 | AN26: 0 | AR26: 0 | AW26: 1050381.3 | AX26: 0 | BD26: 1050381.3
A27: 21 | B27: Santander Leasing S.A. | C27: 967102.8 | D27: 663582.89 | E27: 8594.5397 | F27: 3738.4801 | G27: 69831.307 | H27: 44898.671 | I27: 786.4556 | J27: 176 | K27: 24932.637 | L27: 0 | M27: 0 | N27: 172811.29 | O27: 0 | P27: 0 | Q27: 39198.264 | R27: 14888.63 | S27: 0 | T27: 0 | U27: 6790.4257 | V27: 0 | W27: 0 | X27: 1826090.4 | Y27: 38471.836 | Z27: 1313560.4 | AA27: 60188.3 | AB27: 6125.5816 | AC27: 24526.088 | AD27: 10533.887 | AE27: 111687.01 | AF27: 1130.2024 | AG27: 3244.538 | AH27: 671.2049 | AI27: 2237.9525 | AJ27: 43226.769 | AK27: 52.116 | AL27: 0 | AM27: 210434.56 | AN27: 39177.016 | AO27: 39177.016 | AP27: 0 | AQ27: 0 | AR27: 7900.1599 | AS27: 3114.6778 | AT27: 4785.4821 | AU27: 0 | AV27: 0 | AW27: 2840270.4 | AX27: 0 | AY27: 0 | AZ27: 0 | BA27: 0 | BB27: 0 | BC27: 0 | BD27: 2840270.4
A28: 22 | B28: Scania Finance Polska Sp. z o. o. | C28: 93430 | G28: 16002 | K28: 16002 | N28: 70594 | Q28: 5091 | R28: 1743 | X28: 0 | AN28: 0 | AR28: 0 | AW28: 93430 | AX28: 0 | BD28: 93430
A29: 23 | B29: SGB Leasing Sp. z o. o. | C29: 19772 | D29: 10069 | G29: 5360 | H29: 2004 | K29: 3356 | N29: 205 | Q29: 3512 | R29: 529 | U29: 97 | X29: 113217 | Y29: 5852 | Z29: 55883 | AB29: 4371 | AD29: 1682 | AE29: 1473 | AG29: 700 | AH29: 849 | AI29: 76 | AJ29: 758 | AM29: 41573 | AN29: 172 | AO29: 172 | AR29: 0 | AW29: 133161 | AX29: 29081 | AY29: 29081 | BD29: 162242
A30: 24 | B30: Siemens Finance Sp. z o. o. | C30: 0 | G30: 0 | X30: 0 | AN30: 0 | AR30: 0 | AW30: 0 | AX30: 0 | BD30: 0
A31: 25 | B31: VEHIS FINANSE Sp. z o.o. | C31: 0 | G31: 0 | X31: 0 | AN31: 0 | AR31: 0 | AW31: 0 | AX31: 0 | BD31: 0
A32: 26 | B32: VELOLEASING S.A | C32: 115596 | D32: 113965 | G32: 0 | Q32: 16 | U32: 1615 | X32: 0 | AN32: 0 | AR32: 0 | AW32: 115596 | AX32: 0 | BD32: 115596
A33: 27 | B33: Razem | C33: 5027325.8 | D33: 3010722.8 | E33: 22613.649 | F33: 30074.86 | G33: 537007.55 | H33: 295678.83 | I33: 2606.4878 | J33: 9762.406 | K33: 241328.72 | L33: 4052.6787 | M33: 739.24 | N33: 894971.01 | O33: 0 | P33: 0 | Q33: 395072.51 | R33: 122029.65 | S33: 0 | T33: 0 | U33: 67522.28 | V33: 5000.84 | W33: 0 | X33: 9482379.7 | Y33: 660090 | Z33: 6056159.8 | AA33: 179534.45 | AB33: 82335.994 | AC33: 224103.92 | AD33: 313667.37 | AE33: 766405.7 | AF33: 25892.422 | AG33: 25028.316 | AH33: 6681.271 | AI33: 3873.0219 | AJ33: 180253.43 | AK33: 52.116 | AL33: 3905.8553 | AM33: 954396.04 | AN33: 356910.88 | AO33: 270337.22 | AP33: 78876.071 | AQ33: 7697.594 | AR33: 333728.13 | AS33: 64697.69 | AT33: 84638.87 | AU33: 184391.57 | AV33: 77901.395 | AW33: 15278246 | AX33: 112006.16 | AY33: 29321 | AZ33: 73918.736 | BA33: 231.42 | BB33: 6300 | BC33: 2235 | BD33: 15390252
B35: Ilość środków oddanych w leasing w | D35: I - IV kwartał 2025
A38: Lp. | B38: Spółka | C38: POJAZDY | D38: Osobowe | E38: osobowe - zeroemisyjne | F38: osobowe - hybryda plug-in | G38: Cięzarowe: | H38: o masie do 3,5 tony | I38: o masie do 3,5 tony - zeroemisyjne | J38: o masie do 3,5 tony - hybryda plug-in | K38: o masie powyzej 3,5 tony | L38: o masie powyżej 3,5 tony - zeroemisyjne | M38: o masie powyżej 3,5 tony - hybryda plug-in | N38: ciagniki siodlowe | O38: ciągniki siodłowe - zeroemisyjne | P38: ciągniki siodłowe - hybryda plug-in | Q38: naczepy / przyczepy | R38: autobusy | S38: autobusy - zeroemisyjne | T38: autobusy - hybryda plug-in | U38: inne | V38: inne - zeroemisyjne | W38: inne - hybryda plug-in | X38: MiU | Y38: Sprzęt Budowlany | Z38: Maszyny Rolnicze | AA38: Maszyny Poligraf. | AB38: maszyny do produkcji tworzyw sztucznych | AC38: maszyny i urządzenia do obróbki metali | AD38: maszyny dla przemysłu spożywczego | AE38: Sprzęt Medyczny | AF38: Sprzęt Gastronom. | AG38: Wózki Widłowe | AH38: Magazyny energii | AI38: Pompy ciepła | AJ38: fotowoltaika | AK38: wiatraki i turbiny wiatrowe | AL38: stacje ładowania pojazdów elektrycznych (na użytek własny i komercyjny) | AM38: inne MiU | AN38: IT | AO38: Sprzęt | AP38: Oprogram. | AQ38: inne IT | AR38: POZOSTAŁE ŚRODKI TRANSPORTU | AS38: Powietrzne | AT38: Wodne | AU38: Kolejowe | AV38: Inne ruchomości | AW38: RUCHOMOŚCI | AX38: Nieruchomości | AY38: budynki przemysłowe | AZ38: obiekty handlowe i usługowe | BA38: obiekty biurowe | BB38: hotele i obiekty rekreacyjne | BC38: inne | BD38: OGÓŁEM
A39: 1 | B39: Alior Leasing Sp. z o. o. | C39: 2290 | D39: 1334 | G39: 369 | H39: 300 | K39: 69 | N39: 268 | Q39: 258 | R39: 32 | U39: 29 | X39: 682 | Y39: 105 | Z39: 112 | AA39: 8 | AB39: 8 | AC39: 38 | AD39: 20 | AE39: 264 | AG39: 5 | AH39: 1 | AI39: 1 | AJ39: 9 | AM39: 111 | AN39: 7 | AO39: 7 | AR39: 83 | AT39: 82 | AU39: 1 | AW39: 3062 | AX39: 0 | BD39: 3062
A40: 2 | B40: BNP Paribas Lease Group Sp. z o. o. | C40: 649 | D40: 41 | E40: 2 | F40: 0 | G40: 429 | H40: 222 | I40: 0 | J40: 0 | K40: 207 | L40: 0 | M40: 0 | N40: 31 | O40: 0 | P40: 0 | Q40: 144 | R40: 4 | S40: 0 | T40: 0 | U40: 0 | V40: 0 | W40: 0 | X40: 7331 | Y40: 173 | Z40: 5405 | AA40: 1 | AB40: 0 | AC40: 4 | AD40: 34 | AE40: 1548 | AF40: 4 | AG40: 19 | AH40: 4 | AI40: 0 | AJ40: 24 | AK40: 0 | AL40: 0 | AM40: 115 | AN40: 498 | AO40: 46 | AP40: 444 | AQ40: 8 | AR40: 0 | AS40: 0 | AT40: 0 | AU40: 0 | AV40: 0 | AW40: 8478 | AX40: 1 | AY40: 1 | AZ40: 0 | BA40: 0 | BB40: 0 | BC40: 0 | BD40: 8479
A41: 3 | B41: BOŚ LEASING S.A | C41: 20 | D41: 17 | G41: 2 | H41: 2 | Q41: 1 | X41: 8 | Y41: 1 | Z41: 1 | AE41: 3 | AM41: 3 | AN41: 0 | AR41: 0 | AW41: 28 | AX41: 0 | BD41: 28
A42: 4 | B42: BPCE Equipment Solutions Polska Sp. z o.o. | C42: 71 | D42: 1 | G42: 0 | N42: 27 | Q42: 42 | U42: 1 | X42: 505 | Y42: 69 | Z42: 397 | AD42: 1 | AE42: 5 | AG42: 4 | AJ42: 1 | AM42: 28 | AN42: 163 | AO42: 145 | AP42: 18 | AR42: 0 | AW42: 739 | AX42: 0 | BD42: 739
A43: 5 | B43: BPS Leasing S.A. | C43: 155 | D43: 62 | E43: 1 | G43: 4 | H43: 1 | K43: 3 | N43: 7 | Q43: 81 | U43: 1 | V43: 1 | X43: 27 | Y43: 2 | Z43: 16 | AD43: 1 | AE43: 3 | AM43: 5 | AN43: 1 | AQ43: 1 | AR43: 0 | AV43: 3 | AW43: 186 | AX43: 1 | BC43: 1 | BD43: 187
A44: 6 | B44: Caterpillar Financial Services Poland Sp. z o. o. | C44: 0 | G44: 0 | X44: 260 | Y44: 260 | AN44: 0 | AR44: 0 | AW44: 260 | AX44: 0 | BD44: 260
A45: 7 | B45: DE LAGE Landen Leasing Polska S.A. | C45: 140 | D45: 2 | G45: 0 | N45: 25 | Q45: 113 | X45: 2709 | Y45: 42 | Z45: 2525 | AE45: 82 | AG45: 0 | AJ45: 1 | AM45: 59 | AN45: 41 | AO45: 27 | AP45: 13 | AQ45: 1 | AR45: 0 | AW45: 2890 | AX45: 0 | BD45: 2890
A46: 8 | B46: Deutsche Leasing Polska S.A. | C46: 241 | D46: 1 | G46: 1 | H46: 1 | N46: 13 | Q46: 226 | X46: 149 | Z46: 114 | AB46: 1 | AC46: 11 | AE46: 11 | AG46: 1 | AM46: 11 | AN46: 0 | AR46: 0 | AW46: 390 | AX46: 0 | BD46: 390
...

Sheet leasing I-IV kw 2025
B2: Związek Polskiego Leasingu, Warszawa 01-07-2026
B4: Wartość środków oddanych w leasing w | D4: I - IV kwartał 2025
A7: Lp. | B7: Spółka | C7: POJAZDY | D7: Osobowe | E7: osobowe - zeroemisyjne | F7: osobowe - hybryda plug-in | G7: Cięzarowe: | H7: o masie do 3,5 tony | I7: o masie do 3,5 tony - zeroemisyjne | J7: o masie do 3,5 tony - hybryda plug-in | K7: o masie powyzej 3,5 tony | L7: o masie powyżej 3,5 tony - zeroemisyjne | M7: o masie powyżej 3,5 tony - hybryda plug-in | N7: ciagniki siodlowe | O7: ciągniki siodłowe - zeroemisyjne | P7: ciągniki siodłowe - hybryda plug-in | Q7: naczepy / przyczepy | R7: autobusy | S7: autobusy - zeroemisyjne | T7: autobusy - hybryda plug-in | U7: inne | V7: inne - zeroemisyjne | W7: inne - hybryda plug-in | X7: MiU | Y7: Sprzęt Budowlany | Z7: Maszyny Rolnicze | AA7: Maszyny Poligraf. | AB7: maszyny do produkcji tworzyw sztucznych | AC7: maszyny i urządzenia do obróbki metali | AD7: maszyny dla przemysłu spożywczego | AE7: Sprzęt Medyczny | AF7: Sprzęt Gastronom. | AG7: Wózki Widłowe | AH7: Magazyny energii | AI7: Pompy ciepła | AJ7: fotowoltaika | AK7: wiatraki i turbiny wiatrowe | AL7: stacje ładowania pojazdów elektrycznych (na użytek własny i komercyjny) | AM7: inne MiU | AN7: IT | AO7: Sprzęt | AP7: Oprogram. | AQ7: inne IT | AR7: POZOSTAŁE ŚRODKI TRANSPORTU | AS7: Powietrzne | AT7: Wodne | AU7: Kolejowe | AV7: Inne ruchomości | AW7: RUCHOMOŚCI | AX7: Nieruchomości | AY7: budynki przemysłowe | AZ7: obiekty handlowe i usługowe | BA7: obiekty biurowe | BB7: hotele i obiekty rekreacyjne | BC7: inne | BD7: OGÓŁEM
A8: 1 | B8: Alior Leasing Sp. z o. o. | C8: 2717553.3 | D8: 1216936.9 | G8: 510847.85 | H8: 309418.44 | K8: 201429.41 | N8: 501382.31 | Q8: 254159.73 | R8: 170542.98 | U8: 63683.505 | X8: 591890.97 | Y8: 247299.58 | Z8: 71935.728 | AA8: 11669.472 | AB8: 7127.2913 | AC8: 48018.054 | AD8: 37765.279 | AE8: 33100.827 | AF8: 988.77879 | AG8: 1316.3859 | AH8: 325.4 | AI8: 105.78057 | AJ8: 5258.3595 | AM8: 126980.03 | AN8: 3654.7626 | AO8: 3654.7626 | AR8: 51133.29 | AS8: 1133.2013 | AT8: 17099.411 | AU8: 32900.678 | AW8: 3364232.3 | AX8: 0 | BD8: 3364232.3
A9: 2 | B9: BNP Paribas Lease Group Sp. z o. o. | C9: 2446948 | D9: 1751782.8 | E9: 74668.25 | F9: 32000.679 | G9: 513429.38 | H9: 253938.82 | I9: 3352.6321 | J9: 0 | K9: 259490.55 | L9: 7231.7841 | M9: 0 | N9: 118874.38 | O9: 0 | P9: 0 | Q9: 43548.859 | R9: 3094.7466 | S9: 0 | T9: 0 | U9: 16217.869 | V9: 310.94543 | W9: 0 | X9: 869877.15 | Y9: 196535.44 | Z9: 117734.96 | AA9: 8831.6647 | AB9: 58695.159 | AC9: 18636.309 | AD9: 30371.117 | AE9: 24778.469 | AF9: 786.39439 | AG9: 102950.77 | AH9: 51.22 | AI9: 0 | AJ9: 6649.7849 | AK9: 0 | AL9: 0 | AM9: 303855.87 | AN9: 103001.3 | AO9: 73897.656 | AP9: 22861.978 | AQ9: 6241.6661 | AR9: 0 | AS9: 0 | AT9: 0 | AU9: 0 | AV9: 0 | AW9: 3419826.5 | AX9: 73981.277 | AY9: 6600 | AZ9: 67381.277 | BA9: 0 | BB9: 0 | BC9: 0 | BD9: 3493807.8
A10: 3 | B10: BOŚ LEASING S.A | C10: 23684.818 | D10: 8419.6524 | G10: 1010.037 | H10: 1010.037 | N10: 5161.6741 | Q10: 1525.8943 | R10: 1639.577 | U10: 5927.9829 | X10: 65091.178 | Y10: 9442.0745 | Z10: 2014.3 | AA10: 185.60182 | AB10: 3041.89 | AC10: 2095.1172 | AD10: 4640.7998 | AE10: 351.85185 | AG10: 1780 | AJ10: 530.21289 | AM10: 41009.33 | AN10: 3029.38 | AO10: 3029.38 | AR10: 11663.984 | AT10: 83.98374 | AU10: 11580 | AV10: 1452 | AW10: 104921.36 | AX10: 0 | BD10: 104921.36
A11: 4 | B11: BPCE Equipment Solutions Polska Sp. z o.o. | C11: 217310.37 | D11: 4777.2586 | G11: 69068.294 | H11: 5415.4799 | K11: 63652.814 | N11: 78461.871 | Q11: 51141.547 | R11: 8282.9269 | U11: 5578.4731 | X11: 222604.52 | Y11: 148824.55 | Z11: 18525.454 | AA11: 10480.845 | AB11: 6785.7689 | AC11: 10777.161 | AD11: 94.1454 | AE11: 120.02 | AG11: 3884.7336 | AJ11: 4977.7472 | AM11: 18134.096 | AN11: 19597.068 | AO11: 19597.068 | AR11: 40604.836 | AS11: 40604.836 | AW11: 500116.8 | AX11: 0 | BD11: 500116.8
A12: 5 | B12: BPS Leasing S.A. | C12: 308559.95 | D12: 90795.82 | E12: 4079.3703 | G12: 51403.438 | H12: 21983.296 | I12: 73.98374 | K12: 29420.142 | L12: 333.7 | N12: 75015.274 | Q12: 40142.328 | R12: 37039.392 | U12: 14163.698 | X12: 62195.843 | Y12: 23079.716 | Z12: 5441.2253 | AA12: 410.4 | AB12: 7740.5525 | AC12: 2229.0811 | AD12: 1916.2957 | AE12: 1030.6848 | AG12: 7420.7608 | AJ12: 495.83334 | AM12: 12431.293 | AN12: 455.10533 | AO12: 455.10533 | AR12: 14759.203 | AS12: 4403.6181 | AT12: 355.58536 | AU12: 10000 | AV12: 1598.4992 | AW12: 387568.6 | AX12: 96903.929 | BC12: 96903.929 | BD12: 484472.53
A13: 6 | B13: Caterpillar Financial Services Poland Sp. z o. o. | C13: 0 | G13: 0 | X13: 376809.81 | Y13: 376809.81 | AN13: 0 | AR13: 0 | AW13: 376809.81 | AX13: 0 | BD13: 376809.81
A14: 7 | B14: DE LAGE Landen Leasing Polska S.A. | C14: 17755.616 | G14: 0 | N14: 15132.683 | Q14: 2622.9328 | X14: 69109.312 | Y14: 23415.406 | Z14: 36700.132 | AE14: 1288.9676 | AG14: 4259.6203 | AJ14: 0 | AM14: 3445.1868 | AN14: 21943.943 | AO14: 21943.943 | AP14: 0 | AQ14: 0 | AR14: 0 | AW14: 108808.87 | AX14: 0 | BD14: 108808.87
A15: 8 | B15: Deutsche Leasing Polska S.A. | C15: 108535 | D15: 2467 | G15: 18379 | H15: 125 | K15: 18254 | N15: 16361 | Q15: 65860 | U15: 5468 | X15: 741747 | Y15: 11592 | Z15: 15683 | AB15: 962 | AC15: 61871 | AD15: 803 | AE15: 2767 | AG15: 181883 | AM15: 466186 | AN15: 0 | AR15: 0 | AW15: 850282 | AX15: 0 | BD15: 850282
A16: 9 | B16: Europejski Fundusz Leasingowy S.A. | C16: 6671059 | D16: 2820723 | E16: 72845.8 | F16: 54156.139 | G16: 1609449.2 | H16: 802263.6 | I16: 34014.987 | J16: 327.5 | K16: 807185.64 | L16: 1453.1764 | N16: 1388719.1 | Q16: 619686.5 | R16: 164043.67 | U16: 68437.61 | V16: 139.34959 | X16: 2263575.9 | Y16: 873173.18 | Z16: 322614.85 | AA16: 26726.786 | AB16: 35797.707 | AC16: 126126.19 | AD16: 35600.182 | AE16: 27047.903 | AF16: 109999.89 | AG16: 63670.241 | AH16: 3007.0365 | AI16: 1831.7544 | AJ16: 40081.449 | AL16: 1801.8778 | AM16: 596096.81 | AN16: 118756.15 | AO16: 69965.28 | AP16: 24197.271 | AQ16: 24593.596 | AR16: 17048.249 | AS16: 5419.4131 | AT16: 11628.836 | AW16: 9070439.3 | AX16: 0 | BD16: 9070439.3
A17: 10 | B17: Impuls-Leasing Polska Sp. z o. o. | C17: 953952.65 | D17: 481275.4 | E17: 17224.55 | F17: 21108.18 | G17: 159915.5 | H17: 101803.86 | I17: 784.67 | J17: 526.84 | K17: 58111.64 | N17: 194732.79 | Q17: 85870.16 | R17: 9053.81 | U17: 23104.99 | V17: 301.39 | X17: 258613.99 | Y17: 64635.62 | Z17: 22087.94 | AA17: 5738.47 | AB17: 2010.75 | AC17: 26710.68 | AE17: 5029.93 | AF17: 19825.12 | AG17: 21346.58 | AJ17: 216.86 | AM17: 91012.04 | AN17: 5077.86 | AO17: 5077.86 | AR17: 680.69 | AT17: 680.69 | AW17: 1218325.2 | AX17: 0 | BD17: 1218325.2
A18: 11 | B18: ING Lease (Polska) Sp. z o. o. | C18: 3903776 | D18: 1739923 | E18: 43872 | F18: 71534 | G18: 774780 | H18: 452856 | I18: 3054 | J18: 200 | K18: 321924 | L18: 1564 | M18: 0 | N18: 659460 | O18: 0 | P18: 0 | Q18: 471042 | R18: 162760 | S18: 7208 | T18: 0 | U18: 95811 | V18: 931 | W18: 0 | X18: 1825977 | Y18: 238825 | Z18: 50586 | AA18: 108875 | AB18: 126952 | AC18: 318499 | AD18: 145277 | AE18: 52335 | AF18: 69926 | AG18: 152177 | AH18: 1433 | AI18: 761 | AJ18: 22618 | AK18: 0 | AL18: 3260 | AM18: 534453 | AN18: 36811 | AO18: 36811 | AP18: 0 | AQ18: 0 | AR18: 220615 | AS18: 50895 | AT18: 2798 | AU18: 166922 | AV18: 189225 | AW18: 6176404 | AX18: 10100 | AY18: 0 | AZ18: 0 | BA18: 9650 | BB18: 0 | BC18: 450 | BD18: 6186504
A19: 12 | B19: Leasing Polski Sp. z o. o. | C19: 160121.04 | D19: 33539.132 | F19: 5557.8341 | G19: 38513.91 | H19: 18134.242 | K19: 20379.667 | N19: 36789.298 | Q19: 26883.646 | R19: 8988.9992 | U19: 15406.059 | V19: 21920.151 | W19: 5000.7504 | X19: 29396.952 | Y19: 21920.151 | Z19: 5000.7504 | AG19: 946.25 | AM19: 1529.8 | AN19: 0 | AR19: 143.17074 | AT19: 143.17074 | AW19: 189661.17 | AX19: 592.256 | BB19: 592.256 | BD19: 190253.42
A20: 13 | B20: Mercedes-Benz Leasing Polska Sp. z o.o. | C20: 3556436.8 | D20: 3160202 | E20: 410115.16 | F20: 287935.14 | G20: 318191.58 | H20: 308395.17 | I20: 24140.655 | K20: 9796.4091 | L20: 1127.1721 | N20: 43026.769 | Q20: 2562.4195 | R20: 27300.151 | U20: 5153.8968 | X20: 0 | AN20: 0 | AR20: 0 | AW20: 3556436.8 | AX20: 0 | BD20: 3556436.8
A21: 14 | B21: Millennium Leasing Sp. z o. o. | C21: 2500928.5 | D21: 1061661.5 | E21: 39591.035 | F21: 2273.3933 | G21: 481859.07 | H21: 247380.4 | I21: 14321.205 | J21: 0 | K21: 234478.67 | L21: 2109.25 | M21: 411.061 | N21: 548475.84 | O21: 1028.1 | P21: 799.11263 | Q21: 209635.28 | R21: 124507.69 | S21: 800 | T21: 0 | U21: 74789.105 | V21: 603.16423 | W21: 0 | X21: 1168429.2 | Y21: 246474.54 | Z21: 29716.923 | AA21: 49484.372 | AB21: 211705.42 | AC21: 0 | AD21: 135438.93 | AE21: 27436.242 | AF21: 7411.7358 | AG21: 84136.895 | AH21: 0 | AI21: 540.5793 | AJ21: 41879.723 | AK21: 0 | AL21: 124.2 | AM21: 334079.59 | AN21: 46731.902 | AO21: 46613.702 | AP21: 118.2 | AQ21: 0 | AR21: 128830.07 | AS21: 0 | AT21: 7623.8059 | AU21: 121206.27 | AV21: 0 | AW21: 3844919.7 | AX21: 15980.719 | AY21: 0 | AZ21: 0 | BA21: 14382.688 | BB21: 0 | BC21: 1598.0309 | BD21: 3860900.4
A22: 15 | B22: mLeasing Sp. z o. o. | C22: 4883495.4 | D22: 3928231.2 | E22: 203472.52 | F22: 604463.27 | G22: 439957.65 | H22: 247154.47 | I22: 2429.2516 | J22: 2261.3255 | K22: 192803.18 | L22: 0 | M22: 0 | N22: 245142.72 | O22: 0 | P22: 0 | Q22: 136230.83 | R22: 101785.01 | S22: 536 | T22: 13090 | U22: 32148.016 | V22: 11669.689 | W22: 0 | X22: 1243266.3 | Y22: 281185.92 | Z22: 105365.6 | AA22: 33278.542 | AB22: 67816.293 | AC22: 144331.75 | AD22: 47458.292 | AE22: 59334.613 | AF22: 15605.772 | AG22: 101655.53 | AH22: 5567.8567 | AI22: 317.29895 | AJ22: 16048.701 | AK22: 0 | AL22: 441.92 | AM22: 364858.22 | AN22: 121644.17 | AO22: 116939.98 | AP22: 3100.45 | AQ22: 1603.74 | AR22: 348031.06 | AS22: 192543.55 | AT22: 115087.28 | AU22: 40400.239 | AV22: 98325.339 | AW22: 6694762.3 | AX22: 180613.97 | AY22: 0 | AZ22: 180613.97 | BA22: 0 | BB22: 0 | BC22: 0 | BD22: 6875376.2
A23: 16 | B23: NEST LEASING S.A | C23: 641654.32 | D23: 187004.81 | G23: 117435.66 | H23: 44524.005 | K23: 72911.65 | N23: 173480.81 | Q23: 83460.881 | R23: 57139.84 | U23: 23132.317 | X23: 249776.33 | Y23: 134611.03 | Z23: 49261.418 | AA23: 4288.2808 | AB23: 177 | AC23: 4262.7519 | AD23: 3500.7825 | AE23: 9723.8828 | AF23: 763.13359 | AG23: 4712.3565 | AH23: 0 | AI23: 0 | AJ23: 274.17374 | AK23: 0 | AL23: 0 | AM23: 38201.518 | AN23: 43.13902 | AO23: 43.13902 | AP23: 0 | AQ23: 0 | AR23: 2742.2915 | AS23: 0 | AT23: 2742.2915 | AU23: 0 | AV23: 0 | AW23: 894216.08 | AX23: 0 | BD23: 894216.08
A24: 17 | B24: PEAC (Poland) Sp. z o. o. | C24: 21729.5 | D24: 2959.1 | G24: 2260.8 | H24: 1205.2 | K24: 1055.6 | N24: 1324.2 | Q24: 10730.3 | R24: 2485.9 | U24: 1969.2 | X24: 86849.3 | Y24: 5028.2 | Z24: 11440.2 | AA24: 1322.7 | AB24: 769.9 | AC24: 3757.1 | AD24: 965.1 | AE24: 7197.3 | AF24: 418.9 | AG24: 1287 | AH24: 1922.9 | AJ24: 66.7 | AM24: 52673.3 | AN24: 4330.2 | AO24: 4330.2 | AR24: 0 | AW24: 112909 | AX24: 0 | BD24: 112909
A25: 18 | B25: PEKAO Leasing Sp. z o. o. | C25: 4337688.7 | D25: 2132631.3 | E25: 35322.045 | F25: 63886.658 | G25: 669116.66 | H25: 311055.16 | I25: 3918.3267 | J25: 2034.2226 | K25: 358061.5 | L25: 871.9 | M25: 0 | N25: 823882.69 | O25: 0 | P25: 0 | Q25: 322527.65 | R25: 275143.07 | S25: 0 | T25: 0 | U25: 114387.29 | V25: 351.99698 | W25: 0 | X25: 1824669.6 | Y25: 308249.62 | Z25: 66629.538 | AA25: 38426.91 | AB25: 119754.78 | AC25: 278709.32 | AD25: 76130.679 | AE25: 23130.719 | AF25: 14705.558 | AG25: 83214.461 | AH25: 458.8029 | AI25: 1135.745 | AJ25: 30143.014 | AK25: 0 | AL25: 0 | AM25: 783980.41 | AN25: 109940.4 | AO25: 73108.284 | AP25: 1858.6273 | AQ25: 34973.486 | AR25: 157689.96 | AS25: 35070.217 | AT25: 119619.74 | AU25: 3000 | AV25: 71728.833 | AW25: 6501717.4 | AX25: 250387.11 | AY25: 0 | AZ25: 94812.297 | BA25: 122500.46 | BB25: 0 | BC25: 33074.353 | BD25: 6752104.5
A26: 19 | B26: PKO Leasing S.A. | C26: 10762725 | D26: 6892500 | E26: 413855.8 | F26: 187328.06 | G26: 1694319.1 | H26: 1063538.7 | I26: 14878.847 | J26: 4377.0702 | K26: 630780.32 | L26: 1670.248 | N26: 1132925.2 | O26: 2196.9956 | Q26: 677957.65 | R26: 269924.83 | S26: 2658.263 | U26: 95097.929 | V26: 926.20708 | X26: 2466680.4 | Y26: 575059.91 | Z26: 174556.65 | AA26: 73233.872 | AB26: 85334.867 | AC26: 251534.8 | AD26: 139052.5 | AE26: 76279.006 | AF26: 14930.935 | AG26: 141587.79 | AH26: 242.52032 | AI26: 629.10804 | AJ26: 11465.938 | AK26: 62.5 | AL26: 1380.0917 | AM26: 921329.95 | AN26: 115335.81 | AO26: 80501.681 | AP26: 497.27883 | AQ26: 34336.854 | AR26: 464800.93 | AS26: 100870.55 | AT26: 58590.429 | AU26: 305339.95 | AW26: 13809542 | AX26: 0 | BD26: 13809542
A27: 20 | B27: Santander Consumer Multirent Sp. z o.o. | C27: 1998250.9 | D27: 1736317 | G27: 214865.39 | H27: 214865.39 | U27: 47068.519 | X27: 0 | AN27: 0 | AR27: 0 | AW27: 1998250.9 | AX27: 0 | BD27: 1998250.9
A28: 21 | B28: Santander Leasing S.A. | C28: 4374728.4 | D28: 2823903.2 | E28: 86595.088 | F28: 22768.266 | G28: 792495.26 | H28: 560748.22 | I28: 6854.6406 | J28: 4720.3356 | K28: 231747.04 | L28: 570.853 | M28: 0 | N28: 443005.75 | O28: 0 | P28: 0 | Q28: 215062.83 | R28: 72406.576 | S28: 19746.368 | T28: 0 | U28: 27854.785 | V28: 115.439 | W28: 0 | X28: 1405861.7 | Y28: 208178.76 | Z28: 113786.07 | AA28: 71564.779 | AB28: 63203.024 | AC28: 82245.147 | AD28: 56952.486 | AE28: 53882.426 | AF28: 31185.554 | AG28: 112365.89 | AH28: 1945.3382 | AI28: 442.4705 | AJ28: 19193.807 | AK28: 0 | AL28: 3618.1864 | AM28: 587297.8 | AN28: 27263.174 | AO28: 27263.174 | AP28: 0 | AQ28: 0 | AR28: 27794.413 | AS28: 17069.261 | AT28: 5506.8424 | AU28: 5218.3101 | AV28: 0 | AW28: 5835647.8 | AX28: 0 | AY28: 0 | AZ28: 0 | BA28: 0 | BB28: 0 | BC28: 0 | BD28: 5835647.8
A29: 22 | B29: Scania Finance Polska Sp. z o. o. | C29: 887047 | D29: 1126 | G29: 123855 | H29: 4254 | K29: 119601 | N29: 662437 | Q29: 67597 | R29: 31591 | U29: 441 | X29: 0 | AN29: 0 | AR29: 0 | AW29: 887047 | AX29: 0 | BD29: 887047
A30: 23 | B30: SGB Leasing Sp. z o. o. | C30: 73303 | D30: 36344 | E30: 128 | F30: 8505 | G30: 11584 | H30: 7632 | K30: 3952 | N30: 11181 | Q30: 3960 | R30: 5024 | U30: 5210 | X30: 54810 | Y30: 14378 | Z30: 4554 | AA30: 200 | AB30: 5267 | AC30: 661 | AD30: 1970 | AE30: 242 | AF30: 182 | AG30: 742 | AJ30: 1182 | AM30: 25432 | AN30: 60 | AO30: 60 | AR30: 9040 | AU30: 9040 | AW30: 137213 | AX30: 0 | BD30: 137213
A31: 24 | B31: Siemens Finance Sp. z o. o. | C31: 20737 | D31: 2928 | E31: 341 | F31: 285 | G31: 4031 | K31: 4031 | N31: 9288 | Q31: 4490 | X31: 611312 | Y31: 63592 | Z31: 24185 | AA31: 24309 | AB31: 10668 | AC31: 52331 | AD31: 3100 | AE31: 334366 | AF31: 29 | AG31: 12889 | AJ31: 192 | AL31: 858 | AM31: 84793 | AN31: 151593 | AO31: 139008 | AQ31: 12585 | AR31: 0 | AW31: 783642 | AX31: 0 | BD31: 783642
A32: 25 | B32: VEHIS FINANSE Sp. z o.o. | C32: 2097793.7 | D32: 1812335 | E32: 67524.93 | F32: 163921.13 | G32: 285458.67 | H32: 285458.67 | I32: 2673.29 | J32: 1150.6 | X32: 0 | AN32: 0 | AR32: 0 | AW32: 2097793.7 | AX32: 0 | BD32: 2097793.7
A33: 26 | B33: VELOLEASING S.A | C33: 326244 | D33: 294618 | G33: 4264 | K33: 4264 | N33: 8101 | Q33: 4982 | U33: 14279 | X33: 0 | AN33: 0 | AR33: 0 | AW33: 326244 | AX33: 0 | BD33: 326244
A34: 27 | B34: Razem | C34: 54012018 | D34: 32223401 | E34: 1469635.5 | F34: 1525722.8 | G34: 8906490.4 | H34: 5263160.2 | I34: 110496.49 | J34: 15597.894 | K34: 3643330.2 | L34: 16932.084 | M34: 411.061 | N34: 7192361.3 | O34: 3225.0956 | P34: 799.11263 | Q34: 3401680.4 | R34: 1532754.2 | S34: 30948.631 | T34: 13090 | U34: 755330.24 | V34: 37269.333 | W34: 5000.7504 | X34: 16488544 | Y34: 4072310.5 | Z34: 1247819.7 | AA34: 469026.7 | AB34: 813809.41 | AC34: 1432795.5 | AD34: 721036.59 | AE34: 739442.84 | AF34: 286758.77 | AG34: 1084226.3 | AH34: 14954.075 | AI34: 5763.7367 | AJ34: 201274.3 | AK34: 62.5 | AL34: 11484.276 | AM34: 5387779.2 | AN34: 889268.36 | AO34: 722300.21 | AP34: 52633.805 | AQ34: 114334.34 | AR34: 1495577.1 | AS34: 448009.64 | AT34: 341960.06 | AU34: 705607.44 | AV34: 362329.67 | AW34: 73247737 | AX34: 628559.26 | AY34: 6600 | AZ34: 342807.55 | BA34: 146533.15 | BB34: 592.256 | BC34: 132026.31 | BD34: 73876297
B36: Ilość środków oddanych w leasing w | C36: I - IV kwartał 2025
A38: Lp. | B38: Spółka | C38: POJAZDY | D38: Osobowe | E38: osobowe - zeroemisyjne | F38: osobowe - hybryda plug-in | G38: Cięzarowe: | H38: o masie do 3,5 tony | I38: o masie do 3,5 tony - zeroemisyjne | J38: o masie do 3,5 tony - hybryda plug-in | K38: o masie powyzej 3,5 tony | L38: o masie powyżej 3,5 tony - zeroemisyjne | M38: o masie powyżej 3,5 tony - hybryda plug-in | N38: ciagniki siodlowe | O38: ciągniki siodłowe - zeroemisyjne | P38: ciągniki siodłowe - hybryda plug-in | Q38: naczepy / przyczepy | R38: autobusy | S38: autobusy - zeroemisyjne | T38: autobusy - hybryda plug-in | U38: inne | V38: inne - zeroemisyjne | W38: inne - hybryda plug-in | X38: MiU | Y38: Sprzęt Budowlany | Z38: Maszyny Rolnicze | AA38: Maszyny Poligraf. | AB38: maszyny do produkcji tworzyw sztucznych | AC38: maszyny i urządzenia do obróbki metali | AD38: maszyny dla przemysłu spożywczego | AE38: Sprzęt Medyczny | AF38: Sprzęt Gastronom. | AG38: Wózki Widłowe | AH38: Magazyny energii | AI38: Pompy ciepła | AJ38: fotowoltaika | AK38: wiatraki i turbiny wiatrowe | AL38: stacje ładowania pojazdów elektrycznych (na użytek własny i komercyjny) | AM38: inne MiU | AN38: IT | AO38: Sprzęt | AP38: Oprogram. | AQ38: inne IT | AR38: POZOSTAŁE ŚRODKI TRANSPORTU | AS38: Powietrzne | AT38: Wodne | AU38: Kolejowe | AV38: Inne ruchomości | AW38: RUCHOMOŚCI | AX38: Nieruchomości | AY38: budynki przemysłowe | AZ38: obiekty handlowe i usługowe | BA38: obiekty biurowe | BB38: hotele i obiekty rekreacyjne | BC38: inne | BD38: OGÓŁEM
A39: 1 | B39: Alior Leasing Sp. z o. o. | C39: 19553 | D39: 9259 | G39: 4331 | H39: 3466 | K39: 865 | N39: 2984 | Q39: 2280 | R39: 413 | U39: 286 | X39: 4745 | Y39: 1567 | Z39: 401 | AA39: 103 | AB39: 48 | AC39: 342 | AD39: 261 | AE39: 601 | AF39: 18 | AG39: 21 | AH39: 4 | AI39: 2 | AJ39: 56 | AM39: 1321 | AN39: 64 | AO39: 64 | AR39: 130 | AS39: 5 | AT39: 70 | AU39: 55 | AW39: 24492 | AX39: 0 | BD39: 24492
A40: 2 | B40: BNP Paribas Lease Group Sp. z o. o. | C40: 17712 | D40: 14409 | E40: 562 | F40: 241 | G40: 2524 | H40: 1672 | I40: 20 | J40: 0 | K40: 852 | L40: 18 | M40: 0 | N40: 316 | O40: 0 | P40: 0 | Q40: 172 | R40: 5 | S40: 0 | T40: 0 | U40: 286 | V40: 5 | W40: 0 | X40: 3243 | Y40: 764 | Z40: 286 | AA40: 22 | AB40: 34 | AC40: 60 | AD40: 26 | AE40: 358 | AF40: 15 | AG40: 940 | AH40: 1 | AI40: 0 | AJ40: 24 | AK40: 0 | AL40: 0 | AM40: 713 | AN40: 478 | AO40: 350 | AP40: 121 | AQ40: 7 | AR40: 0 | AS40: 0 | AT40: 0 | AU40: 0 | AV40: 0 | AW40: 21433 | AX40: 5 | AY40: 1 | AZ40: 4 | BA40: 0 | BB40: 0 | BC40: 0 | BD40: 21438
A41: 3 | B41: BOŚ LEASING S.A | C41: 107 | D41: 57 | G41: 7 | H41: 7 | N41: 16 | Q41: 10 | R41: 5 | U41: 12 | X41: 123 | Y41: 17 | Z41: 16 | AA41: 2 | AB41: 3 | AC41: 6 | AD41: 7 | AE41: 4 | AG41: 8 | AJ41: 5 | AM41: 55 | AN41: 2 | AO41: 2 | AR41: 88 | AT41: 1 | AU41: 87 | AV41: 12 | AW41: 332 | AX41: 0 | BD41: 332
A42: 4 | B42: BPCE Equipment Solutions Polska Sp. z o.o. | C42: 724 | D42: 30 | G42: 156 | H42: 39 | K42: 117 | N42: 212 | Q42: 309 | R42: 9 | U42: 8 | X42: 689 | Y42: 515 | Z42: 49 | AA42: 5 | AB42: 5 | AC42: 7 | AD42: 2 | AE42: 2 | AG42: 35 | AJ42: 4 | AM42: 65 | AN42: 37 | AO42: 37 | AR42: 23 | AS42: 23 | AW42: 1473 | AX42: 0 | BD42: 1473
A43: 5 | B43: BPS Leasing S.A. | C43: 1536 | D43: 654 | E43: 19 | G43: 257 | H43: 182 | I43: 1 | K43: 75 | L43: 1 | N43: 252 | Q43: 268 | R43: 61 | U43: 44 | X43: 216 | Y43: 75 | Z43: 21 | AA43: 1 | AB43: 3 | AC43: 5 | AD43: 9 | AE43: 6 | AG43: 32 | AJ43: 2 | AM43: 62 | AN43: 5 | AO43: 5 | AR43: 9 | AS43: 5 | AT43: 3 | AU43: 1 | AV43: 9 | AW43: 1775 | AX43: 2 | BC43: 2 | BD43: 1777
A44: 6 | B44: Caterpillar Financial Services Poland Sp. z o. o. | C44: 0 | G44: 0 | X44: 682 | Y44: 682 | AN44: 0 | AR44: 0 | AW44: 682 | AX44: 0 | BD44: 682
A45: 7 | B45: DE LAGE Landen Leasing Polska S.A. | C45: 67 | G45: 0 | N45: 42 | Q45: 25 | X45: 227 | Y45: 112 | Z45: 69 | AE45: 20 | AG45: 16 | AJ45: 0 | AM45: 10 | AN45: 152 | AO45: 152 | AP45: 0 | AQ45: 0 | AR45: 0 | AW45: 446 | AX45: 0 | BD45: 446
A46: 8 | B46: Deutsche Leasing Polska S.A. | C46: 474 | D46: 11 | G46: 25 | H46: 2 | K46: 23 | N46: 44 | Q46: 366 | U46: 28 | X46: 2160 | Y46: 9 | Z46: 22 | AB46: 7 | AC46: 41 | AD46: 275 | AE46: 2 | AG46: 1587 | AM46: 217 | AN46: 0 | AR46: 0 | AW46: 2634 | AX46: 0 | BD46: 2634
...

Sheet pożyczki&leasing I-IV kw 2025
C2: Związek Polskiego Leasingu, Warszawa 01-07-2026
C5: Wartość środków oddanych w pożyczki i leasing w | E5: I - IV kwartał 2025
B7: Lp. | C7: Spółka | D7: POJAZDY | E7: Osobowe | F7: osobowe - zeroemisyjne | G7: osobowe - hybryda plug-in | H7: Cięzarowe: | I7: o masie do 3,5 tony | J7: o masie do 3,5 tony - zeroemisyjne | K7: o masie do 3,5 tony - hybryda plug-in | L7: o masie powyzej 3,5 tony | M7: o masie powyżej 3,5 tony - zeroemisyjne | N7: o masie powyżej 3,5 tony - hybryda plug-in | O7: ciagniki siodlowe | P7: ciągniki siodłowe - zeroemisyjne | Q7: ciągniki siodłowe - hybryda plug-in | R7: naczepy / przyczepy | S7: autobusy | T7: autobusy - zeroemisyjne | U7: autobusy - hybryda plug-in | V7: inne | W7: inne - zeroemisyjne | X7: inne - hybryda plug-in | Y7: MiU | Z7: Sprzęt Budowlany | AA7: Maszyny Rolnicze | AB7: Maszyny Poligraf. | AC7: maszyny do produkcji tworzyw sztucznych | AD7: maszyny i urządzenia do obróbki metali | AE7: maszyny dla przemysłu spożywczego | AF7: Sprzęt Medyczny | AG7: Sprzęt Gastronom. | AH7: Wózki Widłowe | AI7: Magazyny energii | AJ7: Pompy ciepła | AK7: fotowoltaika | AL7: wiatraki i turbiny wiatrowe | AM7: stacje ładowania pojazdów elektrycznych (na użytek własny i komercyjny) | AN7: inne MiU | AO7: IT | AP7: Sprzęt | AQ7: Oprogram. | AR7: inne IT | AS7: POZOSTAŁE ŚRODKI TRANSPORTU | AT7: Powietrzne | AU7: Wodne | AV7: Kolejowe | AW7: Inne ruchomości | AX7: RUCHOMOŚCI | AY7: Nieruchomości | AZ7: budynki przemysłowe | BA7: obiekty handlowe i usługowe | BB7: obiekty biurowe | BC7: hotele i obiekty rekreacyjne | BD7: inne | BE7: OGÓŁEM
B8: 1 | C8: Alior Leasing Sp. z o. o. | D8: ='pozyczki I-IV kw 2025'!C7+'leasing I-IV kw 2025'!C8 -> 3000293.5 | E8: ='pozyczki I-IV kw 2025'!D7+'leasing I-IV kw 2025'!D8 -> 1372978.7 | F8: ='pozyczki I-IV kw 2025'!E7+'leasing I-IV kw 2025'!E8 -> 0 | G8: ='pozyczki I-IV kw 2025'!F7+'leasing I-IV kw 2025'!F8 -> 0 | H8: ='pozyczki I-IV kw 2025'!G7+'leasing I-IV kw 2025'!G8 -> 545680.26 | I8: ='pozyczki I-IV kw 2025'!H7+'leasing I-IV kw 2025'!H8 -> 331381.66 | J8: ='pozyczki I-IV kw 2025'!I7+'leasing I-IV kw 2025'!I8 -> 0 | K8: ='pozyczki I-IV kw 2025'!J7+'leasing I-IV kw 2025'!J8 -> 0 | ... BE8: ='pozyczki I-IV kw 2025'!BD7+'leasing I-IV kw 2025'!BD8 -> 3773814.6
B9: 2 | C9: BNP Paribas Lease Group Sp. z o. o. | D9: ='pozyczki I-IV kw 2025'!C8+'leasing I-IV kw 2025'!C9 -> 2594308.2 | E9: ='pozyczki I-IV kw 2025'!D8+'leasing I-IV kw 2025'!D9 -> 1762602.9 | F9: ='pozyczki I-IV kw 2025'!E8+'leasing I-IV kw 2025'!E9 -> 75022.551 | G9: ='pozyczki I-IV kw 2025'!F8+'leasing I-IV kw 2025'!F9 -> 32000.679 | H9: ='pozyczki I-IV kw 2025'!G8+'leasing I-IV kw 2025'!G9 -> 615909.41 | I9: ='pozyczki I-IV kw 2025'!H8+'leasing I-IV kw 2025'!H9 -> 294207.82 | J9: ='pozyczki I-IV kw 2025'!I8+'leasing I-IV kw 2025'!I9 -> 3352.6321 | K9: ='pozyczki I-IV kw 2025'!J8+'leasing I-IV kw 2025'!J9 -> 0 | ... BE9: ='pozyczki I-IV kw 2025'!BD8+'leasing I-IV kw 2025'!BD9 -> 5610665.2
B10: 3 | C10: BOŚ LEASING S.A | D10: ='pozyczki I-IV kw 2025'!C9+'leasing I-IV kw 2025'!C10 -> 27014.782 | E10: ='pozyczki I-IV kw 2025'!D9+'leasing I-IV kw 2025'!D10 -> 11203.363 | F10: ='pozyczki I-IV kw 2025'!E9+'leasing I-IV kw 2025'!E10 -> 0 | G10: ='pozyczki I-IV kw 2025'!F9+'leasing I-IV kw 2025'!F10 -> 0 | H10: ='pozyczki I-IV kw 2025'!G9+'leasing I-IV kw 2025'!G10 -> 1357.1282 | I10: ='pozyczki I-IV kw 2025'!H9+'leasing I-IV kw 2025'!H10 -> 1357.1282 | J10: ='pozyczki I-IV kw 2025'!I9+'leasing I-IV kw 2025'!I10 -> 0 | K10: ='pozyczki I-IV kw 2025'!J9+'leasing I-IV kw 2025'!J10 -> 0 | ... BE10: ='pozyczki I-IV kw 2025'!BD9+'leasing I-IV kw 2025'!BD10 -> 115282.96
B11: 4 | C11: BPCE Equipment Solutions Polska Sp. z o.o. | D11: ='pozyczki I-IV kw 2025'!C10+'leasing I-IV kw 2025'!C11 -> 236816.09 | E11: ='pozyczki I-IV kw 2025'!D10+'leasing I-IV kw 2025'!D11 -> 4996.6976 | F11: ='pozyczki I-IV kw 2025'!E10+'leasing I-IV kw 2025'!E11 -> 0 | G11: ='pozyczki I-IV kw 2025'!F10+'leasing I-IV kw 2025'!F11 -> 0 | H11: ='pozyczki I-IV kw 2025'!G10+'leasing I-IV kw 2025'!G11 -> 69068.294 | I11: ='pozyczki I-IV kw 2025'!H10+'leasing I-IV kw 2025'!H11 -> 5415.4799 | J11: ='pozyczki I-IV kw 2025'!I10+'leasing I-IV kw 2025'!I11 -> 0 | K11: ='pozyczki I-IV kw 2025'!J10+'leasing I-IV kw 2025'!J11 -> 0 | ... BE11: ='pozyczki I-IV kw 2025'!BD10+'leasing I-IV kw 2025'!BD11 -> 847923.97
B12: 5 | C12: BPS Leasing S.A. | D12: ='pozyczki I-IV kw 2025'!C11+'leasing I-IV kw 2025'!C12 -> 329113.39 | E12: ='pozyczki I-IV kw 2025'!D11+'leasing I-IV kw 2025'!D12 -> 96898.037 | F12: ='pozyczki I-IV kw 2025'!E11+'leasing I-IV kw 2025'!E12 -> 4291.3113 | G12: ='pozyczki I-IV kw 2025'!F11+'leasing I-IV kw 2025'!F12 -> 0 | H12: ='pozyczki I-IV kw 2025'!G11+'leasing I-IV kw 2025'!G12 -> 52909.547 | I12: ='pozyczki I-IV kw 2025'!H11+'leasing I-IV kw 2025'!H12 -> 22055.296 | J12: ='pozyczki I-IV kw 2025'!I11+'leasing I-IV kw 2025'!I12 -> 73.98374 | K12: ='pozyczki I-IV kw 2025'!J11+'leasing I-IV kw 2025'!J12 -> 0 | ... BE12: ='pozyczki I-IV kw 2025'!BD11+'leasing I-IV kw 2025'!BD12 -> 515941.31
B13: 6 | C13: Caterpillar Financial Services Poland Sp. z o. o. | D13: ='pozyczki I-IV kw 2025'!C12+'leasing I-IV kw 2025'!C13 -> 0 | E13: ='pozyczki I-IV kw 2025'!D12+'leasing I-IV kw 2025'!D13 -> 0 | F13: ='pozyczki I-IV kw 2025'!E12+'leasing I-IV kw 2025'!E13 -> 0 | G13: ='pozyczki I-IV kw 2025'!F12+'leasing I-IV kw 2025'!F13 -> 0 | H13: ='pozyczki I-IV kw 2025'!G12+'leasing I-IV kw 2025'!G13 -> 0 | I13: ='pozyczki I-IV kw 2025'!H12+'leasing I-IV kw 2025'!H13 -> 0 | J13: ='pozyczki I-IV kw 2025'!I12+'leasing I-IV kw 2025'!I13 -> 0 | K13: ='pozyczki I-IV kw 2025'!J12+'leasing I-IV kw 2025'!J13 -> 0 | ... BE13: ='pozyczki I-IV kw 2025'!BD12+'leasing I-IV kw 2025'!BD13 -> 487658.79
B14: 7 | C14: DE LAGE Landen Leasing Polska S.A. | D14: ='pozyczki I-IV kw 2025'!C13+'leasing I-IV kw 2025'!C14 -> 41735.506 | E14: ='pozyczki I-IV kw 2025'!D13+'leasing I-IV kw 2025'!D14 -> 375 | F14: ='pozyczki I-IV kw 2025'!E13+'leasing I-IV kw 2025'!E14 -> 0 | G14: ='pozyczki I-IV kw 2025'!F13+'leasing I-IV kw 2025'!F14 -> 0 | H14: ='pozyczki I-IV kw 2025'!G13+'leasing I-IV kw 2025'!G14 -> 0 | I14: ='pozyczki I-IV kw 2025'!H13+'leasing I-IV kw 2025'!H14 -> 0 | J14: ='pozyczki I-IV kw 2025'!I13+'leasing I-IV kw 2025'!I14 -> 0 | K14: ='pozyczki I-IV kw 2025'!J13+'leasing I-IV kw 2025'!J14 -> 0 | ... BE14: ='pozyczki I-IV kw 2025'!BD13+'leasing I-IV kw 2025'!BD14 -> 1358353.3
B15: 8 | C15: Deutsche Leasing Polska S.A. | D15: ='pozyczki I-IV kw 2025'!C14+'leasing I-IV kw 2025'!C15 -> 140647 | E15: ='pozyczki I-IV kw 2025'!D14+'leasing I-IV kw 2025'!D15 -> 2525 | F15: ='pozyczki I-IV kw 2025'!E14+'leasing I-IV kw 2025'!E15 -> 0 | G15: ='pozyczki I-IV kw 2025'!F14+'leasing I-IV kw 2025'!F15 -> 0 | H15: ='pozyczki I-IV kw 2025'!G14+'leasing I-IV kw 2025'!G15 -> 18617 | I15: ='pozyczki I-IV kw 2025'!H14+'leasing I-IV kw 2025'!H15 -> 363 | J15: ='pozyczki I-IV kw 2025'!I14+'leasing I-IV kw 2025'!I15 -> 0 | K15: ='pozyczki I-IV kw 2025'!J14+'leasing I-IV kw 2025'!J15 -> 0 | ... BE15: ='pozyczki I-IV kw 2025'!BD14+'leasing I-IV kw 2025'!BD15 -> 954215
B16: 9 | C16: Europejski Fundusz Leasingowy S.A. | D16: ='pozyczki I-IV kw 2025'!C15+'leasing I-IV kw 2025'!C16 -> 6939240.2 | E16: ='pozyczki I-IV kw 2025'!D15+'leasing I-IV kw 2025'!D16 -> 2935118.3 | F16: ='pozyczki I-IV kw 2025'!E15+'leasing I-IV kw 2025'!E16 -> 75998.034 | G16: ='pozyczki I-IV kw 2025'!F15+'leasing I-IV kw 2025'!F16 -> 54639.717 | H16: ='pozyczki I-IV kw 2025'!G15+'leasing I-IV kw 2025'!G16 -> 1655241 | I16: ='pozyczki I-IV kw 2025'!H15+'leasing I-IV kw 2025'!H16 -> 826589.31 | J16: ='pozyczki I-IV kw 2025'!I15+'leasing I-IV kw 2025'!I16 -> 34079.587 | K16: ='pozyczki I-IV kw 2025'!J15+'leasing I-IV kw 2025'!J16 -> 327.5 | ... BE16: ='pozyczki I-IV kw 2025'!BD15+'leasing I-IV kw 2025'!BD16 -> 10463617
B17: 10 | C17: Impuls-Leasing Polska Sp. z o. o. | D17: ='pozyczki I-IV kw 2025'!C16+'leasing I-IV kw 2025'!C17 -> 1129963.8 | E17: ='pozyczki I-IV kw 2025'!D16+'leasing I-IV kw 2025'!D17 -> 556981.3 | F17: ='pozyczki I-IV kw 2025'!E16+'leasing I-IV kw 2025'!E17 -> 21302.75 | G17: ='pozyczki I-IV kw 2025'!F16+'leasing I-IV kw 2025'!F17 -> 22485.65 | H17: ='pozyczki I-IV kw 2025'!G16+'leasing I-IV kw 2025'!G17 -> 172383.6 | I17: ='pozyczki I-IV kw 2025'!H16+'leasing I-IV kw 2025'!H17 -> 111733.01 | J17: ='pozyczki I-IV kw 2025'!I16+'leasing I-IV kw 2025'!I17 -> 953.5 | K17: ='pozyczki I-IV kw 2025'!J16+'leasing I-IV kw 2025'!J17 -> 733.05 | ... BE17: ='pozyczki I-IV kw 2025'!BD16+'leasing I-IV kw 2025'!BD17 -> 1456442
B18: 11 | C18: ING Lease (Polska) Sp. z o. o. | D18: ='pozyczki I-IV kw 2025'!C17+'leasing I-IV kw 2025'!C18 -> 3958438 | E18: ='pozyczki I-IV kw 2025'!D17+'leasing I-IV kw 2025'!D18 -> 1755704 | F18: ='pozyczki I-IV kw 2025'!E17+'leasing I-IV kw 2025'!E18 -> 43872 | G18: ='pozyczki I-IV kw 2025'!F17+'leasing I-IV kw 2025'!F18 -> 71534 | H18: ='pozyczki I-IV kw 2025'!G17+'leasing I-IV kw 2025'!G18 -> 774780 | I18: ='pozyczki I-IV kw 2025'!H17+'leasing I-IV kw 2025'!H18 -> 452856 | J18: ='pozyczki I-IV kw 2025'!I17+'leasing I-IV kw 2025'!I18 -> 3054 | K18: ='pozyczki I-IV kw 2025'!J17+'leasing I-IV kw 2025'!J18 -> 200 | ... BE18: ='pozyczki I-IV kw 2025'!BD17+'leasing I-IV kw 2025'!BD18 -> 6407095
B19: 12 | C19: Leasing Polski Sp. z o. o. | D19: ='pozyczki I-IV kw 2025'!C18+'leasing I-IV kw 2025'!C19 -> 160121.04 | E19: ='pozyczki I-IV kw 2025'!D18+'leasing I-IV kw 2025'!D19 -> 33539.132 | F19: ='pozyczki I-IV kw 2025'!E18+'leasing I-IV kw 2025'!E19 -> 0 | G19: ='pozyczki I-IV kw 2025'!F18+'leasing I-IV kw 2025'!F19 -> 5557.8341 | H19: ='pozyczki I-IV kw 2025'!G18+'leasing I-IV kw 2025'!G19 -> 38513.91 | I19: ='pozyczki I-IV kw 2025'!H18+'leasing I-IV kw 2025'!H19 -> 18134.242 | J19: ='pozyczki I-IV kw 2025'!I18+'leasing I-IV kw 2025'!I19 -> 0 | K19: ='pozyczki I-IV kw 2025'!J18+'leasing I-IV kw 2025'!J19 -> 0 | ... BE19: ='pozyczki I-IV kw 2025'!BD18+'leasing I-IV kw 2025'!BD19 -> 190253.42
... B34: 27 | C34: Razem | D34: ='pozyczki I-IV kw 2025'!C33+'leasing I-IV kw 2025'!C34 -> 59039344 | E34: ='pozyczki I-IV kw 2025'!D33+'leasing I-IV kw 2025'!D34 -> 35234124 | F34: ='pozyczki I-IV kw 2025'!E33+'leasing I-IV kw 2025'!E34 -> 1492249.2 | G34: ='pozyczki I-IV kw 2025'!F33+'leasing I-IV kw 2025'!F34 -> 1555797.6 | H34: ='pozyczki I-IV kw 2025'!G33+'leasing I-IV kw 2025'!G34 -> 9443498 | I34: ='pozyczki I-IV kw 2025'!H33+'leasing I-IV kw 2025'!H34 -> 5558839 | J34: ='pozyczki I-IV kw 2025'!I33+'leasing I-IV kw 2025'!I34 -> 113102.98 | K34: ='pozyczki I-IV kw 2025'!J33+'leasing I-IV kw 2025'!J34 -> 25360.3 | ... BE34: ='pozyczki I-IV kw 2025'!BD33+'leasing I-IV kw 2025'!BD34 -> 89266549
C36: Ilość środków oddanych w pożyczki i leasing w | E36: I - IV kwartał 2025
B39: Lp. | C39: Spółka | D39: POJAZDY | E39: Osobowe | F39: osobowe - zeroemisyjne | G39: osobowe - hybryda plug-in | H39: Cięzarowe: | I39: o masie do 3,5 tony | J39: o masie do 3,5 tony - zeroemisyjne | K39: o masie do 3,5 tony - hybryda plug-in | L39: o masie powyzej 3,5 tony | M39: o masie powyżej 3,5 tony - zeroemisyjne | N39: o masie powyżej 3,5 tony - hybryda plug-in | O39: ciagniki siodlowe | P39: ciągniki siodłowe - zeroemisyjne | Q39: ciągniki siodłowe - hybryda plug-in | R39: naczepy / przyczepy | S39: autobusy | T39: autobusy - zeroemisyjne | U39: autobusy - hybryda plug-in | V39: inne | W39: inne - zeroemisyjne | X39: inne - hybryda plug-in | Y39: MiU | Z39: Sprzęt Budowlany | AA39: Maszyny Rolnicze | AB39: Maszyny Poligraf. | AC39: maszyny do produkcji tworzyw sztucznych | AD39: maszyny i urządzenia do obróbki metali | AE39: maszyny dla przemysłu spożywczego | AF39: Sprzęt Medyczny | AG39: Sprzęt Gastronom. | AH39: Wózki Widłowe | AI39: Magazyny energii | AJ39: Pompy ciepła | AK39: fotowoltaika | AL39: wiatraki i turbiny wiatrowe | AM39: stacje ładowania pojazdów elektrycznych (na użytek własny i komercyjny) | AN39: inne MiU | AO39: IT | AP39: Sprzęt | AQ39: Oprogram. | AR39: inne IT | AS39: POZOSTAŁE ŚRODKI TRANSPORTU | AT39: Powietrzne | AU39: Wodne | AV39: Kolejowe | AW39: Inne ruchomości | AX39: RUCHOMOŚCI | AY39: Nieruchomości | AZ39: budynki przemysłowe | BA39: obiekty handlowe i usługowe | BB39: obiekty biurowe | BC39: hotele i obiekty rekreacyjne | BD39: inne | BE39: OGÓŁEM
B40: 1 | C40: Alior Leasing Sp. z o. o. | D40: ='pozyczki I-IV kw 2025'!C39+'leasing I-IV kw 2025'!C39 -> 21843 | E40: ='pozyczki I-IV kw 2025'!D39+'leasing I-IV kw 2025'!D39 -> 10593 | F40: ='pozyczki I-IV kw 2025'!E39+'leasing I-IV kw 2025'!E39 -> 0 | G40: ='pozyczki I-IV kw 2025'!F39+'leasing I-IV kw 2025'!F39 -> 0 | H40: ='pozyczki I-IV kw 2025'!G39+'leasing I-IV kw 2025'!G39 -> 4700 | I40: ='pozyczki I-IV kw 2025'!H39+'leasing I-IV kw 2025'!H39 -> 3766 | J40: ='pozyczki I-IV kw 2025'!I39+'leasing I-IV kw 2025'!I39 -> 0 | K40: ='pozyczki I-IV kw 2025'!J39+'leasing I-IV kw 2025'!J39 -> 0 | ... BE40: ='pozyczki I-IV kw 2025'!BD39+'leasing I-IV kw 2025'!BD39 -> 27554
B41: 2 | C41: BNP Paribas Lease Group Sp. z o. o. | D41: ='pozyczki I-IV kw 2025'!C40+'leasing I-IV kw 2025'!C40 -> 18361 | E41: ='pozyczki I-IV kw 2025'!D40+'leasing I-IV kw 2025'!D40 -> 14450 | F41: ='pozyczki I-IV kw 2025'!E40+'leasing I-IV kw 2025'!E40 -> 564 | G41: ='pozyczki I-IV kw 2025'!F40+'leasing I-IV kw 2025'!F40 -> 241 | H41: ='pozyczki I-IV kw 2025'!G40+'leasing I-IV kw 2025'!G40 -> 2953 | I41: ='pozyczki I-IV kw 2025'!H40+'leasing I-IV kw 2025'!H40 -> 1894 | J41: ='pozyczki I-IV kw 2025'!I40+'leasing I-IV kw 2025'!I40 -> 20 | K41: ='pozyczki I-IV kw 2025'!J40+'leasing I-IV kw 2025'!J40 -> 0 | ... BE41: ='pozyczki I-IV kw 2025'!BD40+'leasing I-IV kw 2025'!BD40 -> 29917
B42: 3 | C42: BOŚ LEASING S.A | D42: ='pozyczki I-IV kw 2025'!C41+'leasing I-IV kw 2025'!C41 -> 127 | E42: ='pozyczki I-IV kw 2025'!D41+'leasing I-IV kw 2025'!D41 -> 74 | F42: ='pozyczki I-IV kw 2025'!E41+'leasing I-IV kw 2025'!E41 -> 0 | G42: ='pozyczki I-IV kw 2025'!F41+'leasing I-IV kw 2025'!F41 -> 0 | H42: ='pozyczki I-IV kw 2025'!G41+'leasing I-IV kw 2025'!G41 -> 9 | I42: ='pozyczki I-IV kw 2025'!H41+'leasing I-IV kw 2025'!H41 -> 9 | J42: ='pozyczki I-IV kw 2025'!I41+'leasing I-IV kw 2025'!I41 -> 0 | K42: ='pozyczki I-IV kw 2025'!J41+'leasing I-IV kw 2025'!J41 -> 0 | ... BE42: ='pozyczki I-IV kw 2025'!BD41+'leasing I-IV kw 2025'!BD41 -> 360
B43: 4 | C43: BPCE Equipment Solutions Polska Sp. z o.o. | D43: ='pozyczki I-IV kw 2025'!C42+'leasing I-IV kw 2025'!C42 -> 795 | E43: ='pozyczki I-IV kw 2025'!D42+'leasing I-IV kw 2025'!D42 -> 31 | F43: ='pozyczki I-IV kw 2025'!E42+'leasing I-IV kw 2025'!E42 -> 0 | G43: ='pozyczki I-IV kw 2025'!F42+'leasing I-IV kw 2025'!F42 -> 0 | H43: ='pozyczki I-IV kw 2025'!G42+'leasing I-IV kw 2025'!G42 -> 156 | I43: ='pozyczki I-IV kw 2025'!H42+'leasing I-IV kw 2025'!H42 -> 39 | J43: ='pozyczki I-IV kw 2025'!I42+'leasing I-IV kw 2025'!I42 -> 0 | K43: ='pozyczki I-IV kw 2025'!J42+'leasing I-IV kw 2025'!J42 -> 0 | ... BE43: ='pozyczki I-IV kw 2025'!BD42+'leasing I-IV kw 2025'!BD42 -> 2212
B44: 5 | C44: BPS Leasing S.A. | D44: ='pozyczki I-IV kw 2025'!C43+'leasing I-IV kw 2025'!C43 -> 1691 | E44: ='pozyczki I-IV kw 2025'!D43+'leasing I-IV kw 2025'!D43 -> 716 | F44: ='pozyczki I-IV kw 2025'!E43+'leasing I-IV kw 2025'!E43 -> 20 | G44: ='pozyczki I-IV kw 2025'!F43+'leasing I-IV kw 2025'!F43 -> 0 | H44: ='pozyczki I-IV kw 2025'!G43+'leasing I-IV kw 2025'!G43 -> 261 | I44: ='pozyczki I-IV kw 2025'!H43+'leasing I-IV kw 2025'!H43 -> 183 | J44: ='pozyczki I-IV kw 2025'!I43+'leasing I-IV kw 2025'!I43 -> 1 | K44: ='pozyczki I-IV kw 2025'!J43+'leasing I-IV kw 2025'!J43 -> 0 | ... BE44: ='pozyczki I-IV kw 2025'!BD43+'leasing I-IV kw 2025'!BD43 -> 1964
B45: 6 | C45: Caterpillar Financial Services Poland Sp. z o. o. | D45: ='pozyczki I-IV kw 2025'!C44+'leasing I-IV kw 2025'!C44 -> 0 | E45: ='pozyczki I-IV kw 2025'!D44+'leasing I-IV kw 2025'!D44 -> 0 | F45: ='pozyczki I-IV kw 2025'!E44+'leasing I-IV kw 2025'!E44 -> 0 | G45: ='pozyczki I-IV kw 2025'!F44+'leasing I-IV kw 2025'!F44 -> 0 | H45: ='pozyczki I-IV kw 2025'!G44+'leasing I-IV kw 2025'!G44 -> 0 | I45: ='pozyczki I-IV kw 2025'!H44+'leasing I-IV kw 2025'!H44 -> 0 | J45: ='pozyczki I-IV kw 2025'!I44+'leasing I-IV kw 2025'!I44 -> 0 | K45: ='pozyczki I-IV kw 2025'!J44+'leasing I-IV kw 2025'!J44 -> 0 | ... BE45: ='pozyczki I-IV kw 2025'!BD44+'leasing I-IV kw 2025'!BD44 -> 942
B46: 7 | C46: DE LAGE Landen Leasing Polska S.A. | D46: ='pozyczki I-IV kw 2025'!C45+'leasing I-IV kw 2025'!C45 -> 207 | E46: ='pozyczki I-IV kw 2025'!D45+'leasing I-IV kw 2025'!D45 -> 2 | F46: ='pozyczki I-IV kw 2025'!E45+'leasing I-IV kw 2025'!E45 -> 0 | G46: ='pozyczki I-IV kw 2025'!F45+'leasing I-IV kw 2025'!F45 -> 0 | H46: ='pozyczki I-IV kw 2025'!G45+'leasing I-IV kw 2025'!G45 -> 0 | I46: ='pozyczki I-IV kw 2025'!H45+'leasing I-IV kw 2025'!H45 -> 0 | J46: ='pozyczki I-IV kw 2025'!I45+'leasing I-IV kw 2025'!I45 -> 0 | K46: ='pozyczki I-IV kw 2025'!J45+'leasing I-IV kw 2025'!J45 -> 0 | ... BE46: ='pozyczki I-IV kw 2025'!BD45+'leasing I-IV kw 2025'!BD45 -> 3336
B47: 8 | C47: Deutsche Leasing Polska S.A. | D47: ='pozyczki I-IV kw 2025'!C46+'leasing I-IV kw 2025'!C46 -> 715 | E47: ='pozyczki I-IV kw 2025'!D46+'leasing I-IV kw 2025'!D46 -> 12 | F47: ='pozyczki I-IV kw 2025'!E46+'leasing I-IV kw 2025'!E46 -> 0 | G47: ='pozyczki I-IV kw 2025'!F46+'leasing I-IV kw 2025'!F46 -> 0 | H47: ='pozyczki I-IV kw 2025'!G46+'leasing I-IV kw 2025'!G46 -> 26 | I47: ='pozyczki I-IV kw 2025'!H46+'leasing I-IV kw 2025'!H46 -> 3 | J47: ='pozyczki I-IV kw 2025'!I46+'leasing I-IV kw 2025'!I46 -> 0 | K47: ='pozyczki I-IV kw 2025'!J46+'leasing I-IV kw 2025'!J46 -> 0 | ... BE47: ='pozyczki I-IV kw 2025'!BD46+'leasing I-IV kw 2025'!BD46 -> 3024
B48: 9 | C48: Europejski Fundusz Leasingowy S.A. | D48: ='pozyczki I-IV kw 2025'!C47+'leasing I-IV kw 2025'!C47 -> 39879 | E48: ='pozyczki I-IV kw 2025'!D47+'leasing I-IV kw 2025'!D47 -> 18837 | F48: ='pozyczki I-IV kw 2025'!E47+'leasing I-IV kw 2025'!E47 -> 434 | G48: ='pozyczki I-IV kw 2025'!F47+'leasing I-IV kw 2025'!F47 -> 278 | H48: ='pozyczki I-IV kw 2025'!G47+'leasing I-IV kw 2025'!G47 -> 9087 | I48: ='pozyczki I-IV kw 2025'!H47+'leasing I-IV kw 2025'!H47 -> 6554 | J48: ='pozyczki I-IV kw 2025'!I47+'leasing I-IV kw 2025'!I47 -> 337 | K48: ='pozyczki I-IV kw 2025'!J47+'leasing I-IV kw 2025'!J47 -> 2 | ... BE48: ='pozyczki I-IV kw 2025'!BD47+'leasing I-IV kw 2025'!BD47 -> 59283
B49: 10 | C49: Impuls-Leasing Polska Sp. z o. o. | D49: ='pozyczki I-IV kw 2025'!C48+'leasing I-IV kw 2025'!C48 -> 6295 | E49: ='pozyczki I-IV kw 2025'!D48+'leasing I-IV kw 2025'!D48 -> 3442 | F49: ='pozyczki I-IV kw 2025'!E48+'leasing I-IV kw 2025'!E48 -> 115 | G49: ='pozyczki I-IV kw 2025'!F48+'leasing I-IV kw 2025'!F48 -> 93 | H49: ='pozyczki I-IV kw 2025'!G48+'leasing I-IV kw 2025'!G48 -> 997 | I49: ='pozyczki I-IV kw 2025'!H48+'leasing I-IV kw 2025'!H48 -> 812 | J49: ='pozyczki I-IV kw 2025'!I48+'leasing I-IV kw 2025'!I48 -> 10 | K49: ='pozyczki I-IV kw 2025'!J48+'leasing I-IV kw 2025'!J48 -> 4 | ... BE49: ='pozyczki I-IV kw 2025'!BD48+'leasing I-IV kw 2025'!BD48 -> 8241
B50: 11 | C50: ING Lease (Polska) Sp. z o. o. | D50: ='pozyczki I-IV kw 2025'!C49+'leasing I-IV kw 2025'!C49 -> 21856 | E50: ='pozyczki I-IV kw 2025'!D49+'leasing I-IV kw 2025'!D49 -> 12091 | F50: ='pozyczki I-IV kw 2025'!E49+'leasing I-IV kw 2025'!E49 -> 255 | G50: ='pozyczki I-IV kw 2025'!F49+'leasing I-IV kw 2025'!F49 -> 422 | H50: ='pozyczki I-IV kw 2025'!G49+'leasing I-IV kw 2025'!G49 -> 4461 | I50: ='pozyczki I-IV kw 2025'!H49+'leasing I-IV kw 2025'!H49 -> 3655 | J50: ='pozyczki I-IV kw 2025'!I49+'leasing I-IV kw 2025'!I49 -> 23 | K50: ='pozyczki I-IV kw 2025'!J49+'leasing I-IV kw 2025'!J49 -> 1 | ... BE50: ='pozyczki I-IV kw 2025'!BD49+'leasing I-IV kw 2025'!BD49 -> 29650
B51: 12 | C51: Leasing Polski Sp. z o. o. | D51: ='pozyczki I-IV kw 2025'!C50+'leasing I-IV kw 2025'!C50 -> 1647 | E51: ='pozyczki I-IV kw 2025'!D50+'leasing I-IV kw 2025'!D50 -> 366 | F51: ='pozyczki I-IV kw 2025'!E50+'leasing I-IV kw 2025'!E50 -> 0 | G51: ='pozyczki I-IV kw 2025'!F50+'leasing I-IV kw 2025'!F50 -> 48 | H51: ='pozyczki I-IV kw 2025'!G50+'leasing I-IV kw 2025'!G50 -> 420 | I51: ='pozyczki I-IV kw 2025'!H50+'leasing I-IV kw 2025'!H50 -> 281 | J51: ='pozyczki I-IV kw 2025'!I50+'leasing I-IV kw 2025'!I50 -> 0 | K51: ='pozyczki I-IV kw 2025'!J50+'leasing I-IV kw 2025'!J50 -> 0 | ... BE51: ='pozyczki I-IV kw 2025'!BD50+'leasing I-IV kw 2025'!BD50 -> 1796
... B66: 27 | C66: Razem | D66: ='pozyczki I-IV kw 2025'!C65+'leasing I-IV kw 2025'!C65 -> 355556 | E66: ='pozyczki I-IV kw 2025'!D65+'leasing I-IV kw 2025'!D65 -> 232244 | F66: ='pozyczki I-IV kw 2025'!E65+'leasing I-IV kw 2025'!E65 -> 9496 | G66: ='pozyczki I-IV kw 2025'!F65+'leasing I-IV kw 2025'!F65 -> 7184 | H66: ='pozyczki I-IV kw 2025'!G65+'leasing I-IV kw 2025'!G65 -> 56272 | I66: ='pozyczki I-IV kw 2025'!H65+'leasing I-IV kw 2025'!H65 -> 45194 | J66: ='pozyczki I-IV kw 2025'!I65+'leasing I-IV kw 2025'!I65 -> 958 | K66: ='pozyczki I-IV kw 2025'!J65+'leasing I-IV kw 2025'!J65 -> 141 | ... BE66: ='pozyczki I-IV kw 2025'!BD65+'leasing I-IV kw 2025'!BD65 -> 614788

Sheet outstanding I-IV kw 2025
B1: Związek Polskiego Leasingu, Warszawa 01-07-2026
B3: ILOŚĆ ŚRODKÓW TRWAŁYCH (szt.) | C3: I - IV kwartał 2025
B5: WARTOŚĆ CAŁEGO PORTFELA LEASINGU
A7: Lp. | B7: Spółka | C7: Środki transportu drogowego | D7: w tym samochody osobowe | E7: Maszyny i urządzenia przemysłowe | F7: Komputery i sprzet biurowy | G7: Pozostałe środki transportu | H7: Inne ruchomości | I7: Razem ruchomości | J7: Razem nieruchomości | K7: Ogółem
A8: 1 | B8: Alior Leasing Sp. z o. o. | C8: 77224 | D8: 37793 | E8: 16413 | F8: 144 | G8: 329 | I8: 94110 | K8: 94110
A9: 2 | B9: BNP Paribas Lease Group Sp. z o. o. | I9: 0 | K9: 0
A10: 3 | B10: BOŚ LEASING S.A | I10: 0 | K10: 0
A11: 4 | B11: BPCE Equipment Solutions Polska Sp. z o.o. | C11: 3017 | D11: 170 | E11: 6114 | F11: 630 | G11: 54 | I11: 9815 | K11: 9815
A12: 5 | B12: BPS Leasing S.A. | C12: 4623 | D12: 1835 | E12: 642 | F12: 23 | G12: 29 | H12: 184 | I12: 5501 | J12: 19 | K12: 5520
A13: 6 | B13: Caterpillar Financial Services Poland Sp. z o. o. | C13: 0 | D13: 0 | E13: 2741 | F13: 0 | G13: 0 | H13: 0 | I13: 2741 | K13: 2741
