Workbook

Sheet pozyczki I-IV kw 2025
B2: Związek Polskiego Leasingu, Warszawa 01-07-2026
B4: Wartość środków oddanych w leasing w | D4: I - IV kwartał 2025
A6: Lp. | B6: Spółka | C6: POJAZDY | D6: Osobowe | E6: osobowe - zeroemisyjne | F6: osobowe - hybryda plug-in | G6: Cięzarowe: | H6: o masie do 3,5 tony | I6: o masie do 3,5 tony - zeroemisyjne | J6: o masie do 3,5 tony - hybryda plug-in | K6: o masie powyzej 3,5 tony | L6: o masie powyżej 3,5 tony - zeroemisyjne | M6: o masie powyżej 3,5 tony - hybryda plug-in | N6: ciagniki siodlowe | O6: ciągniki siodłowe - zeroemisyjne | P6: ciągniki siodłowe - hybryda plug-in | Q6: naczepy / przyczepy | R6: autobusy | S6: autobusy - zeroemisyjne | T6: autobusy - hybryda plug-in | U6: inne | V6: inne - zeroemisyjne | W6: inne - hybryda plug-in | X6: MiU | Y6: Sprzęt Budowlany | Z6: Maszyny Rolnicze | AA6: Maszyny Poligraf. | AB6: maszyny do produkcji tworzyw sztucznych | AC6: maszyny i urządzenia do obróbki metali | AD6: maszyny dla przemysłu spożywczego | AE6: Sprzęt Medyczny | AF6: Sprzęt Gastronom. | AG6: Wózki Widłowe | AH6: Magazyny energii | AI6: Pompy ciepła | AJ6: fotowoltaika | AK6: wiatraki i turbiny wiatrowe | AL6: stacje ładowania pojazdów elektrycznych (na użytek własny i komercyjny) | AM6: inne MiU | AN6: IT | AO6: Sprzęt | AP6: Oprogram. | AQ6: inne IT | AR6: POZOSTAŁE ŚRODKI TRANSPORTU | AS6: Powietrzne | AT6: Wodne | AU6: Kolejowe | AV6: Inne ruchomości | AW6: RUCHOMOŚCI | AX6: Nieruchomości | AY6: budynki przemysłowe | AZ6: obiekty handlowe i usługowe | BA6: obiekty biurowe | BB6: hotele i obiekty rekreacyjne | BC6: inne | BD6: OGÓŁEM
A7: 1 | B7: Alior Leasing Sp. z o. o. | C7: 282740.2 | D7: 156041.75 | G7: 34832.418 | H7: 21963.217 | K7: 12869.201 | N7: 50867.945 | Q7: 23822.637 | R7: 13377.241 | U7: 3798.2179 | X7: 112783.48 | Y7: 14723.328 | Z7: 16596.975 | AA7: 18925.001 | AB7: 2251.859 | AC7: 7585.9405 | AD7: 1609.9371 | AE7: 29234.432 | AG7: 244.68467 | AH7: 91.02699 | AI7: 319.1 | AJ7: 960.23073 | AM7: 20240.964 | AN7: 641.92772 | AO7: 641.92772 | AR7: 13416.719 | AT7: 11061.956 | AU7: 2354.763 | AW7: 409582.33 | AX7: 0 | BD7: 409582.33
A8: 2 | B8: BNP Paribas Lease Group Sp. z o. o. | C8: 147360.21 | D8: 10820.048 | E8: 354.3008 | F8: 0 | G8: 102480.04 | H8: 40269 | I8: 0 | J8: 0 | K8: 62211.037 | L8: 0 | M8: 0 | N8: 8812.2104 | O8: 0 | P8: 0 | Q8: 20126.398 | R8: 5121.5125 | S8: 0 | T8: 0 | U8: 0 | V8: 0 | W8: 0 | X8: 1948033.7 | Y8: 62259.61 | Z8: 1720363.1 | AA8: 911.876 | AB8: 0 | AC8: 2740.686 | AD8: 8572.4513 | AE8: 101081.81 | AF8: 551.9336 | AG8: 1735.6304 | AH8: 177.24074 | AI8: 0 | AJ8: 2869.6299 | AK8: 0 | AL8: 0 | AM8: 46769.736 | AN8: 21223.534 | AO8: 3576.2403 | AP8: 17547.43 | AQ8: 99.86346 | AR8: 0 | AS8: 0 | AT8: 0 | AU8: 0 | AV8: 0 | AW8: 2116617.4 | AX8: 240 | AY8: 240 | AZ8: 0 | BA8: 0 | BB8: 0 | BC8: 0 | BD8: 2116857.4
A9: 3 | B9: BOŚ LEASING S.A | C9: 3329.9644 | D9: 2783.7105 | G9: 347.09124 | H9: 347.09124 | Q9: 199.16265 | X9: 7031.639 | Y9: 622.15116 | Z9: 166.5 | AE9: 2192.9879 | AM9: 4050 | AN9: 0 | AR9: 0 | AW9: 10361.603 | AX9: 0 | BD9: 10361.603
A10: 4 | B10: BPCE Equipment Solutions Polska Sp. z o.o. | C10: 19505.723 | D10: 219.43902 | G10: 0 | N10: 11790.69 | Q10: 7403.3754 | U10: 92.2185 | X10: 177638.36 | Y10: 35798.4 | Z10: 114272.25 | AD10: 3948.9873 | AE10: 4423.7057 | AG10: 1465.0934 | AJ10: 1665.8141 | AM10: 16064.103 | AN10: 150663.09 | AO10: 106003.84 | AP10: 44659.259 | AR10: 0 | AW10: 347807.17 | AX10: 0 | BD10: 347807.17
A11: 5 | B11: BPS Leasing S.A. | C11: 20553.438 | D11: 6102.2177 | E11: 211.941 | G11: 1506.1091 | H11: 72 | K11: 1434.1091 | N11: 1359.3985 | Q11: 11565.712 | U11: 20 | V11: 20 | X11: 8881.1141 | Y11: 1703.4709 | Z11: 4386.087 | AD11: 315.6426 | AE11: 230.8892 | AM11: 2245.0245 | AN11: 6.01512 | AQ11: 6.01512 | AR11: 0 | AV11: 428.2114 | AW11: 29868.778 | AX11: 1600 | BC11: 1600 | BD11: 31468.778
A12: 6 | B12: Caterpillar Financial Services Poland Sp. z o. o. | C12: 0 | G12: 0 | X12: 110848.99 | Y12: 110848.99 | AN12: 0 | AR12: 0 | AW12: 110848.99 | AX12: 0 | BD12: 110848.99
A13: 7 | B13: DE LAGE Landen Leasing Polska S.A. | C13: 23979.89 | D13: 375 | G13: 0 | N13: 5924.5088 | Q13: 17680.381 | X13: 1184284.6 | Y13: 40049.412 | Z13: 1020122.4 | AE13: 107043.22 | AG13: 0 | AJ13: 206.78699 | AM13: 16862.758 | AN13: 41280.002 | AO13: 31983.222 | AP13: 9178.7803 | AQ13: 118 | AR13: 0 | AW13: 1249544.5 | AX13: 0 | BD13: 1249544.5
A14: 8 | B14: Deutsche Leasing Polska S.A. | C14: 32112 | D14: 58 | G14: 238 | H14: 238 | N14: 2061 | Q14: 29755 | X14: 71821 | Z14: 44366 | AB14: 604 | AC14: 13950 | AE14: 2010 | AG14: 60 | AM14: 10831 | AN14: 0 | AR14: 0 | AW14: 103933 | AX14: 0 | BD14: 103933
A15: 9 | B15: Europejski Fundusz Leasingowy S.A. | C15: 268181.16 | D15: 114395.32 | E15: 3152.2332 | F15: 483.57724 | G15: 45791.784 | H15: 24325.714 | I15: 64.6 | K15: 21466.07 | N15: 61807.803 | Q15: 37884.212 | R15: 7749.5041 | U15: 552.53414 | X15: 1111539.3 | Y15: 69093.261 | Z15: 914727.73 | AA15: 12445.156 | AB15: 95.16682 | AC15: 10346.953 | AD15: 11440.337 | AE15: 24501.622 | AF15: 4202.9522 | AG15: 1371.8255 | AH15: 57.16829 | AI15: 184.62 | AJ15: 2591.2396 | AM15: 60481.234 | AN15: 3080.382 | AO15: 661.67273 | AP15: 1715.297 | AQ15: 703.41224 | AR15: 10377.069 | AS15: 425.43 | AT15: 9951.6393 | AW15: 1393177.9 | AX15: 0 | BD15: 1393177.9
A16: 10 | B16: Impuls-Leasing Polska Sp. z o. o. | C16: 176011.19 | D16: 75705.9 | E16: 4078.2 | F16: 1377.47 | G16: 12468.1 | H16: 9929.15 | I16: 168.83 | J16: 206.21 | K16: 2538.95 | N16: 47906.53 | Q16: 32366.49 | R16: 4869.06 | U16: 2695.11 | X16: 61443.35 | Y16: 13758.54 | Z16: 11692.39 | AA16: 240.05 | AC16: 5208.46 | AE16: 5107.26 | AF16: 1318.54 | AG16: 816.1 | AM16: 23302.01 | AN16: 99.98 | AO16: 99.98 | AR16: 562.25 | AT16: 562.25 | AW16: 238116.77 | AX16: 0 | BD16: 238116.77
A17: 11 | B17: ING Lease (Polska) Sp. z o. o. | C17: 54662 | D17: 15781 | G17: 0 | H17: 0 | K17: 0 | N17: 23881 | Q17: 0 | R17: 0 | U17: 15000 | X17: 165470 | Y17: 9200 | Z17: 0 | AA17: 47452 | AB17: 19711 | AC17: 9140 | AD17: 30324 | AE17: 4325 | AF17: 0 | AG17: 374 | AH17: 0 | AI17: 0 | AJ17: 3471 | AM17: 41473 | AN17: 0 | AO17: 0 | AP17: 0 | AQ17: 0 | AR17: 0 | AS17: 0 | AT17: 0 | AU17: 0 | AV17: 459 | AW17: 220591 | AX17: 0 | AY17: 0 | AZ17: 0 | BA17: 0 | BB17: 0 | BC17: 0 | BD17: 220591
A18: 12 | B18: Leasing Polski Sp. z o. o. | C18: 0 | G18: 0 | X18: 0 | AN18: 0 | AR18: 0 | AW18: 0 | AX18: 0 | BD18: 0
A19: 13 | B19: Mercedes-Benz Leasing Polska Sp. z o.o. | C19: 322960.94 | D19: 274624.67 | E19: 1002.9246 | F19: 13643.095 | G19: 48086.74 | H19: 44689.609 | I19: 494.36594 | K19: 3397.1305 | L19: 80.80989 | N19: 249.52695 | X19: 0 | AN19: 0 | AR19: 0 | AW19: 322960.94 | AX19: 0 | BD19: 322960.94
A20: 14 | B20: Millennium Leasing Sp. z o. o. | C20: 0 | G20: 0 | X20: 0 | AN20: 0 | AR20: 0 | AW20: 0 | AX20: 0 | BD20: 0
A21: 15 | B21: mLeasing Sp. z o. o. | C21: 190476.98 | D21: 69508.097 | E21: 2612.5513 | F21: 6795.0094 | G21: 23635.653 | H21: 346.282 | I21: 0 | J21: 0 | K21: 23289.371 | L21: 0 | M21: 0 | N21: 45681.703 | O21: 0 | P21: 0 | Q21: 34657.299 | R21: 10748.941 | S21: 0 | T21: 0 | U21: 6245.29 | V21: 4763.84 | W21: 0 | X21: 595235.64 | Y21: 22519.153 | Z21: 21793.693 | AA21: 12832.773 | AB21: 30616.163 | AC21: 39819.602 | AD21: 155478.18 | AE21: 183419.53 | AF21: 14220.18 | AG21: 2302.4997 | AH21: 0 | AI21: 198 | AJ21: 13327.586 | AK21: 0 | AL21: 56.44 | AM21: 98651.84 | AN21: 70209.516 | AO21: 61838.006 | AP21: 4679.25 | AQ21: 3692.26 | AR21: 122038.54 | AS21: 1131.1627 | AT21: 15678.448 | AU21: 105228.93 | AV21: 69604.115 | AW21: 1047564.8 | AX21: 0 | AY21: 0 | AZ21: 0 | BA21: 0 | BB21: 0 | BC21: 0 | BD21: 1047564.8
A22: 16 | B22: NEST LEASING S.A | C22: 141294.34 | D22: 49984.302 | G22: 17697.968 | H22: 6545.0206 | K22: 11152.948 | N22: 44985.988 | Q22: 16886.028 | R22: 9863.8056 | U22: 1876.2522 | X22: 216717.65 | Y22: 19632.034 | Z22: 151671.3 | AA22: 148.88039 | AB22: 2569.8647 | AC22: 8042.2903 | AD22: 2547.3331 | AE22: 18441.422 | AF22: 27.23514 | AG22: 534.62389 | AH22: 0 | AI22: 326.50965 | AJ22: 1090.4196 | AK22: 0 | AL22: 0 | AM22: 11685.738 | AN22: 0 | AO22: 0 | AP22: 0 | AQ22: 0 | AR22: 1162.8589 | AS22: 0 | AT22: 1162.8589 | AU22: 0 | AV22: 0 | AW22: 359174.85 | AX22: 0 | BD22: 359174.85
A23: 17 | B23: PEAC (Poland) Sp. z o. o. | C23: 4218.1 | D23: 286.4 | G23: 0 | Q23: 3931.7 | X23: 40989.8 | Y23: 7501.9 | Z23: 21495 | AB23: 429.1 | AE23: 525.9 | AH23: 25 | AJ23: 67.5 | AM23: 10945.4 | AN23: 341.9 | AP23: 341.9 | AR23: 60.6 | AT23: 60.6 | AW23: 45610.4 | AX23: 0 | BD23: 45610.4
A24: 18 | B24: PEKAO Leasing Sp. z o. o. | C24: 326113.81 | D24: 83346.973 | E24: 435.42276 | F24: 0 | G24: 17528.909 | H24: 9614.0266 | I24: 261.36087 | J24: 0 | K24: 7914.8827 | L24: 0 | M24: 0 | N24: 140141.97 | O24: 0 | P24: 0 | Q24: 51723.592 | R24: 27358.799 | S24: 0 | T24: 0 | U24: 6013.5648 | V24: 217 | W24: 0 | X24: 622350.52 | Y24: 93762.917 | Z24: 235542.47 | AA24: 1494.13 | AB24: 4390.884 | AC24: 36898.037 | AD24: 22517.597 | AE24: 49051.243 | AF24: 3845.0343 | AG24: 3202.9756 | AH24: 664.2 | AI24: 281.45844 | AJ24: 30877.058 | AK24: 0 | AL24: 0 | AM24: 139822.52 | AN24: 22173.484 | AO24: 22045.647 | AP24: 86.7562 | AQ24: 41.08108 | AR24: 33301.292 | AS24: 25816.681 | AT24: 7327.6712 | AU24: 156.94 | AV24: 3690.8815 | AW24: 1007630 | AX24: 81085.156 | AY24: 0 | AZ24: 73918.736 | BA24: 231.42 | BB24: 6300 | BC24: 635 | BD24: 1088715.1
A25: 19 | B25: PKO Leasing S.A. | C25: 767543.78 | D25: 333388.94 | E25: 2171.5358 | F25: 4037.2283 | G25: 132999.76 | H25: 82235.376 | I25: 830.87544 | J25: 9380.196 | K25: 50764.384 | L25: 3971.8688 | M25: 739.24 | N25: 205890.45 | Q25: 59253.26 | R25: 25780.159 | U25: 10231.211 | X25: 1108003.3 | Y25: 114293 | Z25: 409520.61 | AA25: 24896.286 | AB25: 11171.375 | AC25: 65845.859 | AD25: 64697.022 | AE25: 121656.66 | AF25: 596.34422 | AG25: 8976.3448 | AH25: 4146.4301 | AI25: 249.38134 | AJ25: 79141.396 | AL25: 3849.4153 | AM25: 198963.15 | AN25: 7842.0301 | AO25: 4137.6694 | AP25: 667.39861 | AQ25: 3036.9621 | AR25: 144908.64 | AS25: 34209.739 | AT25: 34047.964 | AU25: 76650.935 | AV25: 3719.1873 | AW25: 2032016.9 | AX25: 0 | BD25: 2032016.9
A26: 20 | B26: Santander Consumer Multirent Sp. z o.o. | C26: 1050381.3 | D26: 1029684.2 | G26: 8201.6728 | H26: 8201.6728 | U26: 12495.456 | X26: 0 | AN26: 0 | AR26: 0 | AW26: 1050381.3 | AX26: 0 | BD26: 1050381.3
A27: 21 | B27: Santander Leasing S.A. | C27: 967102.8 | D27: 663582.89 | E27: 8594.5397 | F27: 3738.4801 | G27: 69831.307 | H27: 44898.671 | I27: 786.4556 | J27: 176 | K27: 24932.637 | L27: 0 | M27: 0 | N27: 172811.29 | O27: 0 | P27: 0 | Q27: 39198.264 | R27: 14888.63 | S27: 0 | T27: 0 | U27: 6790.4257 | V27: 0 | W27: 0 | X27: 1826090.4 | Y27: 38471.836 | Z27: 1313560.4 | AA27: 60188.3 | AB27: 6125.5816 | AC27: 24526.088 | AD27: 10533.887 | AE27: 111687.01 | AF27: 1130.2024 | AG27: 3244.538 | AH27: 671.2049 | AI27: 2237.9525 | AJ27: 43226.769 | AK27: 52.116 | AL27: 0 | AM27: 210434.56 | AN27: 39177.016 | AO27: 39177.016 | AP27: 0 | AQ27: 0 | AR27: 7900.1599 | AS27: 3114.6778 | AT27: 4785.4821 | AU27: 0 | AV27: 0 | AW27: 2840270.4 | AX27: 0 | AY27: 0 | AZ27: 0 | BA27: 0 | BB27: 0 | BC27: 0 | BD27: 2840270.4
A28: 22 | B28: Scania Finance Polska Sp. z o. o. | C28: 93430 | G28: 16002 | K28: 16002 | N28: 70594 | Q28: 5091 | R28: 1743 | X28: 0 | AN28: 0 | AR28: 0 | AW28: 93430 | AX28: 0 | BD28: 93430
A29: 23 | B29: SGB Leasing Sp. z o. o. | C29: 19772 | D29: 10069 | G29: 5360 | H29: 2004 | K29: 3356 | N29: 205 | Q29: 3512 | R29: 529 | U29: 97 | X29: 113217 | Y29: 5852 | Z29: 55883 | AB29: 4371 | AD29: 1682 | AE29: 1473 | AG29: 700 | AH29: 849 | AI29: 76 | AJ29: 758 | AM29: 41573 | AN29: 172 | AO29: 172 | AR29: 0 | AW29: 133161 | AX29: 29081 | AY29: 29081 | BD29: 162242
A30: 24 | B30: Siemens Finance Sp. z o. o. | C30: 0 | G30: 0 | X30: 0 | AN30: 0 | AR30: 0 | AW30: 0 | AX30: 0 | BD30: 0
A31: 25 | B31: VEHIS FINANSE Sp. z o.o. | C31: 0 | G31: 0 | X31: 0 | AN31: 0 | AR31: 0 | AW31: 0 | AX31: 0 | BD31: 0
A32: 26 | B32: VELOLEASING S.A | C32: 115596 | D32: 113965 | G32: 0 | Q32: 16 | U32: 1615 | X32: 0 | AN32: 0 | AR32: 0 | AW32: 115596 | AX32: 0 | BD32: 115596
A33: 27 | B33: Razem | C33: 5027325.8 | D33: 3010722.8 | E33: 22613.649 | F33: 30074.86 | G33: 537007.55 | H33: 295678.83 | I33: 2606.4878 | J33: 9762.406 | K33: 241328.72 | L33: 4052.6787 | M33: 739.24 | N33: 894971.01 | O33: 0 | P33: 0 | Q33: 395072.51 | R33: 122029.65 | S33: 0 | T33: 0 | U33: 67522.28 | V33: 5000.84 | W33: 0 | X33: 9482379.7 | Y33: 660090 | Z33: 6056159.8 | AA33: 179534.45 | AB33: 82335.994 | AC33: 224103.92 | AD33: 313667.37 | AE33: 766405.7 | AF33: 25892.422 | AG33: 25028.316 | AH33: 6681.271 | AI33: 3873.0219 | AJ33: 180253.43 | AK33: 52.116 | AL33: 3905.8553 | AM33: 954396.04 | AN33: 356910.88 | AO33: 270337.22 | AP33: 78876.071 | AQ33: 7697.594 | AR33: 333728.13 | AS33: 64697.69 | AT33: 84638.87 | AU33: 184391.57 | AV33: 77901.395 | AW33: 15278246 | AX33: 112006.16 | AY33: 29321 | AZ33: 73918.736 | BA33: 231.42 | BB33: 6300 | BC33: 2235 | BD33: 15390252
B35: Ilość środków oddanych w leasing w | D35: I - IV kwartał 2025
A38: Lp. | B38: Spółka | C38: POJAZDY | D38: Osobowe | E38: osobowe - zeroemisyjne | F38: osobowe - hybryda plug-in | G38: Cięzarowe: | H38: o masie do 3,5 tony | I38: o masie do 3,5 tony - zeroemisyjne | J38: o masie do 3,5 tony - hybryda plug-in | K38: o masie powyzej 3,5 tony | L38: o masie powyżej 3,5 tony - zeroemisyjne | M38: o masie powyżej 3,5 tony - hybryda plug-in | N38: ciagniki siodlowe | O38: ciągniki siodłowe - zeroemisyjne | P38: ciągniki siodłowe - hybryda plug-in | Q38: naczepy / przyczepy | R38: autobusy | S38: autobusy - zeroemisyjne | T38: autobusy - hybryda plug-in | U38: inne | V38: inne - zeroemisyjne | W38: inne - hybryda plug-in | X38: MiU | Y38: Sprzęt Budowlany | Z38: Maszyny Rolnicze | AA38: Maszyny Poligraf. | AB38: maszyny do produkcji tworzyw sztucznych | AC38: maszyny i urządzenia do obróbki metali | AD38: maszyny dla przemysłu spożywczego | AE38: Sprzęt Medyczny | AF38: Sprzęt Gastronom. | AG38: Wózki Widłowe | AH38: Magazyny energii | AI38: Pompy ciepła | AJ38: fotowoltaika | AK38: wiatraki i turbiny wiatrowe | AL38: stacje ładowania pojazdów elektrycznych (na użytek własny i komercyjny) | AM38: inne MiU | AN38: IT | AO38: Sprzęt | AP38: Oprogram. | AQ38: inne IT | AR38: POZOSTAŁE ŚRODKI TRANSPORTU | AS38: Powietrzne | AT38: Wodne | AU38: Kolejowe | AV38: Inne ruchomości | AW38: RUCHOMOŚCI | AX38: Nieruchomości | AY38: budynki przemysłowe | AZ38: obiekty handlowe i usługowe | BA38: obiekty biurowe | BB38: hotele i obiekty rekreacyjne | BC38: inne | BD38: OGÓŁEM
A39: 1 | B39: Alior Leasing Sp. z o. o. | C39: 2290 | D39: 1334 | G39: 369 | H39: 300 | K39: 69 | N39: 268 | Q39: 258 | R39: 32 | U39: 29 | X39: 682 | Y39: 105 | Z39: 112 | AA39: 8 | AB39: 8 | AC39: 38 | AD39: 20 | AE39: 264 | AG39: 5 | AH39: 1 | AI39: 1 | AJ39: 9 | AM39: 111 | AN39: 7 | AO39: 7 | AR39: 83 | AT39: 82 | AU39: 1 | AW39: 3062 | AX39: 0 | BD39: 3062
A40: 2 | B40: BNP Paribas Lease Group Sp. z o. o. | C40: 649 | D40: 41 | E40: 2 | F40: 0 | G40: 429 | H40: 222 | I40: 0 | J40: 0 | K40: 207 | L40: 0 | M40: 0 | N40: 31 | O40: 0 | P40: 0 | Q40: 144 | R40: 4 | S40: 0 | T40: 0 | U40: 0 | V40: 0 | W40: 0 | X40: 7331 | Y40: 173 | Z40: 5405 | AA40: 1 | AB40: 0 | AC40: 4 | AD40: 34 | AE40: 1548 | AF40: 4 | AG40: 19 | AH40: 4 | AI40: 0 | AJ40: 24 | AK40: 0 | AL40: 0 | AM40: 115 | AN40: 498 | AO40: 46 | AP40: 444 | AQ40: 8 | AR40: 0 | AS40: 0 | AT40: 0 | AU40: 0 | AV40: 0 | AW40: 8478 | AX40: 1 | AY40: 1 | AZ40: 0 | BA40: 0 | BB40: 0 | BC40: 0 | BD40: 8479
A41: 3 | B41: BOŚ LEASING S.A | C41: 20 | D41: 17 | G41: 2 | H41: 2 | Q41: 1 | X41: 8 | Y41: 1 | Z41: 1 | AE41: 3 | AM41: 3 | AN41: 0 | AR41: 0 | AW41: 28 | AX41: 0 | BD41: 28
A42: 4 | B42: BPCE Equipment Solutions Polska Sp. z o.o. | C42: 71 | D42: 1 | G42: 0 | N42: 27 | Q42: 42 | U42: 1 | X42: 505 | Y42: 69 | Z42: 397 | AD42: 1 | AE42: 5 | AG42: 4 | AJ42: 1 | AM42: 28 | AN42: 163 | AO42: 145 | AP42: 18 | AR42: 0 | AW42: 739 | AX42: 0 | BD42: 739
A43: 5 | B43: BPS Leasing S.A. | C43: 155 | D43: 62 | E43: 1 | G43: 4 | H43: 1 | K43: 3 | N43: 7 | Q43: 81 | U43: 1 | V43: 1 | X43: 27 | Y43: 2 | Z43: 16 | AD43: 1 | AE43: 3 | AM43: 5 | AN43: 1 | AQ43: 1 | AR43: 0 | AV43: 3 | AW43: 186 | AX43: 1 | BC43: 1 | BD43: 187
A44: 6 | B44: Caterpillar Financial Services Poland Sp. z o. o. | C44: 0 | G44: 0 | X44: 260 | Y44: 260 | AN44: 0 | AR44: 0 | AW44: 260 | AX44: 0 | BD44: 260
A45: 7 | B45: DE LAGE Landen Leasing Polska S.A. | C45: 140 | D45: 2 | G45: 0 | N45: 25 | Q45: 113 | X45: 2709 | Y45: 42 | Z45: 2525 | AE45: 82 | AG45: 0 | AJ45: 1 | AM45: 59 | AN45: 41 | AO45: 27 | AP45: 13 | AQ45: 1 | AR45: 0 | AW45: 2890 | AX45: 0 | BD45: 2890
A46: 8 | B46: Deutsche Leasing Polska S.A. | C46: 241 | D46: 1 | G46: 1 | H46: 1 | N46: 13 | Q46: 226 | X46: 149 | Z46: 114 | AB46: 1 | AC46: 11 | AE46: 11 | AG46: 1 | AM46: 11 | AN46: 0 | AR46: 0 | AW46: 390 | AX46: 0 | BD46: 390
A47: 9 | B47: Europejski Fundusz Leasingowy S.A. | C47: 1572 | D47: 684 | E47: 11 | F47: 2 | G47: 231 | H47: 150 | I47: 1 | K47: 81 | N47: 315 | Q47: 320 | R47: 11 | U47: 11 | X47: 3063 | Y47: 269 | Z47: 2064 | AA47: 13 | AB47: 2 | AC47: 31 | AD47: 22 | AE47: 190 | AF47: 47 | AG47: 14 | AH47: 2 | AI47: 5 | AJ47: 19 | AM47: 385 | AN47: 54 | AO47: 18 | AP47: 23 | AQ47: 13 | AR47: 73 | AS47: 4 | AT47: 69 | AW47: 4762 | AX47: 0 | BD47: 4762
A48: 10 | B48: Impuls-Leasing Polska Sp. z o. o. | C48: 887 | D48: 451 | E48: 12 | F48: 3 | G48: 54 | H48: 47 | I48: 1 | J48: 1 | K48: 7 | N48: 141 | Q48: 218 | R48: 6 | U48: 17 | X48: 264 | Y48: 27 | Z48: 51 | AA48: 3 | AC48: 8 | AE48: 75 | AF48: 31 | AG48: 5 | AM48: 64 | AN48: 1 | AO48: 1 | AR48: 2 | AT48: 2 | AW48: 1154 | AX48: 0 | BD48: 1154
A49: 11 | B49: ING Lease (Polska) Sp. z o. o. | C49: 330 | D49: 160 | G49: 0 | H49: 0 | K49: 0 | N49: 160 | Q49: 0 | R49: 0 | U49: 10 | X49: 102 | Y49: 6 | Z49: 0 | AA49: 10 | AB49: 11 | AC49: 15 | AD49: 25 | AE49: 4 | AF49: 0 | AG49: 3 | AH49: 0 | AI49: 0 | AJ49: 4 | AM49: 24 | AN49: 0 | AO49: 0 | AP49: 0 | AQ49: 0 | AR49: 0 | AS49: 0 | AT49: 0 | AU49: 0 | AV49: 1 | AW49: 433 | AX49: 0 | AY49: 0 | AZ49: 0 | BA49: 0 | BB49: 0 | BC49: 0 | BD49: 433
A50: 12 | B50: Leasing Polski Sp. z o. o. | C50: 0 | G50: 0 | X50: 0 | AN50: 0 | AR50: 0 | AW50: 0 | AX50: 0 | BD50: 0
A51: 13 | B51: Mercedes-Benz Leasing Polska Sp. z o.o. | C51: 1558 | D51: 1271 | E51: 6 | F51: 56 | G51: 285 | H51: 271 | I51: 3 | K51: 14 | L51: 3 | N51: 2 | X51: 0 | AN51: 0 | AR51: 0 | AW51: 1558 | AX51: 0 | BD51: 1558
A52: 14 | B52: Millennium Leasing Sp. z o. o. | C52: 0 | G52: 0 | X52: 0 | AN52: 0 | AR52: 0 | AW52: 0 | AX52: 0 | BD52: 0
A53: 15 | B53: mLeasing Sp. z o. o. | C53: 2256 | D53: 703 | E53: 74 | F53: 46 | G53: 91 | H53: 7 | I53: 0 | J53: 0 | K53: 84 | L53: 0 | M53: 0 | N53: 102 | O53: 0 | P53: 0 | Q53: 307 | R53: 10 | S53: 0 | T53: 0 | U53: 1043 | V53: 878 | W53: 0 | X53: 19795 | Y53: 961 | Z53: 120 | AA53: 29 | AB53: 14 | AC53: 964 | AD53: 34 | AE53: 2865 | AF53: 7778 | AG53: 166 | AH53: 0 | AI53: 35 | AJ53: 80 | AK53: 0 | AL53: 182 | AM53: 6567 | AN53: 31460 | AO53: 23181 | AP53: 2148 | AQ53: 6131 | AR53: 30 | AS53: 2 | AT53: 23 | AU53: 5 | AV53: 30595 | AW53: 84136 | AX53: 0 | AY53: 0 | AZ53: 0 | BA53: 0 | BB53: 0 | BC53: 0 | BD53: 84136
A54: 16 | B54: NEST LEASING S.A | C54: 854 | D54: 383 | G54: 99 | H54: 56 | K54: 43 | N54: 167 | Q54: 152 | R54: 16 | U54: 37 | X54: 890 | Y54: 47 | Z54: 595 | AA54: 1 | AB54: 3 | AC54: 9 | AD54: 2 | AE54: 157 | AF54: 1 | AG54: 7 | AH54: 0 | AI54: 2 | AJ54: 9 | AK54: 0 | AL54: 0 | AM54: 57 | AN54: 0 | AO54: 0 | AP54: 0 | AQ54: 0 | AR54: 7 | AS54: 0 | AT54: 7 | AU54: 0 | AV54: 0 | AW54: 1751 | AX54: 0 | BD54: 1751
A55: 17 | B55: PEAC (Poland) Sp. z o. o. | C55: 33 | D55: 2 | G55: 0 | Q55: 31 | X55: 264 | Y55: 31 | Z55: 120 | AB55: 9 | AE55: 5 | AH55: 1 | AJ55: 1 | AM55: 97 | AN55: 4 | AP55: 4 | AR55: 1 | AT55: 1 | AW55: 302 | AX55: 0 | BD55: 302
A56: 18 | B56: PEKAO Leasing Sp. z o. o. | C56: 1342 | D56: 532 | E56: 3 | F56: 0 | G56: 138 | H56: 121 | I56: 1 | J56: 0 | K56: 17 | L56: 0 | M56: 0 | N56: 340 | O56: 0 | P56: 0 | Q56: 296 | R56: 25 | S56: 0 | T56: 0 | U56: 11 | V56: 2 | W56: 0 | X56: 1292 | Y56: 97 | Z56: 577 | AA56: 2 | AB56: 8 | AC56: 40 | AD56: 30 | AE56: 219 | AF56: 9 | AG56: 20 | AH56: 1 | AI56: 2 | AJ56: 13 | AK56: 0 | AL56: 0 | AM56: 274 | AN56: 28 | AO56: 19 | AP56: 2 | AQ56: 7 | AR56: 12 | AS56: 3 | AT56: 8 | AU56: 1 | AV56: 17 | AW56: 2691 | AX56: 11 | AY56: 0 | AZ56: 8 | BA56: 1 | BB56: 1 | BC56: 1 | BD56: 2702
A57: 19 | B57: PKO Leasing S.A. | C57: 4029 | D57: 2229 | E57: 17 | F57: 20 | G57: 567 | H57: 438 | I57: 7 | J57: 40 | K57: 129 | L57: 5 | M57: 4 | N57: 623 | Q57: 511 | R57: 34 | U57: 65 | X57: 3953 | Y57: 199 | Z57: 1772 | AA57: 9 | AB57: 26 | AC57: 72 | AD57: 105 | AE57: 1017 | AF57: 8 | AG57: 40 | AH57: 1 | AI57: 2 | AJ57: 51 | AL57: 28 | AM57: 623 | AN57: 50 | AO57: 35 | AP57: 8 | AQ57: 7 | AR57: 91 | AS57: 3 | AT57: 20 | AU57: 68 | AV57: 10 | AW57: 8133 | AX57: 0 | BD57: 8133
A58: 20 | B58: Santander Consumer Multirent Sp. z o.o. | C58: 8822 | D58: 8473 | G58: 76 | H58: 76 | U58: 273 | X58: 0 | AN58: 0 | AR58: 0 | AW58: 8822 | AX58: 0 | BD58: 8822
A59: 21 | B59: Santander Leasing S.A. | C59: 7786 | D59: 6452 | E59: 59 | F59: 18 | G59: 313 | H59: 232 | I59: 5 | J59: 1 | K59: 81 | L59: 0 | M59: 0 | N59: 435 | O59: 0 | P59: 0 | Q59: 311 | R59: 29 | S59: 0 | T59: 0 | U59: 246 | V59: 0 | W59: 0 | X59: 8966 | Y59: 100 | Z59: 6513 | AA59: 20 | AB59: 3 | AC59: 40 | AD59: 8 | AE59: 1418 | AF59: 43 | AG59: 24 | AH59: 17 | AI59: 10 | AJ59: 96 | AK59: 4 | AL59: 0 | AM59: 670 | AN59: 84 | AO59: 84 | AP59: 0 | AQ59: 0 | AR59: 30 | AS59: 12 | AT59: 18 | AU59: 0 | AV59: 0 | AW59: 16866 | AX59: 0 | AY59: 0 | AZ59: 0 | BA59: 0 | BB59: 0 | BC59: 0 | BD59: 16866
A60: 22 | B60: Scania Finance Polska Sp. z o. o. | C60: 236 | G60: 34 | K60: 34 | N60: 154 | Q60: 47 | R60: 1 | X60: 0 | AN60: 0 | AR60: 0 | AW60: 236 | AX60: 0 | BD60: 236
A61: 23 | B61: SGB Leasing Sp. z o. o. | C61: 74 | D61: 36 | G61: 18 | H61: 14 | K61: 4 | N61: 1 | Q61: 17 | R61: 1 | U61: 1 | X61: 265 | Y61: 14 | Z61: 182 | AB61: 1 | AD61: 6 | AE61: 14 | AG61: 2 | AH61: 2 | AI61: 1 | AJ61: 5 | AM61: 38 | AN61: 3 | AO61: 3 | AR61: 0 | AW61: 342 | AX61: 10 | AY61: 10 | BD61: 352
A62: 24 | B62: Siemens Finance Sp. z o. o. | C62: 0 | G62: 0 | X62: 0 | AN62: 0 | AR62: 0 | AW62: 0 | AX62: 0 | BD62: 0
A63: 25 | B63: VEHIS FINANSE Sp. z o.o. | C63: 0 | G63: 0 | X63: 0 | AN63: 0 | AR63: 0 | AW63: 0 | AX63: 0 | BD63: 0
A64: 26 | B64: VELOLEASING S.A | C64: 1063 | D64: 1038 | G64: 0 | Q64: 1 | U64: 24 | X64: 0 | AN64: 0 | AR64: 0 | AW64: 1063 | AX64: 0 | BD64: 1063
A65: 27 | B65: Razem | C65: 34408 | D65: 23872 | E65: 185 | F65: 145 | G65: 2711 | H65: 1938 | I65: 18 | J65: 42 | K65: 773 | L65: 8 | M65: 4 | N65: 2811 | O65: 0 | P65: 0 | Q65: 3076 | R65: 169 | S65: 0 | T65: 0 | U65: 1769 | V65: 881 | W65: 0 | X65: 50525 | Y65: 2403 | Z65: 20564 | AA65: 96 | AB65: 86 | AC65: 1232 | AD65: 288 | AE65: 7880 | AF65: 7921 | AG65: 310 | AH65: 29 | AI65: 58 | AJ65: 313 | AK65: 4 | AL65: 210 | AM65: 9131 | AN65: 32394 | AO65: 23566 | AP65: 2660 | AQ65: 6168 | AR65: 329 | AS65: 24 | AT65: 230 | AU65: 75 | AV65: 30626 | AW65: 148282 | AX65: 23 | AY65: 11 | AZ65: 8 | BA65: 1 | BB65: 1 | BC65: 2 | BD65: 148305
B67: Średnia wartość środków oddanych w leasing (tys. PLN) | D67: I - IV kwartał 2025
A70: Lp. | B70: Spółka | C70: POJAZDY | D70: Osobowe | E70: osobowe - zeroemisyjne | F70: osobowe - hybryda plug-in | G70: Cięzarowe: | H70: o masie do 3,5 tony | I70: o masie do 3,5 tony - zeroemisyjne | J70: o masie do 3,5 tony - hybryda plug-in | K70: o masie powyzej 3,5 tony | L70: o masie powyżej 3,5 tony - zeroemisyjne | M70: o masie powyżej 3,5 tony - hybryda plug-in | N70: ciagniki siodlowe | O70: ciągniki siodłowe - zeroemisyjne | P70: ciągniki siodłowe - hybryda plug-in | Q70: naczepy / przyczepy | R70: autobusy | S70: autobusy - zeroemisyjne | T70: autobusy - hybryda plug-in | U70: inne | V70: inne - zeroemisyjne | W70: inne - hybryda plug-in | X70: MiU | Y70: Sprzęt Budowlany | Z70: Maszyny Rolnicze | AA70: Maszyny Poligraf. | AB70: maszyny do produkcji tworzyw sztucznych | AC70: maszyny i urządzenia do obróbki metali | AD70: maszyny dla przemysłu spożywczego | AE70: Sprzęt Medyczny | AF70: Sprzęt Gastronom. | AG70: Wózki Widłowe | AH70: Magazyny energii | AI70: Pompy ciepła | AJ70: fotowoltaika | AK70: wiatraki i turbiny wiatrowe | AL70: stacje ładowania pojazdów elektrycznych (na użytek własny i komercyjny) | AM70: inne MiU | AN70: IT | AO70: Sprzęt | AP70: Oprogram. | AQ70: inne IT | AR70: POZOSTAŁE ŚRODKI TRANSPORTU | AS70: Powietrzne | AT70: Wodne | AU70: Kolejowe | AV70: Inne ruchomości | AW70: RUCHOMOŚCI | AX70: Nieruchomości | AY70: budynki przemysłowe | AZ70: obiekty handlowe i usługowe | BA70: obiekty biurowe | BB70: hotele i obiekty rekreacyjne | BC70: inne | BD70: OGÓŁEM
A71: 1 | B71: Alior Leasing Sp. z o. o. | C71: 123.46734 | D71: 116.97282 | G71: 94.396796 | H71: 73.210723 | K71: 186.51016 | N71: 189.80577 | Q71: 92.335802 | R71: 418.03878 | U71: 130.97303 | X71: 165.37167 | Y71: 140.22217 | Z71: 148.18727 | AA71: 2365.6251 | AB71: 281.48237 | AC71: 199.63001 | AD71: 80.496857 | AE71: 110.73649 | AG71: 48.936934 | AH71: 91.02699 | AI71: 319.1 | AJ71: 106.6923 | AM71: 182.35102 | AN71: 91.70396 | AO71: 91.70396 | AR71: 161.64722 | AT71: 134.9019 | AU71: 2354.763 | AW71: 133.76301 | BD71: 133.76301
A72: 2 | B72: BNP Paribas Lease Group Sp. z o. o. | C72: 227.05733 | D72: 263.90361 | E72: 177.1504 | G72: 238.88121 | H72: 181.39189 | K72: 300.53641 | N72: 284.26485 | Q72: 139.76665 | R72: 1280.3781 | X72: 265.72551 | Y72: 359.88214 | Z72: 318.29104 | AA72: 911.876 | AC72: 685.1715 | AD72: 252.13092 | AE72: 65.298325 | AF72: 137.9834 | AG72: 91.348968 | AH72: 44.310185 | AJ72: 119.56791 | AM72: 406.69336 | AN72: 42.617538 | AO72: 77.744354 | AP72: 39.521239 | AQ72: 12.482933 | AW72: 249.65999 | AX72: 240 | AY72: 240 | BD72: 249.65885
A73: 3 | B73: BOŚ LEASING S.A | C73: 166.49822 | D73: 163.74768 | G73: 173.54562 | H73: 173.54562 | Q73: 199.16265 | X73: 878.95488 | Y73: 622.15116 | Z73: 166.5 | AE73: 730.99596 | AM73: 1350 | AW73: 370.05727 | BD73: 370.05727
A74: 4 | B74: BPCE Equipment Solutions Polska Sp. z o.o. | C74: 274.72849 | D74: 219.43902 | N74: 436.69222 | Q74: 176.27084 | U74: 92.2185 | X74: 351.75912 | Y74: 518.81739 | Z74: 287.83943 | AD74: 3948.9873 | AE74: 884.74115 | AG74: 366.27335 | AJ74: 1665.8141 | AM74: 573.71795 | AN74: 924.31346 | AO74: 731.06094 | AP74: 2481.0699 | AW74: 470.6457 | BD74: 470.6457
A75: 5 | B75: BPS Leasing S.A. | C75: 132.60282 | D75: 98.422867 | E75: 211.941 | G75: 376.52727 | H75: 72 | K75: 478.03636 | N75: 194.19978 | Q75: 142.78657 | U75: 20 | V75: 20 | X75: 328.93015 | Y75: 851.73545 | Z75: 274.13044 | AD75: 315.6426 | AE75: 76.963067 | AM75: 449.00489 | AN75: 6.01512 | AQ75: 6.01512 | AV75: 142.73713 | AW75: 160.58483 | AX75: 1600 | BC75: 1600 | BD75: 168.28224
A76: 6 | B76: Caterpillar Financial Services Poland Sp. z o. o. | X76: 426.34226 | Y76: 426.34226 | AW76: 426.34226 | BD76: 426.34226
A77: 7 | B77: DE LAGE Landen Leasing Polska S.A. | C77: 171.28493 | D77: 187.5 | N77: 236.98035 | Q77: 156.46355 | X77: 437.1667 | Y77: 953.55743 | Z77: 404.00887 | AE77: 1305.4051 | AJ77: 206.78699 | AM77: 285.80946 | AN77: 1006.8293 | AO77: 1184.5638 | AP77: 706.06002 | AQ77: 118 | AW77: 432.36833 | BD77: 432.36833
A78: 8 | B78: Deutsche Leasing Polska S.A. | C78: 133.24481 | D78: 58 | G78: 238 | H78: 238 | N78: 158.53846 | Q78: 131.65929 | X78: 482.02013 | Z78: 389.17544 | AB78: 604 | AC78: 1268.1818 | AE78: 182.72727 | AG78: 60 | AM78: 984.63636 | AW78: 266.49487 | BD78: 266.49487
A79: 9 | B79: Europejski Fundusz Leasingowy S.A. | C79: 170.5987 | D79: 167.24462 | E79: 286.56666 | F79: 241.78862 | G79: 198.23283 | H79: 162.17143 | I79: 64.6 | K79: 265.01321 | N79: 196.21525 | Q79: 118.38816 | R79: 704.50038 | U79: 50.230376 | X79: 362.89235 | Y79: 256.85227 | Z79: 443.18204 | AA79: 957.31968 | AB79: 47.58341 | AC79: 333.77268 | AD79: 520.01532 | AE79: 128.95591 | AF79: 89.424516 | AG79: 97.987534 | AH79: 28.584145 | AI79: 36.924 | AJ79: 136.38103 | AM79: 157.09411 | AN79: 57.044111 | AO79: 36.759596 | AP79: 74.57813 | AQ79: 54.108634 | AR79: 142.15163 | AS79: 106.3575 | AT79: 144.22666 | AW79: 292.5615 | BD79: 292.5615
A80: 10 | B80: Impuls-Leasing Polska Sp. z o. o. | C80: 198.43426 | D80: 167.86231 | E80: 339.85 | F80: 459.15667 | G80: 230.89074 | H80: 211.25851 | I80: 168.83 | J80: 206.21 | K80: 362.70714 | N80: 339.76262 | Q80: 148.47014 | R80: 811.51 | U80: 158.53588 | X80: 232.73996 | Y80: 509.57556 | Z80: 229.26255 | AA80: 80.016667 | AC80: 651.0575 | AE80: 68.0968 | AF80: 42.533548 | AG80: 163.22 | AM80: 364.09391 | AN80: 99.98 | AO80: 99.98 | AR80: 281.125 | AT80: 281.125 | AW80: 206.34036 | BD80: 206.34036
A81: 11 | B81: ING Lease (Polska) Sp. z o. o. | C81: 165.64242 | D81: 98.63125 | N81: 149.25625 | U81: 1500 | X81: 1622.2549 | Y81: 1533.3333 | AA81: 4745.2 | AB81: 1791.9091 | AC81: 609.33333 | AD81: 1212.96 | AE81: 1081.25 | AG81: 124.66667 | AJ81: 867.75 | AM81: 1728.0417 | AV81: 459 | AW81: 509.44804 | BD81: 509.44804
A82: 12 | B82: Leasing Polski Sp. z o. o.
A83: 13 | B83: Mercedes-Benz Leasing Polska Sp. z o.o. | C83: 207.292 | D83: 216.06977 | E83: 167.1541 | F83: 243.62669 | G83: 168.7254 | H83: 164.90631 | I83: 164.78865 | K83: 242.65218 | L83: 26.93663 | N83: 124.76347 | AW83: 207.292 | BD83: 207.292
A84: 14 | B84: Millennium Leasing Sp. z o. o.
A85: 15 | B85: mLeasing Sp. z o. o. | C85: 84.431287 | D85: 98.873538 | E85: 35.304748 | F85: 147.7176 | G85: 259.73245 | H85: 49.468857 | K85: 277.25442 | N85: 447.85984 | Q85: 112.89023 | R85: 1074.8941 | U85: 5.987814 | V85: 5.4257859 | X85: 30.07 | Y85: 23.433042 | Z85: 181.6141 | AA85: 442.50942 | AB85: 2186.8688 | AC85: 41.306641 | AD85: 4572.8876 | AE85: 64.02078 | AF85: 1.8282566 | AG85: 13.87048 | AI85: 5.6571429 | AJ85: 166.59483 | AL85: 0.31010989 | AM85: 15.02236 | AN85: 2.2317074 | AO85: 2.667616 | AP85: 2.1784218 | AQ85: 0.60222802 | AR85: 4067.9515 | AS85: 565.58136 | AT85: 681.67166 | AU85: 21045.787 | AV85: 2.275016 | AW85: 12.450851 | BD85: 12.450851
A86: 16 | B86: NEST LEASING S.A | C86: 165.45005 | D86: 130.50732 | G86: 178.76736 | H86: 116.87537 | K86: 259.37088 | N86: 269.37717 | Q86: 111.09229 | R86: 616.48785 | U86: 50.709518 | X86: 243.50298 | Y86: 417.70284 | Z86: 254.90975 | AA86: 148.88039 | AB86: 856.62156 | AC86: 893.58781 | AD86: 1273.6665 | AE86: 117.46129 | AF86: 27.23514 | AG86: 76.374841 | AI86: 163.25483 | AJ86: 121.15773 | AM86: 205.01295 | AR86: 166.1227 | AT86: 166.1227 | AW86: 205.12556 | BD86: 205.12556
A87: 17 | B87: PEAC (Poland) Sp. z o. o. | C87: 127.82121 | D87: 143.2 | Q87: 126.82903 | X87: 155.26439 | Y87: 241.99677 | Z87: 179.125 | AB87: 47.677778 | AE87: 105.18 | AH87: 25 | AJ87: 67.5 | AM87: 112.83918 | AN87: 85.475 | AP87: 85.475 | AR87: 60.6 | AT87: 60.6 | AW87: 151.02781 | BD87: 151.02781
A88: 18 | B88: PEKAO Leasing Sp. z o. o. | C88: 243.00582 | D88: 156.66724 | E88: 145.14092 | G88: 127.02108 | H88: 79.454765 | I88: 261.36087 | K88: 465.58134 | N88: 412.18226 | Q88: 174.74187 | R88: 1094.3519 | U88: 546.68771 | V88: 108.5 | X88: 481.69545 | Y88: 966.62801 | Z88: 408.21918 | AA88: 747.06502 | AB88: 548.8605 | AC88: 922.45094 | AD88: 750.58657 | AE88: 223.97828 | AF88: 427.22604 | AG88: 160.14878 | AH88: 664.2 | AI88: 140.72922 | AJ88: 2375.1583 | AM88: 510.30118 | AN88: 791.91014 | AO88: 1160.2972 | AP88: 43.3781 | AQ88: 5.8687257 | AR88: 2775.1077 | AS88: 8605.5602 | AT88: 915.9589 | AU88: 156.94 | AV88: 217.11068 | AW88: 374.44444 | AX88: 7371.3778 | AZ88: 9239.842 | BA88: 231.42 | BB88: 6300 | BC88: 635 | BD88: 402.92936
A89: 19 | B89: PKO Leasing S.A. | C89: 190.50479 | D89: 149.56884 | E89: 127.7374 | F89: 201.86141 | G89: 234.56748 | H89: 187.752 | I89: 118.69649 | J89: 234.5049 | K89: 393.52236 | L89: 794.37377 | M89: 184.81 | N89: 330.48226 | Q89: 115.9555 | R89: 758.23996 | U89: 157.40324 | X89: 280.29428 | Y89: 574.33669 | Z89: 231.10644 | AA89: 2766.254 | AB89: 429.66826 | AC89: 914.52582 | AD89: 616.16212 | AE89: 119.62307 | AF89: 74.543027 | AG89: 224.40862 | AH89: 4146.4301 | AI89: 124.69067 | AJ89: 1551.7921 | AL89: 137.47912 | AM89: 319.363 | AN89: 156.8406 | AO89: 118.21913 | AP89: 83.424826 | AQ89: 433.85173 | AR89: 1592.4026 | AS89: 11403.246 | AT89: 1702.3982 | AU89: 1127.2196 | AV89: 371.91873 | AW89: 249.84839 | BD89: 249.84839
A90: 20 | B90: Santander Consumer Multirent Sp. z o.o. | C90: 119.06385 | D90: 121.52534 | G90: 107.91675 | H90: 107.91675 | U90: 45.770901 | AW90: 119.06385 | BD90: 119.06385
A91: 21 | B91: Santander Leasing S.A. | C91: 124.21048 | D91: 102.84918 | E91: 145.67016 | F91: 207.69334 | G91: 223.10322 | H91: 193.52875 | I91: 157.29112 | J91: 176 | K91: 307.81033 | N91: 397.26733 | Q91: 126.03943 | R91: 513.40105 | U91: 27.603357 | X91: 203.66835 | Y91: 384.71836 | Z91: 201.68284 | AA91: 3009.415 | AB91: 2041.8605 | AC91: 613.1522 | AD91: 1316.7358 | AE91: 78.763759 | AF91: 26.283777 | AG91: 135.18908 | AH91: 39.482641 | AI91: 223.79525 | AJ91: 450.27884 | AK91: 13.029 | AM91: 314.08143 | AN91: 466.39305 | AO91: 466.39305 | AR91: 263.33866 | AS91: 259.55648 | AT91: 265.86012 | AW91: 168.40213 | BD91: 168.40213
A92: 22 | B92: Scania Finance Polska Sp. z o. o. | C92: 395.88983 | G92: 470.64706 | K92: 470.64706 | N92: 458.4026 | Q92: 108.31915 | R92: 1743 | AW92: 395.88983 | BD92: 395.88983
A93: 23 | B93: SGB Leasing Sp. z o. o. | C93: 267.18919 | D93: 279.69444 | G93: 297.77778 | H93: 143.14286 | K93: 839 | N93: 205 | Q93: 206.58824 | R93: 529 | U93: 97 | X93: 427.23396 | Y93: 418 | Z93: 307.04945 | AB93: 4371 | AD93: 280.33333 | AE93: 105.21429 | AG93: 350 | AH93: 424.5 | AI93: 76 | AJ93: 151.6 | AM93: 1094.0263 | AN93: 57.333333 | AO93: 57.333333 | AW93: 389.35965 | AX93: 2908.1 | AY93: 2908.1 | BD93: 460.91477
A94: 24 | B94: Siemens Finance Sp. z o. o.
A95: 25 | B95: VEHIS FINANSE Sp. z o.o.
A96: 26 | B96: VELOLEASING S.A | C96: 108.74506 | D96: 109.79287 | Q96: 16 | U96: 67.291667 | AW96: 108.74506 | BD96: 108.74506
A97: 27 | B97: Razem | C97: 146.10921 | D97: 126.11942 | E97: 122.23594 | F97: 207.41283 | G97: 198.08467 | H97: 152.56906 | I97: 144.80488 | J97: 232.43824 | K97: 312.19757 | L97: 506.58484 | M97: 184.81 | N97: 318.38172 | Q97: 128.4371 | R97: 722.06895 | U97: 38.169746 | V97: 5.6763224 | X97: 187.67699 | Y97: 274.69413 | Z97: 294.50301 | AA97: 1870.1505 | AB97: 957.39528 | AC97: 181.90253 | AD97: 1089.1228 | AE97: 97.259606 | AF97: 3.2688325 | AG97: 80.736503 | AH97: 230.38866 | AI97: 66.77624 | AJ97: 575.88955 | AK97: 13.029 | AL97: 18.599311 | AM97: 104.52262 | AN97: 11.017808 | AO97: 11.471494 | AP97: 29.652658 | AQ97: 1.2479887 | AR97: 1014.3712 | AS97: 2695.7371 | AT97: 367.99509 | AU97: 2458.5543 | AV97: 2.543636 | AW97: 103.03507 | AX97: 4869.8329 | AY97: 2665.5455 | AZ97: 9239.842 | BA97: 231.42 | BB97: 6300 | BC97: 1117.5 | BD97: 103.77433
B99: Struktura wartościowa umów (ruchomości) | D99: I - IV kwartał 2025
A102: Lp. | B102: Spółka | C102: POJAZDY | D102: Osobowe | E102: osobowe - zeroemisyjne | F102: osobowe - hybryda plug-in | G102: Cięzarowe: | H102: o masie do 3,5 tony | I102: o masie do 3,5 tony - zeroemisyjne | J102: o masie do 3,5 tony - hybryda plug-in | K102: o masie powyzej 3,5 tony | L102: o masie powyżej 3,5 tony - zeroemisyjne | M102: o masie powyżej 3,5 tony - hybryda plug-in | N102: ciagniki siodlowe | O102: ciągniki siodłowe - zeroemisyjne | P102: ciągniki siodłowe - hybryda plug-in | Q102: naczepy / przyczepy | R102: autobusy | S102: autobusy - zeroemisyjne | T102: autobusy - hybryda plug-in | U102: inne | V102: inne - zeroemisyjne | W102: inne - hybryda plug-in | X102: MiU | Y102: Sprzęt Budowlany | Z102: Maszyny Rolnicze | AA102: Maszyny Poligraf. | AB102: maszyny do produkcji tworzyw sztucznych | AC102: maszyny i urządzenia do obróbki metali | AD102: maszyny dla przemysłu spożywczego | AE102: Sprzęt Medyczny | AF102: Sprzęt Gastronom. | AG102: Wózki Widłowe | AH102: Magazyny energii | AI102: Pompy ciepła | AJ102: fotowoltaika | AK102: wiatraki i turbiny wiatrowe | AL102: stacje ładowania pojazdów elektrycznych (na użytek własny i komercyjny) | AM102: inne MiU | AN102: IT | AO102: Sprzęt | AP102: Oprogram. | AQ102: inne IT | AR102: POZOSTAŁE ŚRODKI TRANSPORTU | AS102: Powietrzne | AT102: Wodne | AU102: Kolejowe | AV102: Inne ruchomości | AW102: RUCHOMOŚCI | AX102: Nieruchomości | AY102: budynki przemysłowe | AZ102: obiekty handlowe i usługowe | BA102: obiekty biurowe | BB102: hotele i obiekty rekreacyjne | BC102: inne | BD102: OGÓŁEM
A103: 1 | B103: Alior Leasing Sp. z o. o. | C103: 0.69031348 | D103: 0.38097773 | G103: 0.085043751 | H103: 0.053623449 | K103: 0.031420303 | N103: 0.12419468 | Q103: 0.058163244 | R103: 0.032660689 | U103: 0.009273393 | X103: 0.27536217 | Y103: 0.035947175 | Z103: 0.040521706 | AA103: 0.046205608 | AB103: 0.0054979397 | AC103: 0.018521162 | AD103: 0.0039306802 | AE103: 0.071376205 | AG103: 0.00059740046 | AH103: 0.00022224345 | AI103: 0.00077908635 | AJ103: 0.0023444145 | AM103: 0.049418547 | AN103: 0.001567274 | AO103: 0.001567274 | AR103: 0.032757075 | AT103: 0.027007894 | AU103: 0.0057491811 | AW103: 1 | AX103: 0 | BD103: 1
A104: 2 | B104: BNP Paribas Lease Group Sp. z o. o. | C104: 0.069620615 | D104: 0.0051119526 | E104: 0.0001673901 | F104: 0 | G104: 0.048416892 | H104: 0.019025167 | I104: 0 | J104: 0 | K104: 0.029391725 | L104: 0 | M104: 0 | N104: 0.0041633459 | O104: 0 | P104: 0 | Q104: 0.0095087556 | R104: 0.0024196685 | S104: 0 | T104: 0 | U104: 0 | V104: 0 | W104: 0 | X104: 0.92035229 | Y104: 0.029414673 | Z104: 0.81278887 | AA104: 0.00043081758 | AB104: 0 | AC104: 0.0012948424 | AD104: 0.0040500712 | AE104: 0.047756296 | AF104: 0.0002607621 | AG104: 0.00082000194 | AH104: 8.3737731e-05 | AI104: 0 | AJ104: 0.0013557622 | AK104: 0 | AL104: 0 | AM104: 0.022096452 | AN104: 0.0100271 | AO104: 0.0016896017 | AP104: 0.0082903174 | AQ104: 4.7180685e-05 | AR104: 0 | AS104: 0 | AT104: 0 | AU104: 0 | AV104: 0 | AW104: 1 | AX104: 0.00011338846 | AY104: 0.00011338846 | AZ104: 0 | BA104: 0 | BB104: 0 | BC104: 0 | BD104: 1.0001134
A105: 3 | B105: BOŚ LEASING S.A | C105: 0.3213754 | D105: 0.26865635 | G105: 0.033497831 | H105: 0.033497831 | Q105: 0.019221219 | X105: 0.6786246 | Y105: 0.060043907 | Z105: 0.016068941 | AE105: 0.21164561 | AM105: 0.39086614 | AN105: 0 | AR105: 0 | AW105: 1 | AX105: 0 | BD105: 1
A106: 4 | B106: BPCE Equipment Solutions Polska Sp. z o.o. | C106: 0.056082003 | D106: 0.00063092149 | G106: 0 | N106: 0.033900077 | Q106: 0.021285862 | U106: 0.00026514261 | X106: 0.51073804 | Y106: 0.102926 | Z106: 0.32855059 | AD106: 0.011353956 | AE106: 0.012718846 | AG106: 0.0042123726 | AJ106: 0.004789476 | AM106: 0.046186807 | AN106: 0.43317995 | AO106: 0.3047776 | AP106: 0.12840235 | AR106: 0 | AW106: 1 | AX106: 0 | BD106: 1
A107: 5 | B107: BPS Leasing S.A. | C107: 0.68812448 | D107: 0.20430088 | E107: 0.0070957372 | G107: 0.050424194 | H107: 0.0024105439 | K107: 0.048013651 | N107: 0.045512357 | Q107: 0.38721745 | U107: 0.00066959552 | V107: 0.00066959552 | X107: 0.29733771 | Y107: 0.057031824 | Z107: 0.14684521 | AD107: 0.010567644 | AE107: 0.0077301187 | AM107: 0.075162916 | AN107: 0.00020138487 | AQ107: 0.00020138487 | AR107: 0 | AV107: 0.014336422 | AW107: 1 | AX107: 0.053567641 | BC107: 0.053567641 | BD107: 1.0535676
A108: 6 | B108: Caterpillar Financial Services Poland Sp. z o. o. | C108: 0 | G108: 0 | X108: 1 | Y108: 1 | AN108: 0 | AR108: 0 | AW108: 1 | AX108: 0 | BD108: 1
A109: 7 | B109: DE LAGE Landen Leasing Polska S.A. | C109: 0.019190905 | D109: 0.00030010937 | G109: 0 | N109: 0.0047413349 | Q109: 0.014149461 | X109: 0.94777305 | Y109: 0.03205121 | Z109: 0.81639543 | AE109: 0.085665795 | AG109: 0 | AJ109: 0.0001654899 | AM109: 0.013495124 | AN109: 0.033036041 | AO109: 0.025595905 | AP109: 0.0073457012 | AQ109: 9.4434414e-05 | AR109: 0 | AW109: 1 | AX109: 0 | BD109: 1
A110: 8 | B110: Deutsche Leasing Polska S.A. | C110: 0.30896828 | D110: 0.00055805182 | G110: 0.0022899368 | H110: 0.0022899368 | N110: 0.019830083 | Q110: 0.28629021 | X110: 0.69103172 | Z110: 0.42687116 | AB110: 0.0058114362 | AC110: 0.13422108 | AE110: 0.019339382 | AG110: 0.00057729499 | AM110: 0.10421137 | AN110: 0 | AR110: 0 | AW110: 1 | AX110: 0 | BD110: 1
A111: 9 | B111: Europejski Fundusz Leasingowy S.A. | C111: 0.19249599 | D111: 0.082111068 | E111: 0.0022626208 | F111: 0.00034710373 | G111: 0.032868584 | H111: 0.017460595 | I111: 4.636881e-05 | K111: 0.01540799 | N111: 0.044364617 | Q111: 0.02719266 | R111: 0.0055624657 | U111: 0.00039659985 | X111: 0.79784447 | Y111: 0.049593998 | Z111: 0.65657641 | AA111: 0.0089329267 | AB111: 6.8309167e-05 | AC111: 0.0074268716 | AD111: 0.0082116844 | AE111: 0.017586859 | AF111: 0.0030168095 | AG111: 0.0009846736 | AH111: 4.1034451e-05 | AI111: 0.00013251718 | AJ111: 0.0018599488 | AM111: 0.043412428 | AN111: 0.0022110471 | AO111: 0.00047493772 | AP111: 0.0012312118 | AQ111: 0.00050489765 | AR111: 0.0074484884 | AS111: 0.00030536661 | AT111: 0.0071431218 | AW111: 1 | AX111: 0 | BD111: 1
A112: 10 | B112: Impuls-Leasing Polska Sp. z o. o. | C112: 0.73918015 | D112: 0.31793603 | E112: 0.017126891 | F112: 0.0057848509 | G112: 0.052361285 | H112: 0.041698659 | I112: 0.00070902188 | J112: 0.00086600368 | K112: 0.010662626 | N112: 0.20118923 | Q112: 0.13592697 | R112: 0.020448203 | U112: 0.011318438 | X112: 0.25803873 | Y112: 0.057780643 | Z112: 0.049103597 | AA112: 0.0010081188 | AC112: 0.021873554 | AE112: 0.021448552 | AF112: 0.0055373672 | AG112: 0.0034273101 | AM112: 0.097859592 | AN112: 0.00041987803 | AO112: 0.00041987803 | AR112: 0.0023612365 | AT112: 0.0023612365 | AW112: 1 | AX112: 0 | BD112: 1
...

Sheet leasing I-IV kw 2025
B2: Związek Polskiego Leasingu, Warszawa 01-07-2026
B4: Wartość środków oddanych w leasing w | D4: I - IV kwartał 2025
A7: Lp. | B7: Spółka | C7: POJAZDY | D7: Osobowe | E7: osobowe - zeroemisyjne | F7: osobowe - hybryda plug-in | G7: Cięzarowe: | H7: o masie do 3,5 tony | I7: o masie do 3,5 tony - zeroemisyjne | J7: o masie do 3,5 tony - hybryda plug-in | K7: o masie powyzej 3,5 tony | L7: o masie powyżej 3,5 tony - zeroemisyjne | M7: o masie powyżej 3,5 tony - hybryda plug-in | N7: ciagniki siodlowe | O7: ciągniki siodłowe - zeroemisyjne | P7: ciągniki siodłowe - hybryda plug-in | Q7: naczepy / przyczepy | R7: autobusy | S7: autobusy - zeroemisyjne | T7: autobusy - hybryda plug-in | U7: inne | V7: inne - zeroemisyjne | W7: inne - hybryda plug-in | X7: MiU | Y7: Sprzęt Budowlany | Z7: Maszyny Rolnicze | AA7: Maszyny Poligraf. | AB7: maszyny do produkcji tworzyw sztucznych | AC7: maszyny i urządzenia do obróbki metali | AD7: maszyny dla przemysłu spożywczego | AE7: Sprzęt Medyczny | AF7: Sprzęt Gastronom. | AG7: Wózki Widłowe | AH7: Magazyny energii | AI7: Pompy ciepła | AJ7: fotowoltaika | AK7: wiatraki i turbiny wiatrowe | AL7: stacje ładowania pojazdów elektrycznych (na użytek własny i komercyjny) | AM7: inne MiU | AN7: IT | AO7: Sprzęt | AP7: Oprogram. | AQ7: inne IT | AR7: POZOSTAŁE ŚRODKI TRANSPORTU | AS7: Powietrzne | AT7: Wodne | AU7: Kolejowe | AV7: Inne ruchomości | AW7: RUCHOMOŚCI | AX7: Nieruchomości | AY7: budynki przemysłowe | AZ7: obiekty handlowe i usługowe | BA7: obiekty biurowe | BB7: hotele i obiekty rekreacyjne | BC7: inne | BD7: OGÓŁEM
A8: 1 | B8: Alior Leasing Sp. z o. o. | C8: 2717553.3 | D8: 1216936.9 | G8: 510847.85 | H8: 309418.44 | K8: 201429.41 | N8: 501382.31 | Q8: 254159.73 | R8: 170542.98 | U8: 63683.505 | X8: 591890.97 | Y8: 247299.58 | Z8: 71935.728 | AA8: 11669.472 | AB8: 7127.2913 | AC8: 48018.054 | AD8: 37765.279 | AE8: 33100.827 | AF8: 988.77879 | AG8: 1316.3859 | AH8: 325.4 | AI8: 105.78057 | AJ8: 5258.3595 | AM8: 126980.03 | AN8: 3654.7626 | AO8: 3654.7626 | AR8: 51133.29 | AS8: 1133.2013 | AT8: 17099.411 | AU8: 32900.678 | AW8: 3364232.3 | AX8: 0 | BD8: 3364232.3
A9: 2 | B9: BNP Paribas Lease Group Sp. z o. o. | C9: 2446948 | D9: 1751782.8 | E9: 74668.25 | F9: 32000.679 | G9: 513429.38 | H9: 253938.82 | I9: 3352.6321 | J9: 0 | K9: 259490.55 | L9: 7231.7841 | M9: 0 | N9: 118874.38 | O9: 0 | P9: 0 | Q9: 43548.859 | R9: 3094.7466 | S9: 0 | T9: 0 | U9: 16217.869 | V9: 310.94543 | W9: 0 | X9: 869877.15 | Y9: 196535.44 | Z9: 117734.96 | AA9: 8831.6647 | AB9: 58695.159 | AC9: 18636.309 | AD9: 30371.117 | AE9: 24778.469 | AF9: 786.39439 | AG9: 102950.77 | AH9: 51.22 | AI9: 0 | AJ9: 6649.7849 | AK9: 0 | AL9: 0 | AM9: 303855.87 | AN9: 103001.3 | AO9: 73897.656 | AP9: 22861.978 | AQ9: 6241.6661 | AR9: 0 | AS9: 0 | AT9: 0 | AU9: 0 | AV9: 0 | AW9: 3419826.5 | AX9: 73981.277 | AY9: 6600 | AZ9: 67381.277 | BA9: 0 | BB9: 0 | BC9: 0 | BD9: 3493807.8
A10: 3 | B10: BOŚ LEASING S.A | C10: 23684.818 | D10: 8419.6524 | G10: 1010.037 | H10: 1010.037 | N10: 5161.6741 | Q10: 1525.8943 | R10: 1639.577 | U10: 5927.9829 | X10: 65091.178 | Y10: 9442.0745 | Z10: 2014.3 | AA10: 185.60182 | AB10: 3041.89 | AC10: 2095.1172 | AD10: 4640.7998 | AE10: 351.85185 | AG10: 1780 | AJ10: 530.21289 | AM10: 41009.33 | AN10: 3029.38 | AO10: 3029.38 | AR10: 11663.984 | AT10: 83.98374 | AU10: 11580 | AV10: 1452 | AW10: 104921.36 | AX10: 0 | BD10: 104921.36
A11: 4 | B11: BPCE Equipment Solutions Polska Sp. z o.o. | C11: 217310.37 | D11: 4777.2586 | G11: 69068.294 | H11: 5415.4799 | K11: 63652.814 | N11: 78461.871 | Q11: 51141.547 | R11: 8282.9269 | U11: 5578.4731 | X11: 222604.52 | Y11: 148824.55 | Z11: 18525.454 | AA11: 10480.845 | AB11: 6785.7689 | AC11: 10777.161 | AD11: 94.1454 | AE11: 120.02 | AG11: 3884.7336 | AJ11: 4977.7472 | AM11: 18134.096 | AN11: 19597.068 | AO11: 19597.068 | AR11: 40604.836 | AS11: 40604.836 | AW11: 500116.8 | AX11: 0 | BD11: 500116.8
A12: 5 | B12: BPS Leasing S.A. | C12: 308559.95 | D12: 90795.82 | E12: 4079.3703 | G12: 51403.438 | H12: 21983.296 | I12: 73.98374 | K12: 29420.142 | L12: 333.7 | N12: 75015.274 | Q12: 40142.328 | R12: 37039.392 | U12: 14163.698 | X12: 62195.843 | Y12: 23079.716 | Z12: 5441.2253 | AA12: 410.4 | AB12: 7740.5525 | AC12: 2229.0811 | AD12: 1916.2957 | AE12: 1030.6848 | AG12: 7420.7608 | AJ12: 495.83334 | AM12: 12431.293 | AN12: 455.10533 | AO12: 455.10533 | AR12: 14759.203 | AS12: 4403.6181 | AT12: 355.58536 | AU12: 10000 | AV12: 1598.4992 | AW12: 387568.6 | AX12: 96903.929 | BC12: 96903.929 | BD12: 484472.53
A13: 6 | B13: Caterpillar Financial Services Poland Sp. z o. o. | C13: 0 | G13: 0 | X13: 376809.81 | Y13: 376809.81 | AN13: 0 | AR13: 0 | AW13: 376809.81 | AX13: 0 | BD13: 376809.81
A14: 7 | B14: DE LAGE Landen Leasing Polska S.A. | C14: 17755.616 | G14: 0 | N14: 15132.683 | Q14: 2622.9328 | X14: 69109.312 | Y14: 23415.406 | Z14: 36700.132 | AE14: 1288.9676 | AG14: 4259.6203 | AJ14: 0 | AM14: 3445.1868 | AN14: 21943.943 | AO14: 21943.943 | AP14: 0 | AQ14: 0 | AR14: 0 | AW14: 108808.87 | AX14: 0 | BD14: 108808.87
A15: 8 | B15: Deutsche Leasing Polska S.A. | C15: 108535 | D15: 2467 | G15: 18379 | H15: 125 | K15: 18254 | N15: 16361 | Q15: 65860 | U15: 5468 | X15: 741747 | Y15: 11592 | Z15: 15683 | AB15: 962 | AC15: 61871 | AD15: 803 | AE15: 2767 | AG15: 181883 | AM15: 466186 | AN15: 0 | AR15: 0 | AW15: 850282 | AX15: 0 | BD15: 850282
A16: 9 | B16: Europejski Fundusz Leasingowy S.A. | C16: 6671059 | D16: 2820723 | E16: 72845.8 | F16: 54156.139 | G16: 1609449.2 | H16: 802263.6 | I16: 34014.987 | J16: 327.5 | K16: 807185.64 | L16: 1453.1764 | N16: 1388719.1 | Q16: 619686.5 | R16: 164043.67 | U16: 68437.61 | V16: 139.34959 | X16: 2263575.9 | Y16: 873173.18 | Z16: 322614.85 | AA16: 26726.786 | AB16: 35797.707 | AC16: 126126.19 | AD16: 35600.182 | AE16: 27047.903 | AF16: 109999.89 | AG16: 63670.241 | AH16: 3007.0365 | AI16: 1831.7544 | AJ16: 40081.449 | AL16: 1801.8778 | AM16: 596096.81 | AN16: 118756.15 | AO16: 69965.28 | AP16: 24197.271 | AQ16: 24593.596 | AR16: 17048.249 | AS16: 5419.4131 | AT16: 11628.836 | AW16: 9070439.3 | AX16: 0 | BD16: 9070439.3
A17: 10 | B17: Impuls-Leasing Polska Sp. z o. o. | C17: 953952.65 | D17: 481275.4 | E17: 17224.55 | F17: 21108.18 | G17: 159915.5 | H17: 101803.86 | I17: 784.67 | J17: 526.84 | K17: 58111.64 | N17: 194732.79 | Q17: 85870.16 | R17: 9053.81 | U17: 23104.99 | V17: 301.39 | X17: 258613.99 | Y17: 64635.62 | Z17: 22087.94 | AA17: 5738.47 | AB17: 2010.75 | AC17: 26710.68 | AE17: 5029.93 | AF17: 19825.12 | AG17: 21346.58 | AJ17: 216.86 | AM17: 91012.04 | AN17: 5077.86 | AO17: 5077.86 | AR17: 680.69 | AT17: 680.69 | AW17: 1218325.2 | AX17: 0 | BD17: 1218325.2
A18: 11 | B18: ING Lease (Polska) Sp. z o. o. | C18: 3903776 | D18: 1739923 | E18: 43872 | F18: 71534 | G18: 774780 | H18: 452856 | I18: 3054 | J18: 200 | K18: 321924 | L18: 1564 | M18: 0 | N18: 659460 | O18: 0 | P18: 0 | Q18: 471042 | R18: 162760 | S18: 7208 | T18: 0 | U18: 95811 | V18: 931 | W18: 0 | X18: 1825977 | Y18: 238825 | Z18: 50586 | AA18: 108875 | AB18: 126952 | AC18: 318499 | AD18: 145277 | AE18: 52335 | AF18: 69926 | AG18: 152177 | AH18: 1433 | AI18: 761 | AJ18: 22618 | AK18: 0 | AL18: 3260 | AM18: 534453 | AN18: 36811 | AO18: 36811 | AP18: 0 | AQ18: 0 | AR18: 220615 | AS18: 50895 | AT18: 2798 | AU18: 166922 | AV18: 189225 | AW18: 6176404 | AX18: 10100 | AY18: 0 | AZ18: 0 | BA18: 9650 | BB18: 0 | BC18: 450 | BD18: 6186504
A19: 12 | B19: Leasing Polski Sp. z o. o. | C19: 160121.04 | D19: 33539.132 | F19: 5557.8341 | G19: 38513.91 | H19: 18134.242 | K19: 20379.667 | N19: 36789.298 | Q19: 26883.646 | R19: 8988.9992 | U19: 15406.059 | V19: 21920.151 | W19: 5000.7504 | X19: 29396.952 | Y19: 21920.151 | Z19: 5000.7504 | AG19: 946.25 | AM19: 1529.8 | AN19: 0 | AR19: 143.17074 | AT19: 143.17074 | AW19: 189661.17 | AX19: 592.256 | BB19: 592.256 | BD19: 190253.42
A20: 13 | B20: Mercedes-Benz Leasing Polska Sp. z o.o. | C20: 3556436.8 | D20: 3160202 | E20: 410115.16 | F20: 287935.14 | G20: 318191.58 | H20: 308395.17 | I20: 24140.655 | K20: 9796.4091 | L20: 1127.1721 | N20: 43026.769 | Q20: 2562.4195 | R20: 27300.151 | U20: 5153.8968 | X20: 0 | AN20: 0 | AR20: 0 | AW20: 3556436.8 | AX20: 0 | BD20: 3556436.8
A21: 14 | B21: Millennium Leasing Sp. z o. o. | C21: 2500928.5 | D21: 1061661.5 | E21: 39591.035 | F21: 2273.3933 | G21: 481859.07 | H21: 247380.4 | I21: 14321.205 | J21: 0 | K21: 234478.67 | L21: 2109.25 | M21: 411.061 | N21: 548475.84 | O21: 1028.1 | P21: 799.11263 | Q21: 209635.28 | R21: 124507.69 | S21: 800 | T21: 0 | U21: 74789.105 | V21: 603.16423 | W21: 0 | X21: 1168429.2 | Y21: 246474.54 | Z21: 29716.923 | AA21: 49484.372 | AB21: 211705.42 | AC21: 0 | AD21: 135438.93 | AE21: 27436.242 | AF21: 7411.7358 | AG21: 84136.895 | AH21: 0 | AI21: 540.5793 | AJ21: 41879.723 | AK21: 0 | AL21: 124.2 | AM21: 334079.59 | AN21: 46731.902 | AO21: 46613.702 | AP21: 118.2 | AQ21: 0 | AR21: 128830.07 | AS21: 0 | AT21: 7623.8059 | AU21: 121206.27 | AV21: 0 | AW21: 3844919.7 | AX21: 15980.719 | AY21: 0 | AZ21: 0 | BA21: 14382.688 | BB21: 0 | BC21: 1598.0309 | BD21: 3860900.4
A22: 15 | B22: mLeasing Sp. z o. o. | C22: 4883495.4 | D22: 3928231.2 | E22: 203472.52 | F22: 604463.27 | G22: 439957.65 | H22: 247154.47 | I22: 2429.2516 | J22: 2261.3255 | K22: 192803.18 | L22: 0 | M22: 0 | N22: 245142.72 | O22: 0 | P22: 0 | Q22: 136230.83 | R22: 101785.01 | S22: 536 | T22: 13090 | U22: 32148.016 | V22: 11669.689 | W22: 0 | X22: 1243266.3 | Y22: 281185.92 | Z22: 105365.6 | AA22: 33278.542 | AB22: 67816.293 | AC22: 144331.75 | AD22: 47458.292 | AE22: 59334.613 | AF22: 15605.772 | AG22: 101655.53 | AH22: 5567.8567 | AI22: 317.29895 | AJ22: 16048.701 | AK22: 0 | AL22: 441.92 | AM22: 364858.22 | AN22: 121644.17 | AO22: 116939.98 | AP22: 3100.45 | AQ22: 1603.74 | AR22: 348031.06 | AS22: 192543.55 | AT22: 115087.28 | AU22: 40400.239 | AV22: 98325.339 | AW22: 6694762.3 | AX22: 180613.97 | AY22: 0 | AZ22: 180613.97 | BA22: 0 | BB22: 0 | BC22: 0 | BD22: 6875376.2
A23: 16 | B23: NEST LEASING S.A | C23: 641654.32 | D23: 187004.81 | G23: 117435.66 | H23: 44524.005 | K23: 72911.65 | N23: 173480.81 | Q23: 83460.881 | R23: 57139.84 | U23: 23132.317 | X23: 249776.33 | Y23: 134611.03 | Z23: 49261.418 | AA23: 4288.2808 | AB23: 177 | AC23: 4262.7519 | AD23: 3500.7825 | AE23: 9723.8828 | AF23: 763.13359 | AG23: 4712.3565 | AH23: 0 | AI23: 0 | AJ23: 274.17374 | AK23: 0 | AL23: 0 | AM23: 38201.518 | AN23: 43.13902 | AO23: 43.13902 | AP23: 0 | AQ23: 0 | AR23: 2742.2915 | AS23: 0 | AT23: 2742.2915 | AU23: 0 | AV23: 0 | AW23: 894216.08 | AX23: 0 | BD23: 894216.08
A24: 17 | B24: PEAC (Poland) Sp. z o. o. | C24: 21729.5 | D24: 2959.1 | G24: 2260.8 | H24: 1205.2 | K24: 1055.6 | N24: 1324.2 | Q24: 10730.3 | R24: 2485.9 | U24: 1969.2 | X24: 86849.3 | Y24: 5028.2 | Z24: 11440.2 | AA24: 1322.7 | AB24: 769.9 | AC24: 3757.1 | AD24: 965.1 | AE24: 7197.3 | AF24: 418.9 | AG24: 1287 | AH24: 1922.9 | AJ24: 66.7 | AM24: 52673.3 | AN24: 4330.2 | AO24: 4330.2 | AR24: 0 | AW24: 112909 | AX24: 0 | BD24: 112909
A25: 18 | B25: PEKAO Leasing Sp. z o. o. | C25: 4337688.7 | D25: 2132631.3 | E25: 35322.045 | F25: 63886.658 | G25: 669116.66 | H25: 311055.16 | I25: 3918.3267 | J25: 2034.2226 | K25: 358061.5 | L25: 871.9 | M25: 0 | N25: 823882.69 | O25: 0 | P25: 0 | Q25: 322527.65 | R25: 275143.07 | S25: 0 | T25: 0 | U25: 114387.29 | V25: 351.99698 | W25: 0 | X25: 1824669.6 | Y25: 308249.62 | Z25: 66629.538 | AA25: 38426.91 | AB25: 119754.78 | AC25: 278709.32 | AD25: 76130.679 | AE25: 23130.719 | AF25: 14705.558 | AG25: 83214.461 | AH25: 458.8029 | AI25: 1135.745 | AJ25: 30143.014 | AK25: 0 | AL25: 0 | AM25: 783980.41 | AN25: 109940.4 | AO25: 73108.284 | AP25: 1858.6273 | AQ25: 34973.486 | AR25: 157689.96 | AS25: 35070.217 | AT25: 119619.74 | AU25: 3000 | AV25: 71728.833 | AW25: 6501717.4 | AX25: 250387.11 | AY25: 0 | AZ25: 94812.297 | BA25: 122500.46 | BB25: 0 | BC25: 33074.353 | BD25: 6752104.5
A26: 19 | B26: PKO Leasing S.A. | C26: 10762725 | D26: 6892500 | E26: 413855.8 | F26: 187328.06 | G26: 1694319.1 | H26: 1063538.7 | I26: 14878.847 | J26: 4377.0702 | K26: 630780.32 | L26: 1670.248 | N26: 1132925.2 | O26: 2196.9956 | Q26: 677957.65 | R26: 269924.83 | S26: 2658.263 | U26: 95097.929 | V26: 926.20708 | X26: 2466680.4 | Y26: 575059.91 | Z26: 174556.65 | AA26: 73233.872 | AB26: 85334.867 | AC26: 251534.8 | AD26: 139052.5 | AE26: 76279.006 | AF26: 14930.935 | AG26: 141587.79 | AH26: 242.52032 | AI26: 629.10804 | AJ26: 11465.938 | AK26: 62.5 | AL26: 1380.0917 | AM26: 921329.95 | AN26: 115335.81 | AO26: 80501.681 | AP26: 497.27883 | AQ26: 34336.854 | AR26: 464800.93 | AS26: 100870.55 | AT26: 58590.429 | AU26: 305339.95 | AW26: 13809542 | AX26: 0 | BD26: 13809542
A27: 20 | B27: Santander Consumer Multirent Sp. z o.o. | C27: 1998250.9 | D27: 1736317 | G27: 214865.39 | H27: 214865.39 | U27: 47068.519 | X27: 0 | AN27: 0 | AR27: 0 | AW27: 1998250.9 | AX27: 0 | BD27: 1998250.9
A28: 21 | B28: Santander Leasing S.A. | C28: 4374728.4 | D28: 2823903.2 | E28: 86595.088 | F28: 22768.266 | G28: 792495.26 | H28: 560748.22 | I28: 6854.6406 | J28: 4720.3356 | K28: 231747.04 | L28: 570.853 | M28: 0 | N28: 443005.75 | O28: 0 | P28: 0 | Q28: 215062.83 | R28: 72406.576 | S28: 19746.368 | T28: 0 | U28: 27854.785 | V28: 115.439 | W28: 0 | X28: 1405861.7 | Y28: 208178.76 | Z28: 113786.07 | AA28: 71564.779 | AB28: 63203.024 | AC28: 82245.147 | AD28: 56952.486 | AE28: 53882.426 | AF28: 31185.554 | AG28: 112365.89 | AH28: 1945.3382 | AI28: 442.4705 | AJ28: 19193.807 | AK28: 0 | AL28: 3618.1864 | AM28: 587297.8 | AN28: 27263.174 | AO28: 27263.174 | AP28: 0 | AQ28: 0 | AR28: 27794.413 | AS28: 17069.261 | AT28: 5506.8424 | AU28: 5218.3101 | AV28: 0 | AW28: 5835647.8 | AX28: 0 | AY28: 0 | AZ28: 0 | BA28: 0 | BB28: 0 | BC28: 0 | BD28: 5835647.8
A29: 22 | B29: Scania Finance Polska Sp. z o. o. | C29: 887047 | D29: 1126 | G29: 123855 | H29: 4254 | K29: 119601 | N29: 662437 | Q29: 67597 | R29: 31591 | U29: 441 | X29: 0 | AN29: 0 | AR29: 0 | AW29: 887047 | AX29: 0 | BD29: 887047
A30: 23 | B30: SGB Leasing Sp. z o. o. | C30: 73303 | D30: 36344 | E30: 128 | F30: 8505 | G30: 11584 | H30: 7632 | K30: 3952 | N30: 11181 | Q30: 3960 | R30: 5024 | U30: 5210 | X30: 54810 | Y30: 14378 | Z30: 4554 | AA30: 200 | AB30: 5267 | AC30: 661 | AD30: 1970 | AE30: 242 | AF30: 182 | AG30: 742 | AJ30: 1182 | AM30: 25432 | AN30: 60 | AO30: 60 | AR30: 9040 | AU30: 9040 | AW30: 137213 | AX30: 0 | BD30: 137213
A31: 24 | B31: Siemens Finance Sp. z o. o. | C31: 20737 | D31: 2928 | E31: 341 | F31: 285 | G31: 4031 | K31: 4031 | N31: 9288 | Q31: 4490 | X31: 611312 | Y31: 63592 | Z31: 24185 | AA31: 24309 | AB31: 10668 | AC31: 52331 | AD31: 3100 | AE31: 334366 | AF31: 29 | AG31: 12889 | AJ31: 192 | AL31: 858 | AM31: 84793 | AN31: 151593 | AO31: 139008 | AQ31: 12585 | AR31: 0 | AW31: 783642 | AX31: 0 | BD31: 783642
A32: 25 | B32: VEHIS FINANSE Sp. z o.o. | C32: 2097793.7 | D32: 1812335 | E32: 67524.93 | F32: 163921.13 | G32: 285458.67 | H32: 285458.67 | I32: 2673.29 | J32: 1150.6 | X32: 0 | AN32: 0 | AR32: 0 | AW32: 2097793.7 | AX32: 0 | BD32: 2097793.7
A33: 26 | B33: VELOLEASING S.A | C33: 326244 | D33: 294618 | G33: 4264 | K33: 4264 | N33: 8101 | Q33: 4982 | U33: 14279 | X33: 0 | AN33: 0 | AR33: 0 | AW33: 326244 | AX33: 0 | BD33: 326244
A34: 27 | B34: Razem | C34: 54012018 | D34: 32223401 | E34: 1469635.5 | F34: 1525722.8 | G34: 8906490.4 | H34: 5263160.2 | I34: 110496.49 | J34: 15597.894 | K34: 3643330.2 | L34: 16932.084 | M34: 411.061 | N34: 7192361.3 | O34: 3225.0956 | P34: 799.11263 | Q34: 3401680.4 | R34: 1532754.2 | S34: 30948.631 | T34: 13090 | U34: 755330.24 | V34: 37269.333 | W34: 5000.7504 | X34: 16488544 | Y34: 4072310.5 | Z34: 1247819.7 | AA34: 469026.7 | AB34: 813809.41 | AC34: 1432795.5 | AD34: 721036.59 | AE34: 739442.84 | AF34: 286758.77 | AG34: 1084226.3 | AH34: 14954.075 | AI34: 5763.7367 | AJ34: 201274.3 | AK34: 62.5 | AL34: 11484.276 | AM34: 5387779.2 | AN34: 889268.36 | AO34: 722300.21 | AP34: 52633.805 | AQ34: 114334.34 | AR34: 1495577.1 | AS34: 448009.64 | AT34: 341960.06 | AU34: 705607.44 | AV34: 362329.67 | AW34: 73247737 | AX34: 628559.26 | AY34: 6600 | AZ34: 342807.55 | BA34: 146533.15 | BB34: 592.256 | BC34: 132026.31 | BD34: 73876297
B36: Ilość środków oddanych w leasing w | C36: I - IV kwartał 2025
A38: Lp. | B38: Spółka | C38: POJAZDY | D38: Osobowe | E38: osobowe - zeroemisyjne | F38: osobowe - hybryda plug-in | G38: Cięzarowe: | H38: o masie do 3,5 tony | I38: o masie do 3,5 tony - zeroemisyjne | J38: o masie do 3,5 tony - hybryda plug-in | K38: o masie powyzej 3,5 tony | L38: o masie powyżej 3,5 tony - zeroemisyjne | M38: o masie powyżej 3,5 tony - hybryda plug-in | N38: ciagniki siodlowe | O38: ciągniki siodłowe - zeroemisyjne | P38: ciągniki siodłowe - hybryda plug-in | Q38: naczepy / przyczepy | R38: autobusy | S38: autobusy - zeroemisyjne | T38: autobusy - hybryda plug-in | U38: inne | V38: inne - zeroemisyjne | W38: inne - hybryda plug-in | X38: MiU | Y38: Sprzęt Budowlany | Z38: Maszyny Rolnicze | AA38: Maszyny Poligraf. | AB38: maszyny do produkcji tworzyw sztucznych | AC38: maszyny i urządzenia do obróbki metali | AD38: maszyny dla przemysłu spożywczego | AE38: Sprzęt Medyczny | AF38: Sprzęt Gastronom. | AG38: Wózki Widłowe | AH38: Magazyny energii | AI38: Pompy ciepła | AJ38: fotowoltaika | AK38: wiatraki i turbiny wiatrowe | AL38: stacje ładowania pojazdów elektrycznych (na użytek własny i komercyjny) | AM38: inne MiU | AN38: IT | AO38: Sprzęt | AP38: Oprogram. | AQ38: inne IT | AR38: POZOSTAŁE ŚRODKI TRANSPORTU | AS38: Powietrzne | AT38: Wodne | AU38: Kolejowe | AV38: Inne ruchomości | AW38: RUCHOMOŚCI | AX38: Nieruchomości | AY38: budynki przemysłowe | AZ38: obiekty handlowe i usługowe | BA38: obiekty biurowe | BB38: hotele i obiekty rekreacyjne | BC38: inne | BD38: OGÓŁEM
A39: 1 | B39: Alior Leasing Sp. z o. o. | C39: 19553 | D39: 9259 | G39: 4331 | H39: 3466 | K39: 865 | N39: 2984 | Q39: 2280 | R39: 413 | U39: 286 | X39: 4745 | Y39: 1567 | Z39: 401 | AA39: 103 | AB39: 48 | AC39: 342 | AD39: 261 | AE39: 601 | AF39: 18 | AG39: 21 | AH39: 4 | AI39: 2 | AJ39: 56 | AM39: 1321 | AN39: 64 | AO39: 64 | AR39: 130 | AS39: 5 | AT39: 70 | AU39: 55 | AW39: 24492 | AX39: 0 | BD39: 24492
A40: 2 | B40: BNP Paribas Lease Group Sp. z o. o. | C40: 17712 | D40: 14409 | E40: 562 | F40: 241 | G40: 2524 | H40: 1672 | I40: 20 | J40: 0 | K40: 852 | L40: 18 | M40: 0 | N40: 316 | O40: 0 | P40: 0 | Q40: 172 | R40: 5 | S40: 0 | T40: 0 | U40: 286 | V40: 5 | W40: 0 | X40: 3243 | Y40: 764 | Z40: 286 | AA40: 22 | AB40: 34 | AC40: 60 | AD40: 26 | AE40: 358 | AF40: 15 | AG40: 940 | AH40: 1 | AI40: 0 | AJ40: 24 | AK40: 0 | AL40: 0 | AM40: 713 | AN40: 478 | AO40: 350 | AP40: 121 | AQ40: 7 | AR40: 0 | AS40: 0 | AT40: 0 | AU40: 0 | AV40: 0 | AW40: 21433 | AX40: 5 | AY40: 1 | AZ40: 4 | BA40: 0 | BB40: 0 | BC40: 0 | BD40: 21438
A41: 3 | B41: BOŚ LEASING S.A | C41: 107 | D41: 57 | G41: 7 | H41: 7 | N41: 16 | Q41: 10 | R41: 5 | U41: 12 | X41: 123 | Y41: 17 | Z41: 16 | AA41: 2 | AB41: 3 | AC41: 6 | AD41: 7 | AE41: 4 | AG41: 8 | AJ41: 5 | AM41: 55 | AN41: 2 | AO41: 2 | AR41: 88 | AT41: 1 | AU41: 87 | AV41: 12 | AW41: 332 | AX41: 0 | BD41: 332
A42: 4 | B42: BPCE Equipment Solutions Polska Sp. z o.o. | C42: 724 | D42: 30 | G42: 156 | H42: 39 | K42: 117 | N42: 212 | Q42: 309 | R42: 9 | U42: 8 | X42: 689 | Y42: 515 | Z42: 49 | AA42: 5 | AB42: 5 | AC42: 7 | AD42: 2 | AE42: 2 | AG42: 35 | AJ42: 4 | AM42: 65 | AN42: 37 | AO42: 37 | AR42: 23 | AS42: 23 | AW42: 1473 | AX42: 0 | BD42: 1473
A43: 5 | B43: BPS Leasing S.A. | C43: 1536 | D43: 654 | E43: 19 | G43: 257 | H43: 182 | I43: 1 | K43: 75 | L43: 1 | N43: 252 | Q43: 268 | R43: 61 | U43: 44 | X43: 216 | Y43: 75 | Z43: 21 | AA43: 1 | AB43: 3 | AC43: 5 | AD43: 9 | AE43: 6 | AG43: 32 | AJ43: 2 | AM43: 62 | AN43: 5 | AO43: 5 | AR43: 9 | AS43: 5 | AT43: 3 | AU43: 1 | AV43: 9 | AW43: 1775 | AX43: 2 | BC43: 2 | BD43: 1777
A44: 6 | B44: Caterpillar Financial Services Poland Sp. z o. o. | C44: 0 | G44: 0 | X44: 682 | Y44: 682 | AN44: 0 | AR44: 0 | AW44: 682 | AX44: 0 | BD44: 682
A45: 7 | B45: DE LAGE Landen Leasing Polska S.A. | C45: 67 | G45: 0 | N45: 42 | Q45: 25 | X45: 227 | Y45: 112 | Z45: 69 | AE45: 20 | AG45: 16 | AJ45: 0 | AM45: 10 | AN45: 152 | AO45: 152 | AP45: 0 | AQ45: 0 | AR45: 0 | AW45: 446 | AX45: 0 | BD45: 446
A46: 8 | B46: Deutsche Leasing Polska S.A. | C46: 474 | D46: 11 | G46: 25 | H46: 2 | K46: 23 | N46: 44 | Q46: 366 | U46: 28 | X46: 2160 | Y46: 9 | Z46: 22 | AB46: 7 | AC46: 41 | AD46: 275 | AE46: 2 | AG46: 1587 | AM46: 217 | AN46: 0 | AR46: 0 | AW46: 2634 | AX46: 0 | BD46: 2634
A47: 9 | B47: Europejski Fundusz Leasingowy S.A. | C47: 38307 | D47: 18153 | E47: 423 | F47: 276 | G47: 8856 | H47: 6404 | I47: 336 | J47: 2 | K47: 2452 | L47: 5 | N47: 4829 | Q47: 4663 | R47: 246 | U47: 1560 | V47: 5 | X47: 14889 | Y47: 4435 | Z47: 1703 | AA47: 169 | AB47: 151 | AC47: 531 | AD47: 218 | AE47: 382 | AF47: 1684 | AG47: 680 | AH47: 38 | AI47: 24 | AJ47: 225 | AL47: 12 | AM47: 4637 | AN47: 1267 | AO47: 665 | AP47: 295 | AQ47: 307 | AR47: 58 | AS47: 20 | AT47: 38 | AW47: 54521 | AX47: 0 | BD47: 54521
A48: 10 | B48: Impuls-Leasing Polska Sp. z o. o. | C48: 5408 | D48: 2991 | E48: 103 | F48: 90 | G48: 943 | H48: 765 | I48: 9 | J48: 3 | K48: 178 | N48: 606 | Q48: 635 | R48: 18 | U48: 215 | V48: 1 | X48: 1636 | Y48: 250 | Z48: 184 | AA48: 39 | AB48: 19 | AC48: 52 | AE48: 56 | AF48: 120 | AG48: 420 | AJ48: 2 | AM48: 494 | AN48: 40 | AO48: 40 | AR48: 3 | AT48: 3 | AW48: 7087 | AX48: 0 | BD48: 7087
A49: 11 | B49: ING Lease (Polska) Sp. z o. o. | C49: 21526 | D49: 11931 | E49: 255 | F49: 422 | G49: 4461 | H49: 3655 | I49: 23 | J49: 1 | K49: 806 | L49: 6 | M49: 0 | N49: 1945 | O49: 0 | P49: 0 | Q49: 2601 | R49: 198 | S49: 3 | T49: 0 | U49: 390 | V49: 34 | W49: 0 | X49: 6164 | Y49: 858 | Z49: 146 | AA49: 212 | AB49: 154 | AC49: 658 | AD49: 254 | AE49: 252 | AF49: 252 | AG49: 1580 | AH49: 7 | AI49: 4 | AJ49: 99 | AK49: 0 | AL49: 24 | AM49: 1664 | AN49: 280 | AO49: 280 | AP49: 0 | AQ49: 0 | AR49: 129 | AS49: 4 | AT49: 10 | AU49: 115 | AV49: 1116 | AW49: 29215 | AX49: 2 | AY49: 0 | AZ49: 0 | BA49: 1 | BB49: 0 | BC49: 1 | BD49: 29217
A50: 12 | B50: Leasing Polski Sp. z o. o. | C50: 1647 | D50: 366 | F50: 48 | G50: 420 | H50: 281 | K50: 139 | N50: 371 | Q50: 328 | R50: 44 | U50: 118 | V50: 114 | W50: 14 | X50: 142 | Y50: 114 | Z50: 14 | AG50: 11 | AM50: 3 | AN50: 0 | AR50: 2 | AT50: 2 | AW50: 1791 | AX50: 5 | BB50: 5 | BD50: 1796
A51: 13 | B51: Mercedes-Benz Leasing Polska Sp. z o.o. | C51: 17184 | D51: 14852 | E51: 2304 | F51: 1205 | G51: 2153 | H51: 2122 | I51: 200 | K51: 31 | L51: 6 | N51: 110 | Q51: 13 | R51: 32 | U51: 24 | X51: 0 | AN51: 0 | AR51: 0 | AW51: 17184 | AX51: 0 | BD51: 17184
A52: 14 | B52: Millennium Leasing Sp. z o. o. | C52: 12565 | D52: 6385 | E52: 218 | F52: 10 | G52: 2642 | H52: 2046 | I52: 128 | J52: 0 | K52: 596 | L52: 4 | M52: 1 | N52: 1741 | O52: 2 | P52: 2 | Q52: 1402 | R52: 106 | S52: 1 | T52: 0 | U52: 289 | V52: 8 | W52: 0 | X52: 4377 | Y52: 818 | Z52: 81 | AA52: 171 | AB52: 464 | AC52: 0 | AD52: 176 | AE52: 232 | AF52: 54 | AG52: 612 | AH52: 0 | AI52: 9 | AJ52: 284 | AK52: 0 | AL52: 3 | AM52: 1473 | AN52: 105 | AO52: 104 | AP52: 1 | AQ52: 0 | AR52: 139 | AS52: 0 | AT52: 21 | AU52: 118 | AV52: 0 | AW52: 17186 | AX52: 2 | AY52: 0 | AZ52: 0 | BA52: 1 | BB52: 0 | BC52: 1 | BD52: 17188
A53: 15 | B53: mLeasing Sp. z o. o. | C53: 29104 | D53: 23237 | E53: 1260 | F53: 2500 | G53: 2457 | H53: 1988 | I53: 18 | J53: 12 | K53: 469 | L53: 0 | M53: 0 | N53: 697 | O53: 0 | P53: 0 | Q53: 796 | R53: 138 | S53: 1 | T53: 14 | U53: 1779 | V53: 1165 | W53: 0 | X53: 12849 | Y53: 836 | Z53: 249 | AA53: 133 | AB53: 62 | AC53: 587 | AD53: 112 | AE53: 1682 | AF53: 2903 | AG53: 871 | AH53: 28 | AI53: 20 | AJ53: 123 | AK53: 0 | AL53: 30 | AM53: 5213 | AN53: 18011 | AO53: 16299 | AP53: 619 | AQ53: 1093 | AR53: 193 | AS53: 9 | AT53: 168 | AU53: 16 | AV53: 8284 | AW53: 68441 | AX53: 10 | AY53: 0 | AZ53: 10 | BA53: 0 | BB53: 0 | BC53: 0 | BD53: 68451
A54: 16 | B54: NEST LEASING S.A | C54: 3705 | D54: 1107 | G54: 682 | H54: 406 | K54: 276 | N54: 659 | Q54: 684 | R54: 120 | U54: 453 | X54: 875 | Y54: 290 | Z54: 171 | AA54: 21 | AB54: 1 | AC54: 21 | AD54: 17 | AE54: 95 | AF54: 15 | AG54: 49 | AH54: 0 | AI54: 0 | AJ54: 3 | AK54: 0 | AL54: 0 | AM54: 192 | AN54: 4 | AO54: 4 | AP54: 0 | AQ54: 0 | AR54: 19 | AS54: 0 | AT54: 19 | AU54: 0 | AV54: 0 | AW54: 4603 | AX54: 0 | BD54: 4603
A55: 17 | B55: PEAC (Poland) Sp. z o. o. | C55: 127 | D55: 21 | G55: 19 | H55: 12 | K55: 7 | N55: 8 | Q55: 63 | R55: 6 | U55: 10 | X55: 776 | Y55: 18 | Z55: 38 | AA55: 3 | AB55: 8 | AC55: 14 | AD55: 15 | AE55: 144 | AF55: 10 | AG55: 28 | AH55: 2 | AJ55: 1 | AM55: 495 | AN55: 45 | AO55: 45 | AR55: 0 | AW55: 948 | AX55: 0 | BD55: 948
A56: 18 | B56: PEKAO Leasing Sp. z o. o. | C56: 20967 | D56: 12448 | E56: 180 | F56: 292 | G56: 3133 | H56: 2344 | I56: 24 | J56: 11 | K56: 789 | L56: 3 | M56: 0 | N56: 2406 | O56: 0 | P56: 0 | Q56: 1941 | R56: 371 | S56: 0 | T56: 0 | U56: 668 | V56: 46 | W56: 0 | X56: 5845 | Y56: 811 | Z56: 122 | AA56: 116 | AB56: 135 | AC56: 397 | AD56: 256 | AE56: 200 | AF56: 325 | AG56: 847 | AH56: 5 | AI56: 7 | AJ56: 113 | AK56: 0 | AL56: 0 | AM56: 2511 | AN56: 964 | AO56: 677 | AP56: 3 | AQ56: 284 | AR56: 76 | AS56: 13 | AT56: 61 | AU56: 2 | AV56: 407 | AW56: 28259 | AX56: 19 | AY56: 0 | AZ56: 11 | BA56: 2 | BB56: 0 | BC56: 6 | BD56: 28278
A57: 19 | B57: PKO Leasing S.A. | C57: 68387 | D57: 46919 | E57: 3024 | F57: 844 | G57: 11077 | H57: 9475 | I57: 116 | J57: 33 | K57: 1602 | L57: 6 | N57: 3550 | O57: 2 | Q57: 4767 | R57: 394 | S57: 1 | U57: 1680 | V57: 31 | X57: 20011 | Y57: 2408 | Z57: 917 | AA57: 346 | AB57: 189 | AC57: 897 | AD57: 1334 | AE57: 843 | AF57: 1001 | AG57: 1258 | AH57: 3 | AI57: 41 | AJ57: 109 | AK57: 1 | AL57: 6 | AM57: 10658 | AN57: 12509 | AO57: 7447 | AP57: 4 | AQ57: 5058 | AR57: 162 | AS57: 31 | AT57: 73 | AU57: 58 | AW57: 101069 | AX57: 0 | BD57: 101069
A58: 20 | B58: Santander Consumer Multirent Sp. z o.o. | C58: 15797 | D58: 12770 | G58: 1902 | H58: 1902 | U58: 1125 | X58: 0 | AN58: 0 | AR58: 0 | AW58: 15797 | AX58: 0 | BD58: 15797
A59: 21 | B59: Santander Leasing S.A. | C59: 25212 | D59: 16913 | E59: 529 | F59: 102 | G59: 4702 | H59: 3948 | I59: 46 | J59: 30 | K59: 754 | L59: 4 | M59: 0 | N59: 1306 | O59: 0 | P59: 0 | Q59: 1546 | R59: 94 | S59: 8 | T59: 0 | U59: 651 | V59: 4 | W59: 0 | X59: 8004 | Y59: 888 | Z59: 639 | AA59: 209 | AB59: 129 | AC59: 191 | AD59: 80 | AE59: 660 | AF59: 451 | AG59: 1004 | AH59: 26 | AI59: 10 | AJ59: 130 | AK59: 0 | AL59: 54 | AM59: 3533 | AN59: 912 | AO59: 912 | AP59: 0 | AQ59: 0 | AR59: 30 | AS59: 12 | AT59: 8 | AU59: 10 | AV59: 0 | AW59: 34158 | AX59: 0 | AY59: 0 | AZ59: 0 | BA59: 0 | BB59: 0 | BC59: 0 | BD59: 34158
A60: 22 | B60: Scania Finance Polska Sp. z o. o. | C60: 2107 | D60: 2 | G60: 228 | H60: 9 | K60: 219 | N60: 1483 | Q60: 371 | R60: 21 | U60: 2 | X60: 0 | AN60: 0 | AR60: 0 | AW60: 2107 | AX60: 0 | BD60: 2107
A61: 23 | B61: SGB Leasing Sp. z o. o. | C61: 382 | D61: 214 | E61: 1 | F61: 45 | G61: 69 | H61: 53 | K61: 16 | N61: 36 | Q61: 27 | R61: 9 | U61: 27 | X61: 172 | Y61: 53 | Z61: 26 | AA61: 1 | AB61: 14 | AC61: 2 | AD61: 16 | AE61: 4 | AF61: 5 | AG61: 7 | AJ61: 10 | AM61: 34 | AN61: 4 | AO61: 4 | AR61: 6 | AU61: 6 | AW61: 564 | AX61: 0 | BD61: 564
A62: 24 | B62: Siemens Finance Sp. z o. o. | C62: 53 | D62: 14 | E62: 2 | F62: 2 | G62: 6 | K62: 6 | N62: 21 | Q62: 12 | X62: 3310 | Y62: 129 | Z62: 37 | AA62: 22 | AB62: 6 | AC62: 84 | AD62: 3 | AE62: 1679 | AF62: 1 | AG62: 59 | AJ62: 2 | AL62: 6 | AM62: 1282 | AN62: 8381 | AO62: 8301 | AQ62: 80 | AR62: 0 | AW62: 11744 | AX62: 0 | BD62: 11744
A63: 25 | B63: VEHIS FINANSE Sp. z o.o. | C63: 15362 | D63: 12884 | E63: 431 | F63: 962 | G63: 2478 | H63: 2478 | I63: 19 | J63: 7 | X63: 0 | AN63: 0 | AR63: 0 | AW63: 15362 | AX63: 0 | BD63: 15362
A64: 26 | B64: VELOLEASING S.A | C64: 3135 | D64: 2745 | G64: 33 | K64: 33 | N64: 65 | Q64: 62 | U64: 230 | X64: 0 | AN64: 0 | AR64: 0 | AW64: 3135 | AX64: 0 | BD64: 3135
A65: 27 | B65: Razem | C65: 321148 | D65: 208372 | E65: 9311 | F65: 7039 | G65: 53561 | H65: 43256 | I65: 940 | J65: 99 | K65: 10305 | L65: 53 | M65: 1 | N65: 23699 | O65: 4 | P65: 2 | Q65: 23341 | R65: 2290 | S65: 14 | T65: 14 | U65: 9885 | V65: 1413 | W65: 14 | X65: 91135 | Y65: 15649 | Z65: 5191 | AA65: 1575 | AB65: 1432 | AC65: 3895 | AD65: 3061 | AE65: 7222 | AF65: 6854 | AG65: 10065 | AH65: 114 | AI65: 117 | AJ65: 1192 | AK65: 1 | AL65: 135 | AM65: 34632 | AN65: 43260 | AO65: 35388 | AP65: 1043 | AQ65: 6829 | AR65: 1067 | AS65: 122 | AT65: 477 | AU65: 468 | AV65: 9828 | AW65: 466438 | AX65: 45 | AY65: 1 | AZ65: 25 | BA65: 4 | BB65: 5 | BC65: 10 | BD65: 466483
B67: Średnia wartość środków oddanych w leasing (tys. PLN) | D67: I - IV kwartał 2025
A69: Lp. | B69: Spółka | C69: POJAZDY | D69: Osobowe | E69: osobowe - zeroemisyjne | F69: osobowe - hybryda plug-in | G69: Cięzarowe: | H69: o masie do 3,5 tony | I69: o masie do 3,5 tony - zeroemisyjne | J69: o masie do 3,5 tony - hybryda plug-in | K69: o masie powyzej 3,5 tony | L69: o masie powyżej 3,5 tony - zeroemisyjne | M69: o masie powyżej 3,5 tony - hybryda plug-in | N69: ciagniki siodlowe | O69: ciągniki siodłowe - zeroemisyjne | P69: ciągniki siodłowe - hybryda plug-in | Q69: naczepy / przyczepy | R69: autobusy | S69: autobusy - zeroemisyjne | T69: autobusy - hybryda plug-in | U69: inne | V69: inne - zeroemisyjne | W69: inne - hybryda plug-in | X69: MiU | Y69: Sprzęt Budowlany | Z69: Maszyny Rolnicze | AA69: Maszyny Poligraf. | AB69: maszyny do produkcji tworzyw sztucznych | AC69: maszyny i urządzenia do obróbki metali | AD69: maszyny dla przemysłu spożywczego | AE69: Sprzęt Medyczny | AF69: Sprzęt Gastronom. | AG69: Wózki Widłowe | AH69: Magazyny energii | AI69: Pompy ciepła | AJ69: fotowoltaika | AK69: wiatraki i turbiny wiatrowe | AL69: stacje ładowania pojazdów elektrycznych (na użytek własny i komercyjny) | AM69: inne MiU | AN69: IT | AO69: Sprzęt | AP69: Oprogram. | AQ69: inne IT | AR69: POZOSTAŁE ŚRODKI TRANSPORTU | AS69: Powietrzne | AT69: Wodne | AU69: Kolejowe | AV69: Inne ruchomości | AW69: RUCHOMOŚCI | AX69: Nieruchomości | AY69: budynki przemysłowe | AZ69: obiekty handlowe i usługowe | BA69: obiekty biurowe | BB69: hotele i obiekty rekreacyjne | BC69: inne | BD69: OGÓŁEM
A70: 1 | B70: Alior Leasing Sp. z o. o. | C70: 138.98396 | D70: 131.43287 | G70: 117.95148 | H70: 89.272487 | K70: 232.86637 | N70: 168.02356 | Q70: 111.47357 | R70: 412.937 | U70: 222.6696 | X70: 124.73993 | Y70: 157.81722 | Z70: 179.39084 | AA70: 113.29585 | AB70: 148.48523 | AC70: 140.40367 | AD70: 144.69456 | AE70: 55.076252 | AF70: 54.932155 | AG70: 62.685042 | AH70: 81.35 | AI70: 52.890285 | AJ70: 93.899277 | AM70: 96.124173 | AN70: 57.105666 | AO70: 57.105666 | AR70: 393.333 | AS70: 226.64027 | AT70: 244.27729 | AU70: 598.19415 | AW70: 137.36046 | BD70: 137.36046
A71: 2 | B71: BNP Paribas Lease Group Sp. z o. o. | C71: 138.15199 | D71: 121.5756 | E71: 132.86165 | F71: 132.7829 | G71: 203.41893 | H71: 151.87729 | I71: 167.6316 | K71: 304.56637 | L71: 401.76579 | N71: 376.18474 | Q71: 253.19104 | R71: 618.94933 | U71: 56.705834 | V71: 62.189086 | X71: 268.23224 | Y71: 257.24534 | Z71: 411.66069 | AA71: 401.4393 | AB71: 1726.3282 | AC71: 310.60515 | AD71: 1168.1199 | AE71: 69.2136 | AF71: 52.426293 | AG71: 109.5221 | AH71: 51.22 | AJ71: 277.07437 | AM71: 426.16531 | AN71: 215.48389 | AO71: 211.13616 | AP71: 188.94196 | AQ71: 891.66658 | AW71: 159.55893 | AX71: 14796.255 | AY71: 6600 | AZ71: 16845.319 | BD71: 162.97265
A72: 3 | B72: BOŚ LEASING S.A | C72: 221.35344 | D72: 147.7132 | G72: 144.291 | H72: 144.291 | N72: 322.60463 | Q72: 152.58943 | R72: 327.9154 | U72: 493.99858 | X72: 529.19657 | Y72: 555.41614 | Z72: 125.89375 | AA72: 92.80091 | AB72: 1013.9633 | AC72: 349.1862 | AD72: 662.97139 | AE72: 87.962963 | AG72: 222.5 | AJ72: 106.04258 | AM72: 745.62418 | AN72: 1514.69 | AO72: 1514.69 | AR72: 132.54527 | AT72: 83.98374 | AU72: 133.10345 | AV72: 121 | AW72: 316.02819 | BD72: 316.02819
A73: 4 | B73: BPCE Equipment Solutions Polska Sp. z o.o. | C73: 300.15244 | D73: 159.24195 | G73: 442.74547 | H73: 138.85846 | K73: 544.04114 | N73: 370.10316 | Q73: 165.50662 | R73: 920.32522 | U73: 697.30914 | X73: 323.08349 | Y73: 288.97972 | Z73: 378.07048 | AA73: 2096.169 | AB73: 1357.1538 | AC73: 1539.5944 | AD73: 47.0727 | AE73: 60.01 | AG73: 110.99239 | AJ73: 1244.4368 | AM73: 278.9861 | AN73: 529.65049 | AO73: 529.65049 | AR73: 1765.4277 | AS73: 1765.4277 | AW73: 339.52261 | BD73: 339.52261
A74: 5 | B74: BPS Leasing S.A. | C74: 200.88538 | D74: 138.83153 | E74: 214.7037 | G74: 200.01338 | H74: 120.78734 | I74: 73.98374 | K74: 392.26856 | L74: 333.7 | N74: 297.67966 | Q74: 149.78481 | R74: 607.20314 | U74: 321.90223 | X74: 287.94372 | Y74: 307.72954 | Z74: 259.10597 | AA74: 410.4 | AB74: 2580.1842 | AC74: 445.81622 | AD74: 212.92174 | AE74: 171.7808 | AG74: 231.89878 | AJ74: 247.91667 | AM74: 200.50473 | AN74: 91.021066 | AO74: 91.021066 | AR74: 1639.9115 | AS74: 880.72362 | AT74: 118.52845 | AU74: 10000 | AV74: 177.61102 | AW74: 218.34851 | AX74: 48451.964 | BC74: 48451.964 | BD74: 272.63508
A75: 6 | B75: Caterpillar Financial Services Poland Sp. z o. o. | X75: 552.50705 | Y75: 552.50705 | AW75: 552.50705 | BD75: 552.50705
A76: 7 | B76: DE LAGE Landen Leasing Polska S.A. | C76: 265.00919 | N76: 360.30197 | Q76: 104.91731 | X76: 304.44631 | Y76: 209.06612 | Z76: 531.88597 | AE76: 64.448381 | AG76: 266.22627 | AM76: 344.51868 | AN76: 144.36805 | AO76: 144.36805 | AW76: 243.96608 | BD76: 243.96608
A77: 8 | B77: Deutsche Leasing Polska S.A. | C77: 228.97679 | D77: 224.27273 | G77: 735.16 | H77: 62.5 | K77: 793.65217 | N77: 371.84091 | Q77: 179.94536 | U77: 195.28571 | X77: 343.40139 | Y77: 1288 | Z77: 712.86364 | AB77: 137.42857 | AC77: 1509.0488 | AD77: 2.92 | AE77: 1383.5 | AG77: 114.60807 | AM77: 2148.3226 | AW77: 322.81017 | BD77: 322.81017
A78: 9 | B78: Europejski Fundusz Leasingowy S.A. | C78: 174.14726 | D78: 155.38605 | E78: 172.21229 | F78: 196.2179 | G78: 181.73546 | H78: 125.27539 | I78: 101.23508 | J78: 163.75 | K78: 329.1948 | L78: 290.63528 | N78: 287.57902 | Q78: 132.89438 | R78: 666.84417 | U78: 43.870263 | V78: 27.869918 | X78: 152.03008 | Y78: 196.88234 | Z78: 189.43914 | AA78: 158.14666 | AB78: 237.07091 | AC78: 237.52578 | AD78: 163.30359 | AE78: 70.806028 | AF78: 65.320601 | AG78: 93.632707 | AH78: 79.132539 | AI78: 76.323099 | AJ78: 178.13977 | AL78: 150.15649 | AM78: 128.55226 | AN78: 93.730188 | AO78: 105.21095 | AP78: 82.024648 | AQ78: 80.109434 | AR78: 293.93533 | AS78: 270.97065 | AT78: 306.022 | AW78: 166.36597 | BD78: 166.36597
A79: 10 | B79: Impuls-Leasing Polska Sp. z o. o. | C79: 176.39657 | D79: 160.90786 | E79: 167.22864 | F79: 234.53533 | G79: 169.58165 | H79: 133.07694 | I79: 87.185556 | J79: 175.61333 | K79: 326.46989 | N79: 321.34124 | Q79: 135.2286 | R79: 502.98944 | U79: 107.46507 | V79: 301.39 | X79: 158.07701 | Y79: 258.54248 | Z79: 120.04315 | AA79: 147.14026 | AB79: 105.82895 | AC79: 513.66692 | AE79: 89.820179 | AF79: 165.20933 | AG79: 50.82519 | AJ79: 108.43 | AM79: 184.2349 | AN79: 126.9465 | AO79: 126.9465 | AR79: 226.89667 | AT79: 226.89667 | AW79: 171.90986 | BD79: 171.90986
A80: 11 | B80: ING Lease (Polska) Sp. z o. o. | C80: 181.35167 | D80: 145.83212 | E80: 172.04706 | F80: 169.51185 | G80: 173.67855 | H80: 123.90041 | I80: 132.78261 | J80: 200 | K80: 399.40943 | L80: 260.66667 | N80: 339.05398 | Q80: 181.10035 | R80: 822.0202 | S80: 2402.6667 | U80: 245.66923 | V80: 27.382353 | X80: 296.23248 | Y80: 278.35082 | Z80: 346.47945 | AA80: 513.56132 | AB80: 824.36364 | AC80: 484.04103 | AD80: 571.95669 | AE80: 207.67857 | AF80: 277.48413 | AG80: 96.314557 | AH80: 204.71429 | AI80: 190.25 | AJ80: 228.46465 | AL80: 135.83333 | AM80: 321.1857 | AN80: 131.46786 | AO80: 131.46786 | AR80: 1710.1938 | AS80: 12723.75 | AT80: 279.8 | AU80: 1451.4957 | AV80: 169.55645 | AW80: 211.41208 | AX80: 5050 | BA80: 9650 | BC80: 450 | BD80: 211.7433
A81: 12 | B81: Leasing Polski Sp. z o. o. | C81: 97.21982 | D81: 91.636972 | F81: 115.78821 | G81: 91.699785 | H81: 64.53467 | K81: 146.61631 | N81: 99.162527 | Q81: 81.962337 | R81: 204.29544 | U81: 130.55982 | V81: 192.28203 | W81: 357.19646 | X81: 207.02079 | Y81: 192.28203 | Z81: 357.19646 | AG81: 86.022727 | AM81: 509.93333 | AR81: 71.58537 | AT81: 71.58537 | AW81: 105.8968 | AX81: 118.4512 | BB81: 118.4512 | BD81: 105.93175
A82: 13 | B82: Mercedes-Benz Leasing Polska Sp. z o.o. | C82: 206.9621 | D82: 212.77956 | E82: 178.00137 | F82: 238.95033 | G82: 147.78987 | H82: 145.33231 | I82: 120.70327 | K82: 316.0132 | L82: 187.86201 | N82: 391.15244 | Q82: 197.1092 | R82: 853.12973 | U82: 214.7457 | AW82: 206.9621 | BD82: 206.9621
A83: 14 | B83: Millennium Leasing Sp. z o. o. | C83: 199.03928 | D83: 166.27432 | E83: 181.61025 | F83: 227.33933 | G83: 182.3842 | H83: 120.90929 | I83: 111.88442 | K83: 393.42058 | L83: 527.31251 | M83: 411.061 | N83: 315.03495 | O83: 514.05 | P83: 399.55632 | Q83: 149.52588 | R83: 1174.6009 | S83: 800 | U83: 258.78583 | V83: 75.395529 | X83: 266.94749 | Y83: 301.31362 | Z83: 366.87559 | AA83: 289.38229 | AB83: 456.26169 | AD83: 769.53935 | AE83: 118.25966 | AF83: 137.25437 | AG83: 137.47859 | AI83: 60.064367 | AJ83: 147.46381 | AL83: 41.4 | AM83: 226.80217 | AN83: 445.06574 | AO83: 448.20868 | AP83: 118.2 | AR83: 926.83505 | AT83: 363.03838 | AU83: 1027.1718 | AW83: 223.72394 | AX83: 7990.3593 | BA83: 14382.688 | BC83: 1598.0309 | BD83: 224.62767
A84: 15 | B84: mLeasing Sp. z o. o. | C84: 167.79465 | D84: 169.0507 | E84: 161.48612 | F84: 241.78531 | G84: 179.06294 | H84: 124.32317 | I84: 134.95842 | J84: 188.44379 | K84: 411.09419 | N84: 351.71122 | Q84: 171.14426 | R84: 737.57253 | S84: 536 | T84: 935 | U84: 18.070835 | V84: 10.016901 | X84: 96.759771 | Y84: 336.3468 | Z84: 423.15501 | AA84: 250.2146 | AB84: 1093.8112 | AC84: 245.88032 | AD84: 423.73475 | AE84: 35.276226 | AF84: 5.3757394 | AG84: 116.71128 | AH84: 198.85203 | AI84: 15.864947 | AJ84: 130.47724 | AL84: 14.730667 | AM84: 69.990066 | AN84: 6.753882 | AO84: 7.174672 | AP84: 5.0088045 | AQ84: 1.4672827 | AR84: 1803.2698 | AS84: 21393.727 | AT84: 685.04331 | AU84: 2525.0149 | AV84: 11.869307 | AW84: 97.818008 | AX84: 18061.397 | AZ84: 18061.397 | BD84: 100.44231
A85: 16 | B85: NEST LEASING S.A | C85: 173.18605 | D85: 168.92937 | G85: 172.19304 | H85: 109.66504 | K85: 264.17265 | N85: 263.24858 | Q85: 122.01883 | R85: 476.16533 | U85: 51.064717 | X85: 285.45866 | Y85: 464.17597 | Z85: 288.07847 | AA85: 204.20385 | AB85: 177 | AC85: 202.98819 | AD85: 205.92838 | AE85: 102.35666 | AF85: 50.875573 | AG85: 96.17054 | AJ85: 91.391247 | AM85: 198.96624 | AN85: 10.784755 | AO85: 10.784755 | AR85: 144.33113 | AT85: 144.33113 | AW85: 194.2681 | BD85: 194.2681
A86: 17 | B86: PEAC (Poland) Sp. z o. o. | C86: 171.09843 | D86: 140.90952 | G86: 118.98947 | H86: 100.43333 | K86: 150.8 | N86: 165.525 | Q86: 170.32222 | R86: 414.31667 | U86: 196.92 | X86: 111.9192 | Y86: 279.34444 | Z86: 301.05789 | AA86: 440.9 | AB86: 96.2375 | AC86: 268.36429 | AD86: 64.34 | AE86: 49.98125 | AF86: 41.89 | AG86: 45.964286 | AH86: 961.45 | AJ86: 66.7 | AM86: 106.41071 | AN86: 96.226667 | AO86: 96.226667 | AW86: 119.10232 | BD86: 119.10232
A87: 18 | B87: PEKAO Leasing Sp. z o. o. | C87: 206.8817 | D87: 171.32321 | E87: 196.23359 | F87: 218.78992 | G87: 213.57059 | H87: 132.70271 | I87: 163.26361 | J87: 184.92933 | K87: 453.81686 | L87: 290.63333 | N87: 342.42838 | Q87: 166.16571 | R87: 741.62553 | U87: 171.23846 | V87: 7.6521083 | X87: 312.17614 | Y87: 380.08584 | Z87: 546.14375 | AA87: 331.26646 | AB87: 887.07247 | AC87: 702.03859 | AD87: 297.38547 | AE87: 115.6536 | AF87: 45.24787 | AG87: 98.246116 | AH87: 91.76058 | AI87: 162.24929 | AJ87: 266.75234 | AM87: 312.2184 | AN87: 114.04605 | AO87: 107.9886 | AP87: 619.54244 | AQ87: 123.14608 | AR87: 2074.8678 | AS87: 2697.709 | AT87: 1960.9793 | AU87: 1500 | AV87: 176.23792 | AW87: 230.07599 | AX87: 13178.269 | AZ87: 8619.2997 | BA87: 61250.23 | BC87: 5512.3921 | BD87: 238.77589
A88: 19 | B88: PKO Leasing S.A. | C88: 157.37969 | D88: 146.90211 | E88: 136.85708 | F88: 221.95268 | G88: 152.9583 | H88: 112.24683 | I88: 128.26592 | J88: 132.63849 | K88: 393.74552 | L88: 278.37467 | N88: 319.13385 | O88: 1098.4978 | Q88: 142.21893 | R88: 685.08839 | S88: 2658.263 | U88: 56.60591 | V88: 29.877648 | X88: 123.26623 | Y88: 238.81225 | Z88: 190.35622 | AA88: 211.65859 | AB88: 451.50723 | AC88: 280.41784 | AD88: 104.23726 | AE88: 90.485179 | AF88: 14.916019 | AG88: 112.54991 | AH88: 80.840107 | AI88: 15.344099 | AJ88: 105.19209 | AK88: 62.5 | AL88: 230.01528 | AM88: 86.444919 | AN88: 9.2202266 | AO88: 10.809948 | AP88: 124.31971 | AQ88: 6.7886228 | AR88: 2869.1415 | AS88: 3253.8887 | AT88: 802.60861 | AU88: 5264.4819 | AW88: 136.63479 | BD88: 136.63479
A89: 20 | B89: Santander Consumer Multirent Sp. z o.o. | C89: 126.4956 | D89: 135.96844 | G89: 112.96813 | H89: 112.96813 | U89: 41.838684 | AW89: 126.4956 | BD89: 126.4956
A90: 21 | B90: Santander Leasing S.A. | C90: 173.51771 | D90: 166.96643 | E90: 163.69582 | F90: 223.21829 | G90: 168.54429 | H90: 142.03349 | I90: 149.01393 | J90: 157.34452 | K90: 307.35682 | L90: 142.71325 | N90: 339.20808 | Q90: 139.1092 | R90: 770.28272 | S90: 2468.296 | U90: 42.787688 | V90: 28.85975 | X90: 175.64489 | Y90: 234.43554 | Z90: 178.06896 | AA90: 342.41521 | AB90: 489.94592 | AC90: 430.60286 | AD90: 711.90608 | AE90: 81.640039 | AF90: 69.147571 | AG90: 111.91822 | AH90: 74.8207 | AI90: 44.24705 | AJ90: 147.64467 | AL90: 67.003452 | AM90: 166.23204 | AN90: 29.893831 | AO90: 29.893831 | AR90: 926.48043 | AS90: 1422.4384 | AT90: 688.3553 | AU90: 521.83101 | AW90: 170.84278 | BD90: 170.84278
A91: 22 | B91: Scania Finance Polska Sp. z o. o. | C91: 421 | D91: 563 | G91: 543.22368 | H91: 472.66667 | K91: 546.12329 | N91: 446.68712 | Q91: 182.20216 | R91: 1504.3333 | U91: 220.5 | AW91: 421 | BD91: 421
A92: 23 | B92: SGB Leasing Sp. z o. o. | C92: 191.89267 | D92: 169.83178 | E92: 128 | F92: 189 | G92: 167.88406 | H92: 144 | K92: 247 | N92: 310.58333 | Q92: 146.66667 | R92: 558.22222 | U92: 192.96296 | X92: 318.66279 | Y92: 271.28302 | Z92: 175.15385 | AA92: 200 | AB92: 376.21429 | AC92: 330.5 | AD92: 123.125 | AE92: 60.5 | AF92: 36.4 | AG92: 106 | AJ92: 118.2 | AM92: 748 | AN92: 15 | AO92: 15 | AR92: 1506.6667 | AU92: 1506.6667 | AW92: 243.28546 | BD92: 243.28546
A93: 24 | B93: Siemens Finance Sp. z o. o. | C93: 391.26415 | D93: 209.14286 | E93: 170.5 | F93: 142.5 | G93: 671.83333 | K93: 671.83333 | N93: 442.28571 | Q93: 374.16667 | X93: 184.6864 | Y93: 492.96124 | Z93: 653.64865 | AA93: 1104.9545 | AB93: 1778 | AC93: 622.9881 | AD93: 1033.3333 | AE93: 199.14592 | AF93: 29 | AG93: 218.45763 | AJ93: 96 | AL93: 143 | AM93: 66.141186 | AN93: 18.087698 | AO93: 16.745934 | AQ93: 157.3125 | AW93: 66.72701 | BD93: 66.72701
A94: 25 | B94: VEHIS FINANSE Sp. z o.o. | C94: 136.55733 | D94: 140.66556 | E94: 156.67037 | F94: 170.39619 | G94: 115.1972 | H94: 115.1972 | I94: 140.69947 | J94: 164.37143 | AW94: 136.55733 | BD94: 136.55733
A95: 26 | B95: VELOLEASING S.A | C95: 104.06507 | D95: 107.32896 | G95: 129.21212 | K95: 129.21212 | N95: 124.63077 | Q95: 80.354839 | U95: 62.082609 | AW95: 104.06507 | BD95: 104.06507
A96: 27 | B96: Razem | C96: 168.18419 | D96: 154.64362 | E96: 157.83864 | F96: 216.75277 | G96: 166.28686 | H96: 121.67469 | I96: 117.54946 | J96: 157.55448 | K96: 353.54975 | L96: 319.47328 | M96: 411.061 | N96: 303.48797 | O96: 806.2739 | P96: 399.55632 | Q96: 145.73842 | R96: 669.32496 | S96: 2210.6165 | T96: 935 | U96: 76.41176 | V96: 26.376032 | W96: 357.19646 | X96: 180.92439 | Y96: 260.22816 | Z96: 240.38138 | AA96: 297.79473 | AB96: 568.30266 | AC96: 367.85506 | AD96: 235.55589 | AE96: 102.38754 | AF96: 41.838164 | AG96: 107.72243 | AH96: 131.17609 | AI96: 49.262707 | AJ96: 168.85428 | AK96: 62.5 | AL96: 85.068711 | AM96: 155.57228 | AN96: 20.556365 | AO96: 20.41088 | AP96: 50.463859 | AQ96: 16.742472 | AR96: 1401.6656 | AS96: 3672.2102 | AT96: 716.8974 | AU96: 1507.7082 | AV96: 36.867081 | AW96: 157.03638 | AX96: 13967.984 | AY96: 6600 | AZ96: 13712.302 | BA96: 36633.287 | BB96: 118.4512 | BC96: 13202.631 | BD96: 158.36868
B98: Struktura wartościowa umów (ruchomości) | D98: I - IV kwartał 2025
A100: Lp. | B100: Spółka | C100: POJAZDY | D100: Osobowe | E100: osobowe - zeroemisyjne | F100: osobowe - hybryda plug-in | G100: Cięzarowe: | H100: o masie do 3,5 tony | I100: o masie do 3,5 tony - zeroemisyjne | J100: o masie do 3,5 tony - hybryda plug-in | K100: o masie powyzej 3,5 tony | L100: o masie powyżej 3,5 tony - zeroemisyjne | M100: o masie powyżej 3,5 tony - hybryda plug-in | N100: ciagniki siodlowe | O100: ciągniki siodłowe - zeroemisyjne | P100: ciągniki siodłowe - hybryda plug-in | Q100: naczepy / przyczepy | R100: autobusy | S100: autobusy - zeroemisyjne | T100: autobusy - hybryda plug-in | U100: inne | V100: inne - zeroemisyjne | W100: inne - hybryda plug-in | X100: MiU | Y100: Sprzęt Budowlany | Z100: Maszyny Rolnicze | AA100: Maszyny Poligraf. | AB100: maszyny do produkcji tworzyw sztucznych | AC100: maszyny i urządzenia do obróbki metali | AD100: maszyny dla przemysłu spożywczego | AE100: Sprzęt Medyczny | AF100: Sprzęt Gastronom. | AG100: Wózki Widłowe | AH100: Magazyny energii | AI100: Pompy ciepła | AJ100: fotowoltaika | AK100: wiatraki i turbiny wiatrowe | AL100: stacje ładowania pojazdów elektrycznych (na użytek własny i komercyjny) | AM100: inne MiU | AN100: IT | AO100: Sprzęt | AP100: Oprogram. | AQ100: inne IT | AR100: POZOSTAŁE ŚRODKI TRANSPORTU | AS100: Powietrzne | AT100: Wodne | AU100: Kolejowe | AV100: Inne ruchomości | AW100: RUCHOMOŚCI | AX100: Nieruchomości | AY100: budynki przemysłowe | AZ100: obiekty handlowe i usługowe | BA100: obiekty biurowe | BB100: hotele i obiekty rekreacyjne | BC100: inne | BD100: OGÓŁEM
A101: 1 | B101: Alior Leasing Sp. z o. o. | C101: 0.80777813 | D101: 0.36172797 | G101: 0.15184678 | H101: 0.091972971 | K101: 0.05987381 | N101: 0.1490332 | Q101: 0.075547615 | R101: 0.050692986 | U101: 0.01892958 | X101: 0.17593641 | Y101: 0.073508473 | Z101: 0.021382509 | AA101: 0.0034686881 | AB101: 0.0021185491 | AC101: 0.014273109 | AD101: 0.011225526 | AE101: 0.0098390433 | AF101: 0.00029390919 | AG101: 0.00039128864 | AH101: 9.6723404e-05 | AI101: 3.1442707e-05 | AJ101: 0.0015630192 | AM101: 0.037744133 | AN101: 0.0010863586 | AO101: 0.0010863586 | AR101: 0.015199096 | AS101: 0.00033683802 | AT101: 0.005082708 | AU101: 0.0097795501 | AW101: 1 | AX101: 0 | BD101: 1
A102: 2 | B102: BNP Paribas Lease Group Sp. z o. o. | C102: 0.71551818 | D102: 0.51224318 | E102: 0.021833929 | F102: 0.0093573983 | G102: 0.15013317 | H102: 0.074254886 | I102: 0.00098035151 | J102: 0 | K102: 0.07587828 | L102: 0.0021146641 | M102: 0 | N102: 0.034760354 | O102: 0 | P102: 0 | Q102: 0.012734231 | R102: 0.00090494259 | S102: 0 | T102: 0 | U102: 0.0047423075 | V102: 9.092433e-05 | W102: 0 | X102: 0.25436295 | Y102: 0.057469418 | Z102: 0.034427173 | AA102: 0.0025824891 | AB102: 0.017163198 | AC102: 0.0054494897 | AD102: 0.0088808943 | AE102: 0.0072455339 | AF102: 0.00022995155 | AG102: 0.030104092 | AH102: 1.4977368e-05 | AI102: 0 | AJ102: 0.0019444802 | AK102: 0 | AL102: 0 | AM102: 0.088851252 | AN102: 0.030118867 | AO102: 0.021608598 | AP102: 0.0066851279 | AQ102: 0.0018251412 | AR102: 0 | AS102: 0 | AT102: 0 | AU102: 0 | AV102: 0 | AW102: 1 | AX102: 0.02163305 | AY102: 0.0019299225 | AZ102: 0.019703128 | BA102: 0 | BB102: 0 | BC102: 0 | BD102: 1.0216331
A103: 3 | B103: BOŚ LEASING S.A | C103: 0.22573876 | D103: 0.080247267 | G103: 0.0096266099 | H103: 0.0096266099 | N103: 0.049195647 | Q103: 0.014543219 | R103: 0.015626723 | U103: 0.056499296 | X103: 0.62038062 | Y103: 0.089991919 | Z103: 0.019198188 | AA103: 0.0017689613 | AB103: 0.028992095 | AC103: 0.019968453 | AD103: 0.04423122 | AE103: 0.0033534816 | AG103: 0.016965087 | AJ103: 0.0050534314 | AM103: 0.39085778 | AN103: 0.028872863 | AO103: 0.028872863 | AR103: 0.11116882 | AT103: 0.00080044464 | AU103: 0.11036838 | AV103: 0.013838936 | AW103: 1 | AX103: 0 | BD103: 1
A104: 4 | B104: BPCE Equipment Solutions Polska Sp. z o.o. | C104: 0.43451924 | D104: 0.0095522858 | G104: 0.13810433 | H104: 0.01082843 | K104: 0.1272759 | N104: 0.15688709 | Q104: 0.10225921 | R104: 0.016561985 | U104: 0.011154341 | X104: 0.44510507 | Y104: 0.29757959 | Z104: 0.037042254 | AA104: 0.020956795 | AB104: 0.013568368 | AC104: 0.021549288 | AD104: 0.00018824683 | AE104: 0.00023998394 | AG104: 0.0077676528 | AJ104: 0.0099531693 | AM104: 0.036259722 | AN104: 0.039184983 | AO104: 0.039184983 | AR104: 0.081190707 | AS104: 0.081190707 | AW104: 1 | AX104: 0 | BD104: 1
A105: 5 | B105: BPS Leasing S.A. | C105: 0.7961428 | D105: 0.23427032 | E105: 0.010525544 | G105: 0.13263055 | H105: 0.056721046 | I105: 0.00019089199 | K105: 0.075909508 | L105: 0.00086100886 | N105: 0.19355354 | Q105: 0.10357477 | R105: 0.095568609 | U105: 0.036545009 | X105: 0.16047699 | Y105: 0.059550015 | Z105: 0.014039386 | AA105: 0.0010589093 | AB105: 0.019972084 | AC105: 0.0057514492 | AD105: 0.0049444039 | AE105: 0.0026593609 | AG105: 0.019146961 | AJ105: 0.0012793434 | AM105: 0.032075079 | AN105: 0.0011742575 | AO105: 0.0011742575 | AR105: 0.038081525 | AS105: 0.011362164 | AT105: 0.00091747722 | AU105: 0.025801884 | AV105: 0.004124429 | AW105: 1 | AX105: 0.25003039 | BC105: 0.25003039 | BD105: 1.2500304
A106: 6 | B106: Caterpillar Financial Services Poland Sp. z o. o. | C106: 0 | G106: 0 | X106: 1 | Y106: 1 | AN106: 0 | AR106: 0 | AW106: 1 | AX106: 0 | BD106: 1
A107: 7 | B107: DE LAGE Landen Leasing Polska S.A. | C107: 0.16318169 | G107: 0 | N107: 0.13907582 | Q107: 0.024105873 | X107: 0.6351441 | Y107: 0.21519758 | Z107: 0.33728989 | AE107: 0.011846163 | AG107: 0.03914773 | AJ107: 0 | AM107: 0.031662738 | AN107: 0.20167421 | AO107: 0.20167421 | AP107: 0 | AQ107: 0 | AR107: 0 | AW107: 1 | AX107: 0 | BD107: 1
A108: 8 | B108: Deutsche Leasing Polska S.A. | C108: 0.12764589 | D108: 0.0029013904 | G108: 0.021615182 | H108: 0.00014701005 | K108: 0.021468172 | N108: 0.019241852 | Q108: 0.077456656 | U108: 0.0064308077 | X108: 0.87235411 | Y108: 0.013633124 | Z108: 0.018444469 | AB108: 0.0011313894 | AC108: 0.072765271 | AD108: 0.00094439257 | AE108: 0.0032542145 | AG108: 0.21390903 | AM108: 0.54827222 | AN108: 0 | AR108: 0 | AW108: 1 | AX108: 0 | BD108: 1
A109: 9 | B109: Europejski Fundusz Leasingowy S.A. | C109: 0.73547254 | D109: 0.31097975 | E109: 0.0080311215 | F109: 0.0059706192 | G109: 0.17743895 | H109: 0.088448153 | I109: 0.0037500926 | J109: 3.61063e-05 | K109: 0.088990799 | L109: 0.00016021015 | N109: 0.15310384 | Q109: 0.068319348 | R109: 0.018085526 | U109: 0.0075451263 | V109: 1.5363048e-05 | X109: 0.24955526 | Y109: 0.096265809 | Z109: 0.03556772 | AA109: 0.0029465812 | AB109: 0.0039466343 | AC109: 0.013905191 | AD109: 0.0039248575 | AE109: 0.0029819838 | AF109: 0.012127295 | AG109: 0.0070195322 | AH109: 0.00033152049 | AI109: 0.0002019477 | AJ109: 0.0044189093 | AL109: 0.00019865387 | AM109: 0.065718626 | AN109: 0.013092657 | AO109: 0.0077135493 | AP109: 0.0026677066 | AQ109: 0.0027114008 | AR109: 0.0018795395 | AS109: 0.00059748077 | AT109: 0.0012820588 | AW109: 1 | AX109: 0 | BD109: 1
A110: 10 | B110: Impuls-Leasing Polska Sp. z o. o. | C110: 0.7830033 | D110: 0.39503033 | E110: 0.014137892 | F110: 0.017325571 | G110: 0.13125847 | H110: 0.083560498 | I110: 0.00064405629 | J110: 0.0004324297 | K110: 0.047697971 | N110: 0.15983646 | Q110: 0.070482135 | R110: 0.0074313575 | U110: 0.018964551 | V110: 0.00024738059 | X110: 0.21227008 | Y110: 0.053052847 | Z110: 0.018129757 | AA110: 0.00471013 | AB110: 0.0016504214 | AC110: 0.021924097 | AE110: 0.0041285611 | AF110: 0.016272437 | AG110: 0.01752125 | AJ110: 0.00017799845 | AM110: 0.074702584 | AN110: 0.004167902 | AO110: 0.004167902 | AR110: 0.00055870962 | AT110: 0.00055870962 | AW110: 1 | AX110: 0 | BD110: 1
...

Sheet pożyczki&leasing I-IV kw 2025
C2: Związek Polskiego Leasingu, Warszawa 01-07-2026
C5: Wartość środków oddanych w pożyczki i leasing w | E5: I - IV kwartał 2025
B7: Lp. | C7: Spółka | D7: POJAZDY | E7: Osobowe | F7: osobowe - zeroemisyjne | G7: osobowe - hybryda plug-in | H7: Cięzarowe: | I7: o masie do 3,5 tony | J7: o masie do 3,5 tony - zeroemisyjne | K7: o masie do 3,5 tony - hybryda plug-in | L7: o masie powyzej 3,5 tony | M7: o masie powyżej 3,5 tony - zeroemisyjne | N7: o masie powyżej 3,5 tony - hybryda plug-in | O7: ciagniki siodlowe | P7: ciągniki siodłowe - zeroemisyjne | Q7: ciągniki siodłowe - hybryda plug-in | R7: naczepy / przyczepy | S7: autobusy | T7: autobusy - zeroemisyjne | U7: autobusy - hybryda plug-in | V7: inne | W7: inne - zeroemisyjne | X7: inne - hybryda plug-in | Y7: MiU | Z7: Sprzęt Budowlany | AA7: Maszyny Rolnicze | AB7: Maszyny Poligraf. | AC7: maszyny do produkcji tworzyw sztucznych | AD7: maszyny i urządzenia do obróbki metali | AE7: maszyny dla przemysłu spożywczego | AF7: Sprzęt Medyczny | AG7: Sprzęt Gastronom. | AH7: Wózki Widłowe | AI7: Magazyny energii | AJ7: Pompy ciepła | AK7: fotowoltaika | AL7: wiatraki i turbiny wiatrowe | AM7: stacje ładowania pojazdów elektrycznych (na użytek własny i komercyjny) | AN7: inne MiU | AO7: IT | AP7: Sprzęt | AQ7: Oprogram. | AR7: inne IT | AS7: POZOSTAŁE ŚRODKI TRANSPORTU | AT7: Powietrzne | AU7: Wodne | AV7: Kolejowe | AW7: Inne ruchomości | AX7: RUCHOMOŚCI | AY7: Nieruchomości | AZ7: budynki przemysłowe | BA7: obiekty handlowe i usługowe | BB7: obiekty biurowe | BC7: hotele i obiekty rekreacyjne | BD7: inne | BE7: OGÓŁEM
B8: 1 | C8: Alior Leasing Sp. z o. o. | D8: ='pozyczki I-IV kw 2025'!C7+'leasing I-IV kw 2025'!C8 -> 3000293.5 | E8: ='pozyczki I-IV kw 2025'!D7+'leasing I-IV kw 2025'!D8 -> 1372978.7 | F8: ='pozyczki I-IV kw 2025'!E7+'leasing I-IV kw 2025'!E8 -> 0 | G8: ='pozyczki I-IV kw 2025'!F7+'leasing I-IV kw 2025'!F8 -> 0 | H8: ='pozyczki I-IV kw 2025'!G7+'leasing I-IV kw 2025'!G8 -> 545680.26 | I8: ='pozyczki I-IV kw 2025'!H7+'leasing I-IV kw 2025'!H8 -> 331381.66 | J8: ='pozyczki I-IV kw 2025'!I7+'leasing I-IV kw 2025'!I8 -> 0 | K8: ='pozyczki I-IV kw 2025'!J7+'leasing I-IV kw 2025'!J8 -> 0 | ... BE8: ='pozyczki I-IV kw 2025'!BD7+'leasing I-IV kw 2025'!BD8 -> 3773814.6
B9: 2 | C9: BNP Paribas Lease Group Sp. z o. o. | D9: ='pozyczki I-IV kw 2025'!C8+'leasing I-IV kw 2025'!C9 -> 2594308.2 | E9: ='pozyczki I-IV kw 2025'!D8+'leasing I-IV kw 2025'!D9 -> 1762602.9 | F9: ='pozyczki I-IV kw 2025'!E8+'leasing I-IV kw 2025'!E9 -> 75022.551 | G9: ='pozyczki I-IV kw 2025'!F8+'leasing I-IV kw 2025'!F9 -> 32000.679 | H9: ='pozyczki I-IV kw 2025'!G8+'leasing I-IV kw 2025'!G9 -> 615909.41 | I9: ='pozyczki I-IV kw 2025'!H8+'leasing I-IV kw 2025'!H9 -> 294207.82 | J9: ='pozyczki I-IV kw 2025'!I8+'leasing I-IV kw 2025'!I9 -> 3352.6321 | K9: ='pozyczki I-IV kw 2025'!J8+'leasing I-IV kw 2025'!J9 -> 0 | ... BE9: ='pozyczki I-IV kw 2025'!BD8+'leasing I-IV kw 2025'!BD9 -> 5610665.2
B10: 3 | C10: BOŚ LEASING S.A | D10: ='pozyczki I-IV kw 2025'!C9+'leasing I-IV kw 2025'!C10 -> 27014.782 | E10: ='pozyczki I-IV kw 2025'!D9+'leasing I-IV kw 2025'!D10 -> 11203.363 | F10: ='pozyczki I-IV kw 2025'!E9+'leasing I-IV kw 2025'!E10 -> 0 | G10: ='pozyczki I-IV kw 2025'!F9+'leasing I-IV kw 2025'!F10 -> 0 | H10: ='pozyczki I-IV kw 2025'!G9+'leasing I-IV kw 2025'!G10 -> 1357.1282 | I10: ='pozyczki I-IV kw 2025'!H9+'leasing I-IV kw 2025'!H10 -> 1357.1282 | J10: ='pozyczki I-IV kw 2025'!I9+'leasing I-IV kw 2025'!I10 -> 0 | K10: ='pozyczki I-IV kw 2025'!J9+'leasing I-IV kw 2025'!J10 -> 0 | ... BE10: ='pozyczki I-IV kw 2025'!BD9+'leasing I-IV kw 2025'!BD10 -> 115282.96
B11: 4 | C11: BPCE Equipment Solutions Polska Sp. z o.o. | D11: ='pozyczki I-IV kw 2025'!C10+'leasing I-IV kw 2025'!C11 -> 236816.09 | E11: ='pozyczki I-IV kw 2025'!D10+'leasing I-IV kw 2025'!D11 -> 4996.6976 | F11: ='pozyczki I-IV kw 2025'!E10+'leasing I-IV kw 2025'!E11 -> 0 | G11: ='pozyczki I-IV kw 2025'!F10+'leasing I-IV kw 2025'!F11 -> 0 | H11: ='pozyczki I-IV kw 2025'!G10+'leasing I-IV kw 2025'!G11 -> 69068.294 | I11: ='pozyczki I-IV kw 2025'!H10+'leasing I-IV kw 2025'!H11 -> 5415.4799 | J11: ='pozyczki I-IV kw 2025'!I10+'leasing I-IV kw 2025'!I11 -> 0 | K11: ='pozyczki I-IV kw 2025'!J10+'leasing I-IV kw 2025'!J11 -> 0 | ... BE11: ='pozyczki I-IV kw 2025'!BD10+'leasing I-IV kw 2025'!BD11 -> 847923.97
B12: 5 | C12: BPS Leasing S.A. | D12: ='pozyczki I-IV kw 2025'!C11+'leasing I-IV kw 2025'!C12 -> 329113.39 | E12: ='pozyczki I-IV kw 2025'!D11+'leasing I-IV kw 2025'!D12 -> 96898.037 | F12: ='pozyczki I-IV kw 2025'!E11+'leasing I-IV kw 2025'!E12 -> 4291.3113 | G12: ='pozyczki I-IV kw 2025'!F11+'leasing I-IV kw 2025'!F12 -> 0 | H12: ='pozyczki I-IV kw 2025'!G11+'leasing I-IV kw 2025'!G12 -> 52909.547 | I12: ='pozyczki I-IV kw 2025'!H11+'leasing I-IV kw 2025'!H12 -> 22055.296 | J12: ='pozyczki I-IV kw 2025'!I11+'leasing I-IV kw 2025'!I12 -> 73.98374 | K12: ='pozyczki I-IV kw 2025'!J11+'leasing I-IV kw 2025'!J12 -> 0 | ... BE12: ='pozyczki I-IV kw 2025'!BD11+'leasing I-IV kw 2025'!BD12 -> 515941.31
B13: 6 | C13: Caterpillar Financial Services Poland Sp. z o. o. | D13: ='pozyczki I-IV kw 2025'!C12+'leasing I-IV kw 2025'!C13 -> 0 | E13: ='pozyczki I-IV kw 2025'!D12+'leasing I-IV kw 2025'!D13 -> 0 | F13: ='pozyczki I-IV kw 2025'!E12+'leasing I-IV kw 2025'!E13 -> 0 | G13: ='pozyczki I-IV kw 2025'!F12+'leasing I-IV kw 2025'!F13 -> 0 | H13: ='pozyczki I-IV kw 2025'!G12+'leasing I-IV kw 2025'!G13 -> 0 | I13: ='pozyczki I-IV kw 2025'!H12+'leasing I-IV kw 2025'!H13 -> 0 | J13: ='pozyczki I-IV kw 2025'!I12+'leasing I-IV kw 2025'!I13 -> 0 | K13: ='pozyczki I-IV kw 2025'!J12+'leasing I-IV kw 2025'!J13 -> 0 | ... BE13: ='pozyczki I-IV kw 2025'!BD12+'leasing I-IV kw 2025'!BD13 -> 487658.79
B14: 7 | C14: DE LAGE Landen Leasing Polska S.A. | D14: ='pozyczki I-IV kw 2025'!C13+'leasing I-IV kw 2025'!C14 -> 41735.506 | E14: ='pozyczki I-IV kw 2025'!D13+'leasing I-IV kw 2025'!D14 -> 375 | F14: ='pozyczki I-IV kw 2025'!E13+'leasing I-IV kw 2025'!E14 -> 0 | G14: ='pozyczki I-IV kw 2025'!F13+'leasing I-IV kw 2025'!F14 -> 0 | H14: ='pozyczki I-IV kw 2025'!G13+'leasing I-IV kw 2025'!G14 -> 0 | I14: ='pozyczki I-IV kw 2025'!H13+'leasing I-IV kw 2025'!H14 -> 0 | J14: ='pozyczki I-IV kw 2025'!I13+'leasing I-IV kw 2025'!I14 -> 0 | K14: ='pozyczki I-IV kw 2025'!J13+'leasing I-IV kw 2025'!J14 -> 0 | ... BE14: ='pozyczki I-IV kw 2025'!BD13+'leasing I-IV kw 2025'!BD14 -> 1358353.3
B15: 8 | C15: Deutsche Leasing Polska S.A. | D15: ='pozyczki I-IV kw 2025'!C14+'leasing I-IV kw 2025'!C15 -> 140647 | E15: ='pozyczki I-IV kw 2025'!D14+'leasing I-IV kw 2025'!D15 -> 2525 | F15: ='pozyczki I-IV kw 2025'!E14+'leasing I-IV kw 2025'!E15 -> 0 | G15: ='pozyczki I-IV kw 2025'!F14+'leasing I-IV kw 2025'!F15 -> 0 | H15: ='pozyczki I-IV kw 2025'!G14+'leasing I-IV kw 2025'!G15 -> 18617 | I15: ='pozyczki I-IV kw 2025'!H14+'leasing I-IV kw 2025'!H15 -> 363 | J15: ='pozyczki I-IV kw 2025'!I14+'leasing I-IV kw 2025'!I15 -> 0 | K15: ='pozyczki I-IV kw 2025'!J14+'leasing I-IV kw 2025'!J15 -> 0 | ... BE15: ='pozyczki I-IV kw 2025'!BD14+'leasing I-IV kw 2025'!BD15 -> 954215
B16: 9 | C16: Europejski Fundusz Leasingowy S.A. | D16: ='pozyczki I-IV kw 2025'!C15+'leasing I-IV kw 2025'!C16 -> 6939240.2 | E16: ='pozyczki I-IV kw 2025'!D15+'leasing I-IV kw 2025'!D16 -> 2935118.3 | F16: ='pozyczki I-IV kw 2025'!E15+'leasing I-IV kw 2025'!E16 -> 75998.034 | G16: ='pozyczki I-IV kw 2025'!F15+'leasing I-IV kw 2025'!F16 -> 54639.717 | H16: ='pozyczki I-IV kw 2025'!G15+'leasing I-IV kw 2025'!G16 -> 1655241 | I16: ='pozyczki I-IV kw 2025'!H15+'leasing I-IV kw 2025'!H16 -> 826589.31 | J16: ='pozyczki I-IV kw 2025'!I15+'leasing I-IV kw 2025'!I16 -> 34079.587 | K16: ='pozyczki I-IV kw 2025'!J15+'leasing I-IV kw 2025'!J16 -> 327.5 | ... BE16: ='pozyczki I-IV kw 2025'!BD15+'leasing I-IV kw 2025'!BD16 -> 10463617
B17: 10 | C17: Impuls-Leasing Polska Sp. z o. o. | D17: ='pozyczki I-IV kw 2025'!C16+'leasing I-IV kw 2025'!C17 -> 1129963.8 | E17: ='pozyczki I-IV kw 2025'!D16+'leasing I-IV kw 2025'!D17 -> 556981.3 | F17: ='pozyczki I-IV kw 2025'!E16+'leasing I-IV kw 2025'!E17 -> 21302.75 | G17: ='pozyczki I-IV kw 2025'!F16+'leasing I-IV kw 2025'!F17 -> 22485.65 | H17: ='pozyczki I-IV kw 2025'!G16+'leasing I-IV kw 2025'!G17 -> 172383.6 | I17: ='pozyczki I-IV kw 2025'!H16+'leasing I-IV kw 2025'!H17 -> 111733.01 | J17: ='pozyczki I-IV kw 2025'!I16+'leasing I-IV kw 2025'!I17 -> 953.5 | K17: ='pozyczki I-IV kw 2025'!J16+'leasing I-IV kw 2025'!J17 -> 733.05 | ... BE17: ='pozyczki I-IV kw 2025'!BD16+'leasing I-IV kw 2025'!BD17 -> 1456442
B18: 11 | C18: ING Lease (Polska) Sp. z o. o. | D18: ='pozyczki I-IV kw 2025'!C17+'leasing I-IV kw 2025'!C18 -> 3958438 | E18: ='pozyczki I-IV kw 2025'!D17+'leasing I-IV kw 2025'!D18 -> 1755704 | F18: ='pozyczki I-IV kw 2025'!E17+'leasing I-IV kw 2025'!E18 -> 43872 | G18: ='pozyczki I-IV kw 2025'!F17+'leasing I-IV kw 2025'!F18 -> 71534 | H18: ='pozyczki I-IV kw 2025'!G17+'leasing I-IV kw 2025'!G18 -> 774780 | I18: ='pozyczki I-IV kw 2025'!H17+'leasing I-IV kw 2025'!H18 -> 452856 | J18: ='pozyczki I-IV kw 2025'!I17+'leasing I-IV kw 2025'!I18 -> 3054 | K18: ='pozyczki I-IV kw 2025'!J17+'leasing I-IV kw 2025'!J18 -> 200 | ... BE18: ='pozyczki I-IV kw 2025'!BD17+'leasing I-IV kw 2025'!BD18 -> 6407095
B19: 12 | C19: Leasing Polski Sp. z o. o. | D19: ='pozyczki I-IV kw 2025'!C18+'leasing I-IV kw 2025'!C19 -> 160121.04 | E19: ='pozyczki I-IV kw 2025'!D18+'leasing I-IV kw 2025'!D19 -> 33539.132 | F19: ='pozyczki I-IV kw 2025'!E18+'leasing I-IV kw 2025'!E19 -> 0 | G19: ='pozyczki I-IV kw 2025'!F18+'leasing I-IV kw 2025'!F19 -> 5557.8341 | H19: ='pozyczki I-IV kw 2025'!G18+'leasing I-IV kw 2025'!G19 -> 38513.91 | I19: ='pozyczki I-IV kw 2025'!H18+'leasing I-IV kw 2025'!H19 -> 18134.242 | J19: ='pozyczki I-IV kw 2025'!I18+'leasing I-IV kw 2025'!I19 -> 0 | K19: ='pozyczki I-IV kw 2025'!J18+'leasing I-IV kw 2025'!J19 -> 0 | ... BE19: ='pozyczki I-IV kw 2025'!BD18+'leasing I-IV kw 2025'!BD19 -> 190253.42
... B34: 27 | C34: Razem | D34: ='pozyczki I-IV kw 2025'!C33+'leasing I-IV kw 2025'!C34 -> 59039344 | E34: ='pozyczki I-IV kw 2025'!D33+'leasing I-IV kw 2025'!D34 -> 35234124 | F34: ='pozyczki I-IV kw 2025'!E33+'leasing I-IV kw 2025'!E34 -> 1492249.2 | G34: ='pozyczki I-IV kw 2025'!F33+'leasing I-IV kw 2025'!F34 -> 1555797.6 | H34: ='pozyczki I-IV kw 2025'!G33+'leasing I-IV kw 2025'!G34 -> 9443498 | I34: ='pozyczki I-IV kw 2025'!H33+'leasing I-IV kw 2025'!H34 -> 5558839 | J34: ='pozyczki I-IV kw 2025'!I33+'leasing I-IV kw 2025'!I34 -> 113102.98 | K34: ='pozyczki I-IV kw 2025'!J33+'leasing I-IV kw 2025'!J34 -> 25360.3 | ... BE34: ='pozyczki I-IV kw 2025'!BD33+'leasing I-IV kw 2025'!BD34 -> 89266549
C36: Ilość środków oddanych w pożyczki i leasing w | E36: I - IV kwartał 2025
B39: Lp. | C39: Spółka | D39: POJAZDY | E39: Osobowe | F39: osobowe - zeroemisyjne | G39: osobowe - hybryda plug-in | H39: Cięzarowe: | I39: o masie do 3,5 tony | J39: o masie do 3,5 tony - zeroemisyjne | K39: o masie do 3,5 tony - hybryda plug-in | L39: o masie powyzej 3,5 tony | M39: o masie powyżej 3,5 tony - zeroemisyjne | N39: o masie powyżej 3,5 tony - hybryda plug-in | O39: ciagniki siodlowe | P39: ciągniki siodłowe - zeroemisyjne | Q39: ciągniki siodłowe - hybryda plug-in | R39: naczepy / przyczepy | S39: autobusy | T39: autobusy - zeroemisyjne | U39: autobusy - hybryda plug-in | V39: inne | W39: inne - zeroemisyjne | X39: inne - hybryda plug-in | Y39: MiU | Z39: Sprzęt Budowlany | AA39: Maszyny Rolnicze | AB39: Maszyny Poligraf. | AC39: maszyny do produkcji tworzyw sztucznych | AD39: maszyny i urządzenia do obróbki metali | AE39: maszyny dla przemysłu spożywczego | AF39: Sprzęt Medyczny | AG39: Sprzęt Gastronom. | AH39: Wózki Widłowe | AI39: Magazyny energii | AJ39: Pompy ciepła | AK39: fotowoltaika | AL39: wiatraki i turbiny wiatrowe | AM39: stacje ładowania pojazdów elektrycznych (na użytek własny i komercyjny) | AN39: inne MiU | AO39: IT | AP39: Sprzęt | AQ39: Oprogram. | AR39: inne IT | AS39: POZOSTAŁE ŚRODKI TRANSPORTU | AT39: Powietrzne | AU39: Wodne | AV39: Kolejowe | AW39: Inne ruchomości | AX39: RUCHOMOŚCI | AY39: Nieruchomości | AZ39: budynki przemysłowe | BA39: obiekty handlowe i usługowe | BB39: obiekty biurowe | BC39: hotele i obiekty rekreacyjne | BD39: inne | BE39: OGÓŁEM
B40: 1 | C40: Alior Leasing Sp. z o. o. | D40: ='pozyczki I-IV kw 2025'!C39+'leasing I-IV kw 2025'!C39 -> 21843 | E40: ='pozyczki I-IV kw 2025'!D39+'leasing I-IV kw 2025'!D39 -> 10593 | F40: ='pozyczki I-IV kw 2025'!E39+'leasing I-IV kw 2025'!E39 -> 0 | G40: ='pozyczki I-IV kw 2025'!F39+'leasing I-IV kw 2025'!F39 -> 0 | H40: ='pozyczki I-IV kw 2025'!G39+'leasing I-IV kw 2025'!G39 -> 4700 | I40: ='pozyczki I-IV kw 2025'!H39+'leasing I-IV kw 2025'!H39 -> 3766 | J40: ='pozyczki I-IV kw 2025'!I39+'leasing I-IV kw 2025'!I39 -> 0 | K40: ='pozyczki I-IV kw 2025'!J39+'leasing I-IV kw 2025'!J39 -> 0 | ... BE40: ='pozyczki I-IV kw 2025'!BD39+'leasing I-IV kw 2025'!BD39 -> 27554
B41: 2 | C41: BNP Paribas Lease Group Sp. z o. o. | D41: ='pozyczki I-IV kw 2025'!C40+'leasing I-IV kw 2025'!C40 -> 18361 | E41: ='pozyczki I-IV kw 2025'!D40+'leasing I-IV kw 2025'!D40 -> 14450 | F41: ='pozyczki I-IV kw 2025'!E40+'leasing I-IV kw 2025'!E40 -> 564 | G41: ='pozyczki I-IV kw 2025'!F40+'leasing I-IV kw 2025'!F40 -> 241 | H41: ='pozyczki I-IV kw 2025'!G40+'leasing I-IV kw 2025'!G40 -> 2953 | I41: ='pozyczki I-IV kw 2025'!H40+'leasing I-IV kw 2025'!H40 -> 1894 | J41: ='pozyczki I-IV kw 2025'!I40+'leasing I-IV kw 2025'!I40 -> 20 | K41: ='pozyczki I-IV kw 2025'!J40+'leasing I-IV kw 2025'!J40 -> 0 | ... BE41: ='pozyczki I-IV kw 2025'!BD40+'leasing I-IV kw 2025'!BD40 -> 29917
B42: 3 | C42: BOŚ LEASING S.A | D42: ='pozyczki I-IV kw 2025'!C41+'leasing I-IV kw 2025'!C41 -> 127 | E42: ='pozyczki I-IV kw 2025'!D41+'leasing I-IV kw 2025'!D41 -> 74 | F42: ='pozyczki I-IV kw 2025'!E41+'leasing I-IV kw 2025'!E41 -> 0 | G42: ='pozyczki I-IV kw 2025'!F41+'leasing I-IV kw 2025'!F41 -> 0 | H42: ='pozyczki I-IV kw 2025'!G41+'leasing I-IV kw 2025'!G41 -> 9 | I42: ='pozyczki I-IV kw 2025'!H41+'leasing I-IV kw 2025'!H41 -> 9 | J42: ='pozyczki I-IV kw 2025'!I41+'leasing I-IV kw 2025'!I41 -> 0 | K42: ='pozyczki I-IV kw 2025'!J41+'leasing I-IV kw 2025'!J41 -> 0 | ... BE42: ='pozyczki I-IV kw 2025'!BD41+'leasing I-IV kw 2025'!BD41 -> 360
B43: 4 | C43: BPCE Equipment Solutions Polska Sp. z o.o. | D43: ='pozyczki I-IV kw 2025'!C42+'leasing I-IV kw 2025'!C42 -> 795 | E43: ='pozyczki I-IV kw 2025'!D42+'leasing I-IV kw 2025'!D42 -> 31 | F43: ='pozyczki I-IV kw 2025'!E42+'leasing I-IV kw 2025'!E42 -> 0 | G43: ='pozyczki I-IV kw 2025'!F42+'leasing I-IV kw 2025'!F42 -> 0 | H43: ='pozyczki I-IV kw 2025'!G42+'leasing I-IV kw 2025'!G42 -> 156 | I43: ='pozyczki I-IV kw 2025'!H42+'leasing I-IV kw 2025'!H42 -> 39 | J43: ='pozyczki I-IV kw 2025'!I42+'leasing I-IV kw 2025'!I42 -> 0 | K43: ='pozyczki I-IV kw 2025'!J42+'leasing I-IV kw 2025'!J42 -> 0 | ... BE43: ='pozyczki I-IV kw 2025'!BD42+'leasing I-IV kw 2025'!BD42 -> 2212
B44: 5 | C44: BPS Leasing S.A. | D44: ='pozyczki I-IV kw 2025'!C43+'leasing I-IV kw 2025'!C43 -> 1691 | E44: ='pozyczki I-IV kw 2025'!D43+'leasing I-IV kw 2025'!D43 -> 716 | F44: ='pozyczki I-IV kw 2025'!E43+'leasing I-IV kw 2025'!E43 -> 20 | G44: ='pozyczki I-IV kw 2025'!F43+'leasing I-IV kw 2025'!F43 -> 0 | H44: ='pozyczki I-IV kw 2025'!G43+'leasing I-IV kw 2025'!G43 -> 261 | I44: ='pozyczki I-IV kw 2025'!H43+'leasing I-IV kw 2025'!H43 -> 183 | J44: ='pozyczki I-IV kw 2025'!I43+'leasing I-IV kw 2025'!I43 -> 1 | K44: ='pozyczki I-IV kw 2025'!J43+'leasing I-IV kw 2025'!J43 -> 0 | ... BE44: ='pozyczki I-IV kw 2025'!BD43+'leasing I-IV kw 2025'!BD43 -> 1964
B45: 6 | C45: Caterpillar Financial Services Poland Sp. z o. o. | D45: ='pozyczki I-IV kw 2025'!C44+'leasing I-IV kw 2025'!C44 -> 0 | E45: ='pozyczki I-IV kw 2025'!D44+'leasing I-IV kw 2025'!D44 -> 0 | F45: ='pozyczki I-IV kw 2025'!E44+'leasing I-IV kw 2025'!E44 -> 0 | G45: ='pozyczki I-IV kw 2025'!F44+'leasing I-IV kw 2025'!F44 -> 0 | H45: ='pozyczki I-IV kw 2025'!G44+'leasing I-IV kw 2025'!G44 -> 0 | I45: ='pozyczki I-IV kw 2025'!H44+'leasing I-IV kw 2025'!H44 -> 0 | J45: ='pozyczki I-IV kw 2025'!I44+'leasing I-IV kw 2025'!I44 -> 0 | K45: ='pozyczki I-IV kw 2025'!J44+'leasing I-IV kw 2025'!J44 -> 0 | ... BE45: ='pozyczki I-IV kw 2025'!BD44+'leasing I-IV kw 2025'!BD44 -> 942
B46: 7 | C46: DE LAGE Landen Leasing Polska S.A. | D46: ='pozyczki I-IV kw 2025'!C45+'leasing I-IV kw 2025'!C45 -> 207 | E46: ='pozyczki I-IV kw 2025'!D45+'leasing I-IV kw 2025'!D45 -> 2 | F46: ='pozyczki I-IV kw 2025'!E45+'leasing I-IV kw 2025'!E45 -> 0 | G46: ='pozyczki I-IV kw 2025'!F45+'leasing I-IV kw 2025'!F45 -> 0 | H46: ='pozyczki I-IV kw 2025'!G45+'leasing I-IV kw 2025'!G45 -> 0 | I46: ='pozyczki I-IV kw 2025'!H45+'leasing I-IV kw 2025'!H45 -> 0 | J46: ='pozyczki I-IV kw 2025'!I45+'leasing I-IV kw 2025'!I45 -> 0 | K46: ='pozyczki I-IV kw 2025'!J45+'leasing I-IV kw 2025'!J45 -> 0 | ... BE46: ='pozyczki I-IV kw 2025'!BD45+'leasing I-IV kw 2025'!BD45 -> 3336
B47: 8 | C47: Deutsche Leasing Polska S.A. | D47: ='pozyczki I-IV kw 2025'!C46+'leasing I-IV kw 2025'!C46 -> 715 | E47: ='pozyczki I-IV kw 2025'!D46+'leasing I-IV kw 2025'!D46 -> 12 | F47: ='pozyczki I-IV kw 2025'!E46+'leasing I-IV kw 2025'!E46 -> 0 | G47: ='pozyczki I-IV kw 2025'!F46+'leasing I-IV kw 2025'!F46 -> 0 | H47: ='pozyczki I-IV kw 2025'!G46+'leasing I-IV kw 2025'!G46 -> 26 | I47: ='pozyczki I-IV kw 2025'!H46+'leasing I-IV kw 2025'!H46 -> 3 | J47: ='pozyczki I-IV kw 2025'!I46+'leasing I-IV kw 2025'!I46 -> 0 | K47: ='pozyczki I-IV kw 2025'!J46+'leasing I-IV kw 2025'!J46 -> 0 | ... BE47: ='pozyczki I-IV kw 2025'!BD46+'leasing I-IV kw 2025'!BD46 -> 3024
B48: 9 | C48: Europejski Fundusz Leasingowy S.A. | D48: ='pozyczki I-IV kw 2025'!C47+'leasing I-IV kw 2025'!C47 -> 39879 | E48: ='pozyczki I-IV kw 2025'!D47+'leasing I-IV kw 2025'!D47 -> 18837 | F48: ='pozyczki I-IV kw 2025'!E47+'leasing I-IV kw 2025'!E47 -> 434 | G48: ='pozyczki I-IV kw 2025'!F47+'leasing I-IV kw 2025'!F47 -> 278 | H48: ='pozyczki I-IV kw 2025'!G47+'leasing I-IV kw 2025'!G47 -> 9087 | I48: ='pozyczki I-IV kw 2025'!H47+'leasing I-IV kw 2025'!H47 -> 6554 | J48: ='pozyczki I-IV kw 2025'!I47+'leasing I-IV kw 2025'!I47 -> 337 | K48: ='pozyczki I-IV kw 2025'!J47+'leasing I-IV kw 2025'!J47 -> 2 | ... BE48: ='pozyczki I-IV kw 2025'!BD47+'leasing I-IV kw 2025'!BD47 -> 59283
B49: 10 | C49: Impuls-Leasing Polska Sp. z o. o. | D49: ='pozyczki I-IV kw 2025'!C48+'leasing I-IV kw 2025'!C48 -> 6295 | E49: ='pozyczki I-IV kw 2025'!D48+'leasing I-IV kw 2025'!D48 -> 3442 | F49: ='pozyczki I-IV kw 2025'!E48+'leasing I-IV kw 2025'!E48 -> 115 | G49: ='pozyczki I-IV kw 2025'!F48+'leasing I-IV kw 2025'!F48 -> 93 | H49: ='pozyczki I-IV kw 2025'!G48+'leasing I-IV kw 2025'!G48 -> 997 | I49: ='pozyczki I-IV kw 2025'!H48+'leasing I-IV kw 2025'!H48 -> 812 | J49: ='pozyczki I-IV kw 2025'!I48+'leasing I-IV kw 2025'!I48 -> 10 | K49: ='pozyczki I-IV kw 2025'!J48+'leasing I-IV kw 2025'!J48 -> 4 | ... BE49: ='pozyczki I-IV kw 2025'!BD48+'leasing I-IV kw 2025'!BD48 -> 8241
B50: 11 | C50: ING Lease (Polska) Sp. z o. o. | D50: ='pozyczki I-IV kw 2025'!C49+'leasing I-IV kw 2025'!C49 -> 21856 | E50: ='pozyczki I-IV kw 2025'!D49+'leasing I-IV kw 2025'!D49 -> 12091 | F50: ='pozyczki I-IV kw 2025'!E49+'leasing I-IV kw 2025'!E49 -> 255 | G50: ='pozyczki I-IV kw 2025'!F49+'leasing I-IV kw 2025'!F49 -> 422 | H50: ='pozyczki I-IV kw 2025'!G49+'leasing I-IV kw 2025'!G49 -> 4461 | I50: ='pozyczki I-IV kw 2025'!H49+'leasing I-IV kw 2025'!H49 -> 3655 | J50: ='pozyczki I-IV kw 2025'!I49+'leasing I-IV kw 2025'!I49 -> 23 | K50: ='pozyczki I-IV kw 2025'!J49+'leasing I-IV kw 2025'!J49 -> 1 | ... BE50: ='pozyczki I-IV kw 2025'!BD49+'leasing I-IV kw 2025'!BD49 -> 29650
B51: 12 | C51: Leasing Polski Sp. z o. o. | D51: ='pozyczki I-IV kw 2025'!C50+'leasing I-IV kw 2025'!C50 -> 1647 | E51: ='pozyczki I-IV kw 2025'!D50+'leasing I-IV kw 2025'!D50 -> 366 | F51: ='pozyczki I-IV kw 2025'!E50+'leasing I-IV kw 2025'!E50 -> 0 | G51: ='pozyczki I-IV kw 2025'!F50+'leasing I-IV kw 2025'!F50 -> 48 | H51: ='pozyczki I-IV kw 2025'!G50+'leasing I-IV kw 2025'!G50 -> 420 | I51: ='pozyczki I-IV kw 2025'!H50+'leasing I-IV kw 2025'!H50 -> 281 | J51: ='pozyczki I-IV kw 2025'!I50+'leasing I-IV kw 2025'!I50 -> 0 | K51: ='pozyczki I-IV kw 2025'!J50+'leasing I-IV kw 2025'!J50 -> 0 | ... BE51: ='pozyczki I-IV kw 2025'!BD50+'leasing I-IV kw 2025'!BD50 -> 1796
... B66: 27 | C66: Razem | D66: ='pozyczki I-IV kw 2025'!C65+'leasing I-IV kw 2025'!C65 -> 355556 | E66: ='pozyczki I-IV kw 2025'!D65+'leasing I-IV kw 2025'!D65 -> 232244 | F66: ='pozyczki I-IV kw 2025'!E65+'leasing I-IV kw 2025'!E65 -> 9496 | G66: ='pozyczki I-IV kw 2025'!F65+'leasing I-IV kw 2025'!F65 -> 7184 | H66: ='pozyczki I-IV kw 2025'!G65+'leasing I-IV kw 2025'!G65 -> 56272 | I66: ='pozyczki I-IV kw 2025'!H65+'leasing I-IV kw 2025'!H65 -> 45194 | J66: ='pozyczki I-IV kw 2025'!I65+'leasing I-IV kw 2025'!I65 -> 958 | K66: ='pozyczki I-IV kw 2025'!J65+'leasing I-IV kw 2025'!J65 -> 141 | ... BE66: ='pozyczki I-IV kw 2025'!BD65+'leasing I-IV kw 2025'!BD65 -> 614788

Sheet outstanding I-IV kw 2025
B1: Związek Polskiego Leasingu, Warszawa 01-07-2026
B3: ILOŚĆ ŚRODKÓW TRWAŁYCH (szt.) | C3: I - IV kwartał 2025
B5: WARTOŚĆ CAŁEGO PORTFELA LEASINGU
A7: Lp. | B7: Spółka | C7: Środki transportu drogowego | D7: w tym samochody osobowe | E7: Maszyny i urządzenia przemysłowe | F7: Komputery i sprzet biurowy | G7: Pozostałe środki transportu | H7: Inne ruchomości | I7: Razem ruchomości | J7: Razem nieruchomości | K7: Ogółem
A8: 1 | B8: Alior Leasing Sp. z o. o. | C8: 77224 | D8: 37793 | E8: 16413 | F8: 144 | G8: 329 | I8: 94110 | K8: 94110
A9: 2 | B9: BNP Paribas Lease Group Sp. z o. o. | I9: 0 | K9: 0
A10: 3 | B10: BOŚ LEASING S.A | I10: 0 | K10: 0
A11: 4 | B11: BPCE Equipment Solutions Polska Sp. z o.o. | C11: 3017 | D11: 170 | E11: 6114 | F11: 630 | G11: 54 | I11: 9815 | K11: 9815
A12: 5 | B12: BPS Leasing S.A. | C12: 4623 | D12: 1835 | E12: 642 | F12: 23 | G12: 29 | H12: 184 | I12: 5501 | J12: 19 | K12: 5520
A13: 6 | B13: Caterpillar Financial Services Poland Sp. z o. o. | C13: 0 | D13: 0 | E13: 2741 | F13: 0 | G13: 0 | H13: 0 | I13: 2741 | K13: 2741
A14: 7 | B14: DE LAGE Landen Leasing Polska S.A. | C14: 1125 | D14: 33 | E14: 11951 | F14: 650 | G14: 0 | H14: 0 | I14: 13726 | J14: 0 | K14: 13726
A15: 8 | B15: Deutsche Leasing Polska S.A. | I15: 0 | K15: 0
A16: 9 | B16: Europejski Fundusz Leasingowy S.A. | C16: 119290 | D16: 60304 | E16: 64462 | F16: 3656 | G16: 0 | H16: 0 | I16: 187408 | J16: 12 | K16: 187420
A17: 10 | B17: Impuls-Leasing Polska Sp. z o. o. | I17: 0 | K17: 0
A18: 11 | B18: ING Lease (Polska) Sp. z o. o. | C18: 75748 | D18: 39951 | E18: 25831 | F18: 741 | G18: 1031 | H18: 3184 | I18: 106535 | J18: 38 | K18: 106573
A19: 12 | B19: Leasing Polski Sp. z o. o. | I19: 0 | K19: 0
A20: 13 | B20: Mercedes-Benz Leasing Polska Sp. z o.o. | C20: 51085 | D20: 38954 | I20: 51085 | K20: 51085
A21: 14 | B21: Millennium Leasing Sp. z o. o. | C21: 46113 | D21: 21430 | E21: 19084 | F21: 326 | G21: 278 | H21: 0 | I21: 65801 | J21: 31 | K21: 65832
A22: 15 | B22: mLeasing Sp. z o. o. | C22: 91479 | D22: 71495 | E22: 30029 | F22: 3367 | G22: 1073 | H22: 8209 | I22: 134157 | J22: 113 | K22: 134270
A23: 16 | B23: NEST LEASING S.A | C23: 4413 | D23: 1703 | E23: 701 | F23: 8 | G23: 76 | H23: 99 | I23: 5297 | J23: 0 | K23: 5297
A24: 17 | B24: PEAC (Poland) Sp. z o. o. | C24: 1056 | D24: 97 | E24: 5022 | F24: 231 | G24: 89 | I24: 6398 | K24: 6398
A25: 18 | B25: PEKAO Leasing Sp. z o. o. | C25: 63337 | D25: 31834 | E25: 25843 | F25: 3231 | G25: 771 | H25: 1208 | I25: 94390 | J25: 123 | K25: 94513
A26: 19 | B26: PKO Leasing S.A. | C26: 203529 | D26: 131046 | E26: 92718 | F26: 27147 | G26: 864 | H26: 41 | I26: 324299 | J26: 139 | K26: 324438
A27: 20 | B27: Santander Consumer Multirent Sp. z o.o. | C27: 53079 | D27: 42005 | I27: 53079 | K27: 53079
A28: 21 | B28: Santander Leasing S.A. | C28: 95833 | D28: 63635 | E28: 69734 | F28: 2276 | G28: 260 | H28: 14444 | I28: 182547 | J28: 126 | K28: 182673
A29: 22 | B29: Scania Finance Polska Sp. z o. o. | I29: 0 | K29: 0
A30: 23 | B30: SGB Leasing Sp. z o. o. | I30: 0 | K30: 0
A31: 24 | B31: Siemens Finance Sp. z o. o. | I31: 30819 | K31: 30819
A32: 26 | B32: VEHIS FINANSE Sp. z o.o. | I32: 0 | K32: 0
A33: 27 | B33: VELOLEASING S.A | C33: 7673 | D33: 7080 | I33: 7673 | K33: 7673
A34: 28 | B34: Razem | C34: =SUM(C8:C33) -> 898624 | D34: =SUM(D8:D33) -> 549365 | E34: =SUM(E8:E33) -> 371285 | F34: =SUM(F8:F33) -> 42430 | G34: =SUM(G8:G33) -> 4854 | H34: =SUM(H8:H33) -> 27369 | I34: =SUM(I8:I33) -> 1375381 | J34: =SUM(J8:J33) -> 601 | K34: =SUM(K8:K33) -> 1375982
B37: WARTOŚĆ ŚRODKÓW TRWAŁYCH - zgodnie z ustawą o rachunkowości (netto tys. PLN) | E37: I - IV kwartał 2025
A40: Lp. | B40: Spółka | C40: Środki transportu drogowego | D40: w tym samochody osobowe | E40: Maszyny i urządzenia przemysłowe | F40: Komputery i sprzet biurowy | G40: Pozostałe środki transportu | H40: Inne ruchomości | I40: Razem ruchomości | J40: Razem nieruchomości | K40: Ogółem
A41: 1 | B41: Alior Leasing Sp. z o. o. | C41: 5787282.4 | D41: 2486263 | E41: 1263226.1 | F41: 14219.376 | G41: 87101.341 | I41: 7151829.3 | K41: 7151829.3
A42: 2 | B42: BNP Paribas Lease Group Sp. z o. o. | I42: 0 | K42: 0
A43: 3 | B43: BOŚ LEASING S.A | I43: 0 | K43: 0
A44: 4 | B44: BPCE Equipment Solutions Polska Sp. z o.o. | C44: 439528.26 | D44: 8060.1157 | E44: 698958.58 | F44: 260851.54 | G44: 165068 | I44: 1564406.4 | K44: 1564406.4
A45: 5 | B45: BPS Leasing S.A. | C45: 597209.7 | D45: 163160.33 | E45: 110818.01 | F45: 1420.7891 | G45: 19839.248 | H45: 18865.614 | I45: 748153.36 | J45: 78273.808 | K45: 826427.17
A46: 6 | B46: Caterpillar Financial Services Poland Sp. z o. o. | C46: 0 | D46: 0 | E46: 670695.7 | F46: 0 | G46: 0 | H46: 0 | I46: 670695.7 | K46: 670695.7
A47: 7 | B47: DE LAGE Landen Leasing Polska S.A. | C47: 101198 | D47: 1812 | E47: 1563001 | F47: 81647 | G47: 0 | H47: 0 | I47: 1745846 | J47: 0 | K47: 1745846
A48: 8 | B48: Deutsche Leasing Polska S.A. | I48: 0 | K48: 0
A49: 9 | B49: Europejski Fundusz Leasingowy S.A. | C49: 10961066 | D49: 4976070.6 | E49: 5651560.9 | F49: 186151.25 | G49: 0 | H49: 0 | I49: 16798779 | J49: 8117.9658 | K49: 16806897
A50: 10 | B50: Impuls-Leasing Polska Sp. z o. o. | I50: 0 | K50: 0
A51: 11 | B51: ING Lease (Polska) Sp. z o. o. | C51: 7585441.6 | D51: 3003262.3 | E51: 5129497 | F51: 67123.675 | G51: 680579.31 | H51: 428869.19 | I51: 13891511 | J51: 480190.53 | K51: 14371701
A52: 12 | B52: Leasing Polski Sp. z o. o. | I52: 0 | K52: 0
A53: 13 | B53: Mercedes-Benz Leasing Polska Sp. z o.o. | C53: 7819322 | D53: 6178189.7 | I53: 7819322 | K53: 7819322
A54: 14 | B54: Millennium Leasing Sp. z o. o. | C54: 4350256.8 | D54: 1634972.6 | E54: 2224304.4 | F54: 64359.344 | G54: 404760.66 | H54: 0 | I54: 7043681.2 | J54: 183759.81 | K54: 7227441
A55: 15 | B55: mLeasing Sp. z o. o. | C55: 9779139.5 | D55: 7138652.4 | E55: 3598001.7 | F55: 404972.81 | G55: 834165.74 | H55: 405183.45 | I55: 15021463 | J55: 857187.95 | K55: 15878651
A56: 16 | B56: NEST LEASING S.A | C56: 0 | D56: 0 | G56: 0 | I56: 0 | J56: 0 | K56: 0
A57: 17 | B57: PEAC (Poland) Sp. z o. o. | C57: 98301 | D57: 7771.3 | E57: 320376.5 | F57: 7180 | G57: 6679 | I57: 432536.5 | K57: 432536.5
A58: 18 | B58: PEKAO Leasing Sp. z o. o. | C58: 7866920.6 | D58: 3399492.7 | E58: 5273254.6 | F58: 182285.27 | G58: 644632.62 | H58: 191717.62 | I58: 14158811 | J58: 822463.43 | K58: 14981274
A59: 19 | B59: PKO Leasing S.A. | C59: 19069767 | D59: 11641177 | E59: 8566896.4 | F59: 176991.43 | G59: 1232744.3 | H59: 793.2815 | I59: 29047192 | J59: 111756.44 | K59: 29158949
A60: 20 | B60: Santander Consumer Multirent Sp. z o.o. | C60: 2996099.5 | D60: 2539428.9 | I60: 2996099.5 | K60: 2996099.5
A61: 21 | B61: Santander Leasing S.A. | C61: 8228537.9 | D61: 4916659.6 | E61: 5988043.3 | F61: 106348.45 | G61: 182243.46 | H61: 1170074.2 | I61: 15675247 | J61: 212778.5 | K61: 15888026
A62: 22 | B62: Scania Finance Polska Sp. z o. o. | I62: 0 | K62: 0
A63: 23 | B63: SGB Leasing Sp. z o. o. | I63: 0 | K63: 0
A64: 24 | B64: Siemens Finance Sp. z o. o. | I64: 2625000 | K64: 2625000
A65: 25
A66: 26 | B66: VEHIS FINANSE Sp. z o.o. | I66: 0 | K66: 0
A67: 27 | B67: VELOLEASING S.A | C67: 478543.68 | D67: 442848.18 | I67: 478543.68 | K67: 478543.68
A68: 28 | B68: Razem | C68: =SUM(C41:C67) -> 86158614 | D68: =SUM(D41:D67) -> 48537821 | E68: =SUM(E41:E67) -> 41058634 | F68: =SUM(F41:F67) -> 1553550.9 | G68: =SUM(G41:G67) -> 4257813.7 | H68: =SUM(H41:H67) -> 2215503.4 | I68: =SUM(I41:I67) -> 1.3786912e+08 | J68: =SUM(J41:J67) -> 2754528.4 | K68: =SUM(K41:K67) -> 1.4062364e+08
B71: WARTOŚĆ ŚRODKÓW TRWAŁYCH - zgodnie z ustawami podatkowymi (netto tys. PLN) | E71: I - IV kwartał 2025
A74: Lp. | B74: Spółka | C74: Środki transportu drogowego | D74: w tym samochody osobowe | E74: Maszyny i urządzenia przemysłowe | F74: Komputery i sprzet biurowy | G74: Pozostałe środki transportu | H74: Inne ruchomości | I74: Razem ruchomości | J74: Razem nieruchomości | K74: Ogółem
A75: 1 | B75: Alior Leasing Sp. z o. o. | I75: 0 | K75: 0
A76: 2 | B76: BNP Paribas Lease Group Sp. z o. o. | I76: 0 | K76: 0
A77: 3 | B77: BOŚ LEASING S.A | I77: 0 | K77: 0
A78: 4 | B78: BPCE Equipment Solutions Polska Sp. z o.o. | I78: 0 | K78: 0
A79: 5 | B79: BPS Leasing S.A. | I79: 0 | K79: 0
A80: 6 | B80: Caterpillar Financial Services Poland Sp. z o. o. | C80: 0 | D80: 0 | E80: 670695.7 | F80: 0 | G80: 0 | H80: 0 | I80: 670695.7 | K80: 670695.7
A81: 7 | B81: DE LAGE Landen Leasing Polska S.A. | C81: 96866 | D81: 1812 | E81: 1552646 | F81: 78492 | G81: 0 | H81: 0 | I81: 1728004 | J81: 0 | K81: 1728004
A82: 8 | B82: Deutsche Leasing Polska S.A. | I82: 0 | K82: 0
A83: 9 | B83: Europejski Fundusz Leasingowy S.A. | C83: 12228707 | D83: 5850474 | E83: 6254142.7 | F83: 157405.05 | G83: 0 | H83: 0 | I83: 18640254 | J83: 150199.64 | K83: 18790454
A84: 10 | B84: Impuls-Leasing Polska Sp. z o. o. | I84: 0 | K84: 0
A85: 11 | B85: ING Lease (Polska) Sp. z o. o. | C85: 7585441.6 | D85: 3003262.3 | E85: 5129497 | F85: 67123.675 | G85: 680579.31 | H85: 428869.19 | I85: 13891511 | J85: 480190.53 | K85: 14371701
A86: 12 | B86: Leasing Polski Sp. z o. o. | I86: 0 | K86: 0
A87: 13 | B87: Mercedes-Benz Leasing Polska Sp. z o.o. | C87: 7819322 | D87: 6178189.7 | I87: 7819322 | K87: 7819322
A88: 14 | B88: Millennium Leasing Sp. z o. o. | C88: 4272656.7 | D88: 1594876.6 | E88: 2649806.4 | F88: 61464.266 | G88: 399350.12 | H88: 0 | I88: 7383277.5 | J88: 287389.73 | K88: 7670667.2
A89: 15 | B89: mLeasing Sp. z o. o. | C89: 10915235 | D89: 7967987.9 | E89: 4016000.8 | F89: 452020.67 | G89: 931075.25 | H89: 452255.78 | I89: 16766587 | J89: 857187.95 | K89: 17623775
A90: 16 | B90: NEST LEASING S.A | C90: 724071 | D90: 227048 | E90: 136020 | F90: 400 | G90: 7007 | H90: 11416 | I90: 878914 | J90: 0 | K90: 878914
A91: 17 | B91: PEAC (Poland) Sp. z o. o. | C91: 95623 | D91: 7515 | E91: 201351 | F91: 7165 | G91: 8938 | I91: 313077 | K91: 313077
A92: 18 | B92: PEKAO Leasing Sp. z o. o. | C92: 8611791.9 | D92: 4072898.3 | E92: 5560789.9 | F92: 119910.55 | G92: 754067.58 | H92: 209589.69 | I92: 15256150 | J92: 1268195.5 | K92: 16524345
A93: 19 | B93: PKO Leasing S.A. | C93: 20438811 | D93: 12870567 | E93: 9120959.6 | F93: 115767.21 | G93: 1259217.5 | H93: 178.8658 | I93: 30934934 | J93: 266996.49 | K93: 31201931
A94: 20 | B94: Santander Consumer Multirent Sp. z o.o. | C94: 3617025.2 | D94: 3096224.5 | I94: 3617025.2 | K94: 3617025.2
A95: 21 | B95: Santander Leasing S.A. | I95: 0 | K95: 0
A96: 22 | B96: Scania Finance Polska Sp. z o. o. | I96: 0 | K96: 0
A97: 23 | B97: SGB Leasing Sp. z o. o. | I97: 0 | K97: 0
A98: 24 | B98: Siemens Finance Sp. z o. o. | I98: 0 | K98: 0
A99: 25 | B99: Siemens Finance Sp. z o. o.* | I99: 0 | K99: 0
A100: 26 | B100: VEHIS FINANSE Sp. z o.o. | I100: 0 | K100: 0
A101: 27 | B101: VELOLEASING S.A | I101: 0 | K101: 0
A102: 28 | B102: Razem | C102: 76405550 | D102: 44870855 | E102: 35291909 | F102: 1059748.4 | G102: 4040234.8 | H102: 1102309.5 | I102: 1.1789975e+08 | J102: 3310159.8 | K102: 1.2120991e+08
B105: WARTOŚĆ CAŁEGO PORTFELA LEASINGU (netto tys. PLN) | D105: I - IV kwartał 2025
A108: Lp. | B108: Spółka | C108: Ilość ST leasingu konsumenckiego | D108: ust. o rach. | E108: ust. podatkowe | F108: Ilość ST leasingu do umów CFM | G108: ust. o rach. | H108: ust. podatkowe
D109: Wartość netto leasingu konsumenckiego | E109: Wartość netto leasingu konsumenckiego | G109: Wartość umów CFM | H109: Wartość umów CFM
A110: 1 | B110: Alior Leasing Sp. z o. o.
A111: 2 | B111: BNP Paribas Lease Group Sp. z o. o.
A112: 3 | B112: BOŚ LEASING S.A
A113: 4 | B113: BPCE Equipment Solutions Polska Sp. z o.o.
A114: 5 | B114: BPS Leasing S.A. | F114: 103 | G114: 10863413
A115: 6 | B115: Caterpillar Financial Services Poland Sp. z o. o. | C115: 0 | D115: 0 | E115: 0 | F115: 0 | G115: 0 | H115: 0
...
