Workbook
Name cx: '[1]Dane Le'!#REF!
Name cx: '[1]Dane Le'!#REF!
Name cx: '[1]Dane Le'!#REF!
Name Excel_BuiltIn_Print_Area_2: #REF!
Name Excel_BuiltIn_Print_Area_2: #REF!
Name Excel_BuiltIn_Print_Area_2: #REF!
Name Excel_BuiltIn_Print_Area_4: #REF!
Name Excel_BuiltIn_Print_Area_4: #REF!
Name Excel_BuiltIn_Print_Area_4: #REF!
Name v: #REF!
Name v: #REF!
Name v: #REF!

Sheet summary_07 2026
B2: Związek Polskiego Leasingu , 13-08-2026
C6: FINANSOWANIE POJAZDÓW LEKKICH | T6: FINANSOWANIE POJAZDÓW LEKKICH - lipiec 2026r. Łączne finansowanie leasingiem i pożyczką
J11: 11 2025 | N11: 11 2025
I12: leasing | J12: =('szacunek rynku_07 2026'!I39+'szacunek rynku_07 2026'!I40)/('szacunek rynku_07 2026'!I11+'szacunek rynku_07 2026'!I12) -> 0.89227612 | M12: osobowe | N12: ='szacunek rynku_07 2026'!I11/SUM('szacunek rynku_07 2026'!I11:I12) -> 0.87576809
I13: pożyczka | J13: =1-J12 -> 0.10772388 | M13: dostawcze | N13: =1-N12 -> 0.12423191
I15: leasing | J15: =('szacunek rynku_07 2026'!I39+'szacunek rynku_07 2026'!I40)/('szacunek rynku_07 2026'!H39+'szacunek rynku_07 2026'!H40)-1 -> 0.02136332 | K15: =('szacunek rynku_07 2026'!N39+'szacunek rynku_07 2026'!N40)/('szacunek rynku_07 2026'!M39+'szacunek rynku_07 2026'!M40)-1 -> 0.047840801
I16: pożyczka | J16: =('szacunek rynku_07 2026'!I66+'szacunek rynku_07 2026'!I67)/('szacunek rynku_07 2026'!H66+'szacunek rynku_07 2026'!H67)-1 -> 0.50935004 | K16: =('szacunek rynku_07 2026'!N66+'szacunek rynku_07 2026'!N67)/('szacunek rynku_07 2026'!M66+'szacunek rynku_07 2026'!M67)-1 -> 0.52515825
I17: L+P | J17: =('szacunek rynku_07 2026'!I12+'szacunek rynku_07 2026'!I11)/('szacunek rynku_07 2026'!H11+'szacunek rynku_07 2026'!H12)-1 -> 0.058219099 | K17: =('szacunek rynku_07 2026'!N12+'szacunek rynku_07 2026'!N11)/('szacunek rynku_07 2026'!M11+'szacunek rynku_07 2026'!M12)-1 -> 0.079366434
C41: FINANSOWANIE POJAZDÓW CIĘŻKICH | T41: FINANSOWANIE POJAZDÓW CIĘŻKICH - lipiec 2026r. Łączne finansowanie leasingiem i pożyczką
J46: 07/2025 | N46: 07/2025
I47: leasing | J47: ='szacunek rynku_07 2026'!I41/'szacunek rynku_07 2026'!I13 -> 0.86455705 | M47: ciężarowe pow. 3.5t | N47: ='szacunek rynku_07 2026'!I14/'szacunek rynku_07 2026'!$I$13 -> 0.24832902
I48: pożyczka | J48: =1-J47 -> 0.13544295 | M48: ciągniki siodłowe | N48: ='szacunek rynku_07 2026'!I15/'szacunek rynku_07 2026'!$I$13 -> 0.45735012
M49: przyczepy/naczepy | N49: ='szacunek rynku_07 2026'!I16/'szacunek rynku_07 2026'!$I$13 -> 0.22801293
M50: autobusy | N50: ='szacunek rynku_07 2026'!I17/'szacunek rynku_07 2026'!$I$13 -> 0.066307928
C74: FINANSOWANIE MASZYN | T74: FINANSOWANIE MASZYN - lipiec 2026r. Łączne finansowanie leasingiem i pożyczką
J79: 07/2025 | N79: 07/2025
I80: leasing | J80: ='szacunek rynku_07 2026'!I47/'szacunek rynku_07 2026'!I19 -> 0.60985639 | M80: sprzęt budowlany | N80: ='szacunek rynku_07 2026'!I20/'szacunek rynku_07 2026'!$I$19 -> 0.16624331
I81: pożyczka | J81: =1-J80 -> 0.39014361 | M81: maszyny rolnicze | N81: ='szacunek rynku_07 2026'!I21/'szacunek rynku_07 2026'!$I$19 -> 0.28538657
M82: pozostałe maszyny | N82: ='szacunek rynku_07 2026'!I22/'szacunek rynku_07 2026'!$I$19 -> 0.54837012
C110: FINANSOWANIE RUCHOMOŚCI
J115: 07/2025 | N115: 07/2025
I116: leasing | J116: ='szacunek rynku_07 2026'!I55/'szacunek rynku_07 2026'!I27 -> 0.81961063 | M116: OSD | N116: =('szacunek rynku_07 2026'!I11+'szacunek rynku_07 2026'!I12)/'szacunek rynku_07 2026'!I27 -> 0.56280328
I117: pożyczka | J117: =1-J116 -> 0.18038937 | M117: TRK | N117: ='szacunek rynku_07 2026'!I13/'szacunek rynku_07 2026'!I27 -> 0.16289894
M118: maszyny | N118: ='szacunek rynku_07 2026'!I19/'szacunek rynku_07 2026'!I27 -> 0.23137823
M119: IT | N119: ='szacunek rynku_07 2026'!I23/'szacunek rynku_07 2026'!I27 -> 0.01300682
M120: pozostałe | N120: =('szacunek rynku_07 2026'!I18+'szacunek rynku_07 2026'!I24+'szacunek rynku_07 2026'!I25)/'szacunek rynku_07 2026'!I27 -> 0.029912733

Sheet szacunek rynku_07 2026
B2: Związek Polskiego Leasingu , 13-08-2026
B4: Łączne finansowanie leasingiem i pożyczką
C7: =C$35 -> I-VI 2026 vs I-VI 2025 | H7: =H35 -> VII 2026 vs VII 2025 | M7: =M35 -> I-VII 2026 vs I-VII 2025
C9: =C$37 -> I-VI 2025 | D9: =D$37 -> I-VI 2026 | F9: =F$37 -> I-VI 26/ I-VI 25 | H9: =H$37 -> VII 2025 | I9: =I$37 -> VII 2026 | K9: =K$37 -> VII 2026/ VII 2025 | M9: =M$37 -> I-VII 2025 | N9: =N$37 -> I-VII 2026 | P9: =P$37 -> I-VII 2026/ I-VII 2025
B10: pojazdy | C10: =SUM(C11:C12,C14:C18) -> 41916.975 | D10: =SUM(D11:D12,D14:D18) -> 47054.629 | F10: =IF(C10,D10/C10-1,"") -> 0.12256738 | H10: =SUM(H11:H12,H14:H18) -> 7522.2292 | I10: =SUM(I11:I12,I14:I18) -> 8032.1884 | K10: =IF(H10,I10/H10-1,"") -> 0.067793633 | M10: =SUM(M11:M12,M14:M18) -> 49439.204 | N10: =SUM(N11:N12,N14:N18) -> 55086.817 | P10: =IF(M10,N10/M10-1,"") -> 0.11423349
B11: osobowe | C11: =C39+C66 -> 28068.574 | D11: =D39+D66 -> 30301.253 | F11: =IF(C11,D11/C11-1,"") -> 0.079543744 | H11: =H39+H66 -> 5108.8349 | I11: =I39+I66 -> 5389.2353 | K11: =IF(H11,I11/H11-1,"") -> 0.054885389 | M11: =C11+H11 -> 33177.409 | N11: =D11+I11 -> 35690.489 | P11: =IF(M11,N11/M11-1,"") -> 0.075746719
B12: ciężarowe do 3,5 t | C12: =C40+C67 -> 3920.6685 | D12: =D40+D67 -> 4349.8364 | F12: =IF(C12,D12/C12-1,"") -> 0.10946296 | H12: =H40+H67 -> 706.33532 | I12: =I40+I67 -> 764.48889 | K12: =IF(H12,I12/H12-1,"") -> 0.082331403 | M12: =C12+H12 -> 4627.0038 | N12: =D12+I12 -> 5114.3253 | P12: =IF(M12,N12/M12-1,"") -> 0.10532119
B13: pojazdy ciężkie | C13: =C14+C15+C16+C17 -> 9443.2861 | D13: =D14+D15+D16+D17 -> 11847.739 | F13: =IF(C13,D13/C13-1,"") -> 0.25462038 | H13: =H14+H15+H16+H17 -> 1615.8809 | I13: =I14+I15+I16+I17 -> 1781.1466 | K13: =IF(H13,I13/H13-1,"") -> 0.10227589 | M13: =M14+M15+M16+M17 -> 11059.167 | N13: =N14+N15+N16+N17 -> 13628.886 | P13: =IF(M13,N13/M13-1,"") -> 0.23236097
B14: ciężarowe pow. 3,5 t | C14: =C42+C69 -> 2087.5634 | D14: =D42+D69 -> 2668.0585 | F14: =IF(C14,D14/C14-1,"") -> 0.27807304 | H14: =H42+H69 -> 385.02086 | I14: =I42+I69 -> 442.31039 | K14: =IF(H14,I14/H14-1,"") -> 0.1487959 | M14: =C14+H14 -> 2472.5843 | N14: =D14+I14 -> 3110.3689 | P14: =IF(M14,N14/M14-1,"") -> 0.25794252
B15: ciągniki siodłowe | C15: =C43+C70 -> 4410.5102 | D15: =D43+D70 -> 5787.5408 | F15: =IF(C15,D15/C15-1,"") -> 0.31221571 | H15: =H43+H70 -> 698.57888 | I15: =I43+I70 -> 814.60761 | K15: =IF(H15,I15/H15-1,"") -> 0.16609252 | M15: =C15+H15 -> 5109.0891 | N15: =D15+I15 -> 6602.1484 | P15: =IF(M15,N15/M15-1,"") -> 0.29223591
B16: naczepy / przyczepy | C16: =C44+C71 -> 2054.7044 | D16: =D44+D71 -> 2154.1914 | F16: =IF(C16,D16/C16-1,"") -> 0.048419132 | H16: =H44+H71 -> 356.18286 | I16: =I44+I71 -> 406.12445 | K16: =IF(H16,I16/H16-1,"") -> 0.14021335 | M16: =C16+H16 -> 2410.8873 | N16: =D16+I16 -> 2560.3159 | P16: =IF(M16,N16/M16-1,"") -> 0.061980747
B17: autobusy | C17: =C45+C72 -> 890.50802 | D17: =D45+D72 -> 1237.9484 | F17: =IF(C17,D17/C17-1,"") -> 0.39015973 | H17: =H45+H72 -> 176.09832 | I17: =I45+I72 -> 118.10414 | K17: =IF(H17,I17/H17-1,"") -> -0.32932841 | M17: =C17+H17 -> 1066.6063 | N17: =D17+I17 -> 1356.0525 | P17: =IF(M17,N17/M17-1,"") -> 0.27137115
B18: inne | C18: =C46+C73 -> 484.44669 | D18: =D46+D73 -> 555.80003 | F18: =IF(C18,D18/C18-1,"") -> 0.14728832 | H18: =H46+H73 -> 91.178048 | I18: =I46+I73 -> 97.317657 | K18: =IF(H18,I18/H18-1,"") -> 0.06733649 | M18: =C18+H18 -> 575.62474 | N18: =D18+I18 -> 653.11769 | P18: =IF(M18,N18/M18-1,"") -> 0.13462408
B19: maszyny | C19: =SUM(C20:C22) -> 12741.907 | D19: =SUM(D20:D22) -> 12961.933 | F19: =IF(C19,D19/C19-1,"") -> 0.017267907 | H19: =SUM(H20:H22) -> 2412.4254 | I19: =SUM(I20:I22) -> 2529.9032 | K19: =IF(H19,I19/H19-1,"") -> 0.048696978 | M19: =SUM(M20:M22) -> 15154.332 | N19: =SUM(N20:N22) -> 15491.836 | P19: =IF(M19,N19/M19-1,"") -> 0.022271116
B20: sprzęt budowlany | C20: =C48+C75 -> 2397.4952 | D20: =D48+D75 -> 2478.8389 | F20: =IF(C20,D20/C20-1,"") -> 0.033928588 | H20: =H48+H75 -> 374.43322 | I20: =I48+I75 -> 420.57949 | K20: =IF(H20,I20/H20-1,"") -> 0.123243 | M20: =C20+H20 -> 2771.9284 | N20: =D20+I20 -> 2899.4183 | P20: =IF(M20,N20/M20-1,"") -> 0.045993215
B21: maszyny rolnicze | C21: =C49+C76 -> 3826.8213 | D21: =D49+D76 -> 3140.2894 | F21: =IF(C21,D21/C21-1,"") -> -0.17940002 | H21: =H49+H76 -> 933.20879 | I21: =I49+I76 -> 722.00038 | K21: =IF(H21,I21/H21-1,"") -> -0.22632492 | M21: =C21+H21 -> 4760.0301 | N21: =D21+I21 -> 3862.2898 | P21: =IF(M21,N21/M21-1,"") -> -0.1885997
B22: inne MiU | C22: =C50+C77 -> 6517.5901 | D22: =D50+D77 -> 7342.8044 | F22: =IF(C22,D22/C22-1,"") -> 0.1266134 | H22: =H50+H77 -> 1104.7834 | I22: =I50+I77 -> 1387.3233 | K22: =IF(H22,I22/H22-1,"") -> 0.25574241 | M22: =C22+H22 -> 7622.3735 | N22: =D22+I22 -> 8730.1277 | P22: =IF(M22,N22/M22-1,"") -> 0.1453293
B23: IT | C23: =C51+C78 -> 654.16592 | D23: =D51+D78 -> 678.85768 | F23: =IF(C23,D23/C23-1,"") -> 0.037745408 | H23: =H51+H78 -> 128.4739 | I23: =I51+I78 -> 142.21733 | K23: =IF(H23,I23/H23-1,"") -> 0.10697454 | M23: =C23+H23 -> 782.63981 | N23: =D23+I23 -> 821.07501 | P23: =IF(M23,N23/M23-1,"") -> 0.049109685
B24: statki, samoloty, kolej | C24: =C52+C79 -> 869.7214 | D24: =D52+D79 -> 840.48314 | F24: =IF(C24,D24/C24-1,"") -> -0.033617961 | H24: =H52+H79 -> 201.62592 | I24: =I52+I79 -> 183.65438 | K24: =IF(H24,I24/H24-1,"") -> -0.089133076 | M24: =C24+H24 -> 1071.3473 | N24: =D24+I24 -> 1024.1375 | P24: =IF(M24,N24/M24-1,"") -> -0.04406582
B25: inne | C25: =C53+C80 -> 237.25861 | D25: =D53+D80 -> 221.91788 | F25: =IF(C25,D25/C25-1,"") -> -0.064658281 | H25: =H53+H80 -> 48.901252 | I25: =I53+I80 -> 46.095554 | K25: =IF(H25,I25/H25-1,"") -> -0.057374753 | M25: =C25+H25 -> 286.15986 | N25: =D25+I25 -> 268.01343 | P25: =IF(M25,N25/M25-1,"") -> -0.063413614
B27: ruchomości - leasing + pożyczka | C27: =SUM(C10,C20:C25) -> 56420.028 | D27: =SUM(D10,D20:D25) -> 61757.82 | F27: =IF(C27,D27/C27-1,"") -> 0.094608119 | H27: =SUM(H10,H20:H25) -> 10313.656 | I27: =SUM(I10,I20:I25) -> 10934.059 | K27: =IF(H27,I27/H27-1,"") -> 0.060153576 | M27: =SUM(M10,M20:M25) -> 66733.683 | N27: =SUM(N10,N20:N25) -> 72691.879 | P27: =IF(M27,N27/M27-1,"") -> 0.089283187
B34: Finansowanie leasingiem
C35: I-VI 2026 vs I-VI 2025 | H35: VII 2026 vs VII 2025 | M35: I-VII 2026 vs I-VII 2025
C37: I-VI 2025 | D37: I-VI 2026 | F37: I-VI 26/ I-VI 25 | H37: VII 2025 | I37: VII 2026 | K37: VII 2026/ VII 2025 | M37: I-VII 2025 | N37: I-VII 2026 | P37: I-VII 2026/ I-VII 2025
B38: pojazdy | C38: 38944.291 | D38: 42571.255 | F38: =IF(C38,D38/C38-1,"") -> 0.093132101 | H38: 6934.6524 | I38: 7122.9642 | K38: =IF(H38,I38/H38-1,"") -> 0.027155187 | M38: =SUM(M39:M40,M42:M46) -> 45878.944 | N38: =SUM(N39:N40,N42:N46) -> 49694.219 | P38: =IF(M38,N38/M38-1,"") -> 0.083159619
B39: osobowe | C39: 26188.897 | D39: 27318.148 | F39: =IF(C39,D39/C39-1,"") -> 0.04311946 | H39: 4722.8978 | I39: 4760.2126 | K39: =IF(H39,I39/H39-1,"") -> 0.0079008403 | M39: =C39+H39 -> 30911.795 | N39: =D39+I39 -> 32078.361 | P39: =IF(M39,N39/M39-1,"") -> 0.037738539
B40: ciężarowe do 3,5 t | C40: 3742.6552 | D40: 4187.6958 | F40: =IF(C40,D40/C40-1,"") -> 0.11891037 | H40: 653.0748 | I40: 730.60856 | K40: =IF(H40,I40/H40-1,"") -> 0.1187211 | M40: =C40+H40 -> 4395.73 | N40: =D40+I40 -> 4918.3043 | P40: =IF(M40,N40/M40-1,"") -> 0.11888225
B41: pojazdy ciężkie | C41: 8552.801 | D41: 10538.917 | F41: =IF(C41,D41/C41-1,"") -> 0.23221814 | H41: 1471.6383 | I41: 1539.9028 | K41: =IF(H41,I41/H41-1,"") -> 0.046386787 | M41: =M42+M43+M44+M45 -> 10024.439 | N41: =N42+N43+N44+N45 -> 12078.819 | P41: =IF(M41,N41/M41-1,"") -> 0.20493716
B42: ciężarowe pow. 3,5 t | C42: 1958.3025 | D42: 2523.5925 | F42: =IF(C42,D42/C42-1,"") -> 0.28866325 | H42: 369.32718 | I42: 395.59709 | K42: =IF(H42,I42/H42-1,"") -> 0.071129096 | M42: =C42+H42 -> 2327.6297 | N42: =D42+I42 -> 2919.1896 | P42: =IF(M42,N42/M42-1,"") -> 0.2541469
B43: ciągniki siodłowe | C43: 3930.9375 | D43: 5022.0086 | F43: =IF(C43,D43/C43-1,"") -> 0.27756002 | H43: 620.87849 | I43: 688.53552 | K43: =IF(H43,I43/H43-1,"") -> 0.10896983 | M43: =C43+H43 -> 4551.816 | N43: =D43+I43 -> 5710.5441 | P43: =IF(M43,N43/M43-1,"") -> 0.25456392
B44: naczepy / przyczepy | C44: 1851.6984 | D44: 1865.3251 | F44: =IF(C44,D44/C44-1,"") -> 0.0073590344 | H44: 321.61997 | I44: 350.04793 | K44: =IF(H44,I44/H44-1,"") -> 0.088389927 | M44: =C44+H44 -> 2173.3183 | N44: =D44+I44 -> 2215.373 | P44: =IF(M44,N44/M44-1,"") -> 0.019350445
B45: autobusy | C45: 811.86266 | D45: 1127.9904 | F45: =IF(C45,D45/C45-1,"") -> 0.38938579 | H45: 159.81262 | I45: 105.72229 | K45: =IF(H45,I45/H45-1,"") -> -0.33846093 | M45: =C45+H45 -> 971.67528 | N45: =D45+I45 -> 1233.7127 | P45: =IF(M45,N45/M45-1,"") -> 0.26967595
B46: inne | C46: 459.9379 | D46: 526.49436 | F46: =IF(C46,D46/C46-1,"") -> 0.1447075 | H46: 87.041598 | I46: 92.240188 | K46: =IF(H46,I46/H46-1,"") -> 0.05972535 | M46: =C46+H46 -> 546.97949 | N46: =D46+I46 -> 618.73455 | P46: =IF(M46,N46/M46-1,"") -> 0.13118417
B47: maszyny | C47: 7775.2646 | D47: 8035.2523 | F47: =IF(C47,D47/C47-1,"") -> 0.033437789 | H47: 1305.479 | I47: 1542.8776 | K47: =IF(H47,I47/H47-1,"") -> 0.18184793 | M47: =SUM(M48:M50) -> 9080.7436 | N47: =SUM(N48:N50) -> 9578.1299 | P47: =IF(M47,N47/M47-1,"") -> 0.054773743
B48: sprzęt budowlany | C48: 2017.2989 | D48: 2101.0228 | F48: =IF(C48,D48/C48-1,"") -> 0.041502937 | H48: 313.52169 | I48: 371.29046 | K48: =IF(H48,I48/H48-1,"") -> 0.18425762 | M48: =C48+H48 -> 2330.8206 | N48: =D48+I48 -> 2472.3132 | P48: =IF(M48,N48/M48-1,"") -> 0.060705054
B49: maszyny rolnicze | C49: 636.33037 | D49: 664.56687 | F49: =IF(C49,D49/C49-1,"") -> 0.044373966 | H49: 122.83923 | I49: 126.92731 | K49: =IF(H49,I49/H49-1,"") -> 0.033279891 | M49: =C49+H49 -> 759.1696 | N49: =D49+I49 -> 791.49418 | P49: =IF(M49,N49/M49-1,"") -> 0.042578863
B50: inne MiU | C50: 5121.6353 | D50: 5269.6626 | F50: =IF(C50,D50/C50-1,"") -> 0.028902356 | H50: 869.11805 | I50: 1044.6599 | K50: =IF(H50,I50/H50-1,"") -> 0.20197695 | M50: =C50+H50 -> 5990.7534 | N50: =D50+I50 -> 6314.3225 | P50: =IF(M50,N50/M50-1,"") -> 0.054011428
B51: IT | C51: 485.90866 | D51: 438.96176 | F51: =IF(C51,D51/C51-1,"") -> -0.096616715 | H51: 82.591944 | I51: 111.96141 | K51: =IF(H51,I51/H51-1,"") -> 0.35559727 | M51: =C51+H51 -> 568.50061 | N51: =D51+I51 -> 550.92318 | P51: =IF(M51,N51/M51-1,"") -> -0.030918927
B52: statki, samoloty, kolej | C52: 779.52185 | D52: 535.55087 | F52: =IF(C52,D52/C52-1,"") -> -0.31297516 | H52: 193.04556 | I52: 147.62766 | K52: =IF(H52,I52/H52-1,"") -> -0.23527039 | M52: =C52+H52 -> 972.56741 | N52: =D52+I52 -> 683.17853 | P52: =IF(M52,N52/M52-1,"") -> -0.29755149
B53: inne | C53: 207.20833 | D53: 160.01372 | F53: =IF(C53,D53/C53-1,"") -> -0.22776403 | H53: 42.63497 | I53: 36.240033 | K53: =IF(H53,I53/H53-1,"") -> -0.14999277 | M53: =C53+H53 -> 249.8433 | N53: =D53+I53 -> 196.25376 | P53: =IF(M53,N53/M53-1,"") -> -0.21449261
...
