Workbook
Name cx: '[1]Dane Le'!#REF!
Name cx: '[1]Dane Le'!#REF!
Name cx: '[1]Dane Le'!#REF!
Name Excel_BuiltIn_Print_Area_2: #REF!
Name Excel_BuiltIn_Print_Area_2: #REF!
Name Excel_BuiltIn_Print_Area_2: #REF!
Name Excel_BuiltIn_Print_Area_4: #REF!
Name Excel_BuiltIn_Print_Area_4: #REF!
Name Excel_BuiltIn_Print_Area_4: #REF!
Name v: #REF!
Name v: #REF!
Name v: #REF!

Sheet summary_07 2026
B2: Związek Polskiego Leasingu , 13-08-2026
C6: FINANSOWANIE POJAZDÓW LEKKICH | T6: FINANSOWANIE POJAZDÓW LEKKICH - lipiec 2026r. Łączne finansowanie leasingiem i pożyczką
J11: 11 2025 | N11: 11 2025
I12: leasing | J12: =('szacunek rynku_07 2026'!I39+'szacunek rynku_07 2026'!I40)/('szacunek rynku_07 2026'!I11+'szacunek rynku_07 2026'!I12) -> 0.89227612 | M12: osobowe | N12: ='szacunek rynku_07 2026'!I11/SUM('szacunek rynku_07 2026'!I11:I12) -> 0.87576809
I13: pożyczka | J13: =1-J12 -> 0.10772388 | M13: dostawcze | N13: =1-N12 -> 0.12423191
I15: leasing | J15: =('szacunek rynku_07 2026'!I39+'szacunek rynku_07 2026'!I40)/('szacunek rynku_07 2026'!H39+'szacunek rynku_07 2026'!H40)-1 -> 0.02136332 | K15: =('szacunek rynku_07 2026'!N39+'szacunek rynku_07 2026'!N40)/('szacunek rynku_07 2026'!M39+'szacunek rynku_07 2026'!M40)-1 -> 0.047840801
I16: pożyczka | J16: =('szacunek rynku_07 2026'!I66+'szacunek rynku_07 2026'!I67)/('szacunek rynku_07 2026'!H66+'szacunek rynku_07 2026'!H67)-1 -> 0.50935004 | K16: =('szacunek rynku_07 2026'!N66+'szacunek rynku_07 2026'!N67)/('szacunek rynku_07 2026'!M66+'szacunek rynku_07 2026'!M67)-1 -> 0.52515825
I17: L+P | J17: =('szacunek rynku_07 2026'!I12+'szacunek rynku_07 2026'!I11)/('szacunek rynku_07 2026'!H11+'szacunek rynku_07 2026'!H12)-1 -> 0.058219099 | K17: =('szacunek rynku_07 2026'!N12+'szacunek rynku_07 2026'!N11)/('szacunek rynku_07 2026'!M11+'szacunek rynku_07 2026'!M12)-1 -> 0.079366434
C41: FINANSOWANIE POJAZDÓW CIĘŻKICH | T41: FINANSOWANIE POJAZDÓW CIĘŻKICH - lipiec 2026r. Łączne finansowanie leasingiem i pożyczką
J46: 07/2025 | N46: 07/2025
I47: leasing | J47: ='szacunek rynku_07 2026'!I41/'szacunek rynku_07 2026'!I13 -> 0.86455705 | M47: ciężarowe pow. 3.5t | N47: ='szacunek rynku_07 2026'!I14/'szacunek rynku_07 2026'!$I$13 -> 0.24832902
I48: pożyczka | J48: =1-J47 -> 0.13544295 | M48: ciągniki siodłowe | N48: ='szacunek rynku_07 2026'!I15/'szacunek rynku_07 2026'!$I$13 -> 0.45735012
M49: przyczepy/naczepy | N49: ='szacunek rynku_07 2026'!I16/'szacunek rynku_07 2026'!$I$13 -> 0.22801293
M50: autobusy | N50: ='szacunek rynku_07 2026'!I17/'szacunek rynku_07 2026'!$I$13 -> 0.066307928
C74: FINANSOWANIE MASZYN | T74: FINANSOWANIE MASZYN - lipiec 2026r. Łączne finansowanie leasingiem i pożyczką
J79: 07/2025 | N79: 07/2025
I80: leasing | J80: ='szacunek rynku_07 2026'!I47/'szacunek rynku_07 2026'!I19 -> 0.60985639 | M80: sprzęt budowlany | N80: ='szacunek rynku_07 2026'!I20/'szacunek rynku_07 2026'!$I$19 -> 0.16624331
I81: pożyczka | J81: =1-J80 -> 0.39014361 | M81: maszyny rolnicze | N81: ='szacunek rynku_07 2026'!I21/'szacunek rynku_07 2026'!$I$19 -> 0.28538657
M82: pozostałe maszyny | N82: ='szacunek rynku_07 2026'!I22/'szacunek rynku_07 2026'!$I$19 -> 0.54837012
C110: FINANSOWANIE RUCHOMOŚCI
J115: 07/2025 | N115: 07/2025
I116: leasing | J116: ='szacunek rynku_07 2026'!I55/'szacunek rynku_07 2026'!I27 -> 0.81961063 | M116: OSD | N116: =('szacunek rynku_07 2026'!I11+'szacunek rynku_07 2026'!I12)/'szacunek rynku_07 2026'!I27 -> 0.56280328
I117: pożyczka | J117: =1-J116 -> 0.18038937 | M117: TRK | N117: ='szacunek rynku_07 2026'!I13/'szacunek rynku_07 2026'!I27 -> 0.16289894
M118: maszyny | N118: ='szacunek rynku_07 2026'!I19/'szacunek rynku_07 2026'!I27 -> 0.23137823
M119: IT | N119: ='szacunek rynku_07 2026'!I23/'szacunek rynku_07 2026'!I27 -> 0.01300682
M120: pozostałe | N120: =('szacunek rynku_07 2026'!I18+'szacunek rynku_07 2026'!I24+'szacunek rynku_07 2026'!I25)/'szacunek rynku_07 2026'!I27 -> 0.029912733

Sheet szacunek rynku_07 2026
B2: Związek Polskiego Leasingu , 13-08-2026
B4: Łączne finansowanie leasingiem i pożyczką
C7: =C$35 -> I-VI 2026 vs I-VI 2025 | H7: =H35 -> VII 2026 vs VII 2025 | M7: =M35 -> I-VII 2026 vs I-VII 2025
C9: =C$37 -> I-VI 2025 | D9: =D$37 -> I-VI 2026 | F9: =F$37 -> I-VI 26/ I-VI 25 | H9: =H$37 -> VII 2025 | I9: =I$37 -> VII 2026 | K9: =K$37 -> VII 2026/ VII 2025 | M9: =M$37 -> I-VII 2025 | N9: =N$37 -> I-VII 2026 | P9: =P$37 -> I-VII 2026/ I-VII 2025
B10: pojazdy | C10: =SUM(C11:C12,C14:C18) -> 41916.975 | D10: =SUM(D11:D12,D14:D18) -> 47054.629 | F10: =IF(C10,D10/C10-1,"") -> 0.12256738 | H10: =SUM(H11:H12,H14:H18) -> 7522.2292 | I10: =SUM(I11:I12,I14:I18) -> 8032.1884 | K10: =IF(H10,I10/H10-1,"") -> 0.067793633 | M10: =SUM(M11:M12,M14:M18) -> 49439.204 | N10: =SUM(N11:N12,N14:N18) -> 55086.817 | P10: =IF(M10,N10/M10-1,"") -> 0.11423349
B11: osobowe | C11: =C39+C66 -> 28068.574 | D11: =D39+D66 -> 30301.253 | F11: =IF(C11,D11/C11-1,"") -> 0.079543744 | H11: =H39+H66 -> 5108.8349 | I11: =I39+I66 -> 5389.2353 | K11: =IF(H11,I11/H11-1,"") -> 0.054885389 | M11: =C11+H11 -> 33177.409 | N11: =D11+I11 -> 35690.489 | P11: =IF(M11,N11/M11-1,"") -> 0.075746719
B12: ciężarowe do 3,5 t | C12: =C40+C67 -> 3920.6685 | D12: =D40+D67 -> 4349.8364 | F12: =IF(C12,D12/C12-1,"") -> 0.10946296 | H12: =H40+H67 -> 706.33532 | I12: =I40+I67 -> 764.48889 | K12: =IF(H12,I12/H12-1,"") -> 0.082331403 | M12: =C12+H12 -> 4627.0038 | N12: =D12+I12 -> 5114.3253 | P12: =IF(M12,N12/M12-1,"") -> 0.10532119
B13: pojazdy ciężkie | C13: =C14+C15+C16+C17 -> 9443.2861 | D13: =D14+D15+D16+D17 -> 11847.739 | F13: =IF(C13,D13/C13-1,"") -> 0.25462038 | H13: =H14+H15+H16+H17 -> 1615.8809 | I13: =I14+I15+I16+I17 -> 1781.1466 | K13: =IF(H13,I13/H13-1,"") -> 0.10227589 | M13: =M14+M15+M16+M17 -> 11059.167 | N13: =N14+N15+N16+N17 -> 13628.886 | P13: =IF(M13,N13/M13-1,"") -> 0.23236097
B14: ciężarowe pow. 3,5 t | C14: =C42+C69 -> 2087.5634 | D14: =D42+D69 -> 2668.0585 | F14: =IF(C14,D14/C14-1,"") -> 0.27807304 | H14: =H42+H69 -> 385.02086 | I14: =I42+I69 -> 442.31039 | K14: =IF(H14,I14/H14-1,"") -> 0.1487959 | M14: =C14+H14 -> 2472.5843 | N14: =D14+I14 -> 3110.3689 | P14: =IF(M14,N14/M14-1,"") -> 0.25794252
B15: ciągniki siodłowe | C15: =C43+C70 -> 4410.5102 | D15: =D43+D70 -> 5787.5408 | F15: =IF(C15,D15/C15-1,"") -> 0.31221571 | H15: =H43+H70 -> 698.57888 | I15: =I43+I70 -> 814.60761 | K15: =IF(H15,I15/H15-1,"") -> 0.16609252 | M15: =C15+H15 -> 5109.0891 | N15: =D15+I15 -> 6602.1484 | P15: =IF(M15,N15/M15-1,"") -> 0.29223591
B16: naczepy / przyczepy | C16: =C44+C71 -> 2054.7044 | D16: =D44+D71 -> 2154.1914 | F16: =IF(C16,D16/C16-1,"") -> 0.048419132 | H16: =H44+H71 -> 356.18286 | I16: =I44+I71 -> 406.12445 | K16: =IF(H16,I16/H16-1,"") -> 0.14021335 | M16: =C16+H16 -> 2410.8873 | N16: =D16+I16 -> 2560.3159 | P16: =IF(M16,N16/M16-1,"") -> 0.061980747
B17: autobusy | C17: =C45+C72 -> 890.50802 | D17: =D45+D72 -> 1237.9484 | F17: =IF(C17,D17/C17-1,"") -> 0.39015973 | H17: =H45+H72 -> 176.09832 | I17: =I45+I72 -> 118.10414 | K17: =IF(H17,I17/H17-1,"") -> -0.32932841 | M17: =C17+H17 -> 1066.6063 | N17: =D17+I17 -> 1356.0525 | P17: =IF(M17,N17/M17-1,"") -> 0.27137115
B18: inne | C18: =C46+C73 -> 484.44669 | D18: =D46+D73 -> 555.80003 | F18: =IF(C18,D18/C18-1,"") -> 0.14728832 | H18: =H46+H73 -> 91.178048 | I18: =I46+I73 -> 97.317657 | K18: =IF(H18,I18/H18-1,"") -> 0.06733649 | M18: =C18+H18 -> 575.62474 | N18: =D18+I18 -> 653.11769 | P18: =IF(M18,N18/M18-1,"") -> 0.13462408
B19: maszyny | C19: =SUM(C20:C22) -> 12741.907 | D19: =SUM(D20:D22) -> 12961.933 | F19: =IF(C19,D19/C19-1,"") -> 0.017267907 | H19: =SUM(H20:H22) -> 2412.4254 | I19: =SUM(I20:I22) -> 2529.9032 | K19: =IF(H19,I19/H19-1,"") -> 0.048696978 | M19: =SUM(M20:M22) -> 15154.332 | N19: =SUM(N20:N22) -> 15491.836 | P19: =IF(M19,N19/M19-1,"") -> 0.022271116
B20: sprzęt budowlany | C20: =C48+C75 -> 2397.4952 | D20: =D48+D75 -> 2478.8389 | F20: =IF(C20,D20/C20-1,"") -> 0.033928588 | H20: =H48+H75 -> 374.43322 | I20: =I48+I75 -> 420.57949 | K20: =IF(H20,I20/H20-1,"") -> 0.123243 | M20: =C20+H20 -> 2771.9284 | N20: =D20+I20 -> 2899.4183 | P20: =IF(M20,N20/M20-1,"") -> 0.045993215
B21: maszyny rolnicze | C21: =C49+C76 -> 3826.8213 | D21: =D49+D76 -> 3140.2894 | F21: =IF(C21,D21/C21-1,"") -> -0.17940002 | H21: =H49+H76 -> 933.20879 | I21: =I49+I76 -> 722.00038 | K21: =IF(H21,I21/H21-1,"") -> -0.22632492 | M21: =C21+H21 -> 4760.0301 | N21: =D21+I21 -> 3862.2898 | P21: =IF(M21,N21/M21-1,"") -> -0.1885997
B22: inne MiU | C22: =C50+C77 -> 6517.5901 | D22: =D50+D77 -> 7342.8044 | F22: =IF(C22,D22/C22-1,"") -> 0.1266134 | H22: =H50+H77 -> 1104.7834 | I22: =I50+I77 -> 1387.3233 | K22: =IF(H22,I22/H22-1,"") -> 0.25574241 | M22: =C22+H22 -> 7622.3735 | N22: =D22+I22 -> 8730.1277 | P22: =IF(M22,N22/M22-1,"") -> 0.1453293
B23: IT | C23: =C51+C78 -> 654.16592 | D23: =D51+D78 -> 678.85768 | F23: =IF(C23,D23/C23-1,"") -> 0.037745408 | H23: =H51+H78 -> 128.4739 | I23: =I51+I78 -> 142.21733 | K23: =IF(H23,I23/H23-1,"") -> 0.10697454 | M23: =C23+H23 -> 782.63981 | N23: =D23+I23 -> 821.07501 | P23: =IF(M23,N23/M23-1,"") -> 0.049109685
B24: statki, samoloty, kolej | C24: =C52+C79 -> 869.7214 | D24: =D52+D79 -> 840.48314 | F24: =IF(C24,D24/C24-1,"") -> -0.033617961 | H24: =H52+H79 -> 201.62592 | I24: =I52+I79 -> 183.65438 | K24: =IF(H24,I24/H24-1,"") -> -0.089133076 | M24: =C24+H24 -> 1071.3473 | N24: =D24+I24 -> 1024.1375 | P24: =IF(M24,N24/M24-1,"") -> -0.04406582
B25: inne | C25: =C53+C80 -> 237.25861 | D25: =D53+D80 -> 221.91788 | F25: =IF(C25,D25/C25-1,"") -> -0.064658281 | H25: =H53+H80 -> 48.901252 | I25: =I53+I80 -> 46.095554 | K25: =IF(H25,I25/H25-1,"") -> -0.057374753 | M25: =C25+H25 -> 286.15986 | N25: =D25+I25 -> 268.01343 | P25: =IF(M25,N25/M25-1,"") -> -0.063413614
B27: ruchomości - leasing + pożyczka | C27: =SUM(C10,C20:C25) -> 56420.028 | D27: =SUM(D10,D20:D25) -> 61757.82 | F27: =IF(C27,D27/C27-1,"") -> 0.094608119 | H27: =SUM(H10,H20:H25) -> 10313.656 | I27: =SUM(I10,I20:I25) -> 10934.059 | K27: =IF(H27,I27/H27-1,"") -> 0.060153576 | M27: =SUM(M10,M20:M25) -> 66733.683 | N27: =SUM(N10,N20:N25) -> 72691.879 | P27: =IF(M27,N27/M27-1,"") -> 0.089283187
B34: Finansowanie leasingiem
C35: I-VI 2026 vs I-VI 2025 | H35: VII 2026 vs VII 2025 | M35: I-VII 2026 vs I-VII 2025
C37: I-VI 2025 | D37: I-VI 2026 | F37: I-VI 26/ I-VI 25 | H37: VII 2025 | I37: VII 2026 | K37: VII 2026/ VII 2025 | M37: I-VII 2025 | N37: I-VII 2026 | P37: I-VII 2026/ I-VII 2025
B38: pojazdy | C38: 38944.291 | D38: 42571.255 | F38: =IF(C38,D38/C38-1,"") -> 0.093132101 | H38: 6934.6524 | I38: 7122.9642 | K38: =IF(H38,I38/H38-1,"") -> 0.027155187 | M38: =SUM(M39:M40,M42:M46) -> 45878.944 | N38: =SUM(N39:N40,N42:N46) -> 49694.219 | P38: =IF(M38,N38/M38-1,"") -> 0.083159619
B39: osobowe | C39: 26188.897 | D39: 27318.148 | F39: =IF(C39,D39/C39-1,"") -> 0.04311946 | H39: 4722.8978 | I39: 4760.2126 | K39: =IF(H39,I39/H39-1,"") -> 0.0079008403 | M39: =C39+H39 -> 30911.795 | N39: =D39+I39 -> 32078.361 | P39: =IF(M39,N39/M39-1,"") -> 0.037738539
B40: ciężarowe do 3,5 t | C40: 3742.6552 | D40: 4187.6958 | F40: =IF(C40,D40/C40-1,"") -> 0.11891037 | H40: 653.0748 | I40: 730.60856 | K40: =IF(H40,I40/H40-1,"") -> 0.1187211 | M40: =C40+H40 -> 4395.73 | N40: =D40+I40 -> 4918.3043 | P40: =IF(M40,N40/M40-1,"") -> 0.11888225
B41: pojazdy ciężkie | C41: 8552.801 | D41: 10538.917 | F41: =IF(C41,D41/C41-1,"") -> 0.23221814 | H41: 1471.6383 | I41: 1539.9028 | K41: =IF(H41,I41/H41-1,"") -> 0.046386787 | M41: =M42+M43+M44+M45 -> 10024.439 | N41: =N42+N43+N44+N45 -> 12078.819 | P41: =IF(M41,N41/M41-1,"") -> 0.20493716
B42: ciężarowe pow. 3,5 t | C42: 1958.3025 | D42: 2523.5925 | F42: =IF(C42,D42/C42-1,"") -> 0.28866325 | H42: 369.32718 | I42: 395.59709 | K42: =IF(H42,I42/H42-1,"") -> 0.071129096 | M42: =C42+H42 -> 2327.6297 | N42: =D42+I42 -> 2919.1896 | P42: =IF(M42,N42/M42-1,"") -> 0.2541469
B43: ciągniki siodłowe | C43: 3930.9375 | D43: 5022.0086 | F43: =IF(C43,D43/C43-1,"") -> 0.27756002 | H43: 620.87849 | I43: 688.53552 | K43: =IF(H43,I43/H43-1,"") -> 0.10896983 | M43: =C43+H43 -> 4551.816 | N43: =D43+I43 -> 5710.5441 | P43: =IF(M43,N43/M43-1,"") -> 0.25456392
B44: naczepy / przyczepy | C44: 1851.6984 | D44: 1865.3251 | F44: =IF(C44,D44/C44-1,"") -> 0.0073590344 | H44: 321.61997 | I44: 350.04793 | K44: =IF(H44,I44/H44-1,"") -> 0.088389927 | M44: =C44+H44 -> 2173.3183 | N44: =D44+I44 -> 2215.373 | P44: =IF(M44,N44/M44-1,"") -> 0.019350445
B45: autobusy | C45: 811.86266 | D45: 1127.9904 | F45: =IF(C45,D45/C45-1,"") -> 0.38938579 | H45: 159.81262 | I45: 105.72229 | K45: =IF(H45,I45/H45-1,"") -> -0.33846093 | M45: =C45+H45 -> 971.67528 | N45: =D45+I45 -> 1233.7127 | P45: =IF(M45,N45/M45-1,"") -> 0.26967595
B46: inne | C46: 459.9379 | D46: 526.49436 | F46: =IF(C46,D46/C46-1,"") -> 0.1447075 | H46: 87.041598 | I46: 92.240188 | K46: =IF(H46,I46/H46-1,"") -> 0.05972535 | M46: =C46+H46 -> 546.97949 | N46: =D46+I46 -> 618.73455 | P46: =IF(M46,N46/M46-1,"") -> 0.13118417
B47: maszyny | C47: 7775.2646 | D47: 8035.2523 | F47: =IF(C47,D47/C47-1,"") -> 0.033437789 | H47: 1305.479 | I47: 1542.8776 | K47: =IF(H47,I47/H47-1,"") -> 0.18184793 | M47: =SUM(M48:M50) -> 9080.7436 | N47: =SUM(N48:N50) -> 9578.1299 | P47: =IF(M47,N47/M47-1,"") -> 0.054773743
B48: sprzęt budowlany | C48: 2017.2989 | D48: 2101.0228 | F48: =IF(C48,D48/C48-1,"") -> 0.041502937 | H48: 313.52169 | I48: 371.29046 | K48: =IF(H48,I48/H48-1,"") -> 0.18425762 | M48: =C48+H48 -> 2330.8206 | N48: =D48+I48 -> 2472.3132 | P48: =IF(M48,N48/M48-1,"") -> 0.060705054
B49: maszyny rolnicze | C49: 636.33037 | D49: 664.56687 | F49: =IF(C49,D49/C49-1,"") -> 0.044373966 | H49: 122.83923 | I49: 126.92731 | K49: =IF(H49,I49/H49-1,"") -> 0.033279891 | M49: =C49+H49 -> 759.1696 | N49: =D49+I49 -> 791.49418 | P49: =IF(M49,N49/M49-1,"") -> 0.042578863
B50: inne MiU | C50: 5121.6353 | D50: 5269.6626 | F50: =IF(C50,D50/C50-1,"") -> 0.028902356 | H50: 869.11805 | I50: 1044.6599 | K50: =IF(H50,I50/H50-1,"") -> 0.20197695 | M50: =C50+H50 -> 5990.7534 | N50: =D50+I50 -> 6314.3225 | P50: =IF(M50,N50/M50-1,"") -> 0.054011428
B51: IT | C51: 485.90866 | D51: 438.96176 | F51: =IF(C51,D51/C51-1,"") -> -0.096616715 | H51: 82.591944 | I51: 111.96141 | K51: =IF(H51,I51/H51-1,"") -> 0.35559727 | M51: =C51+H51 -> 568.50061 | N51: =D51+I51 -> 550.92318 | P51: =IF(M51,N51/M51-1,"") -> -0.030918927
B52: statki, samoloty, kolej | C52: 779.52185 | D52: 535.55087 | F52: =IF(C52,D52/C52-1,"") -> -0.31297516 | H52: 193.04556 | I52: 147.62766 | K52: =IF(H52,I52/H52-1,"") -> -0.23527039 | M52: =C52+H52 -> 972.56741 | N52: =D52+I52 -> 683.17853 | P52: =IF(M52,N52/M52-1,"") -> -0.29755149
B53: inne | C53: 207.20833 | D53: 160.01372 | F53: =IF(C53,D53/C53-1,"") -> -0.22776403 | H53: 42.63497 | I53: 36.240033 | K53: =IF(H53,I53/H53-1,"") -> -0.14999277 | M53: =C53+H53 -> 249.8433 | N53: =D53+I53 -> 196.25376 | P53: =IF(M53,N53/M53-1,"") -> -0.21449261
B55: ruchomości - leasing | C55: 48192.195 | D55: 51741.034 | F55: =IF(C55,D55/C55-1,"") -> 0.073639287 | H55: 8558.4039 | I55: 8961.6709 | K55: =IF(H55,I55/H55-1,"") -> 0.047119424 | M55: =SUM(M38,M48:M53) -> 56750.599 | N55: =SUM(N38,N48:N53) -> 60702.705 | P55: =IF(M55,N55/M55-1,"") -> 0.069639898
B62: Finasowanie pożyczką
C63: =C$35 -> I-VI 2026 vs I-VI 2025 | H63: =H35 -> VII 2026 vs VII 2025 | M63: =M35 -> I-VII 2026 vs I-VII 2025
C64: =C$37 -> I-VI 2025 | D64: =D$37 -> I-VI 2026 | F64: =F$37 -> I-VI 26/ I-VI 25 | H64: =H$37 -> VII 2025 | I64: =I$37 -> VII 2026 | K64: =K$37 -> VII 2026/ VII 2025 | M64: =M$37 -> I-VII 2025 | N64: =N$37 -> I-VII 2026 | P64: =P$37 -> I-VII 2026/ I-VII 2025
B65: pojazdy | C65: 2972.6838 | D65: 4483.374 | F65: =IF(C65,D65/C65-1,"") -> 0.50819067 | H65: 587.57678 | I65: 909.22424 | K65: =IF(H65,I65/H65-1,"") -> 0.5474135 | M65: =SUM(M66:M67,M69:M73) -> 3560.2606 | N65: =SUM(N66:N67,N69:N73) -> 5392.5982 | P65: =IF(M65,N65/M65-1,"") -> 0.51466391
B66: osobowe | C66: 1879.6768 | D66: 2983.1051 | F66: =IF(C66,D66/C66-1,"") -> 0.58703091 | H66: 385.93715 | I66: 629.02268 | K66: =IF(H66,I66/H66-1,"") -> 0.62985781 | M66: =C66+H66 -> 2265.6139 | N66: =D66+I66 -> 3612.1278 | P66: =IF(M66,N66/M66-1,"") -> 0.59432628
B67: ciężarowe do 3,5 t | C67: 178.01323 | D67: 162.14068 | F67: =IF(C67,D67/C67-1,"") -> -0.089164992 | H67: 53.260516 | I67: 33.880334 | K67: =IF(H67,I67/H67-1,"") -> -0.36387522 | M67: =C67+H67 -> 231.27374 | N67: =D67+I67 -> 196.02101 | P67: =IF(M67,N67/M67-1,"") -> -0.15242859
B68: pojazdy ciężkie | C68: 890.48501 | D68: 1308.8225 | F68: =IF(C68,D68/C68-1,"") -> 0.4697861 | H68: 144.24266 | I68: 241.24376 | K68: =IF(H68,I68/H68-1,"") -> 0.67248546 | M68: =M69+M70+M71+M72 -> 1034.7277 | N68: =N69+N70+N71+N72 -> 1550.0663 | P68: =IF(M68,N68/M68-1,"") -> 0.49804271
B69: ciężarowe pow. 3,5 t | C69: 129.2609 | D69: 144.46603 | F69: =IF(C69,D69/C69-1,"") -> 0.1176313 | H69: 15.693679 | I69: 46.713298 | K69: =IF(H69,I69/H69-1,"") -> 1.9765677 | M69: =C69+H69 -> 144.95458 | N69: =D69+I69 -> 191.17933 | P69: =IF(M69,N69/M69-1,"") -> 0.31889124
B70: ciągniki siodłowe | C70: 479.57272 | D70: 765.5322 | F70: =IF(C70,D70/C70-1,"") -> 0.59627971 | H70: 77.700392 | I70: 126.07209 | K70: =IF(H70,I70/H70-1,"") -> 0.62254128 | M70: =C70+H70 -> 557.27311 | N70: =D70+I70 -> 891.6043 | P70: =IF(M70,N70/M70-1,"") -> 0.59994135
B71: naczepy / przyczepy | C71: 203.00603 | D71: 288.86632 | F71: =IF(C71,D71/C71-1,"") -> 0.42294453 | H71: 34.562891 | I71: 56.076516 | K71: =IF(H71,I71/H71-1,"") -> 0.62244866 | M71: =C71+H71 -> 237.56892 | N71: =D71+I71 -> 344.94284 | P71: =IF(M71,N71/M71-1,"") -> 0.45196954
B72: autobusy | C72: 78.645355 | D72: 109.95793 | F72: =IF(C72,D72/C72-1,"") -> 0.39814912 | H72: 16.285701 | I72: 12.381849 | K72: =IF(H72,I72/H72-1,"") -> -0.23971041 | M72: =C72+H72 -> 94.931056 | N72: =D72+I72 -> 122.33978 | P72: =IF(M72,N72/M72-1,"") -> 0.28872245
B73: inne | C73: 24.508796 | D73: 29.305674 | F73: =IF(C73,D73/C73-1,"") -> 0.19572067 | H73: 4.1364492 | I73: 5.0774689 | K73: =IF(H73,I73/H73-1,"") -> 0.22749456 | M73: =C73+H73 -> 28.645246 | N73: =D73+I73 -> 34.383143 | P73: =IF(M73,N73/M73-1,"") -> 0.20030891
B74: maszyny | C74: 4966.642 | D74: 4926.6804 | F74: =IF(C74,D74/C74-1,"") -> -0.0080459994 | H74: 1106.9464 | I74: 987.02556 | K74: =IF(H74,I74/H74-1,"") -> -0.10833481 | M74: =SUM(M75:M77) -> 6073.5884 | N74: =SUM(N75:N77) -> 5913.7059 | P74: =IF(M74,N74/M74-1,"") -> -0.026324212
B75: sprzęt budowlany | C75: 380.19629 | D75: 377.81609 | F75: =IF(C75,D75/C75-1,"") -> -0.0062604554 | H75: 60.911526 | I75: 49.289037 | K75: =IF(H75,I75/H75-1,"") -> -0.19080934 | M75: =C75+H75 -> 441.10781 | N75: =D75+I75 -> 427.10512 | P75: =IF(M75,N75/M75-1,"") -> -0.031744371
B76: maszyny rolnicze | C76: 3190.4909 | D76: 2475.7226 | F76: =IF(C76,D76/C76-1,"") -> -0.22403083 | H76: 810.36955 | I76: 595.07307 | K76: =IF(H76,I76/H76-1,"") -> -0.26567691 | M76: =C76+H76 -> 4000.8605 | N76: =D76+I76 -> 3070.7956 | P76: =IF(M76,N76/M76-1,"") -> -0.2324662
B77: inne MiU | C77: 1395.9548 | D77: 2073.1417 | F77: =IF(C77,D77/C77-1,"") -> 0.48510664 | H77: 235.66531 | I77: 342.66345 | K77: =IF(H77,I77/H77-1,"") -> 0.45402583 | M77: =C77+H77 -> 1631.6201 | N77: =D77+I77 -> 2415.8052 | P77: =IF(M77,N77/M77-1,"") -> 0.48061744
B78: IT | C78: 168.25726 | D78: 239.89591 | F78: =IF(C78,D78/C78-1,"") -> 0.42576861 | H78: 45.881952 | I78: 30.255917 | K78: =IF(H78,I78/H78-1,"") -> -0.3405704 | M78: =C78+H78 -> 214.13921 | N78: =D78+I78 -> 270.15183 | P78: =IF(M78,N78/M78-1,"") -> 0.26157108
B79: statki, samoloty, kolej | C79: 90.199552 | D79: 304.93226 | F79: =IF(C79,D79/C79-1,"") -> 2.3806406 | H79: 8.580353 | I79: 36.026721 | K79: =IF(H79,I79/H79-1,"") -> 3.1987458 | M79: =C79+H79 -> 98.779905 | N79: =D79+I79 -> 340.95898 | P79: =IF(M79,N79/M79-1,"") -> 2.4517039
B80: inne | C80: 30.050284 | D80: 61.904154 | F80: =IF(C80,D80/C80-1,"") -> 1.0600189 | H80: 6.2662814 | I80: 9.8555214 | K80: =IF(H80,I80/H80-1,"") -> 0.57278628 | M80: =C80+H80 -> 36.316565 | N80: =D80+I80 -> 71.759675 | P80: =IF(M80,N80/M80-1,"") -> 0.97594883
B82: ruchomości - pożyczka | C82: 8227.8329 | D82: 10016.787 | F82: =IF(C82,D82/C82-1,"") -> 0.2174271 | H82: 1755.2518 | I82: 1972.388 | K82: =IF(H82,I82/H82-1,"") -> 0.12370659 | M82: =SUM(M65,M75:M80) -> 9983.0846 | N82: =SUM(N65,N75:N80) -> 11989.175 | P82: =IF(M82,N82/M82-1,"") -> 0.20094891
